{"text_format":"1","workbook":"xlsx","n_sheets":7,"sheets":["Page 1 (Hydrology)","Page 2 (Vegetation, 5 Strata)","Page 2 (Vegetation, 4 Strata)","Page 3 (Soil)","Vegetation Continued, 5 Strata","Vegetation Continued, 4 Strata","Plant List"],"not_rendered":{"charts":0,"images":3,"macros":1,"external_links":0,"defined_names":12,"comments":6,"pivot_tables":0},"unopened":[],"bounds":{"document_bytes":16777216,"sheet_cells":100000,"rows_first":2000,"rows_last":500,"rows_between":2000,"halvings":0,"cell_chars":16384,"cell_head_chars":4096},"cells_cut":0,"cells_raw":0,"read":"whole","date_system":"1900"}

{"sheet":"Page 1 (Hydrology)","index":0,"n_rows":87,"n_cols":48,"rows_kept":87,"cut":false,"hidden":false,"merged":[[0,0,0,31],[0,32,0,44],[6,33,6,38],[27,2,27,14],[1,37,1,40],[1,28,1,36],[2,34,2,36],[2,8,2,32],[1,6,1,21],[1,22,1,27],[4,39,4,40],[6,39,6,44],[2,41,2,44],[4,33,4,38],[3,20,3,30],[3,7,3,19],[23,1,23,30],[7,0,7,25],[4,41,4,44],[4,19,4,32],[22,0,33,0],[4,0,4,11],[7,26,7,28],[15,1,15,44],[6,8,6,32],[5,17,5,28],[43,0,53,0],[44,1,53,44],[1,41,1,44],[5,30,5,38],[7,30,7,32],[3,31,3,44],[16,1,20,44],[21,0,21,44],[11,21,14,21],[5,41,5,44],[11,22,11,44],[12,22,12,31],[12,32,12,34],[15,0,20,0],[14,0,14,20],[11,0,13,0],[7,35,7,44],[8,17,8,25],[9,17,9,25],[4,12,4,18],[12,14,12,15],[5,11,5,15],[5,39,5,40],[23,32,23,44],[25,32,25,44],[24,16,24,30],[25,16,25,30],[13,22,14,44],[38,38,38,39],[43,1,43,44],[40,0,42,0],[41,1,42,44],[40,1,40,44],[35,1,35,26],[37,1,37,10],[37,13,37,15],[38,13,38,15],[36,17,36,21],[37,17,37,21],[38,17,38,21],[36,13,36,15],[39,27,39,44],[39,1,39,26],[36,22,36,25],[37,22,37,25],[38,22,38,25],[36,1,36,10],[35,27,37,44],[36,0,39,0],[38,28,38,37],[26,32,26,44],[27,32,27,44],[28,32,28,44],[29,32,29,44],[30,32,30,44],[31,32,31,44],[32,32,32,44],[33,32,33,44],[26,16,26,30],[27,16,27,30],[28,16,28,30],[29,2,29,14],[30,2,30,14],[28,2,28,14],[38,1,38,10],[33,2,33,30],[29,16,29,30],[30,16,30,30],[31,16,31,30],[31,2,31,14],[32,2,32,30],[26,2,26,14],[34,0,34,44],[24,32,24,44],[8,26,8,38],[11,19,13,20],[13,1,13,13],[24,2,24,14],[25,2,25,14],[13,14,13,15],[11,1,11,13],[12,1,12,13],[11,14,11,15],[22,31,22,44],[22,1,22,30],[9,26,9,44],[12,40,12,44],[12,36,12,38]]}
["U.S.  Army Corps of Engineers\nWETLAND DETERMINATION DATA SHEET – Atlantic and Gulf Coastal Plain Region\nSee ERDC/EL TR-10-20; the proponent agency is CECW-CO-R",null,null,null,null,null,null,null,null,null,null,null,null,null,null,null,null,null,null,null,null,null,null,null,null,null,null,null,null,null,null,null,"OMB Control #: 0710-0024, Exp: 11/30/2024\nRequirement Control Symbol EXEMPT:\n(Authority: AR 335-15, paragraph 5-2a)",null,null,null,null,null,null,null,null,null,null,null,null,"Atlantic and Gulf Coastal Plain Region Automated Wetland Determination Data Sheet (ADS) version 1.17"]
["Project/Site:",null,null,null,null,null,null,null,null,null,null,null,null,null,null,null,null,null,null,null,null,null,"City/County:",null,null,null,null,null,null,null,null,null,null,null,null,null,null,"Sampling Date:"]
["Applicant/Owner:",null,null,null,null,null,null,null,null,null,null,null,null,null,null,null,null,null,null,null,null,null,null,null,null,null,null,null,null,null,null,null,null,"State:",null,null,null,"Sampling Point:"]
["Investigator(s):",null,null,null,null,null,null,null,null,null,null,null,null,null,null,null,null,null,null,null,"Section, Township, Range:"]
["Landform (hillside, terrace, etc.):",null,null,null,null,null,null,null,null,null,null,null,null,null,null,null,null,null,null,"Local relief (concave, convex, none):",null,null,null,null,null,null,null,null,null,null,null,null,null,null,null,null,null,null,null,"Slope (%):"]
["Subregion (LRR or MLRA):",null,null,null,null,null,null,null,null,null,null,null,null,null,null,null,"Lat:",null,null,null,null,null,null,null,null,null,null,null,null,"Long:",null,null,null,null,null,null,null,null,null,"Datum:"]
["Soil Map Unit Name:",null,null,null,null,null,null,null,null,null,null,null,null,null,null,null,null,null,null,null,null,null,null,null,null,null,null,null,null,null,null,null,null,"NWI classification:"]
["Are climatic / hydrologic conditions on the site typical for this time of year?",null,null,null,null,null,null,null,null,null,null,null,null,null,null,null,null,null,null,null,null,null,null,null,null,null,"Yes",null,null,null,"No",null,null,null,null,"(If no, explain in Remarks.) "]
["Are Vegetation",null,null,null,null,null,null,null,", Soil",null,null,null,", or Hydrology",null,null,null,null,"significantly disturbed?",null,null,null,null,null,null,null,null,"Are “Normal Circumstances” present?",null,null,null,null,null,null,null,null,null,null,null,null,"Yes",null,null,"No",null,null,"Hydrophytic Vegetation Present?"]
["Are Vegetation",null,null,null,null,null,null,null,", Soil",null,null,null,", or Hydrology",null,null,null,null,"naturally problematic?",null,null,null,null,null,null,null,null,"(If needed, explain any answers in Remarks.)",null,null,null,null,null,null,null,null,null,null,null,null,null,null,null,null,null,null,{"$f":"IFERROR(IF('Page 2 (Vegetation, 5 Strata)'!BM1=1,'Page 2 (Vegetation, 5 Strata)'!BB53,'Page 2 (Vegetation, 4 Strata)'!BB49),'Page 2 (Vegetation, 4 Strata)'!BB49)","v":""},{"$f":"IFERROR(IF('Page 2 (Vegetation, 5 Strata)'!BM1=1,'Page 2 (Vegetation, 5 Strata)'!BG53,'Page 2 (Vegetation, 4 Strata)'!BG49),'Page 2 (Vegetation, 4 Strata)'!BG49)","v":"X"}]
["SUMMARY OF FINDINGS – Attach site map showing sampling point locations, transects, important features, etc.",null,null,null,null,null,null,null,null,null,null,null,null,null,null,null,null,null,null,null,null,null,null,null,null,null,null,null,null,null,null,null,null,null,null,null,null,null,null,null,null,null,null,null,null,"Hydric Soil Present?"]
[null,"Hydrophytic Vegetation Present?",null,null,null,null,null,null,null,null,null,null,null,null,"Yes",null,{"$f":"AT10","v":""},"No",{"$f":"AU10","v":"X"},null,null,null,"Is the Sampled Area",null,null,null,null,null,null,null,null,null,null,null,null,null,null,null,null,null,null,null,null,null,null,{"$f":"'Page 3 (Soil)'!BE38","v":""},{"$f":"'Page 3 (Soil)'!BI38","v":"X"}]
[null,"Hydric Soil Present? ",null,null,null,null,null,null,null,null,null,null,null,null,"Yes",null,{"$f":"AT12","v":""},"No",{"$f":"AU12","v":"X"},null,null,null,"within a Wetland?",null,null,null,null,null,null,null,null,null,"Yes",null,null,{"$f":"AT14","v":""},"No",null,null,{"$f":"AU14","v":"X"},null,null,null,null,null,"Sampled Area within a Wetland"]
[null,"Wetland Hydrology Present?",null,null,null,null,null,null,null,null,null,null,null,null,"Yes",null,{"$f":"AO39","v":""},"No",{"$f":"AR39","v":"X"},null,null,null,null,null,null,null,null,null,null,null,null,null,null,null,null,null,null,null,null,null,null,null,null,null,null,{"$f":"IF(AND(Q12=\"X\",Q13=\"X\",Q14=\"X\"),\"X\",\"\")","v":""},{"$f":"IF(AJ13=\"\",\"X\",\"\")","v":"X"}]
[]
[null,"Remarks:"]
[]
[]
[]
[]
[]
["HYDROLOGY"]
[null,"Wetland Hydrology Indicators:",null,null,null,null,null,null,null,null,null,null,null,null,null,null,null,null,null,null,null,null,null,null,null,null,null,null,null,null,null,"Secondary Indicators (minimum of two required)"]
[null,"Primary Indicators (minimum of one is required; check all that apply)                                         ",null,null,null,null,null,null,null,null,null,null,null,null,null,null,null,null,null,null,null,null,null,null,null,null,null,null,null,null,null,null,"Surface Soil Cracks (B6)",null,null,null,null,null,null,null,null,null,null,null,null,"Wetland Hydrology"]
[null,{"$f":"AT25","v":""},"Surface Water (A1)",null,null,null,null,null,null,null,null,null,null,null,null,null,"Aquatic Fauna (B13)",null,null,null,null,null,null,null,null,null,null,null,null,null,null,{"$f":"AU25","v":""},"Sparsely Vegetated Concave Surface (B8)",null,null,null,null,null,null,null,null,null,null,null,null,{"$f":"IFERROR(IF(ISTEXT(M37),\"X\",\"\"),\"\")","v":""},{"$f":"IFERROR(IF('Page 2 (Vegetation, 5 Strata)'!BM1=1,IF(AND(OR('Page 2 (Vegetation, 5 Strata)'!Z44=\"\",'Page 2 (Vegetation, 5 Strata)'!Z44<5),OR('Page 2 (Vegetation, 5 Strata)'!Z11<>\"\",'Page 2 (Vegetation, 5 Strata)'!Z21<>\"\",'Page 2 (Vegetation, 5 Strata)'!Z30<>\"\",'Page 2 (Vegetation, 5 Strata)'!Z52<>\"\")),\"?\",\"\"),IF(AND(OR('Page 2 (Vegetation, 4 Strata)'!Z40=\"\",'Page 2 (Vegetation, 4 Strata)'!Z40<5),OR('Page 2 (Vegetation, 4 Strata)'!Z13<>\"\",'Page 2 (Vegetation, 4 Strata)'!Z25<>\"\",'Page 2 (Vegetation, 4 Strata)'!Z48<>\"\")),\"?\",\"\")),IF(AND(OR('Page 2 (Vegetation, 4 Strata)'!Z40=\"\",'Page 2 (Vegetation, 4 Strata)'!Z40<5),OR('Page 2 (Vegetation, 4 Strata)'!Z13<>\"\",'Page 2 (Vegetation, 4 Strata)'!Z25<>\"\",'Page 2 (Vegetation, 4 Strata)'!Z48<>\"\")),\"?\",\"\"))","v":""}]
[null,{"$f":"AT26","v":""},"High Water Table (A2)",null,null,null,null,null,null,null,null,null,null,null,null,null,"Marl Deposits (B15) (LRR U)",null,null,null,null,null,null,null,null,null,null,null,null,null,null,null,"Drainage Patterns (B10)",null,null,null,null,null,null,null,null,null,null,null,null,{"$f":"IFERROR(IF(AND(ISTEXT(M38),W38<=12,ISNUMBER(W38)),\"X\",\"\"),\"\")","v":""},{"$f":"IFERROR(IF(AND(ISTEXT(M38),W38>12,W38<=24),\"?\",\"\"),\"\")","v":""},"Hydrogen Sulfide Conditional Formatting"]
[null,{"$f":"AT27","v":""},"Saturation (A3)",null,null,null,null,null,null,null,null,null,null,null,null,{"$f":"AT28","v":""},"Hydrogen Sulfide Odor (C1)",null,null,null,null,null,null,null,null,null,null,null,null,null,null,null,"Moss Trim Lines (B16)",null,null,null,null,null,null,null,null,null,null,null,null,{"$f":"IFERROR(IF(AND(ISTEXT(M39),W39<=12,ISNUMBER(W39),OR(AND(ISTEXT(M38),W38>W39),AND(ISNUMBER('Page 3 (Soil)'!K38),'Page 3 (Soil)'!K38<=12,'Page 3 (Soil)'!K38>W39))),\"X\",\"\"),\"\")","v":""},{"$f":"IFERROR(IF(ISNUMBER('Page 3 (Soil)'!K38),\"?\",\"\"),\"\")","v":""},{"$f":"IF('Page 3 (Soil)'!B18=\"X\",\"X\",\"\")","v":""}]
[null,null,"Water Marks (B1)",null,null,null,null,null,null,null,null,null,null,null,null,null,"Oxidized Rhizospheres on Living Roots (C3)",null,null,null,null,null,null,null,null,null,null,null,null,null,null,{"$f":"AU26","v":""},"Dry-Season Water Table (C2)",null,null,null,null,null,null,null,null,null,null,null,null,{"$f":"IFERROR(IF('Page 3 (Soil)'!CZ8=\"X\",\"X\",\"\"),\"\")","v":""},{"$f":"IFERROR(IF('Page 2 (Vegetation, 5 Strata)'!BM1=1,IF(AV29=\"X\",\"X\",\"\"),IF(AV30=\"X\",\"X\",\"\")),IF(AV30=\"X\",\"X\",\"\"))","v":""},"FAC-Neutral Vegetation Pages"]
[null,null,"Sediment Deposits (B2)",null,null,null,null,null,null,null,null,null,null,null,null,{"$f":"AT29","v":""},"Presence of Reduced Iron (C4)",null,null,null,null,null,null,null,null,null,null,null,null,null,null,null,"Crayfish Burrows (C8)",null,null,null,null,null,null,null,null,null,null,null,null,{"$f":"IFERROR(IF('Page 3 (Soil)'!KK13=\"X\",\"X\",\"\"),\"\")","v":""},null,{"$f":"IFERROR(IF(SUM('Page 2 (Vegetation, 5 Strata)'!BT4:BT75)>SUM('Page 2 (Vegetation, 5 Strata)'!BU4:BU75),\"X\",IF(SUM('Page 2 (Vegetation, 5 Strata)'!BT4:BT75)=SUM('Page 2 (Vegetation, 5 Strata)'!BU4:BU75),IF(SUM('Page 2 (Vegetation, 5 Strata)'!BV4:BV75)>SUM('Page 2 (Vegetation, 5 Strata)'!BW4:BW75),\"X\",\"\"),\"\")),\"\")","v":""}]
[null,null,"Drift Deposits (B3)",null,null,null,null,null,null,null,null,null,null,null,null,null,"Recent Iron Reduction in Tilled Soils (C6)",null,null,null,null,null,null,null,null,null,null,null,null,null,null,null,"Saturation Visible on Aerial Imagery (C9)",null,null,null,null,null,null,null,null,null,null,null,null,{"$f":"IFERROR(IF(AND('Page 3 (Soil)'!BP6-'Page 3 (Soil)'!BO6<=1,'Page 3 (Soil)'!AQ6='Page 3 (Soil)'!BX65),\"X\",\"\"),\"\")","v":""},null,{"$f":"IFERROR(IF(SUM('Page 2 (Vegetation, 4 Strata)'!BT4:BT72)>SUM('Page 2 (Vegetation, 4 Strata)'!BU4:BU72),\"X\",IF(SUM('Page 2 (Vegetation, 4 Strata)'!BT4:BT72)=SUM('Page 2 (Vegetation, 4 Strata)'!BU4:BU72),IF(SUM('Page 2 (Vegetation, 4 Strata)'!BV4:BV72)>SUM('Page 2 (Vegetation, 4 Strata)'!BW4:BW72),\"X\",\"\"),\"\")),\"\")","v":""}]
[null,null,"Algal Mat or Crust (B4)",null,null,null,null,null,null,null,null,null,null,null,null,{"$f":"AT30","v":""},"Thin Muck Surface (C7)",null,null,null,null,null,null,null,null,null,null,null,null,null,null,null,"Geomorphic Position (D2)"]
[null,null,"Iron Deposits (B5)",null,null,null,null,null,null,null,null,null,null,null,null,null,"Other (Explain in Remarks)",null,null,null,null,null,null,null,null,null,null,null,null,null,null,{"$f":"AU27","v":""},"Shallow Aquitard (D3)"]
[null,null,"Inundation Visible on Aerial Imagery (B7)",null,null,null,null,null,null,null,null,null,null,null,null,null,null,null,null,null,null,null,null,null,null,null,null,null,null,null,null,{"$f":"AU28","v":""},"FAC-Neutral Test (D5)"]
[null,null,"Water-Stained Leaves (B9)",null,null,null,null,null,null,null,null,null,null,null,null,null,null,null,null,null,null,null,null,null,null,null,null,null,null,null,null,null,"Sphagnum Moss (D8) (LRR T, U)"]
[]
[null,"Field Observations:",null,null,null,null,null,null,null,null,null,null,null,null,null,null,null,null,null,null,null,null,null,null,null,null,null,null,null,null,null,null,null,null,null,null,null,null,null,null,null,null,null,null,null,"Hydrology Indicators",null,"State List"]
[null,"Surface Water Present?",null,null,null,null,null,null,null,null,null,"Yes",null,"No",null,null,null,"Depth (inches):",null,null,null,null,null,null,null,null,null,null,null,null,null,null,null,null,null,null,null,null,null,null,null,null,null,null,null,{"$f":"IF(B25=\"X\",1,0)","v":0},{"$f":"IF(AF24=\"X\",1,0)","v":0},"AL"]
[null,"Water Table Present?",null,null,null,null,null,null,null,null,null,"Yes",null,"No",null,null,null,"Depth (inches):",null,null,null,null,null,null,null,null,null,null,null,null,null,null,null,null,null,null,null,null,null,null,null,null,null,null,null,{"$f":"IF(B26=\"X\",1,0)","v":0},0,"AR"]
[null,"Saturation Present?",null,null,null,null,null,null,null,null,null,"Yes",null,"No",null,null,null,"Depth (inches):",null,null,null,null,null,null,null,null,null,null,"Wetland Hydrology Present?",null,null,null,null,null,null,null,null,null,"Yes",null,{"$f":"AT59","v":""},null,"No",{"$f":"AU59","v":"X"},null,0,0,"DE"]
[null,"(includes capillary fringe)",null,null,null,null,null,null,null,null,null,null,null,null,null,null,null,null,null,null,null,null,null,null,null,null,null,null,null,null,null,null,null,null,null,null,null,null,null,null,null,null,null,null,null,0,0,"DC"]
[null,"Describe Recorded Data (stream gauge, monitoring well, aerial photos, previous inspections), if available:",null,null,null,null,null,null,null,null,null,null,null,null,null,null,null,null,null,null,null,null,null,null,null,null,null,null,null,null,null,null,null,null,null,null,null,null,null,null,null,null,null,null,null,0,0,"FL"]
[null,null,null,null,null,null,null,null,null,null,null,null,null,null,null,null,null,null,null,null,null,null,null,null,null,null,null,null,null,null,null,null,null,null,null,null,null,null,null,null,null,null,null,null,null,0,0,"GA"]
[null,null,null,null,null,null,null,null,null,null,null,null,null,null,null,null,null,null,null,null,null,null,null,null,null,null,null,null,null,null,null,null,null,null,null,null,null,null,null,null,null,null,null,null,null,0,0,"IL"]
[null,"Remarks: ",null,null,null,null,null,null,null,null,null,null,null,null,null,null,null,null,null,null,null,null,null,null,null,null,null,null,null,null,null,null,null,null,null,null,null,null,null,null,null,null,null,null,null,0,0,"KY"]
[null,null,null,null,null,null,null,null,null,null,null,null,null,null,null,null,null,null,null,null,null,null,null,null,null,null,null,null,null,null,null,null,null,null,null,null,null,null,null,null,null,null,null,null,null,0,0,"LA"]
[null,null,null,null,null,null,null,null,null,null,null,null,null,null,null,null,null,null,null,null,null,null,null,null,null,null,null,null,null,null,null,null,null,null,null,null,null,null,null,null,null,null,null,null,null,0,0,"MD"]
[null,null,null,null,null,null,null,null,null,null,null,null,null,null,null,null,null,null,null,null,null,null,null,null,null,null,null,null,null,null,null,null,null,null,null,null,null,null,null,null,null,null,null,null,null,{"$f":"IF(P25=\"X\",1,0)","v":0},0,"MS"]
[null,null,null,null,null,null,null,null,null,null,null,null,null,null,null,null,null,null,null,null,null,null,null,null,null,null,null,null,null,null,null,null,null,null,null,null,null,null,null,null,null,null,null,null,null,0,null,"MO"]
[null,null,null,null,null,null,null,null,null,null,null,null,null,null,null,null,null,null,null,null,null,null,null,null,null,null,null,null,null,null,null,null,null,null,null,null,null,null,null,null,null,null,null,null,null,0,null,"NJ"]
[null,null,null,null,null,null,null,null,null,null,null,null,null,null,null,null,null,null,null,null,null,null,null,null,null,null,null,null,null,null,null,null,null,null,null,null,null,null,null,null,null,null,null,null,null,0,null,"NC"]
[null,null,null,null,null,null,null,null,null,null,null,null,null,null,null,null,null,null,null,null,null,null,null,null,null,null,null,null,null,null,null,null,null,null,null,null,null,null,null,null,null,null,null,null,null,0,null,"OK"]
[null,null,null,null,null,null,null,null,null,null,null,null,null,null,null,null,null,null,null,null,null,null,null,null,null,null,null,null,null,null,null,null,null,null,null,null,null,null,null,null,null,null,null,null,null,0,null,"PA"]
[null,null,null,null,null,null,null,null,null,null,null,null,null,null,null,null,null,null,null,null,null,null,null,null,null,null,null,null,null,null,null,null,null,null,null,null,null,null,null,null,null,null,null,null,null,0,null,"SC"]
[null,null,null,null,null,null,null,null,null,null,null,null,null,null,null,null,null,null,null,null,null,null,null,null,null,null,null,null,null,null,null,null,null,null,null,null,null,null,null,null,null,null,null,null,null,{"$f":"IF(P32=\"X\",1,0)","v":0},null,"TN"]
["ENG FORM 6116-2, JUL 2018",null,null,null,null,null,null,null,null,null,null,null,null,null,null,null,null,null,null,null,null,null,null,null,null,null,null,null,null,null,null,null,"Atlantic and Gulf Coastal Plain – Version 2.0",null,null,null,null,null,null,null,null,null,null,null,null,null,null,"TX"]
[null,null,null,null,null,null,null,null,null,null,null,null,null,null,null,null,null,null,null,null,null,null,null,null,null,null,null,null,null,null,null,null,null,null,null,null,null,null,null,null,null,null,null,null,null,{"$f":"SUM(AT37:AT54)","v":0},{"$f":"SUM(AU37:AU47)","v":0},"VA"]
[]
[null,null,null,null,null,null,null,null,null,null,null,null,null,null,null,null,null,null,null,null,null,null,null,null,null,null,null,null,null,null,null,null,null,null,null,null,null,null,null,null,null,null,null,null,null,"Wetland Hydrology Present?",null,"LRR/MLRA List"]
[null,null,null,null,null,null,null,null,null,null,null,null,null,null,null,null,null,null,null,null,null,null,null,null,null,null,null,null,null,null,null,null,null,null,null,null,null,null,null,null,null,null,null,null,null,{"$f":"IF(OR(AT56>0,AU56>1),\"X\",\"\")","v":""},{"$f":"IF(OR(Q9=\"X\",Q9=\"Yes\",Q9=\"Y\",Q10=\"X\",Q10=\"Yes\",Q10=\"Y\"),\"\",IF(AND(AO39=\"\",Q14=\"\"),\"X\",\"\"))","v":"X"},"LRR O"]
[null,null,null,null,null,null,null,null,null,null,null,null,null,null,null,null,null,null,null,null,null,null,null,null,null,null,null,null,null,null,null,null,null,null,null,null,null,null,null,null,null,null,null,null,null,null,null,"LRR O, MLRA 131A"]
[null,null,null,null,null,null,null,null,null,null,null,null,null,null,null,null,null,null,null,null,null,null,null,null,null,null,null,null,null,null,null,null,null,null,null,null,null,null,null,null,null,null,null,null,null,null,null,"LRR O, MLRA 131B"]
[null,null,null,null,null,null,null,null,null,null,null,null,null,null,null,null,null,null,null,null,null,null,null,null,null,null,null,null,null,null,null,null,null,null,null,null,null,null,null,null,null,null,null,null,null,null,null,"LRR O, MLRA 131C"]
[null,null,null,null,null,null,null,null,null,null,null,null,null,null,null,null,null,null,null,null,null,null,null,null,null,null,null,null,null,null,null,null,null,null,null,null,null,null,null,null,null,null,null,null,null,null,null,"LRR O, MLRA 131D"]
[null,null,null,null,null,null,null,null,null,null,null,null,null,null,null,null,null,null,null,null,null,null,null,null,null,null,null,null,null,null,null,null,null,null,null,null,null,null,null,null,null,null,null,null,null,null,null,"LRR P"]
[null,null,null,null,null,null,null,null,null,null,null,null,null,null,null,null,null,null,null,null,null,null,null,null,null,null,null,null,null,null,null,null,null,null,null,null,null,null,null,null,null,null,null,null,null,null,null,"LRR P, MLRA 133A"]
[null,null,null,null,null,null,null,null,null,null,null,null,null,null,null,null,null,null,null,null,null,null,null,null,null,null,null,null,null,null,null,null,null,null,null,null,null,null,null,null,null,null,null,null,null,null,null,"LRR P, MLRA 133B"]
[null,null,null,null,null,null,null,null,null,null,null,null,null,null,null,null,null,null,null,null,null,null,null,null,null,null,null,null,null,null,null,null,null,null,null,null,null,null,null,null,null,null,null,null,null,null,null,"LRR P, MLRA 134"]
[null,null,null,null,null,null,null,null,null,null,null,null,null,null,null,null,null,null,null,null,null,null,null,null,null,null,null,null,null,null,null,null,null,null,null,null,null,null,null,null,null,null,null,null,null,null,null,"LRR P, MLRA 135A"]
[null,null,null,null,null,null,null,null,null,null,null,null,null,null,null,null,null,null,null,null,null,null,null,null,null,null,null,null,null,null,null,null,null,null,null,null,null,null,null,null,null,null,null,null,null,null,null,"LRR P, MLRA 135B"]
[null,null,null,null,null,null,null,null,null,null,null,null,null,null,null,null,null,null,null,null,null,null,null,null,null,null,null,null,null,null,null,null,null,null,null,null,null,null,null,null,null,null,null,null,null,null,null,"LRR P, MLRA 137"]
[null,null,null,null,null,null,null,null,null,null,null,null,null,null,null,null,null,null,null,null,null,null,null,null,null,null,null,null,null,null,null,null,null,null,null,null,null,null,null,null,null,null,null,null,null,null,null,"LRR P, MLRA 138"]
[null,null,null,null,null,null,null,null,null,null,null,null,null,null,null,null,null,null,null,null,null,null,null,null,null,null,null,null,null,null,null,null,null,null,null,null,null,null,null,null,null,null,null,null,null,null,null,"LRR S, MLRA 149A"]
[null,null,null,null,null,null,null,null,null,null,null,null,null,null,null,null,null,null,null,null,null,null,null,null,null,null,null,null,null,null,null,null,null,null,null,null,null,null,null,null,null,null,null,null,null,null,null,"LRR T"]
[null,null,null,null,null,null,null,null,null,null,null,null,null,null,null,null,null,null,null,null,null,null,null,null,null,null,null,null,null,null,null,null,null,null,null,null,null,null,null,null,null,null,null,null,null,null,null,"LRR T, MLRA 150A"]
[null,null,null,null,null,null,null,null,null,null,null,null,null,null,null,null,null,null,null,null,null,null,null,null,null,null,null,null,null,null,null,null,null,null,null,null,null,null,null,null,null,null,null,null,null,null,null,"LRR T, MLRA 150B"]
[null,null,null,null,null,null,null,null,null,null,null,null,null,null,null,null,null,null,null,null,null,null,null,null,null,null,null,null,null,null,null,null,null,null,null,null,null,null,null,null,null,null,null,null,null,null,null,"LRR T, MLRA 151"]
[null,null,null,null,null,null,null,null,null,null,null,null,null,null,null,null,null,null,null,null,null,null,null,null,null,null,null,null,null,null,null,null,null,null,null,null,null,null,null,null,null,null,null,null,null,null,null,"LRR T, MLRA 152A"]
[null,null,null,null,null,null,null,null,null,null,null,null,null,null,null,null,null,null,null,null,null,null,null,null,null,null,null,null,null,null,null,null,null,null,null,null,null,null,null,null,null,null,null,null,null,null,null,"LRR T, MLRA 152B"]
[null,null,null,null,null,null,null,null,null,null,null,null,null,null,null,null,null,null,null,null,null,null,null,null,null,null,null,null,null,null,null,null,null,null,null,null,null,null,null,null,null,null,null,null,null,null,null,"LRR T, MLRA 153A"]
[null,null,null,null,null,null,null,null,null,null,null,null,null,null,null,null,null,null,null,null,null,null,null,null,null,null,null,null,null,null,null,null,null,null,null,null,null,null,null,null,null,null,null,null,null,null,null,"LRR T, MLRA 153B"]
[null,null,null,null,null,null,null,null,null,null,null,null,null,null,null,null,null,null,null,null,null,null,null,null,null,null,null,null,null,null,null,null,null,null,null,null,null,null,null,null,null,null,null,null,null,null,null,"LRR T, MLRA 153C"]
[null,null,null,null,null,null,null,null,null,null,null,null,null,null,null,null,null,null,null,null,null,null,null,null,null,null,null,null,null,null,null,null,null,null,null,null,null,null,null,null,null,null,null,null,null,null,null,"LRR T, MLRA 153D"]
[null,null,null,null,null,null,null,null,null,null,null,null,null,null,null,null,null,null,null,null,null,null,null,null,null,null,null,null,null,null,null,null,null,null,null,null,null,null,null,null,null,null,null,null,null,null,null,"LRR U"]
[null,null,null,null,null,null,null,null,null,null,null,null,null,null,null,null,null,null,null,null,null,null,null,null,null,null,null,null,null,null,null,null,null,null,null,null,null,null,null,null,null,null,null,null,null,null,null,"LRR U, MLRA 154"]
[null,null,null,null,null,null,null,null,null,null,null,null,null,null,null,null,null,null,null,null,null,null,null,null,null,null,null,null,null,null,null,null,null,null,null,null,null,null,null,null,null,null,null,null,null,null,null,"LRR U, MLRA 155"]
[null,null,null,null,null,null,null,null,null,null,null,null,null,null,null,null,null,null,null,null,null,null,null,null,null,null,null,null,null,null,null,null,null,null,null,null,null,null,null,null,null,null,null,null,null,null,null,"LRR U, MLRA 156A"]
[null,null,null,null,null,null,null,null,null,null,null,null,null,null,null,null,null,null,null,null,null,null,null,null,null,null,null,null,null,null,null,null,null,null,null,null,null,null,null,null,null,null,null,null,null,null,null,"LRR U, MLRA 156B"]

{"sheet":"Page 2 (Vegetation, 5 Strata)","index":1,"n_rows":156,"n_cols":87,"rows_kept":156,"cut":false,"hidden":false,"merged":[[36,44,37,63],[44,43,49,63],[53,43,53,63],[45,16,45,22],[30,44,32,63],[33,44,35,63],[20,30,20,42],[21,1,21,12],[21,22,21,26],[21,37,21,41],[51,1,51,24],[47,25,47,29],[47,31,47,35],[47,37,47,41],[48,3,48,23],[48,25,48,29],[48,31,48,35],[48,37,48,41],[51,25,51,29],[46,42,50,42],[50,44,52,49],[52,50,52,52],[50,50,51,63],[52,54,52,57],[52,59,52,63],[32,42,42,42],[46,37,46,41],[45,23,45,42],[47,3,47,23],[2,0,53,0],[12,14,12,20],[12,21,12,42],[22,13,22,19],[22,20,22,42],[19,1,19,42],[53,1,53,42],[50,37,50,41],[41,3,41,23],[41,25,41,29],[41,31,41,35],[41,37,41,41],[38,3,38,23],[38,25,38,29],[39,3,39,23],[39,25,39,29],[39,31,39,35],[39,37,39,41],[40,3,40,23],[40,25,40,29],[40,31,40,35],[40,37,40,41],[36,3,36,23],[36,25,36,29],[36,31,36,35],[33,3,33,23],[33,25,33,29],[33,31,33,35],[33,37,33,41],[36,37,36,41],[34,3,34,23],[34,25,34,29],[34,31,34,35],[34,37,34,41],[52,1,52,12],[52,22,52,26],[52,37,52,41],[50,3,50,23],[50,25,50,29],[50,31,50,35],[42,3,42,23],[42,25,42,29],[42,31,42,35],[42,37,42,41],[43,1,43,24],[43,25,43,29],[43,30,43,42],[44,1,44,12],[51,30,51,42],[44,22,44,26],[44,37,44,41],[46,3,46,23],[49,3,49,23],[49,25,49,29],[49,31,49,35],[49,37,49,41],[46,25,46,29],[46,31,46,35],[32,3,32,23],[32,25,32,29],[32,31,32,35],[32,37,32,41],[29,44,29,63],[31,13,31,19],[31,20,31,42],[30,1,30,12],[30,22,30,26],[30,37,30,41],[29,1,29,24],[29,25,29,29],[29,30,29,42],[29,43,43,43],[37,3,37,23],[37,25,37,29],[37,31,37,35],[37,37,37,41],[38,31,38,35],[38,37,38,41],[35,3,35,23],[35,25,35,29],[35,31,35,35],[35,37,35,41],[27,44,28,63],[23,42,28,42],[25,3,25,23],[25,25,25,29],[25,31,25,35],[25,37,25,41],[24,3,24,23],[28,25,28,29],[28,31,28,35],[28,37,28,41],[26,3,26,23],[26,25,26,29],[26,31,26,35],[26,37,26,41],[28,3,28,23],[15,3,15,23],[15,25,15,29],[15,31,15,35],[15,37,15,41],[18,3,18,23],[27,3,27,23],[27,25,27,29],[27,31,27,35],[27,37,27,41],[24,25,24,29],[24,31,24,35],[24,37,24,41],[21,45,21,63],[18,62,18,63],[16,31,16,35],[14,3,14,23],[13,42,18,42],[19,43,19,63],[23,3,23,23],[23,25,23,29],[23,31,23,35],[23,37,23,41],[22,45,22,63],[23,45,23,63],[18,31,18,35],[18,37,18,41],[20,1,20,24],[20,25,20,29],[13,25,13,29],[13,31,13,35],[13,37,13,41],[16,37,16,41],[20,43,28,43],[20,44,20,63],[25,44,26,63],[24,45,24,63],[11,55,11,61],[13,44,13,49],[18,43,18,45],[18,46,18,56],[18,57,18,61],[18,25,18,29],[17,25,17,29],[17,31,17,35],[17,37,17,41],[16,44,16,49],[16,50,16,53],[16,58,16,61],[13,50,13,53],[13,58,13,61],[17,54,17,57],[11,54,16,54],[14,44,14,49],[14,50,14,53],[14,58,14,61],[14,25,14,29],[14,31,14,35],[14,37,14,41],[9,1,9,42],[9,43,9,63],[10,43,17,43],[10,44,10,63],[10,1,10,24],[10,25,10,29],[10,30,10,42],[12,44,12,49],[12,50,12,53],[12,58,12,61],[11,1,11,12],[11,22,11,26],[11,37,11,41],[15,44,15,49],[11,62,16,63],[15,58,15,61],[13,3,13,23],[16,3,16,23],[16,25,16,29],[17,58,17,61],[17,50,17,53],[11,44,11,53],[15,50,15,53],[17,3,17,23],[7,3,7,23],[7,25,7,29],[7,31,7,35],[7,37,7,41],[7,44,8,55],[7,56,7,63],[8,3,8,23],[8,25,8,29],[8,31,8,35],[8,37,8,41],[8,56,8,60],[4,3,4,23],[5,56,5,63],[6,3,6,23],[6,25,6,29],[6,31,6,35],[6,37,6,41],[6,56,6,60],[6,61,6,63],[4,25,4,29],[4,31,4,35],[4,37,4,41],[4,56,4,60],[4,61,4,63],[5,3,5,23],[5,25,5,29],[5,31,5,35],[5,37,5,41],[5,44,6,55],[54,0,55,0],[55,1,55,63],[54,1,54,63],[38,44,41,63],[50,43,52,43],[0,0,0,16],[0,17,0,51],[0,58,0,62],[1,0,1,63],[2,1,2,7],[2,13,2,19],[2,20,2,24],[2,25,2,29],[2,31,2,35],[2,37,2,41],[2,43,8,43],[2,44,2,63],[3,3,3,23],[3,25,3,29],[3,31,3,35],[3,37,3,41],[3,44,4,55],[3,56,3,63],[42,44,43,63]]}
["VEGETATION (Five Strata)",null,null,null,null,null,null,null,null,null,null,null,null,null,null,null,null,"– Use scientific names of plants.",null,null,null,null,null,null,null,null,null,null,null,null,null,null,null,null,null,null,null,null,null,null,null,null,null,null,null,null,null,null,null,null,null,null,"Sampling Point:",null,null,null,null,null,{"$f":"IF('Page 1 (Hydrology)'!AP3=0,\"\",'Page 1 (Hydrology)'!AP3)","v":""},null,null,null,null,null,1,null,{"$f":"IF(AND(D9=\"\",D19=\"\",D29=\"\",D43=\"\",D51=\"\"),FALSE,TRUE)","v":false},{"$f":"ISERROR('Vegetation Continued, 5 Strata'!Z4)","v":false}]
[]
[null,"Tree Stratum",null,null,null,null,null,null,"(Plot size:",null,null,null,null,null,null,null,null,null,null,null,")",null,null,null,null,"Absolute % Cover",null,null,null,null,null,"Dominant Species?",null,null,null,null,null,"Indicator Status",null,null,null,null,null,null,"Dominance Test worksheet:",null,null,null,null,null,null,null,null,null,null,null,null,null,null,null,null,null,null,null,null,null,"Indicators",null,"Absolute Cover","Dominance",null,"FAC-Neutral",null,null,null,"Rapid","Prevalence Index Plant Totals For Worksheet",null,null,null,null,"50/20 rule",null,null,null,"Indicator Status"]
[null,"1.",null,"",null,null,null,null,null,null,null,null,null,null,null,null,null,null,null,null,null,null,null,null,null,null,null,null,null,null,null,{"$f":"IF(Z4>0,IF(OR(AND(Z$11<5,Z$21=\"\",Z$30=\"\",Z$44=\"\",Z$52=\"\"),Z$11>=5),IF(AND(ISNA(MATCH(Z4,CG$4:CG$15,0)),CD4<0.2),\"No\",\"Yes\"),\"No\"),\"\")","v":""},null,null,null,null,null,{"$f":"IF(CI4=0,\"\",CI4)","v":""},null,null,null,null,null,null,"Number of Dominant Species That Are OBL, FACW, or FAC:",null,null,null,null,null,null,null,null,null,null,null,null,null,null,null,null,null,null,null,null,null,"OBL",null,{"$f":"IFERROR(Z4,0)","v":0},{"$f":"IF(AND(AF4=\"Yes\",OR(AL4=\"OBL\",AL4=\"FACW\",AL4=\"FAC\")),1,0)","v":0},{"$f":"IF(AF4=\"Yes\",1,0)","v":0},{"$f":"IF(AND(AF4=\"Yes\",OR(AL4=\"OBL\",AL4=\"FACW\")),1,0)","v":0},{"$f":"IF(AND(AF4=\"Yes\",OR(AL4=\"UPL\",AL4=\"FACU\")),1,0)","v":0},{"$f":"IF(OR(AL4=\"OBL\",AL4=\"FACW\"),1,0)","v":0},{"$f":"IF(OR(AL4=\"UPL\",AL4=\"FACU\"),1,0)","v":0},{"$f":"IF(AND(AF4=\"YES\",OR(AL4=\"UPL\",AL4=\"FACU\",AL4=\"FAC\")),FALSE,TRUE)","v":true},{"$f":"IF($AL4=\"obl\",$Z4,0)","v":0},{"$f":"IF($AL4=\"facw\",$Z4,0)","v":0},{"$f":"IF($AL4=\"fac\",$Z4,0)","v":0},{"$f":"IF($AL4=\"facu\",$Z4,0)","v":0},{"$f":"IF($AL4=\"upl\",$Z4,0)","v":0},{"$f":"IFERROR(Z4/Z$11,0)","v":0},{"$f":"IFERROR(LARGE((BQ$4:BQ$15),1),0)","v":0},{"$f":"IFERROR(CE4/Z$11,0)","v":0},{"$f":"IF(CE4>0,CE4,\"\")","v":""},{"$f":"IF(ISNA(MATCH('Page 1 (Hydrology)'!$AI$3,$BO$33:$BO$43,0)),IF(ISNA(MATCH('Page 1 (Hydrology)'!$AI$3,$BO$46:$BO$49,0)),0,\"WGC\"),\"AGCP\")","v":0},{"$f":"IFERROR(IF(ISNA(MATCH(\"AGCP\",$CH$4:$CH$9,0)),IF(ISNA(MATCH(\"WGC\",$CH$4:$CH$9,0)),\"\",VLOOKUP(D4,Plant_List,3,FALSE)),VLOOKUP(D4,Plant_List,2,FALSE)),\"\")","v":""}]
[null,"2.",null,"",null,null,null,null,null,null,null,null,null,null,null,null,null,null,null,null,null,null,null,null,null,null,null,null,null,null,null,{"$f":"IF(Z5>0,IF(OR(AND(Z$11<5,Z$21=\"\",Z$30=\"\",Z$44=\"\",Z$52=\"\"),Z$11>=5),IF(AND(ISNA(MATCH(Z5,CG$4:CG$15,0)),CD5<0.2),\"No\",\"Yes\"),\"No\"),\"\")","v":""},null,null,null,null,null,{"$f":"IF(CI5=0,\"\",CI5)","v":""},null,null,null,null,null,null,null,null,null,null,null,null,null,null,null,null,null,null,{"$f":"IF($BM$5=FALSE,IF(BE7=\"\",\"\",SUM(BR4:BR75)),\"\")","v":""},null,null,null,null,"(A)",null,null,false,"This sampling point has passed the Rapid Test for Hydrophytic Vegetation.","FACW",null,{"$f":"IFERROR(Z5,0)","v":0},0,0,0,0,{"$f":"IF(OR(AL5=\"OBL\",AL5=\"FACW\"),1,0)","v":0},{"$f":"IF(OR(AL5=\"UPL\",AL5=\"FACU\"),1,0)","v":0},{"$f":"IF(AND(AF5=\"YES\",OR(AL5=\"UPL\",AL5=\"FACU\",AL5=\"FAC\")),FALSE,TRUE)","v":true},0,0,0,0,0,0,{"$f":"IFERROR(LARGE((BQ$4:BQ$15),2),0)","v":0},0,{"$f":"IF(AND(CE5>0,CF4>0.5),\"\",CE5)","v":0},{"$f":"IF(AND(CH$4=0,'Page 1 (Hydrology)'!$AI$3=\"AR\"),IF(ISNA(MATCH('Page 1 (Hydrology)'!$L$6,BO64,0)),IF(ISNA(MATCH('Page 1 (Hydrology)'!$L$6,BO66:BO72,0)),0,\"WGC\"),\"AGCP\"),0)","v":0},""]
[null,"3.",null,null,null,null,null,null,null,null,null,null,null,null,null,null,null,null,null,null,null,null,null,null,null,null,null,null,null,null,null,"",null,null,null,null,null,"",null,null,null,null,null,null,"Total Number of Dominant Species Across All Strata:",null,null,null,null,null,null,null,null,null,null,null,null,null,null,null,null,null,null,null,null,"I do not wish to have the Dominance Test worksheet calculated.","FAC",null,0,0,0,0,0,0,0,true,0,0,0,0,0,0,{"$f":"IFERROR(LARGE((BQ$4:BQ$15),3),0)","v":0},0,{"$f":"IF(AND(CE6>0,SUM(CF$4:CF5)>0.5),\"\",CE6)","v":0},{"$f":"IF(AND(CH$4=0,'Page 1 (Hydrology)'!$AI$3=\"LA\"),IF(ISNA(MATCH('Page 1 (Hydrology)'!$L$6,BO75:BO76,0)),IF(ISNA(MATCH('Page 1 (Hydrology)'!$L$6,BO78:BO87,0)),0,\"WGC\"),\"AGCP\"),0)","v":0},""]
[null,"4.",null,"",null,null,null,null,null,null,null,null,null,null,null,null,null,null,null,null,null,null,null,null,null,null,null,null,null,null,null,"",null,null,null,null,null,"",null,null,null,null,null,null,null,null,null,null,null,null,null,null,null,null,null,null,{"$f":"IF($BM$5=FALSE,IF(SUM(BS4:BS75)>0,SUM(BS4:BS75),\"\"),\"\")","v":""},null,null,null,null,"(B)",null,null,null,null,"FACU",null,0,0,0,0,0,0,0,true,0,0,0,0,0,0,{"$f":"IFERROR(LARGE((BQ$4:BQ$15),4),0)","v":0},0,{"$f":"IF(AND(CE7>0,SUM(CF$4:CF6)>0.5),\"\",CE7)","v":0},{"$f":"IF(AND(CH$4=0,'Page 1 (Hydrology)'!$AI$3=\"MS\"),IF(ISNA(MATCH('Page 1 (Hydrology)'!$L$6,BO90:BO92,0)),IF(ISNA(MATCH('Page 1 (Hydrology)'!$L$6,BO95:BO98,0)),0,\"WGC\"),\"AGCP\"),0)","v":0},""]
[null,"5.",null,"",null,null,null,null,null,null,null,null,null,null,null,null,null,null,null,null,null,null,null,null,null,null,null,null,null,null,null,"",null,null,null,null,null,"",null,null,null,null,null,null,"Percent of Dominant Species That Are OBL, FACW, or FAC:",null,null,null,null,null,null,null,null,null,null,null,null,null,null,null,null,null,null,null,null,null,"UPL",null,0,0,0,0,0,0,0,true,0,0,0,0,0,0,{"$f":"IFERROR(LARGE((BQ$4:BQ$15),5),0)","v":0},0,{"$f":"IF(AND(CE8>0,SUM(CF$4:CF7)>0.5),\"\",CE8)","v":0},{"$f":"IF(AND(CH$4=0,'Page 1 (Hydrology)'!$AI$3=\"OK\"),IF(ISNA(MATCH('Page 1 (Hydrology)'!$L$6,BO101,0)),IF(ISNA(MATCH('Page 1 (Hydrology)'!$L$6,BO103,0)),0,\"WGC\"),\"AGCP\"),0)","v":0},""]
[null,"6.",null,"",null,null,null,null,null,null,null,null,null,null,null,null,null,null,null,null,null,null,null,null,null,null,null,null,null,null,null,{"$f":"IF(Z9>0,IF(OR(AND(Z$11<5,Z$21=\"\",Z$30=\"\",Z$44=\"\",Z$52=\"\"),Z$11>=5),IF(AND(ISNA(MATCH(Z9,CG$4:CG$15,0)),CD9<0.2),\"No\",\"Yes\"),\"No\"),\"\")","v":""},null,null,null,null,null,"",null,null,null,null,null,null,null,null,null,null,null,null,null,null,null,null,null,null,{"$f":"IF(BE7=\"\",\"\",ROUND(BE5/BE7,3))","v":""},null,null,null,null,"(A/B)",null,null,null,null,null,null,0,0,0,0,0,0,0,true,0,0,0,0,0,0,{"$f":"IFERROR(LARGE((BQ$4:BQ$15),6),0)","v":0},0,{"$f":"IF(AND(CE9>0,SUM(CF$4:CF8)>0.5),\"\",CE9)","v":0},{"$f":"IF(AND(CH$4=0,'Page 1 (Hydrology)'!$AI$3=\"TN\"),IF(ISNA(MATCH('Page 1 (Hydrology)'!$L$6,BO106:BO107,0)),IF(ISNA(MATCH('Page 1 (Hydrology)'!$L$6,BO109:BO111,0)),0,\"WGC\"),\"AGCP\"),0)","v":0},""]
[null,"",null,null,null,null,null,null,null,null,null,null,null,null,null,null,null,null,null,null,null,null,null,null,null,null,null,null,null,null,null,null,null,null,null,null,null,null,null,null,null,null,null,null,null,null,null,null,null,null,null,null,null,null,null,null,null,null,null,null,null,null,null,null,null,null,null,null,{"$f":"IFERROR('Vegetation Continued, 5 Strata'!Z4,0)","v":0},{"$f":"IFERROR(IF(AND('Vegetation Continued, 5 Strata'!AF4=\"Yes\",OR('Vegetation Continued, 5 Strata'!AL4=\"OBL\",'Vegetation Continued, 5 Strata'!AL4=\"FACW\",'Vegetation Continued, 5 Strata'!AL4=\"FAC\")),1,0),0)","v":0},{"$f":"IFERROR(IF('Vegetation Continued, 5 Strata'!AF4=\"Yes\",1,0),0)","v":0},{"$f":"IFERROR(IF(AND('Vegetation Continued, 5 Strata'!AF4=\"Yes\",OR('Vegetation Continued, 5 Strata'!AL4=\"OBL\",'Vegetation Continued, 5 Strata'!AL4=\"FACW\")),1,0),0)","v":0},{"$f":"IFERROR(IF(AND('Vegetation Continued, 5 Strata'!AF4=\"Yes\",OR('Vegetation Continued, 5 Strata'!AL4=\"UPL\",'Vegetation Continued, 5 Strata'!AL4=\"FACU\")),1,0),\"\")","v":0},{"$f":"IFERROR(IF(OR('Vegetation Continued, 5 Strata'!AL4=\"OBL\",'Vegetation Continued, 5 Strata'!AL4=\"FACW\"),1,0),0)","v":0},{"$f":"IFERROR(IF(OR('Vegetation Continued, 5 Strata'!AL4=\"UPL\",'Vegetation Continued, 5 Strata'!AL4=\"FACU\"),1,0),0)","v":0},{"$f":"IFERROR(IF(AND('Vegetation Continued, 5 Strata'!AF4=\"YES\",OR('Vegetation Continued, 5 Strata'!AL4=\"UPL\",'Vegetation Continued, 5 Strata'!AL4=\"FACU\",'Vegetation Continued, 5 Strata'!AL4=\"FAC\")),FALSE,TRUE),TRUE)","v":true},{"$f":"IFERROR(IF('Vegetation Continued, 5 Strata'!AL4=\"obl\",BQ10,0),0)","v":0},{"$f":"IFERROR(IF('Vegetation Continued, 5 Strata'!AL4=\"facw\",BQ10,0),0)","v":0},{"$f":"IFERROR(IF('Vegetation Continued, 5 Strata'!AL4=\"fac\",BQ10,0),0)","v":0},{"$f":"IFERROR(IF('Vegetation Continued, 5 Strata'!AL4=\"facu\",BQ10,0),0)","v":0},{"$f":"IFERROR(IF('Vegetation Continued, 5 Strata'!AL4=\"upl\",BQ10,0),0)","v":0},{"$f":"IFERROR(BQ10/Z$11,0)","v":0},{"$f":"IFERROR(LARGE((BQ$4:BQ$15),7),0)","v":0},{"$f":"IFERROR(CE10/Z$11,0)","v":0},{"$f":"IF(AND(CE10>0,SUM(CF$4:CF9)>0.5),\"\",CE10)","v":0},null,{"$f":"IFERROR(IF(ISNA(MATCH(\"AGCP\",$CH$4:$CH$9,0)),IF(ISNA(MATCH(\"WGC\",$CH$4:$CH$9,0)),\"\",VLOOKUP('Vegetation Continued, 5 Strata'!D4,Plant_List,3,FALSE)),VLOOKUP('Vegetation Continued, 5 Strata'!D4,Plant_List,2,FALSE)),\"\")","v":""}]
[null,null,null,null,null,null,null,null,null,null,null,null,null,null,null,null,null,null,null,null,null,null,null,null,null,{"$f":"IF(SUM(BQ4:BQ15)>0,SUM(BQ4:BQ15),\"\")","v":""},null,null,null,null,"=Total Cover",null,null,null,null,null,null,null,null,null,null,null,null,null,"Prevalence Index worksheet:",null,null,null,null,null,null,null,null,null,null,null,null,null,null,null,null,null,null,null,false,"This sampling point has passed the Rapid Test for Hydrophytic Vegetation","Page 1",null,{"$f":"IFERROR('Vegetation Continued, 5 Strata'!Z5,0)","v":0},{"$f":"IFERROR(IF(AND('Vegetation Continued, 5 Strata'!AF5=\"Yes\",OR('Vegetation Continued, 5 Strata'!AL5=\"OBL\",'Vegetation Continued, 5 Strata'!AL5=\"FACW\",'Vegetation Continued, 5 Strata'!AL5=\"FAC\")),1,0),0)","v":0},{"$f":"IFERROR(IF('Vegetation Continued, 5 Strata'!AF5=\"Yes\",1,0),0)","v":0},{"$f":"IFERROR(IF(AND('Vegetation Continued, 5 Strata'!AF5=\"Yes\",OR('Vegetation Continued, 5 Strata'!AL5=\"OBL\",'Vegetation Continued, 5 Strata'!AL5=\"FACW\")),1,0),0)","v":0},{"$f":"IFERROR(IF(AND('Vegetation Continued, 5 Strata'!AF5=\"Yes\",OR('Vegetation Continued, 5 Strata'!AL5=\"UPL\",'Vegetation Continued, 5 Strata'!AL5=\"FACU\")),1,0),0)","v":0},{"$f":"IFERROR(IF(OR('Vegetation Continued, 5 Strata'!AL5=\"OBL\",'Vegetation Continued, 5 Strata'!AL5=\"FACW\"),1,0),0)","v":0},{"$f":"IFERROR(IF(OR('Vegetation Continued, 5 Strata'!AL5=\"UPL\",'Vegetation Continued, 5 Strata'!AL5=\"FACU\"),1,0),0)","v":0},{"$f":"IFERROR(IF(AND('Vegetation Continued, 5 Strata'!AF5=\"YES\",OR('Vegetation Continued, 5 Strata'!AL5=\"UPL\",'Vegetation Continued, 5 Strata'!AL5=\"FACU\",'Vegetation Continued, 5 Strata'!AL5=\"FAC\")),FALSE,TRUE),TRUE)","v":true},{"$f":"IFERROR(IF('Vegetation Continued, 5 Strata'!AL5=\"obl\",BQ11,0),0)","v":0},{"$f":"IFERROR(IF('Vegetation Continued, 5 Strata'!AL5=\"facw\",BQ11,0),0)","v":0},{"$f":"IFERROR(IF('Vegetation Continued, 5 Strata'!AL5=\"fac\",BQ11,0),0)","v":0},{"$f":"IFERROR(IF('Vegetation Continued, 5 Strata'!AL5=\"facu\",BQ11,0),0)","v":0},{"$f":"IFERROR(IF('Vegetation Continued, 5 Strata'!AL5=\"upl\",BQ11,0),0)","v":0},{"$f":"IFERROR(BQ11/Z$11,0)","v":0},{"$f":"IFERROR(LARGE((BQ$4:BQ$15),8),0)","v":0},{"$f":"IFERROR(CE11/Z$11,0)","v":0},{"$f":"IF(AND(CE11>0,SUM(CF$4:CF10)>0.5),\"\",CE11)","v":0},null,{"$f":"IFERROR(IF(ISNA(MATCH(\"AGCP\",$CH$4:$CH$9,0)),IF(ISNA(MATCH(\"WGC\",$CH$4:$CH$9,0)),\"\",VLOOKUP('Vegetation Continued, 5 Strata'!D5,Plant_List,3,FALSE)),VLOOKUP('Vegetation Continued, 5 Strata'!D5,Plant_List,2,FALSE)),\"\")","v":""}]
[null,null,null,null,null,null,null,null,null,null,null,null,null,"50% of total cover:",null,null,null,null,null,null,null,null,{"$f":"IFERROR(ROUNDUP(Z11/2,0),\"\")","v":""},null,null,null,null,null,"20% of total cover:",null,null,null,null,null,null,null,null,{"$f":"IFERROR(ROUNDUP(Z11/5,0),\"\")","v":""},null,null,null,null,null,null,"Total % Cover of:",null,null,null,null,null,null,null,null,null,null,"Multiply by:",null,null,null,null,null,null,null,null,null,"and/or the Dominance Test.  I do not wish to have the Prevalence Index",{"$f":"ISBLANK('Page 1 (Hydrology)'!AI3)","v":true},null,{"$f":"IFERROR('Vegetation Continued, 5 Strata'!Z6,0)","v":0},{"$f":"IFERROR(IF(AND('Vegetation Continued, 5 Strata'!AF6=\"Yes\",OR('Vegetation Continued, 5 Strata'!AL6=\"OBL\",'Vegetation Continued, 5 Strata'!AL6=\"FACW\",'Vegetation Continued, 5 Strata'!AL6=\"FAC\")),1,0),0)","v":0},{"$f":"IFERROR(IF('Vegetation Continued, 5 Strata'!AF6=\"Yes\",1,0),0)","v":0},{"$f":"IFERROR(IF(AND('Vegetation Continued, 5 Strata'!AF6=\"Yes\",OR('Vegetation Continued, 5 Strata'!AL6=\"OBL\",'Vegetation Continued, 5 Strata'!AL6=\"FACW\")),1,0),0)","v":0},{"$f":"IFERROR(IF(AND('Vegetation Continued, 5 Strata'!AF6=\"Yes\",OR('Vegetation Continued, 5 Strata'!AL6=\"UPL\",'Vegetation Continued, 5 Strata'!AL6=\"FACU\")),1,0),0)","v":0},{"$f":"IFERROR(IF(OR('Vegetation Continued, 5 Strata'!AL6=\"OBL\",'Vegetation Continued, 5 Strata'!AL6=\"FACW\"),1,0),0)","v":0},{"$f":"IFERROR(IF(OR('Vegetation Continued, 5 Strata'!AL6=\"UPL\",'Vegetation Continued, 5 Strata'!AL6=\"FACU\"),1,0),0)","v":0},{"$f":"IFERROR(IF(AND('Vegetation Continued, 5 Strata'!AF6=\"YES\",OR('Vegetation Continued, 5 Strata'!AL6=\"UPL\",'Vegetation Continued, 5 Strata'!AL6=\"FACU\",'Vegetation Continued, 5 Strata'!AL6=\"FAC\")),FALSE,TRUE),TRUE)","v":true},{"$f":"IFERROR(IF('Vegetation Continued, 5 Strata'!AL6=\"obl\",BQ12,0),0)","v":0},{"$f":"IFERROR(IF('Vegetation Continued, 5 Strata'!AL6=\"facw\",BQ12,0),0)","v":0},{"$f":"IFERROR(IF('Vegetation Continued, 5 Strata'!AL6=\"fac\",BQ12,0),0)","v":0},{"$f":"IFERROR(IF('Vegetation Continued, 5 Strata'!AL6=\"facu\",BQ12,0),0)","v":0},{"$f":"IFERROR(IF('Vegetation Continued, 5 Strata'!AL6=\"upl\",BQ12,0),0)","v":0},0,{"$f":"IFERROR(LARGE((BQ$4:BQ$15),9),0)","v":0},0,{"$f":"IF(AND(CE12>0,SUM(CF$4:CF11)>0.5),\"\",CE12)","v":0},null,{"$f":"IFERROR(IF(ISNA(MATCH(\"AGCP\",$CH$4:$CH$9,0)),IF(ISNA(MATCH(\"WGC\",$CH$4:$CH$9,0)),\"\",VLOOKUP('Vegetation Continued, 5 Strata'!D6,Plant_List,3,FALSE)),VLOOKUP('Vegetation Continued, 5 Strata'!D6,Plant_List,2,FALSE)),\"\")","v":""}]
[null,"Sapling Stratum",null,null,null,null,null,null,null,"(Plot size:",null,null,null,null,null,null,null,null,null,null,null,")",null,null,null,null,null,null,null,null,null,null,null,null,null,null,null,null,null,null,null,null,null,null,"OBL species",null,null,null,null,null,{"$f":"IF($BM$11=FALSE,IF(OR(ISNUMBER($Z$11),ISNUMBER($Z$21),ISNUMBER($Z$30),ISNUMBER($Z$44),ISNUMBER($Z$52)),SUM(BY$4:BY$75),\"\"),\"\")","v":""},null,null,null,null,"x 1 =",null,null,{"$f":"IF(ISNUMBER(AY13),AY13,\"\")","v":""},null,null,null,null,null,null,"worksheet calculated.",{"$f":"IF('Page 1 (Hydrology)'!$AI$3=\"AR\",IF(ISNA(MATCH('Page 1 (Hydrology)'!$L$6,BO115:BO122,0)),TRUE,FALSE))","v":false},null,{"$f":"IFERROR('Vegetation Continued, 5 Strata'!Z7,0)","v":0},{"$f":"IFERROR(IF(AND('Vegetation Continued, 5 Strata'!AF7=\"Yes\",OR('Vegetation Continued, 5 Strata'!AL7=\"OBL\",'Vegetation Continued, 5 Strata'!AL7=\"FACW\",'Vegetation Continued, 5 Strata'!AL7=\"FAC\")),1,0),0)","v":0},{"$f":"IFERROR(IF('Vegetation Continued, 5 Strata'!AF7=\"Yes\",1,0),0)","v":0},{"$f":"IFERROR(IF(AND('Vegetation Continued, 5 Strata'!AF7=\"Yes\",OR('Vegetation Continued, 5 Strata'!AL7=\"OBL\",'Vegetation Continued, 5 Strata'!AL7=\"FACW\")),1,0),0)","v":0},{"$f":"IFERROR(IF(AND('Vegetation Continued, 5 Strata'!AF7=\"Yes\",OR('Vegetation Continued, 5 Strata'!AL7=\"UPL\",'Vegetation Continued, 5 Strata'!AL7=\"FACU\")),1,0),0)","v":0},{"$f":"IFERROR(IF(OR('Vegetation Continued, 5 Strata'!AL7=\"OBL\",'Vegetation Continued, 5 Strata'!AL7=\"FACW\"),1,0),0)","v":0},{"$f":"IFERROR(IF(OR('Vegetation Continued, 5 Strata'!AL7=\"UPL\",'Vegetation Continued, 5 Strata'!AL7=\"FACU\"),1,0),0)","v":0},{"$f":"IFERROR(IF(AND('Vegetation Continued, 5 Strata'!AF7=\"YES\",OR('Vegetation Continued, 5 Strata'!AL7=\"UPL\",'Vegetation Continued, 5 Strata'!AL7=\"FACU\",'Vegetation Continued, 5 Strata'!AL7=\"FAC\")),FALSE,TRUE),TRUE)","v":true},{"$f":"IFERROR(IF('Vegetation Continued, 5 Strata'!AL7=\"obl\",BQ13,0),0)","v":0},{"$f":"IFERROR(IF('Vegetation Continued, 5 Strata'!AL7=\"facw\",BQ13,0),0)","v":0},{"$f":"IFERROR(IF('Vegetation Continued, 5 Strata'!AL7=\"fac\",BQ13,0),0)","v":0},{"$f":"IFERROR(IF('Vegetation Continued, 5 Strata'!AL7=\"facu\",BQ13,0),0)","v":0},{"$f":"IFERROR(IF('Vegetation Continued, 5 Strata'!AL7=\"upl\",BQ13,0),0)","v":0},0,{"$f":"IFERROR(LARGE((BQ$4:BQ$15),10),0)","v":0},0,{"$f":"IF(AND(CE13>0,SUM(CF$4:CF12)>0.5),\"\",CE13)","v":0},null,{"$f":"IFERROR(IF(ISNA(MATCH(\"AGCP\",$CH$4:$CH$9,0)),IF(ISNA(MATCH(\"WGC\",$CH$4:$CH$9,0)),\"\",VLOOKUP('Vegetation Continued, 5 Strata'!D7,Plant_List,3,FALSE)),VLOOKUP('Vegetation Continued, 5 Strata'!D7,Plant_List,2,FALSE)),\"\")","v":""}]
[null,"1.",null,"",null,null,null,null,null,null,null,null,null,null,null,null,null,null,null,null,null,null,null,null,null,null,null,null,null,null,null,{"$f":"IF(Z14>0,IF(OR(AND(Z$21<5,Z$11=\"\",Z$30=\"\",Z$44=\"\",Z$52=\"\"),Z$21>=5),IF(AND(ISNA(MATCH(Z14,CG$17:CG$28,0)),CD17<0.2),\"No\",\"Yes\"),\"No\"),\"\")","v":""},null,null,null,null,null,{"$f":"IF(CI17=0,\"\",CI17)","v":""},null,null,null,null,null,null,"FACW species",null,null,null,null,null,{"$f":"IF($BM$11=FALSE,IF(OR(ISNUMBER($Z$11),ISNUMBER($Z$21),ISNUMBER($Z$30),ISNUMBER($Z$44),ISNUMBER($Z$52)),SUM(BZ$4:BZ$75),\"\"),\"\")","v":""},null,null,null,null,"x 2 =",null,null,{"$f":"IF(ISNUMBER(AY14),AY14*2,\"\")","v":""},null,null,null,null,null,null,null,{"$f":"IF('Page 1 (Hydrology)'!$AI$3=\"LA\",IF(ISNA(MATCH('Page 1 (Hydrology)'!$L$6,BO125:BO136,0)),TRUE,FALSE))","v":false},null,{"$f":"IFERROR('Vegetation Continued, 5 Strata'!Z8,0)","v":0},{"$f":"IFERROR(IF(AND('Vegetation Continued, 5 Strata'!AF8=\"Yes\",OR('Vegetation Continued, 5 Strata'!AL8=\"OBL\",'Vegetation Continued, 5 Strata'!AL8=\"FACW\",'Vegetation Continued, 5 Strata'!AL8=\"FAC\")),1,0),0)","v":0},{"$f":"IFERROR(IF('Vegetation Continued, 5 Strata'!AF8=\"Yes\",1,0),0)","v":0},{"$f":"IFERROR(IF(AND('Vegetation Continued, 5 Strata'!AF8=\"Yes\",OR('Vegetation Continued, 5 Strata'!AL8=\"OBL\",'Vegetation Continued, 5 Strata'!AL8=\"FACW\")),1,0),0)","v":0},{"$f":"IFERROR(IF(AND('Vegetation Continued, 5 Strata'!AF8=\"Yes\",OR('Vegetation Continued, 5 Strata'!AL8=\"UPL\",'Vegetation Continued, 5 Strata'!AL8=\"FACU\")),1,0),0)","v":0},{"$f":"IFERROR(IF(OR('Vegetation Continued, 5 Strata'!AL8=\"OBL\",'Vegetation Continued, 5 Strata'!AL8=\"FACW\"),1,0),0)","v":0},{"$f":"IFERROR(IF(OR('Vegetation Continued, 5 Strata'!AL8=\"UPL\",'Vegetation Continued, 5 Strata'!AL8=\"FACU\"),1,0),0)","v":0},{"$f":"IFERROR(IF(AND('Vegetation Continued, 5 Strata'!AF8=\"YES\",OR('Vegetation Continued, 5 Strata'!AL8=\"UPL\",'Vegetation Continued, 5 Strata'!AL8=\"FACU\",'Vegetation Continued, 5 Strata'!AL8=\"FAC\")),FALSE,TRUE),TRUE)","v":true},{"$f":"IFERROR(IF('Vegetation Continued, 5 Strata'!AL8=\"obl\",BQ14,0),0)","v":0},{"$f":"IFERROR(IF('Vegetation Continued, 5 Strata'!AL8=\"facw\",BQ14,0),0)","v":0},{"$f":"IFERROR(IF('Vegetation Continued, 5 Strata'!AL8=\"fac\",BQ14,0),0)","v":0},{"$f":"IFERROR(IF('Vegetation Continued, 5 Strata'!AL8=\"facu\",BQ14,0),0)","v":0},{"$f":"IFERROR(IF('Vegetation Continued, 5 Strata'!AL8=\"upl\",BQ14,0),0)","v":0},0,{"$f":"IFERROR(LARGE((BQ$4:BQ$15),11),0)","v":0},0,{"$f":"IF(AND(CE14>0,SUM(CF$4:CF13)>0.5),\"\",CE14)","v":0},null,{"$f":"IFERROR(IF(ISNA(MATCH(\"AGCP\",$CH$4:$CH$9,0)),IF(ISNA(MATCH(\"WGC\",$CH$4:$CH$9,0)),\"\",VLOOKUP('Vegetation Continued, 5 Strata'!D8,Plant_List,3,FALSE)),VLOOKUP('Vegetation Continued, 5 Strata'!D8,Plant_List,2,FALSE)),\"\")","v":""}]
[null,"2.",null,"",null,null,null,null,null,null,null,null,null,null,null,null,null,null,null,null,null,null,null,null,null,null,null,null,null,null,null,{"$f":"IF(Z15>0,IF(OR(AND(Z$21<5,Z$11=\"\",Z$30=\"\",Z$44=\"\",Z$52=\"\"),Z$21>=5),IF(AND(ISNA(MATCH(Z15,CG$17:CG$28,0)),CD18<0.2),\"No\",\"Yes\"),\"No\"),\"\")","v":""},null,null,null,null,null,"",null,null,null,null,null,null,"FAC species",null,null,null,null,null,{"$f":"IF($BM$11=FALSE,IF(OR(ISNUMBER($Z$11),ISNUMBER($Z$21),ISNUMBER($Z$30),ISNUMBER($Z$44),ISNUMBER($Z$52)),SUM(CA$4:CA$75),\"\"),\"\")","v":""},null,null,null,null,"x 3 =",null,null,{"$f":"IF(ISNUMBER(AY15),AY15*3,\"\")","v":""},null,null,null,null,null,null,null,{"$f":"IF('Page 1 (Hydrology)'!$AI$3=\"MS\",IF(ISNA(MATCH('Page 1 (Hydrology)'!$L$6,BO139:BO145,0)),TRUE,FALSE))","v":false},null,{"$f":"IFERROR('Vegetation Continued, 5 Strata'!Z9,0)","v":0},{"$f":"IFERROR(IF(AND('Vegetation Continued, 5 Strata'!AF9=\"Yes\",OR('Vegetation Continued, 5 Strata'!AL9=\"OBL\",'Vegetation Continued, 5 Strata'!AL9=\"FACW\",'Vegetation Continued, 5 Strata'!AL9=\"FAC\")),1,0),0)","v":0},{"$f":"IFERROR(IF('Vegetation Continued, 5 Strata'!AF9=\"Yes\",1,0),0)","v":0},{"$f":"IFERROR(IF(AND('Vegetation Continued, 5 Strata'!AF9=\"Yes\",OR('Vegetation Continued, 5 Strata'!AL9=\"OBL\",'Vegetation Continued, 5 Strata'!AL9=\"FACW\")),1,0),0)","v":0},{"$f":"IFERROR(IF(AND('Vegetation Continued, 5 Strata'!AF9=\"Yes\",OR('Vegetation Continued, 5 Strata'!AL9=\"UPL\",'Vegetation Continued, 5 Strata'!AL9=\"FACU\")),1,0),0)","v":0},{"$f":"IFERROR(IF(OR('Vegetation Continued, 5 Strata'!AL9=\"OBL\",'Vegetation Continued, 5 Strata'!AL9=\"FACW\"),1,0),0)","v":0},{"$f":"IFERROR(IF(OR('Vegetation Continued, 5 Strata'!AL9=\"UPL\",'Vegetation Continued, 5 Strata'!AL9=\"FACU\"),1,0),0)","v":0},{"$f":"IFERROR(IF(AND('Vegetation Continued, 5 Strata'!AF9=\"YES\",OR('Vegetation Continued, 5 Strata'!AL9=\"UPL\",'Vegetation Continued, 5 Strata'!AL9=\"FACU\",'Vegetation Continued, 5 Strata'!AL9=\"FAC\")),FALSE,TRUE),TRUE)","v":true},{"$f":"IFERROR(IF('Vegetation Continued, 5 Strata'!AL9=\"obl\",BQ15,0),0)","v":0},{"$f":"IFERROR(IF('Vegetation Continued, 5 Strata'!AL9=\"facw\",BQ15,0),0)","v":0},{"$f":"IFERROR(IF('Vegetation Continued, 5 Strata'!AL9=\"fac\",BQ15,0),0)","v":0},{"$f":"IFERROR(IF('Vegetation Continued, 5 Strata'!AL9=\"facu\",BQ15,0),0)","v":0},{"$f":"IFERROR(IF('Vegetation Continued, 5 Strata'!AL9=\"upl\",BQ15,0),0)","v":0},0,{"$f":"IFERROR(LARGE((BQ$4:BQ$15),12),0)","v":0},0,{"$f":"IF(AND(CE15>0,SUM(CF$4:CF14)>0.5),0,CE15)","v":0},null,{"$f":"IFERROR(IF(ISNA(MATCH(\"AGCP\",$CH$4:$CH$9,0)),IF(ISNA(MATCH(\"WGC\",$CH$4:$CH$9,0)),\"\",VLOOKUP('Vegetation Continued, 5 Strata'!D9,Plant_List,3,FALSE)),VLOOKUP('Vegetation Continued, 5 Strata'!D9,Plant_List,2,FALSE)),\"\")","v":""}]
[null,"3.",null,"",null,null,null,null,null,null,null,null,null,null,null,null,null,null,null,null,null,null,null,null,null,null,null,null,null,null,null,"",null,null,null,null,null,"",null,null,null,null,null,null,"FACU species",null,null,null,null,null,{"$f":"IF($BM$11=FALSE,IF(OR(ISNUMBER($Z$11),ISNUMBER($Z$21),ISNUMBER($Z$30),ISNUMBER($Z$44),ISNUMBER($Z$52)),SUM(CB$4:CB$75),\"\"),\"\")","v":""},null,null,null,null,"x 4 =",null,null,{"$f":"IF(ISNUMBER(AY16),AY16*4,\"\")","v":""},null,null,null,null,null,null,null,{"$f":"IF('Page 1 (Hydrology)'!$AI$3=\"OK\",IF(ISNA(MATCH('Page 1 (Hydrology)'!$L$6,BO148:BO149,0)),TRUE,FALSE))","v":false}]
[null,"4.",null,"",null,null,null,null,null,null,null,null,null,null,null,null,null,null,null,null,null,null,null,null,null,null,null,null,null,null,null,"",null,null,null,null,null,"",null,null,null,null,null,null,"UPL species",null,null,null,null,null,{"$f":"IF($BM$11=FALSE,IF(OR(ISNUMBER($Z$11),ISNUMBER($Z$21),ISNUMBER($Z$30),ISNUMBER($Z$44),ISNUMBER($Z$52)),SUM(CC$4:CC$75),\"\"),\"\")","v":""},null,null,null,null,"x 5 =",null,null,{"$f":"IF(ISNUMBER(AY17),AY17*5,\"\")","v":""},null,null,null,null,null,null,null,{"$f":"IF('Page 1 (Hydrology)'!$AI$3=\"TN\",IF(ISNA(MATCH('Page 1 (Hydrology)'!$L$6,BO152:BO156,0)),TRUE,FALSE))","v":false},null,{"$f":"IFERROR(Z14,0)","v":0},{"$f":"IF(AND(AF14=\"Yes\",OR(AL14=\"OBL\",AL14=\"FACW\",AL14=\"FAC\")),1,0)","v":0},{"$f":"IF(AF14=\"Yes\",1,0)","v":0},{"$f":"IF(AND(AF14=\"Yes\",OR(AL14=\"OBL\",AL14=\"FACW\")),1,0)","v":0},{"$f":"IF(AND(AF14=\"Yes\",OR(AL14=\"UPL\",AL14=\"FACU\")),1,0)","v":0},{"$f":"IF(OR(AL14=\"OBL\",AL14=\"FACW\"),1,0)","v":0},{"$f":"IF(OR(AL14=\"UPL\",AL14=\"FACU\"),1,0)","v":0},{"$f":"IF(AND(AF14=\"YES\",OR(AL14=\"UPL\",AL14=\"FACU\",AL14=\"FAC\")),FALSE,TRUE)","v":true},{"$f":"IF($AL14=\"obl\",$Z14,0)","v":0},{"$f":"IF($AL14=\"facw\",$Z14,0)","v":0},{"$f":"IF($AL14=\"fac\",$Z14,0)","v":0},{"$f":"IF($AL14=\"facu\",$Z14,0)","v":0},{"$f":"IF($AL14=\"upl\",$Z14,0)","v":0},{"$f":"IFERROR(Z14/Z$21,0)","v":0},{"$f":"IFERROR(LARGE((BQ$17:BQ$28),1),0)","v":0},{"$f":"IFERROR(CE17/Z$21,0)","v":0},{"$f":"IF(CE17>0,CE17,\"\")","v":""},null,{"$f":"IFERROR(IF(ISNA(MATCH(\"AGCP\",$CH$4:$CH$9,0)),IF(ISNA(MATCH(\"WGC\",$CH$4:$CH$9,0)),\"\",VLOOKUP(D14,Plant_List,3,FALSE)),VLOOKUP(D14,Plant_List,2,FALSE)),\"\")","v":""}]
[null,"5.",null,null,null,null,null,null,null,null,null,null,null,null,null,null,null,null,null,null,null,null,null,null,null,null,null,null,null,null,null,"",null,null,null,null,null,"",null,null,null,null,null,null,"Column Totals:",null,null,null,null,null,{"$f":"IF(AND(AY13=\"\",AY14=\"\",AY15=\"\",AY16=\"\",AY17=\"\"),\"\",SUM(AY13:BB17))","v":""},null,null,null,"(A)",null,null,null,{"$f":"IF(BM11=FALSE,IF(OR(ISNUMBER($Z$11),ISNUMBER($Z$30),ISNUMBER($Z$44),ISNUMBER($Z$52)),SUM(BG13:BJ17),\"\"),\"\")","v":""},null,null,null,"(B)",null,null,null,{"$f":"IF(AND(OR($BO$12=TRUE,$BO$13=TRUE,$BO$14=TRUE,$BO$15=TRUE,$BO$16=TRUE,$BO$17=TRUE),D4<>\"\"),TRUE,FALSE)","v":false},null,{"$f":"IFERROR(Z15,0)","v":0},0,0,0,0,0,0,true,0,0,0,0,0,0,{"$f":"IFERROR(LARGE((BQ$17:BQ$28),2),0)","v":0},0,{"$f":"IF(AND(CE18>0,CF17>0.5),\"\",CE18)","v":0},null,""]
[null,"6.",null,"",null,null,null,null,null,null,null,null,null,null,null,null,null,null,null,null,null,null,null,null,null,null,null,null,null,null,null,"",null,null,null,null,null,"",null,null,null,null,null,null,null,null,"Prevalence Index  = B/A =",null,null,null,null,null,null,null,null,null,null,{"$f":"IFERROR(IF(ISNUMBER(BG18),ROUND(BG18/AY18,2),\"\"),\"\")","v":""},null,null,null,null,null,null,null,null,null,null,0,0,0,0,0,0,0,true,0,0,0,0,0,0,{"$f":"IFERROR(LARGE((BQ$17:BQ$28),3),0)","v":0},0,{"$f":"IF(AND(CE19>0,SUM(CF$17:CF18)>0.5),\"\",CE19)","v":0},null,""]
[null,null,null,null,null,null,null,null,null,null,null,null,null,null,null,null,null,null,null,null,null,null,null,null,null,null,null,null,null,null,null,null,null,null,null,null,null,null,null,null,null,null,null,null,null,null,null,null,null,null,null,null,null,null,null,null,null,null,null,null,null,null,null,null,null,null,null,null,0,0,0,0,0,0,0,true,0,0,0,0,0,0,{"$f":"IFERROR(LARGE((BQ$17:BQ$28),4),0)","v":0},0,{"$f":"IF(AND(CE20>0,SUM(CF$17:CF19)>0.5),\"\",CE20)","v":0},null,""]
[null,null,null,null,null,null,null,null,null,null,null,null,null,null,null,null,null,null,null,null,null,null,null,null,null,{"$f":"IF(SUM(BQ17:BQ28)>0,SUM(BQ17:BQ28),\"\")","v":""},null,null,null,null,"=Total Cover",null,null,null,null,null,null,null,null,null,null,null,null,null,"Hydrophytic Vegetation Indicators:",null,null,null,null,null,null,null,null,null,null,null,null,null,null,null,null,null,null,null,null,null,"Rapid Test",null,0,0,0,0,0,0,0,true,0,0,0,0,0,0,{"$f":"IFERROR(LARGE((BQ$17:BQ$28),5),0)","v":0},0,{"$f":"IF(AND(CE21>0,SUM(CF$17:CF20)>0.5),\"\",CE21)","v":0},null,""]
[null,null,null,null,null,null,null,null,null,null,null,null,null,"50% of total cover:",null,null,null,null,null,null,null,null,{"$f":"IFERROR(ROUNDUP(Z21/2,0),\"\")","v":""},null,null,null,null,null,"20% of total cover:",null,null,null,null,null,null,null,null,{"$f":"IFERROR(ROUNDUP(Z21/5,0),\"\")","v":""},null,null,null,null,null,null,null,"1 - Rapid Test for Hydrophytic Vegetation",null,null,null,null,null,null,null,null,null,null,null,null,null,null,null,null,null,null,null,null,{"$f":"IF(ISNA(MATCH(FALSE,BX4:BX75,0)),TRUE,FALSE)","v":true},null,{"$f":"IFERROR(Z19,0)","v":0},0,0,0,0,0,0,true,0,0,0,0,0,0,{"$f":"IFERROR(LARGE((BQ$17:BQ$28),6),0)","v":0},0,{"$f":"IF(AND(CE22>0,SUM(CF$17:CF21)>0.5),\"\",CE22)","v":0},null,""]
[null,"Shrub Stratum",null,null,null,null,null,null,"(Plot size:",null,null,null,null,null,null,null,null,null,null,null,")",null,null,null,null,null,null,null,null,null,null,null,null,null,null,null,null,null,null,null,null,null,null,null,{"$f":"IF(AND(BE9>0.5,BE9<>\"\"),\"X\",\"\")","v":""},"2 - Dominance Test is >50%",null,null,null,null,null,null,null,null,null,null,null,null,null,null,null,null,null,null,null,null,null,null,{"$f":"IFERROR('Vegetation Continued, 5 Strata'!Z14,0)","v":0},{"$f":"IFERROR(IF(AND('Vegetation Continued, 5 Strata'!AF14=\"Yes\",OR('Vegetation Continued, 5 Strata'!AL14=\"OBL\",'Vegetation Continued, 5 Strata'!AL14=\"FACW\",'Vegetation Continued, 5 Strata'!AL14=\"FAC\")),1,0),0)","v":0},{"$f":"IFERROR(IF('Vegetation Continued, 5 Strata'!AF14=\"Yes\",1,0),0)","v":0},{"$f":"IFERROR(IF(AND('Vegetation Continued, 5 Strata'!AF14=\"Yes\",OR('Vegetation Continued, 5 Strata'!AL14=\"OBL\",'Vegetation Continued, 5 Strata'!AL14=\"FACW\")),1,0),0)","v":0},{"$f":"IFERROR(IF(AND('Vegetation Continued, 5 Strata'!AF14=\"Yes\",OR('Vegetation Continued, 5 Strata'!AL14=\"UPL\",'Vegetation Continued, 5 Strata'!AL14=\"FACU\")),1,0),0)","v":0},{"$f":"IFERROR(IF(OR('Vegetation Continued, 5 Strata'!AL14=\"OBL\",'Vegetation Continued, 5 Strata'!AL14=\"FACW\"),1,0),0)","v":0},{"$f":"IFERROR(IF(OR('Vegetation Continued, 5 Strata'!AL14=\"UPL\",'Vegetation Continued, 5 Strata'!AL14=\"FACU\"),1,0),0)","v":0},{"$f":"IF(AND('Vegetation Continued, 5 Strata'!AF14=\"YES\",OR('Vegetation Continued, 5 Strata'!AL14=\"UPL\",'Vegetation Continued, 5 Strata'!AL14=\"FACU\",'Vegetation Continued, 5 Strata'!AL14=\"FAC\")),FALSE,TRUE)","v":true},{"$f":"IFERROR(IF('Vegetation Continued, 5 Strata'!AL14=\"obl\",BQ23,0),0)","v":0},{"$f":"IFERROR(IF('Vegetation Continued, 5 Strata'!AL14=\"facw\",BQ23,0),0)","v":0},{"$f":"IFERROR(IF('Vegetation Continued, 5 Strata'!AL14=\"fac\",BQ23,0),0)","v":0},{"$f":"IFERROR(IF('Vegetation Continued, 5 Strata'!AL14=\"facu\",BQ23,0),0)","v":0},{"$f":"IFERROR(IF('Vegetation Continued, 5 Strata'!AL14=\"upl\",BQ23,0),0)","v":0},{"$f":"IFERROR(BQ23/Z$21,0)","v":0},{"$f":"IFERROR(LARGE((BQ$17:BQ$28),7),0)","v":0},0,{"$f":"IF(AND(CE23>0,SUM(CF$17:CF22)>0.5),\"\",CE23)","v":0},null,{"$f":"IFERROR(IF(ISNA(MATCH(\"AGCP\",$CH$4:$CH$9,0)),IF(ISNA(MATCH(\"WGC\",$CH$4:$CH$9,0)),\"\",VLOOKUP('Vegetation Continued, 5 Strata'!D14,Plant_List,3,FALSE)),VLOOKUP('Vegetation Continued, 5 Strata'!D14,Plant_List,2,FALSE)),\"\")","v":""}]
[null,"1.",null,"",null,null,null,null,null,null,null,null,null,null,null,null,null,null,null,null,null,null,null,null,null,null,null,null,null,null,null,{"$f":"IF(Z24>0,IF(OR(AND(Z$30<5,Z$11=\"\",Z$21=\"\",Z$44=\"\",Z$52=\"\"),Z$30>=5),IF(AND(ISNA(MATCH(Z24,CG$30:CG$41,0)),CD30<0.2),\"No\",\"Yes\"),\"No\"),\"\")","v":""},null,null,null,null,null,{"$f":"IF(CI30=0,\"\",CI30)","v":""},null,null,null,null,null,null,{"$f":"IF(AND(BF19<=3,BO29=TRUE),\"X\",\"\")","v":""},"3 - Prevalence Index is ≤3.01",null,null,null,null,null,null,null,null,null,null,null,null,null,null,null,null,null,null,null,null,"Hydro/Soil",null,{"$f":"IFERROR('Vegetation Continued, 5 Strata'!Z15,0)","v":0},{"$f":"IFERROR(IF(AND('Vegetation Continued, 5 Strata'!AF15=\"Yes\",OR('Vegetation Continued, 5 Strata'!AL15=\"OBL\",'Vegetation Continued, 5 Strata'!AL15=\"FACW\",'Vegetation Continued, 5 Strata'!AL15=\"FAC\")),1,0),0)","v":0},{"$f":"IFERROR(IF('Vegetation Continued, 5 Strata'!AF15=\"Yes\",1,0),0)","v":0},{"$f":"IFERROR(IF(AND('Vegetation Continued, 5 Strata'!AF15=\"Yes\",OR('Vegetation Continued, 5 Strata'!AL15=\"OBL\",'Vegetation Continued, 5 Strata'!AL15=\"FACW\")),1,0),0)","v":0},{"$f":"IFERROR(IF(AND('Vegetation Continued, 5 Strata'!AF15=\"Yes\",OR('Vegetation Continued, 5 Strata'!AL15=\"UPL\",'Vegetation Continued, 5 Strata'!AL15=\"FACU\")),1,0),0)","v":0},{"$f":"IFERROR(IF(OR('Vegetation Continued, 5 Strata'!AL15=\"OBL\",'Vegetation Continued, 5 Strata'!AL15=\"FACW\"),1,0),0)","v":0},{"$f":"IFERROR(IF(OR('Vegetation Continued, 5 Strata'!AL15=\"UPL\",'Vegetation Continued, 5 Strata'!AL15=\"FACU\"),1,0),0)","v":0},{"$f":"IF(AND('Vegetation Continued, 5 Strata'!AF15=\"YES\",OR('Vegetation Continued, 5 Strata'!AL15=\"UPL\",'Vegetation Continued, 5 Strata'!AL15=\"FACU\",'Vegetation Continued, 5 Strata'!AL15=\"FAC\")),FALSE,TRUE)","v":true},{"$f":"IFERROR(IF('Vegetation Continued, 5 Strata'!AL15=\"obl\",BQ24,0),0)","v":0},{"$f":"IFERROR(IF('Vegetation Continued, 5 Strata'!AL15=\"facw\",BQ24,0),0)","v":0},{"$f":"IFERROR(IF('Vegetation Continued, 5 Strata'!AL15=\"fac\",BQ24,0),0)","v":0},{"$f":"IFERROR(IF('Vegetation Continued, 5 Strata'!AL15=\"facu\",BQ24,0),0)","v":0},{"$f":"IFERROR(IF('Vegetation Continued, 5 Strata'!AL15=\"upl\",BQ24,0),0)","v":0},{"$f":"IFERROR(BQ24/Z$21,0)","v":0},{"$f":"IFERROR(LARGE((BQ$17:BQ$28),8),0)","v":0},0,{"$f":"IF(AND(CE24>0,SUM(CF$17:CF23)>0.5),\"\",CE24)","v":0},null,{"$f":"IFERROR(IF(ISNA(MATCH(\"AGCP\",$CH$4:$CH$9,0)),IF(ISNA(MATCH(\"WGC\",$CH$4:$CH$9,0)),\"\",VLOOKUP('Vegetation Continued, 5 Strata'!D15,Plant_List,3,FALSE)),VLOOKUP('Vegetation Continued, 5 Strata'!D15,Plant_List,2,FALSE)),\"\")","v":""}]
[null,"2.",null,"",null,null,null,null,null,null,null,null,null,null,null,null,null,null,null,null,null,null,null,null,null,null,null,null,null,null,null,{"$f":"IF(Z25>0,IF(OR(AND(Z$30<5,Z$11=\"\",Z$21=\"\",Z$44=\"\",Z$52=\"\"),Z$30>=5),IF(AND(ISNA(MATCH(Z25,CG$30:CG$41,0)),CD31<0.2),\"No\",\"Yes\"),\"No\"),\"\")","v":""},null,null,null,null,null,{"$f":"IF(CI31=0,\"\",CI31)","v":""},null,null,null,null,null,null,null,"Problematic Hydrophytic Vegetation1 (Explain)",null,null,null,null,null,null,null,null,null,null,null,null,null,null,null,null,null,null,null,null,{"$f":"IF(OR('Page 1 (Hydrology)'!Q9=\"X\",'Page 1 (Hydrology)'!Q9=\"Yes\",'Page 1 (Hydrology)'!Q9=\"Y\",'Page 1 (Hydrology)'!Q10=\"X\",'Page 1 (Hydrology)'!Q10=\"Yes\",'Page 1 (Hydrology)'!Q10=\"Y\"),TRUE,FALSE)","v":false},null,{"$f":"IFERROR('Vegetation Continued, 5 Strata'!Z16,0)","v":0},{"$f":"IFERROR(IF(AND('Vegetation Continued, 5 Strata'!AF16=\"Yes\",OR('Vegetation Continued, 5 Strata'!AL16=\"OBL\",'Vegetation Continued, 5 Strata'!AL16=\"FACW\",'Vegetation Continued, 5 Strata'!AL16=\"FAC\")),1,0),0)","v":0},{"$f":"IFERROR(IF('Vegetation Continued, 5 Strata'!AF16=\"Yes\",1,0),0)","v":0},{"$f":"IFERROR(IF(AND('Vegetation Continued, 5 Strata'!AF16=\"Yes\",OR('Vegetation Continued, 5 Strata'!AL16=\"OBL\",'Vegetation Continued, 5 Strata'!AL16=\"FACW\")),1,0),0)","v":0},{"$f":"IFERROR(IF(AND('Vegetation Continued, 5 Strata'!AF16=\"Yes\",OR('Vegetation Continued, 5 Strata'!AL16=\"UPL\",'Vegetation Continued, 5 Strata'!AL16=\"FACU\")),1,0),0)","v":0},{"$f":"IFERROR(IF(OR('Vegetation Continued, 5 Strata'!AL16=\"OBL\",'Vegetation Continued, 5 Strata'!AL16=\"FACW\"),1,0),0)","v":0},{"$f":"IFERROR(IF(OR('Vegetation Continued, 5 Strata'!AL16=\"UPL\",'Vegetation Continued, 5 Strata'!AL16=\"FACU\"),1,0),0)","v":0},{"$f":"IF(AND('Vegetation Continued, 5 Strata'!AF16=\"YES\",OR('Vegetation Continued, 5 Strata'!AL16=\"UPL\",'Vegetation Continued, 5 Strata'!AL16=\"FACU\",'Vegetation Continued, 5 Strata'!AL16=\"FAC\")),FALSE,TRUE)","v":true},{"$f":"IFERROR(IF('Vegetation Continued, 5 Strata'!AL16=\"obl\",BQ25,0),0)","v":0},{"$f":"IFERROR(IF('Vegetation Continued, 5 Strata'!AL16=\"facw\",BQ25,0),0)","v":0},{"$f":"IFERROR(IF('Vegetation Continued, 5 Strata'!AL16=\"fac\",BQ25,0),0)","v":0},{"$f":"IFERROR(IF('Vegetation Continued, 5 Strata'!AL16=\"facu\",BQ25,0),0)","v":0},{"$f":"IFERROR(IF('Vegetation Continued, 5 Strata'!AL16=\"upl\",BQ25,0),0)","v":0},{"$f":"IFERROR(BQ25/Z$21,0)","v":0},{"$f":"IFERROR(LARGE((BQ$17:BQ$28),9),0)","v":0},0,{"$f":"IF(AND(CE25>0,SUM(CF$17:CF24)>0.5),\"\",CE25)","v":0},null,{"$f":"IFERROR(IF(ISNA(MATCH(\"AGCP\",$CH$4:$CH$9,0)),IF(ISNA(MATCH(\"WGC\",$CH$4:$CH$9,0)),\"\",VLOOKUP('Vegetation Continued, 5 Strata'!D16,Plant_List,3,FALSE)),VLOOKUP('Vegetation Continued, 5 Strata'!D16,Plant_List,2,FALSE)),\"\")","v":""}]
[null,"3.",null,"",null,null,null,null,null,null,null,null,null,null,null,null,null,null,null,null,null,null,null,null,null,null,null,null,null,null,null,"",null,null,null,null,null,"",null,null,null,null,null,null,null,null,null,null,null,null,null,null,null,null,null,null,null,null,null,null,null,null,null,null,null,null,{"$f":"IF(OR('Page 1 (Hydrology)'!AO39=\"X\",'Page 1 (Hydrology)'!Q14=\"X\"),TRUE,FALSE)","v":false},null,{"$f":"IFERROR('Vegetation Continued, 5 Strata'!Z17,0)","v":0},{"$f":"IFERROR(IF(AND('Vegetation Continued, 5 Strata'!AF17=\"Yes\",OR('Vegetation Continued, 5 Strata'!AL17=\"OBL\",'Vegetation Continued, 5 Strata'!AL17=\"FACW\",'Vegetation Continued, 5 Strata'!AL17=\"FAC\")),1,0),0)","v":0},{"$f":"IFERROR(IF('Vegetation Continued, 5 Strata'!AF17=\"Yes\",1,0),0)","v":0},{"$f":"IFERROR(IF(AND('Vegetation Continued, 5 Strata'!AF17=\"Yes\",OR('Vegetation Continued, 5 Strata'!AL17=\"OBL\",'Vegetation Continued, 5 Strata'!AL17=\"FACW\")),1,0),0)","v":0},{"$f":"IFERROR(IF(AND('Vegetation Continued, 5 Strata'!AF17=\"Yes\",OR('Vegetation Continued, 5 Strata'!AL17=\"UPL\",'Vegetation Continued, 5 Strata'!AL17=\"FACU\")),1,0),0)","v":0},{"$f":"IFERROR(IF(OR('Vegetation Continued, 5 Strata'!AL17=\"OBL\",'Vegetation Continued, 5 Strata'!AL17=\"FACW\"),1,0),0)","v":0},{"$f":"IFERROR(IF(OR('Vegetation Continued, 5 Strata'!AL17=\"UPL\",'Vegetation Continued, 5 Strata'!AL17=\"FACU\"),1,0),0)","v":0},{"$f":"IF(AND('Vegetation Continued, 5 Strata'!AF17=\"YES\",OR('Vegetation Continued, 5 Strata'!AL17=\"UPL\",'Vegetation Continued, 5 Strata'!AL17=\"FACU\",'Vegetation Continued, 5 Strata'!AL17=\"FAC\")),FALSE,TRUE)","v":true},{"$f":"IFERROR(IF('Vegetation Continued, 5 Strata'!AL17=\"obl\",BQ26,0),0)","v":0},{"$f":"IFERROR(IF('Vegetation Continued, 5 Strata'!AL17=\"facw\",BQ26,0),0)","v":0},{"$f":"IFERROR(IF('Vegetation Continued, 5 Strata'!AL17=\"fac\",BQ26,0),0)","v":0},{"$f":"IFERROR(IF('Vegetation Continued, 5 Strata'!AL17=\"facu\",BQ26,0),0)","v":0},{"$f":"IFERROR(IF('Vegetation Continued, 5 Strata'!AL17=\"upl\",BQ26,0),0)","v":0},0,{"$f":"IFERROR(LARGE((BQ$17:BQ$28),10),0)","v":0},0,{"$f":"IF(AND(CE26>0,SUM(CF$17:CF25)>0.5),\"\",CE26)","v":0},null,{"$f":"IFERROR(IF(ISNA(MATCH(\"AGCP\",$CH$4:$CH$9,0)),IF(ISNA(MATCH(\"WGC\",$CH$4:$CH$9,0)),\"\",VLOOKUP('Vegetation Continued, 5 Strata'!D17,Plant_List,3,FALSE)),VLOOKUP('Vegetation Continued, 5 Strata'!D17,Plant_List,2,FALSE)),\"\")","v":""}]
[null,"4.",null,"",null,null,null,null,null,null,null,null,null,null,null,null,null,null,null,null,null,null,null,null,null,null,null,null,null,null,null,"",null,null,null,null,null,"",null,null,null,null,null,null,null,null,null,null,null,null,null,null,null,null,null,null,null,null,null,null,null,null,null,null,null,null,{"$f":"IF(OR('Page 1 (Hydrology)'!L9=\"X\",'Page 1 (Hydrology)'!L9=\"Yes\",'Page 1 (Hydrology)'!L9=\"Y\",'Page 1 (Hydrology)'!L10=\"X\",'Page 1 (Hydrology)'!L10=\"Yes\",'Page 1 (Hydrology)'!L10=\"Y\"),TRUE,FALSE)","v":false},null,{"$f":"IFERROR('Vegetation Continued, 5 Strata'!Z18,0)","v":0},{"$f":"IFERROR(IF(AND('Vegetation Continued, 5 Strata'!AF18=\"Yes\",OR('Vegetation Continued, 5 Strata'!AL18=\"OBL\",'Vegetation Continued, 5 Strata'!AL18=\"FACW\",'Vegetation Continued, 5 Strata'!AL18=\"FAC\")),1,0),0)","v":0},{"$f":"IFERROR(IF('Vegetation Continued, 5 Strata'!AF18=\"Yes\",1,0),0)","v":0},{"$f":"IFERROR(IF(AND('Vegetation Continued, 5 Strata'!AF18=\"Yes\",OR('Vegetation Continued, 5 Strata'!AL18=\"OBL\",'Vegetation Continued, 5 Strata'!AL18=\"FACW\")),1,0),0)","v":0},{"$f":"IFERROR(IF(AND('Vegetation Continued, 5 Strata'!AF18=\"Yes\",OR('Vegetation Continued, 5 Strata'!AL18=\"UPL\",'Vegetation Continued, 5 Strata'!AL18=\"FACU\")),1,0),0)","v":0},{"$f":"IFERROR(IF(OR('Vegetation Continued, 5 Strata'!AL18=\"OBL\",'Vegetation Continued, 5 Strata'!AL18=\"FACW\"),1,0),0)","v":0},{"$f":"IFERROR(IF(OR('Vegetation Continued, 5 Strata'!AL18=\"UPL\",'Vegetation Continued, 5 Strata'!AL18=\"FACU\"),1,0),0)","v":0},{"$f":"IF(AND('Vegetation Continued, 5 Strata'!AF18=\"YES\",OR('Vegetation Continued, 5 Strata'!AL18=\"UPL\",'Vegetation Continued, 5 Strata'!AL18=\"FACU\",'Vegetation Continued, 5 Strata'!AL18=\"FAC\")),FALSE,TRUE)","v":true},{"$f":"IFERROR(IF('Vegetation Continued, 5 Strata'!AL18=\"obl\",BQ27,0),0)","v":0},{"$f":"IFERROR(IF('Vegetation Continued, 5 Strata'!AL18=\"facw\",BQ27,0),0)","v":0},{"$f":"IFERROR(IF('Vegetation Continued, 5 Strata'!AL18=\"fac\",BQ27,0),0)","v":0},{"$f":"IFERROR(IF('Vegetation Continued, 5 Strata'!AL18=\"facu\",BQ27,0),0)","v":0},{"$f":"IFERROR(IF('Vegetation Continued, 5 Strata'!AL18=\"upl\",BQ27,0),0)","v":0},0,{"$f":"IFERROR(LARGE((BQ$17:BQ$28),11),0)","v":0},0,{"$f":"IF(AND(CE27>0,SUM(CF$17:CF26)>0.5),\"\",CE27)","v":0},null,{"$f":"IFERROR(IF(ISNA(MATCH(\"AGCP\",$CH$4:$CH$9,0)),IF(ISNA(MATCH(\"WGC\",$CH$4:$CH$9,0)),\"\",VLOOKUP('Vegetation Continued, 5 Strata'!D18,Plant_List,3,FALSE)),VLOOKUP('Vegetation Continued, 5 Strata'!D18,Plant_List,2,FALSE)),\"\")","v":""}]
[null,"5.",null,null,null,null,null,null,null,null,null,null,null,null,null,null,null,null,null,null,null,null,null,null,null,null,null,null,null,null,null,"",null,null,null,null,null,"",null,null,null,null,null,null,"1Indicators of hydric soil and wetland hydrology must be present, unless disturbed or problematic.",null,null,null,null,null,null,null,null,null,null,null,null,null,null,null,null,null,null,null,null,null,{"$f":"IF(OR('Page 3 (Soil)'!BE38=\"X\",'Page 1 (Hydrology)'!Q13=\"X\"),TRUE,FALSE)","v":false},null,{"$f":"IFERROR('Vegetation Continued, 5 Strata'!Z19,0)","v":0},{"$f":"IFERROR(IF(AND('Vegetation Continued, 5 Strata'!AF19=\"Yes\",OR('Vegetation Continued, 5 Strata'!AL19=\"OBL\",'Vegetation Continued, 5 Strata'!AL19=\"FACW\",'Vegetation Continued, 5 Strata'!AL19=\"FAC\")),1,0),0)","v":0},{"$f":"IFERROR(IF('Vegetation Continued, 5 Strata'!AF19=\"Yes\",1,0),0)","v":0},{"$f":"IFERROR(IF(AND('Vegetation Continued, 5 Strata'!AF19=\"Yes\",OR('Vegetation Continued, 5 Strata'!AL19=\"OBL\",'Vegetation Continued, 5 Strata'!AL19=\"FACW\")),1,0),0)","v":0},{"$f":"IFERROR(IF(AND('Vegetation Continued, 5 Strata'!AF19=\"Yes\",OR('Vegetation Continued, 5 Strata'!AL19=\"UPL\",'Vegetation Continued, 5 Strata'!AL19=\"FACU\")),1,0),0)","v":0},{"$f":"IFERROR(IF(OR('Vegetation Continued, 5 Strata'!AL19=\"OBL\",'Vegetation Continued, 5 Strata'!AL19=\"FACW\"),1,0),0)","v":0},{"$f":"IFERROR(IF(OR('Vegetation Continued, 5 Strata'!AL19=\"UPL\",'Vegetation Continued, 5 Strata'!AL19=\"FACU\"),1,0),0)","v":0},{"$f":"IF(AND('Vegetation Continued, 5 Strata'!AF19=\"YES\",OR('Vegetation Continued, 5 Strata'!AL19=\"UPL\",'Vegetation Continued, 5 Strata'!AL19=\"FACU\",'Vegetation Continued, 5 Strata'!AL19=\"FAC\")),FALSE,TRUE)","v":true},{"$f":"IFERROR(IF('Vegetation Continued, 5 Strata'!AL19=\"obl\",BQ28,0),0)","v":0},{"$f":"IFERROR(IF('Vegetation Continued, 5 Strata'!AL19=\"facw\",BQ28,0),0)","v":0},{"$f":"IFERROR(IF('Vegetation Continued, 5 Strata'!AL19=\"fac\",BQ28,0),0)","v":0},{"$f":"IFERROR(IF('Vegetation Continued, 5 Strata'!AL19=\"facu\",BQ28,0),0)","v":0},{"$f":"IFERROR(IF('Vegetation Continued, 5 Strata'!AL19=\"upl\",BQ28,0),0)","v":0},0,{"$f":"IFERROR(LARGE((BQ$17:BQ$28),12),0)","v":0},0,{"$f":"IF(AND(CE28>0,SUM(CF$17:CF27)>0.5),\"\",CE28)","v":0},null,{"$f":"IFERROR(IF(ISNA(MATCH(\"AGCP\",$CH$4:$CH$9,0)),IF(ISNA(MATCH(\"WGC\",$CH$4:$CH$9,0)),\"\",VLOOKUP('Vegetation Continued, 5 Strata'!D19,Plant_List,3,FALSE)),VLOOKUP('Vegetation Continued, 5 Strata'!D19,Plant_List,2,FALSE)),\"\")","v":""}]
[null,"6.",null,"",null,null,null,null,null,null,null,null,null,null,null,null,null,null,null,null,null,null,null,null,null,null,null,null,null,null,null,"",null,null,null,null,null,"",null,null,null,null,null,null,null,null,null,null,null,null,null,null,null,null,null,null,null,null,null,null,null,null,null,null,null,null,{"$f":"IF(AND(OR(BO25=TRUE,BO26=TRUE),OR(BO27=TRUE,BO28=TRUE)),TRUE,FALSE)","v":false}]
[null,null,null,null,null,null,null,null,null,null,null,null,null,null,null,null,null,null,null,null,null,null,null,null,null,{"$f":"IF(SUM(BQ30:BQ41)>0,SUM(BQ30:BQ41),\"\")","v":""},null,null,null,null,"=Total Cover",null,null,null,null,null,null,null,null,null,null,null,null,null,"Definitions of Five Vegetation Strata:",null,null,null,null,null,null,null,null,null,null,null,null,null,null,null,null,null,null,null,null,null,null,null,{"$f":"IFERROR(Z24,0)","v":0},{"$f":"IF(AND(AF24=\"Yes\",OR(AL24=\"OBL\",AL24=\"FACW\",AL24=\"FAC\")),1,0)","v":0},{"$f":"IF(AF24=\"Yes\",1,0)","v":0},{"$f":"IF(AND(AF24=\"Yes\",OR(AL24=\"OBL\",AL24=\"FACW\")),1,0)","v":0},{"$f":"IF(AND(AF24=\"Yes\",OR(AL24=\"UPL\",AL24=\"FACU\")),1,0)","v":0},{"$f":"IF(OR(AL24=\"OBL\",AL24=\"FACW\"),1,0)","v":0},{"$f":"IF(OR(AL24=\"UPL\",AL24=\"FACU\"),1,0)","v":0},{"$f":"IF(AND(AF24=\"YES\",OR(AL24=\"UPL\",AL24=\"FACU\",AL24=\"FAC\")),FALSE,TRUE)","v":true},{"$f":"IF($AL24=\"obl\",$Z24,0)","v":0},{"$f":"IF($AL24=\"facw\",$Z24,0)","v":0},{"$f":"IF($AL24=\"fac\",$Z24,0)","v":0},{"$f":"IF($AL24=\"facu\",$Z24,0)","v":0},{"$f":"IF($AL24=\"upl\",$Z24,0)","v":0},{"$f":"IFERROR(Z24/Z$30,0)","v":0},{"$f":"IFERROR(LARGE((BQ$30:BQ$41),1),0)","v":0},{"$f":"IFERROR(CE30/Z$30,0)","v":0},{"$f":"IF(CE30>0,CE30,\"\")","v":""},null,{"$f":"IFERROR(IF(ISNA(MATCH(\"AGCP\",$CH$4:$CH$9,0)),IF(ISNA(MATCH(\"WGC\",$CH$4:$CH$9,0)),\"\",VLOOKUP(D24,Plant_List,3,FALSE)),VLOOKUP(D24,Plant_List,2,FALSE)),\"\")","v":""}]
[null,null,null,null,null,null,null,null,null,null,null,null,null,"50% of total cover:",null,null,null,null,null,null,null,null,{"$f":"IFERROR(ROUNDUP(Z30/2,0),\"\")","v":""},null,null,null,null,null,"20% of total cover:",null,null,null,null,null,null,null,null,{"$f":"IFERROR(ROUNDUP(Z30/5,0),\"\")","v":""},null,null,null,null,null,null,"Tree – Woody plants, excluding woody vines, approximately 20 ft (6 m) or more in height and 3 in.      (7.6 cm) or larger in diameter at breast height (DBH).",null,null,null,null,null,null,null,null,null,null,null,null,null,null,null,null,null,null,null,null,null,"State Regions",null,{"$f":"IFERROR(Z25,0)","v":0},0,0,0,0,0,0,true,0,0,0,0,0,0,{"$f":"IFERROR(LARGE((BQ$30:BQ$41),2),0)","v":0},0,{"$f":"IF(AND(CE31>0,CF30>0.5),\"\",CE31)","v":0},null,""]
[null,"Herb Stratum",null,null,null,null,null,null,"(Plot size:",null,null,null,null,null,null,null,null,null,null,null,")",null,null,null,null,null,null,null,null,null,null,null,null,null,null,null,null,null,null,null,null,null,null,null,null,null,null,null,null,null,null,null,null,null,null,null,null,null,null,null,null,null,null,null,null,null,"AGCP",null,0,0,0,0,0,0,0,true,0,0,0,0,0,0,{"$f":"IFERROR(LARGE((BQ$30:BQ$41),3),0)","v":0},0,{"$f":"IF(AND(CE32>0,SUM(CF$30:CF31)>0.5),\"\",CE32)","v":0},null,""]
[null,"1.",null,"",null,null,null,null,null,null,null,null,null,null,null,null,null,null,null,null,null,null,null,null,null,null,null,null,null,null,null,{"$f":"IF(Z33>0,IF(OR(AND(Z$44<5,Z$11=\"\",Z$21=\"\",Z$30=\"\",Z$52=\"\"),Z$44>=5),IF(AND(ISNA(MATCH(Z33,CG$43:CG$64,0)),CD43<0.2),\"No\",\"Yes\"),\"No\"),\"\")","v":""},null,null,null,null,null,{"$f":"IF(CI43=0,\"\",CI43)","v":""},null,null,null,null,null,null,null,null,null,null,null,null,null,null,null,null,null,null,null,null,null,null,null,null,null,null,null,null,"AL",null,0,0,0,0,0,0,0,true,0,0,0,0,0,0,{"$f":"IFERROR(LARGE((BQ$30:BQ$41),4),0)","v":0},0,{"$f":"IF(AND(CE33>0,SUM(CF$30:CF32)>0.5),\"\",CE33)","v":0},null,""]
[null,"2.",null,"",null,null,null,null,null,null,null,null,null,null,null,null,null,null,null,null,null,null,null,null,null,null,null,null,null,null,null,{"$f":"IF(Z34>0,IF(OR(AND(Z$44<5,Z$11=\"\",Z$21=\"\",Z$30=\"\",Z$52=\"\"),Z$44>=5),IF(AND(ISNA(MATCH(Z34,CG$43:CG$64,0)),CD44<0.2),\"No\",\"Yes\"),\"No\"),\"\")","v":""},null,null,null,null,null,{"$f":"IF(CI44=0,\"\",CI44)","v":""},null,null,null,null,null,null,"Sapling – Woody plants, excluding woody vines, approximately 20 ft (6 m) or more in height and less than 3 in. (7.6 cm) DBH.",null,null,null,null,null,null,null,null,null,null,null,null,null,null,null,null,null,null,null,null,null,"DC",null,0,0,0,0,0,0,0,true,0,0,0,0,0,0,{"$f":"IFERROR(LARGE((BQ$30:BQ$41),5),0)","v":0},0,{"$f":"IF(AND(CE34>0,SUM(CF$30:CF33)>0.5),\"\",CE34)","v":0},null,""]
[null,"3.",null,null,null,null,null,null,null,null,null,null,null,null,null,null,null,null,null,null,null,null,null,null,null,null,null,null,null,null,null,"",null,null,null,null,null,"",null,null,null,null,null,null,null,null,null,null,null,null,null,null,null,null,null,null,null,null,null,null,null,null,null,null,null,null,"DE",null,0,0,0,0,0,0,0,true,0,0,0,0,0,0,{"$f":"IFERROR(LARGE((BQ$30:BQ$41),6),0)","v":0},0,{"$f":"IF(AND(CE35>0,SUM(CF$30:CF34)>0.5),\"\",CE35)","v":0},null,""]
[null,"4.",null,"",null,null,null,null,null,null,null,null,null,null,null,null,null,null,null,null,null,null,null,null,null,null,null,null,null,null,null,"",null,null,null,null,null,"",null,null,null,null,null,null,null,null,null,null,null,null,null,null,null,null,null,null,null,null,null,null,null,null,null,null,null,null,"FL",null,{"$f":"IFERROR('Vegetation Continued, 5 Strata'!Z24,0)","v":0},{"$f":"IFERROR(IF(AND('Vegetation Continued, 5 Strata'!AF24=\"Yes\",OR('Vegetation Continued, 5 Strata'!AL24=\"OBL\",'Vegetation Continued, 5 Strata'!AL24=\"FACW\",'Vegetation Continued, 5 Strata'!AL24=\"FAC\")),1,0),0)","v":0},{"$f":"IFERROR(IF('Vegetation Continued, 5 Strata'!AF24=\"Yes\",1,0),0)","v":0},{"$f":"IFERROR(IF(AND('Vegetation Continued, 5 Strata'!AF24=\"Yes\",OR('Vegetation Continued, 5 Strata'!AL24=\"OBL\",'Vegetation Continued, 5 Strata'!AL24=\"FACW\")),1,0),0)","v":0},{"$f":"IFERROR(IF(AND('Vegetation Continued, 5 Strata'!AF24=\"Yes\",OR('Vegetation Continued, 5 Strata'!AL24=\"UPL\",'Vegetation Continued, 5 Strata'!AL24=\"FACU\")),1,0),0)","v":0},{"$f":"IFERROR(IF(OR('Vegetation Continued, 5 Strata'!AL24=\"OBL\",'Vegetation Continued, 5 Strata'!AL24=\"FACW\"),1,0),0)","v":0},{"$f":"IFERROR(IF(OR('Vegetation Continued, 5 Strata'!AL24=\"UPL\",'Vegetation Continued, 5 Strata'!AL24=\"FACU\"),1,0),0)","v":0},{"$f":"IF(AND('Vegetation Continued, 5 Strata'!AF24=\"YES\",OR('Vegetation Continued, 5 Strata'!AL24=\"UPL\",'Vegetation Continued, 5 Strata'!AL24=\"FACU\",'Vegetation Continued, 5 Strata'!AL24=\"FAC\")),FALSE,TRUE)","v":true},{"$f":"IFERROR(IF('Vegetation Continued, 5 Strata'!AL24=\"obl\",BQ36,0),0)","v":0},{"$f":"IFERROR(IF('Vegetation Continued, 5 Strata'!AL24=\"facw\",BQ36,0),0)","v":0},{"$f":"IFERROR(IF('Vegetation Continued, 5 Strata'!AL24=\"fac\",BQ36,0),0)","v":0},{"$f":"IFERROR(IF('Vegetation Continued, 5 Strata'!AL24=\"facu\",BQ36,0),0)","v":0},{"$f":"IFERROR(IF('Vegetation Continued, 5 Strata'!AL24=\"upl\",BQ36,0),0)","v":0},{"$f":"IFERROR(BQ36/Z$30,0)","v":0},{"$f":"IFERROR(LARGE((BQ$30:BQ$41),7),0)","v":0},{"$f":"IFERROR(CE36/Z$30,0)","v":0},{"$f":"IF(AND(CE36>0,SUM(CF$30:CF35)>0.5),\"\",CE36)","v":0},null,{"$f":"IFERROR(IF(ISNA(MATCH(\"AGCP\",$CH$4:$CH$9,0)),IF(ISNA(MATCH(\"WGC\",$CH$4:$CH$9,0)),\"\",VLOOKUP('Vegetation Continued, 5 Strata'!D24,Plant_List,3,FALSE)),VLOOKUP('Vegetation Continued, 5 Strata'!D24,Plant_List,2,FALSE)),\"\")","v":""}]
[null,"5.",null,"",null,null,null,null,null,null,null,null,null,null,null,null,null,null,null,null,null,null,null,null,null,null,null,null,null,null,null,"",null,null,null,null,null,"",null,null,null,null,null,null,"Shrub - Woody Plants, excluding woody vines, approximately 3 to 20 ft (1 to 6 m) in height.",null,null,null,null,null,null,null,null,null,null,null,null,null,null,null,null,null,null,null,null,null,"GA",null,{"$f":"IFERROR('Vegetation Continued, 5 Strata'!Z25,0)","v":0},{"$f":"IFERROR(IF(AND('Vegetation Continued, 5 Strata'!AF25=\"Yes\",OR('Vegetation Continued, 5 Strata'!AL25=\"OBL\",'Vegetation Continued, 5 Strata'!AL25=\"FACW\",'Vegetation Continued, 5 Strata'!AL25=\"FAC\")),1,0),0)","v":0},{"$f":"IFERROR(IF('Vegetation Continued, 5 Strata'!AF25=\"Yes\",1,0),0)","v":0},{"$f":"IFERROR(IF(AND('Vegetation Continued, 5 Strata'!AF25=\"Yes\",OR('Vegetation Continued, 5 Strata'!AL25=\"OBL\",'Vegetation Continued, 5 Strata'!AL25=\"FACW\")),1,0),0)","v":0},{"$f":"IFERROR(IF(AND('Vegetation Continued, 5 Strata'!AF25=\"Yes\",OR('Vegetation Continued, 5 Strata'!AL25=\"UPL\",'Vegetation Continued, 5 Strata'!AL25=\"FACU\")),1,0),0)","v":0},{"$f":"IFERROR(IF(OR('Vegetation Continued, 5 Strata'!AL25=\"OBL\",'Vegetation Continued, 5 Strata'!AL25=\"FACW\"),1,0),0)","v":0},{"$f":"IFERROR(IF(OR('Vegetation Continued, 5 Strata'!AL25=\"UPL\",'Vegetation Continued, 5 Strata'!AL25=\"FACU\"),1,0),0)","v":0},{"$f":"IF(AND('Vegetation Continued, 5 Strata'!AF25=\"YES\",OR('Vegetation Continued, 5 Strata'!AL25=\"UPL\",'Vegetation Continued, 5 Strata'!AL25=\"FACU\",'Vegetation Continued, 5 Strata'!AL25=\"FAC\")),FALSE,TRUE)","v":true},{"$f":"IFERROR(IF('Vegetation Continued, 5 Strata'!AL25=\"obl\",BQ37,0),0)","v":0},{"$f":"IFERROR(IF('Vegetation Continued, 5 Strata'!AL25=\"facw\",BQ37,0),0)","v":0},{"$f":"IFERROR(IF('Vegetation Continued, 5 Strata'!AL25=\"fac\",BQ37,0),0)","v":0},{"$f":"IFERROR(IF('Vegetation Continued, 5 Strata'!AL25=\"facu\",BQ37,0),0)","v":0},{"$f":"IFERROR(IF('Vegetation Continued, 5 Strata'!AL25=\"upl\",BQ37,0),0)","v":0},{"$f":"IFERROR(BQ37/Z$30,0)","v":0},{"$f":"IFERROR(LARGE((BQ$30:BQ$41),8),0)","v":0},{"$f":"IFERROR(CE37/Z$30,0)","v":0},{"$f":"IF(AND(CE37>0,SUM(CF$30:CF36)>0.5),\"\",CE37)","v":0},null,{"$f":"IFERROR(IF(ISNA(MATCH(\"AGCP\",$CH$4:$CH$9,0)),IF(ISNA(MATCH(\"WGC\",$CH$4:$CH$9,0)),\"\",VLOOKUP('Vegetation Continued, 5 Strata'!D25,Plant_List,3,FALSE)),VLOOKUP('Vegetation Continued, 5 Strata'!D25,Plant_List,2,FALSE)),\"\")","v":""}]
[null,"6.",null,"",null,null,null,null,null,null,null,null,null,null,null,null,null,null,null,null,null,null,null,null,null,null,null,null,null,null,null,"",null,null,null,null,null,"",null,null,null,null,null,null,null,null,null,null,null,null,null,null,null,null,null,null,null,null,null,null,null,null,null,null,null,null,"MD",null,{"$f":"IFERROR('Vegetation Continued, 5 Strata'!Z26,0)","v":0},{"$f":"IFERROR(IF(AND('Vegetation Continued, 5 Strata'!AF26=\"Yes\",OR('Vegetation Continued, 5 Strata'!AL26=\"OBL\",'Vegetation Continued, 5 Strata'!AL26=\"FACW\",'Vegetation Continued, 5 Strata'!AL26=\"FAC\")),1,0),0)","v":0},{"$f":"IFERROR(IF('Vegetation Continued, 5 Strata'!AF26=\"Yes\",1,0),0)","v":0},{"$f":"IFERROR(IF(AND('Vegetation Continued, 5 Strata'!AF26=\"Yes\",OR('Vegetation Continued, 5 Strata'!AL26=\"OBL\",'Vegetation Continued, 5 Strata'!AL26=\"FACW\")),1,0),0)","v":0},{"$f":"IFERROR(IF(AND('Vegetation Continued, 5 Strata'!AF26=\"Yes\",OR('Vegetation Continued, 5 Strata'!AL26=\"UPL\",'Vegetation Continued, 5 Strata'!AL26=\"FACU\")),1,0),0)","v":0},{"$f":"IFERROR(IF(OR('Vegetation Continued, 5 Strata'!AL26=\"OBL\",'Vegetation Continued, 5 Strata'!AL26=\"FACW\"),1,0),0)","v":0},{"$f":"IFERROR(IF(OR('Vegetation Continued, 5 Strata'!AL26=\"UPL\",'Vegetation Continued, 5 Strata'!AL26=\"FACU\"),1,0),0)","v":0},{"$f":"IF(AND('Vegetation Continued, 5 Strata'!AF26=\"YES\",OR('Vegetation Continued, 5 Strata'!AL26=\"UPL\",'Vegetation Continued, 5 Strata'!AL26=\"FACU\",'Vegetation Continued, 5 Strata'!AL26=\"FAC\")),FALSE,TRUE)","v":true},{"$f":"IFERROR(IF('Vegetation Continued, 5 Strata'!AL26=\"obl\",BQ38,0),0)","v":0},{"$f":"IFERROR(IF('Vegetation Continued, 5 Strata'!AL26=\"facw\",BQ38,0),0)","v":0},{"$f":"IFERROR(IF('Vegetation Continued, 5 Strata'!AL26=\"fac\",BQ38,0),0)","v":0},{"$f":"IFERROR(IF('Vegetation Continued, 5 Strata'!AL26=\"facu\",BQ38,0),0)","v":0},{"$f":"IFERROR(IF('Vegetation Continued, 5 Strata'!AL26=\"upl\",BQ38,0),0)","v":0},0,{"$f":"IFERROR(LARGE((BQ$30:BQ$41),9),0)","v":0},0,{"$f":"IF(AND(CE38>0,SUM(CF$30:CF37)>0.5),\"\",CE38)","v":0},null,{"$f":"IFERROR(IF(ISNA(MATCH(\"AGCP\",$CH$4:$CH$9,0)),IF(ISNA(MATCH(\"WGC\",$CH$4:$CH$9,0)),\"\",VLOOKUP('Vegetation Continued, 5 Strata'!D26,Plant_List,3,FALSE)),VLOOKUP('Vegetation Continued, 5 Strata'!D26,Plant_List,2,FALSE)),\"\")","v":""}]
[null,"7.",null,"",null,null,null,null,null,null,null,null,null,null,null,null,null,null,null,null,null,null,null,null,null,null,null,null,null,null,null,"",null,null,null,null,null,"",null,null,null,null,null,null,"Herb – All herbaceous (non-woody) plants, including herbaceous vines, regardless of size, and woody plants, except woody vines, less than approximately 3 ft (1 m) in height.",null,null,null,null,null,null,null,null,null,null,null,null,null,null,null,null,null,null,null,null,null,"NC",null,{"$f":"IFERROR('Vegetation Continued, 5 Strata'!Z27,0)","v":0},{"$f":"IFERROR(IF(AND('Vegetation Continued, 5 Strata'!AF27=\"Yes\",OR('Vegetation Continued, 5 Strata'!AL27=\"OBL\",'Vegetation Continued, 5 Strata'!AL27=\"FACW\",'Vegetation Continued, 5 Strata'!AL27=\"FAC\")),1,0),0)","v":0},{"$f":"IFERROR(IF('Vegetation Continued, 5 Strata'!AF27=\"Yes\",1,0),0)","v":0},{"$f":"IFERROR(IF(AND('Vegetation Continued, 5 Strata'!AF27=\"Yes\",OR('Vegetation Continued, 5 Strata'!AL27=\"OBL\",'Vegetation Continued, 5 Strata'!AL27=\"FACW\")),1,0),0)","v":0},{"$f":"IFERROR(IF(AND('Vegetation Continued, 5 Strata'!AF27=\"Yes\",OR('Vegetation Continued, 5 Strata'!AL27=\"UPL\",'Vegetation Continued, 5 Strata'!AL27=\"FACU\")),1,0),0)","v":0},{"$f":"IFERROR(IF(OR('Vegetation Continued, 5 Strata'!AL27=\"OBL\",'Vegetation Continued, 5 Strata'!AL27=\"FACW\"),1,0),0)","v":0},{"$f":"IFERROR(IF(OR('Vegetation Continued, 5 Strata'!AL27=\"UPL\",'Vegetation Continued, 5 Strata'!AL27=\"FACU\"),1,0),0)","v":0},{"$f":"IF(AND('Vegetation Continued, 5 Strata'!AF27=\"YES\",OR('Vegetation Continued, 5 Strata'!AL27=\"UPL\",'Vegetation Continued, 5 Strata'!AL27=\"FACU\",'Vegetation Continued, 5 Strata'!AL27=\"FAC\")),FALSE,TRUE)","v":true},{"$f":"IFERROR(IF('Vegetation Continued, 5 Strata'!AL27=\"obl\",BQ39,0),0)","v":0},{"$f":"IFERROR(IF('Vegetation Continued, 5 Strata'!AL27=\"facw\",BQ39,0),0)","v":0},{"$f":"IFERROR(IF('Vegetation Continued, 5 Strata'!AL27=\"fac\",BQ39,0),0)","v":0},{"$f":"IFERROR(IF('Vegetation Continued, 5 Strata'!AL27=\"facu\",BQ39,0),0)","v":0},{"$f":"IFERROR(IF('Vegetation Continued, 5 Strata'!AL27=\"upl\",BQ39,0),0)","v":0},0,{"$f":"IFERROR(LARGE((BQ$30:BQ$41),10),0)","v":0},0,{"$f":"IF(AND(CE39>0,SUM(CF$30:CF38)>0.5),\"\",CE39)","v":0},null,{"$f":"IFERROR(IF(ISNA(MATCH(\"AGCP\",$CH$4:$CH$9,0)),IF(ISNA(MATCH(\"WGC\",$CH$4:$CH$9,0)),\"\",VLOOKUP('Vegetation Continued, 5 Strata'!D27,Plant_List,3,FALSE)),VLOOKUP('Vegetation Continued, 5 Strata'!D27,Plant_List,2,FALSE)),\"\")","v":""}]
[null,"8.",null,"",null,null,null,null,null,null,null,null,null,null,null,null,null,null,null,null,null,null,null,null,null,null,null,null,null,null,null,"",null,null,null,null,null,"",null,null,null,null,null,null,null,null,null,null,null,null,null,null,null,null,null,null,null,null,null,null,null,null,null,null,null,null,"NJ",null,{"$f":"IFERROR('Vegetation Continued, 5 Strata'!Z28,0)","v":0},{"$f":"IFERROR(IF(AND('Vegetation Continued, 5 Strata'!AF28=\"Yes\",OR('Vegetation Continued, 5 Strata'!AL28=\"OBL\",'Vegetation Continued, 5 Strata'!AL28=\"FACW\",'Vegetation Continued, 5 Strata'!AL28=\"FAC\")),1,0),0)","v":0},{"$f":"IFERROR(IF('Vegetation Continued, 5 Strata'!AF28=\"Yes\",1,0),0)","v":0},{"$f":"IFERROR(IF(AND('Vegetation Continued, 5 Strata'!AF28=\"Yes\",OR('Vegetation Continued, 5 Strata'!AL28=\"OBL\",'Vegetation Continued, 5 Strata'!AL28=\"FACW\")),1,0),0)","v":0},{"$f":"IFERROR(IF(AND('Vegetation Continued, 5 Strata'!AF28=\"Yes\",OR('Vegetation Continued, 5 Strata'!AL28=\"UPL\",'Vegetation Continued, 5 Strata'!AL28=\"FACU\")),1,0),0)","v":0},{"$f":"IFERROR(IF(OR('Vegetation Continued, 5 Strata'!AL28=\"OBL\",'Vegetation Continued, 5 Strata'!AL28=\"FACW\"),1,0),0)","v":0},{"$f":"IFERROR(IF(OR('Vegetation Continued, 5 Strata'!AL28=\"UPL\",'Vegetation Continued, 5 Strata'!AL28=\"FACU\"),1,0),0)","v":0},{"$f":"IF(AND('Vegetation Continued, 5 Strata'!AF28=\"YES\",OR('Vegetation Continued, 5 Strata'!AL28=\"UPL\",'Vegetation Continued, 5 Strata'!AL28=\"FACU\",'Vegetation Continued, 5 Strata'!AL28=\"FAC\")),FALSE,TRUE)","v":true},{"$f":"IFERROR(IF('Vegetation Continued, 5 Strata'!AL28=\"obl\",BQ40,0),0)","v":0},{"$f":"IFERROR(IF('Vegetation Continued, 5 Strata'!AL28=\"facw\",BQ40,0),0)","v":0},{"$f":"IFERROR(IF('Vegetation Continued, 5 Strata'!AL28=\"fac\",BQ40,0),0)","v":0},{"$f":"IFERROR(IF('Vegetation Continued, 5 Strata'!AL28=\"facu\",BQ40,0),0)","v":0},{"$f":"IFERROR(IF('Vegetation Continued, 5 Strata'!AL28=\"upl\",BQ40,0),0)","v":0},0,{"$f":"IFERROR(LARGE((BQ$30:BQ$41),11),0)","v":0},0,{"$f":"IF(AND(CE40>0,SUM(CF$30:CF39)>0.5),\"\",CE40)","v":0},null,{"$f":"IFERROR(IF(ISNA(MATCH(\"AGCP\",$CH$4:$CH$9,0)),IF(ISNA(MATCH(\"WGC\",$CH$4:$CH$9,0)),\"\",VLOOKUP('Vegetation Continued, 5 Strata'!D28,Plant_List,3,FALSE)),VLOOKUP('Vegetation Continued, 5 Strata'!D28,Plant_List,2,FALSE)),\"\")","v":""}]
[null,"9.",null,"",null,null,null,null,null,null,null,null,null,null,null,null,null,null,null,null,null,null,null,null,null,null,null,null,null,null,null,"",null,null,null,null,null,"",null,null,null,null,null,null,null,null,null,null,null,null,null,null,null,null,null,null,null,null,null,null,null,null,null,null,null,null,"PA",null,{"$f":"IFERROR('Vegetation Continued, 5 Strata'!Z29,0)","v":0},{"$f":"IFERROR(IF(AND('Vegetation Continued, 5 Strata'!AF29=\"Yes\",OR('Vegetation Continued, 5 Strata'!AL29=\"OBL\",'Vegetation Continued, 5 Strata'!AL29=\"FACW\",'Vegetation Continued, 5 Strata'!AL29=\"FAC\")),1,0),0)","v":0},{"$f":"IFERROR(IF('Vegetation Continued, 5 Strata'!AF29=\"Yes\",1,0),0)","v":0},{"$f":"IFERROR(IF(AND('Vegetation Continued, 5 Strata'!AF29=\"Yes\",OR('Vegetation Continued, 5 Strata'!AL29=\"OBL\",'Vegetation Continued, 5 Strata'!AL29=\"FACW\")),1,0),0)","v":0},{"$f":"IFERROR(IF(AND('Vegetation Continued, 5 Strata'!AF29=\"Yes\",OR('Vegetation Continued, 5 Strata'!AL29=\"UPL\",'Vegetation Continued, 5 Strata'!AL29=\"FACU\")),1,0),0)","v":0},{"$f":"IFERROR(IF(OR('Vegetation Continued, 5 Strata'!AL29=\"OBL\",'Vegetation Continued, 5 Strata'!AL29=\"FACW\"),1,0),0)","v":0},{"$f":"IFERROR(IF(OR('Vegetation Continued, 5 Strata'!AL29=\"UPL\",'Vegetation Continued, 5 Strata'!AL29=\"FACU\"),1,0),0)","v":0},{"$f":"IF(AND('Vegetation Continued, 5 Strata'!AF29=\"YES\",OR('Vegetation Continued, 5 Strata'!AL29=\"UPL\",'Vegetation Continued, 5 Strata'!AL29=\"FACU\",'Vegetation Continued, 5 Strata'!AL29=\"FAC\")),FALSE,TRUE)","v":true},{"$f":"IFERROR(IF('Vegetation Continued, 5 Strata'!AL29=\"obl\",BQ41,0),0)","v":0},{"$f":"IFERROR(IF('Vegetation Continued, 5 Strata'!AL29=\"facw\",BQ41,0),0)","v":0},{"$f":"IFERROR(IF('Vegetation Continued, 5 Strata'!AL29=\"fac\",BQ41,0),0)","v":0},{"$f":"IFERROR(IF('Vegetation Continued, 5 Strata'!AL29=\"facu\",BQ41,0),0)","v":0},{"$f":"IFERROR(IF('Vegetation Continued, 5 Strata'!AL29=\"upl\",BQ41,0),0)","v":0},0,{"$f":"IFERROR(LARGE((BQ$30:BQ$41),12),0)","v":0},0,{"$f":"IF(AND(CE41>0,SUM(CF$30:CF40)>0.5),\"\",CE41)","v":0},null,{"$f":"IFERROR(IF(ISNA(MATCH(\"AGCP\",$CH$4:$CH$9,0)),IF(ISNA(MATCH(\"WGC\",$CH$4:$CH$9,0)),\"\",VLOOKUP('Vegetation Continued, 5 Strata'!D29,Plant_List,3,FALSE)),VLOOKUP('Vegetation Continued, 5 Strata'!D29,Plant_List,2,FALSE)),\"\")","v":""}]
[null,"10.",null,"",null,null,null,null,null,null,null,null,null,null,null,null,null,null,null,null,null,null,null,null,null,null,null,null,null,null,null,"",null,null,null,null,null,"",null,null,null,null,null,null,null,null,null,null,null,null,null,null,null,null,null,null,null,null,null,null,null,null,null,null,null,null,"SC",null,null,null,null,null,null,null,null,null,null,null,null,null,null,null,null,null,null,null,{"$f":"IFERROR(IF(ISNA(MATCH(\"AGCP\",$CH$4:$CH$9,0)),IF(ISNA(MATCH(\"WGC\",$CH$4:$CH$9,0)),\"\",VLOOKUP(D34,Plant_List,3,FALSE)),VLOOKUP(D34,Plant_List,2,FALSE)),\"\")","v":""}]
[null,"11.",null,"",null,null,null,null,null,null,null,null,null,null,null,null,null,null,null,null,null,null,null,null,null,null,null,null,null,null,null,"",null,null,null,null,null,{"$f":"IF(CI53=0,\"\",CI53)","v":""},null,null,null,null,null,null,"Woody Vine – All woody vines, regardless of height.",null,null,null,null,null,null,null,null,null,null,null,null,null,null,null,null,null,null,null,null,null,"VA",null,{"$f":"IFERROR(Z33,0)","v":0},{"$f":"IF(AND(AF33=\"Yes\",OR(AL33=\"OBL\",AL33=\"FACW\",AL33=\"FAC\")),1,0)","v":0},{"$f":"IF(AF33=\"Yes\",1,0)","v":0},{"$f":"IF(AND(AF33=\"Yes\",OR(AL33=\"OBL\",AL33=\"FACW\")),1,0)","v":0},{"$f":"IF(AND(AF33=\"Yes\",OR(AL33=\"UPL\",AL33=\"FACU\")),1,0)","v":0},{"$f":"IF(OR(AL33=\"OBL\",AL33=\"FACW\"),1,0)","v":0},{"$f":"IF(OR(AL33=\"UPL\",AL33=\"FACU\"),1,0)","v":0},{"$f":"IF(AND(AF33=\"YES\",OR(AL33=\"UPL\",AL33=\"FACU\",AL33=\"FAC\")),FALSE,TRUE)","v":true},{"$f":"IF($AL33=\"obl\",$Z33,0)","v":0},{"$f":"IF($AL33=\"facw\",$Z33,0)","v":0},{"$f":"IF($AL33=\"fac\",$Z33,0)","v":0},{"$f":"IF($AL33=\"facu\",$Z33,0)","v":0},{"$f":"IF($AL33=\"upl\",$Z33,0)","v":0},{"$f":"IFERROR(Z33/Z$44,0)","v":0},{"$f":"IFERROR(LARGE(BQ$43:BQ$64,1),0)","v":0},{"$f":"IFERROR(CE43/$Z$44,0)","v":0},{"$f":"IF(CE43>0,CE43,\"\")","v":""},null,{"$f":"IFERROR(IF(ISNA(MATCH(\"AGCP\",$CH$4:$CH$9,0)),IF(ISNA(MATCH(\"WGC\",$CH$4:$CH$9,0)),\"\",VLOOKUP(D33,Plant_List,3,FALSE)),VLOOKUP(D33,Plant_List,2,FALSE)),\"\")","v":""}]
[null,null,null,null,null,null,null,null,null,null,null,null,null,null,null,null,null,null,null,null,null,null,null,null,null,{"$f":"IF(SUM(BQ43:BQ64)>0,SUM(BQ43:BQ64),\"\")","v":""},null,null,null,null,"=Total Cover",null,null,null,null,null,null,null,null,null,null,null,null,null,null,null,null,null,null,null,null,null,null,null,null,null,null,null,null,null,null,null,null,null,null,null,null,null,{"$f":"IFERROR(Z34,0)","v":0},0,0,0,0,0,0,true,0,0,0,0,0,0,{"$f":"IFERROR(LARGE(BQ$43:BQ$64,2),0)","v":0},0,{"$f":"IF(AND(CE44>0,CF43>0.5),\"\",CE44)","v":0},null,""]
[null,null,null,null,null,null,null,null,null,null,null,null,null,"50% of total cover:",null,null,null,null,null,null,null,null,{"$f":"IFERROR(ROUNDUP(Z44/2,0),\"\")","v":""},null,null,null,null,null,"20% of total cover:",null,null,null,null,null,null,null,null,{"$f":"IFERROR(ROUNDUP(Z44/5,0),\"\")","v":""},null,null,null,null,null,null,null,null,null,null,null,null,null,null,null,null,null,null,null,null,null,null,null,null,null,null,null,null,"WGC",null,0,0,0,0,0,0,0,true,0,0,0,0,0,0,{"$f":"IFERROR(LARGE(BQ$43:BQ$64,3),0)","v":0},0,{"$f":"IF(AND(CE45>0,SUM(CF$43:CF44)>0.5),\"\",CE45)","v":0},null,""]
[null,"Woody Vine Stratum",null,null,null,null,null,null,null,null,null,"(Plot size:",null,null,null,null,null,null,null,null,null,null,null,")",null,null,null,null,null,null,null,null,null,null,null,null,null,null,null,null,null,null,null,null,null,null,null,null,null,null,null,null,null,null,null,null,null,null,null,null,null,null,null,null,null,null,"IL",null,0,0,0,0,0,0,0,true,0,0,0,0,0,0,{"$f":"IFERROR(LARGE(BQ$43:BQ$64,4),0)","v":0},0,{"$f":"IF(AND(CE46>0,SUM(CF$43:CF45)>0.5),\"\",CE46)","v":0},null,""]
[null,"1.",null,"",null,null,null,null,null,null,null,null,null,null,null,null,null,null,null,null,null,null,null,null,null,null,null,null,null,null,null,{"$f":"IF(Z47>0,IF(OR(AND(Z$52<5,Z$11=\"\",Z$21=\"\",Z$30=\"\",Z$44=\"\"),Z$52>=5),IF(AND(ISNA(MATCH(Z47,CG$66:CG$75,0)),CD66<0.2),\"No\",\"Yes\"),\"No\"),\"\")","v":""},null,null,null,null,null,{"$f":"IF(CI66=0,\"\",CI66)","v":""},null,null,null,null,null,null,null,null,null,null,null,null,null,null,null,null,null,null,null,null,null,null,null,null,null,null,null,null,"KY",null,0,0,0,0,0,0,0,true,0,0,0,0,0,0,{"$f":"IFERROR(LARGE(BQ$43:BQ$64,5),0)","v":0},0,{"$f":"IF(AND(CE47>0,SUM(CF$43:CF46)>0.5),\"\",CE47)","v":0},null,""]
[null,"2.",null,null,null,null,null,null,null,null,null,null,null,null,null,null,null,null,null,null,null,null,null,null,null,null,null,null,null,null,null,{"$f":"IF(Z48>0,IF(OR(AND(Z$52<5,Z$11=\"\",Z$21=\"\",Z$30=\"\",Z$44=\"\"),Z$52>=5),IF(AND(ISNA(MATCH(Z48,CG$66:CG$75,0)),CD67<0.2),\"No\",\"Yes\"),\"No\"),\"\")","v":""},null,null,null,null,null,{"$f":"IF(CI67=0,\"\",CI67)","v":""},null,null,null,null,null,null,null,null,null,null,null,null,null,null,null,null,null,null,null,null,null,null,null,null,null,null,null,null,"MO",null,0,0,0,0,0,0,0,true,0,0,0,0,0,0,{"$f":"IFERROR(LARGE(BQ$43:BQ$64,6),0)","v":0},0,{"$f":"IF(AND(CE48>0,SUM(CF$43:CF47)>0.5),\"\",CE48)","v":0},null,""]
[null,"3.",null,"",null,null,null,null,null,null,null,null,null,null,null,null,null,null,null,null,null,null,null,null,null,null,null,null,null,null,null,"",null,null,null,null,null,"",null,null,null,null,null,null,null,null,null,null,null,null,null,null,null,null,null,null,null,null,null,null,null,null,null,null,null,null,"TX",null,0,0,0,0,0,0,0,true,0,0,0,0,0,0,{"$f":"IFERROR(LARGE(BQ$43:BQ$64,7),0)","v":0},0,{"$f":"IF(AND(CE49>0,SUM(CF$43:CF48)>0.5),\"\",CE49)","v":0},null,""]
[null,"4.",null,null,null,null,null,null,null,null,null,null,null,null,null,null,null,null,null,null,null,null,null,null,null,null,null,null,null,null,null,"",null,null,null,null,null,"",null,null,null,null,null,null,null,null,null,null,null,null,null,null,null,null,null,null,null,null,null,null,null,null,null,null,null,null,null,null,0,0,0,0,0,0,0,true,0,0,0,0,0,0,{"$f":"IFERROR(LARGE(BQ$43:BQ$64,8),0)","v":0},0,{"$f":"IF(AND(CE50>0,SUM(CF$43:CF49)>0.5),\"\",CE50)","v":0},null,""]
[null,"5.",null,"",null,null,null,null,null,null,null,null,null,null,null,null,null,null,null,null,null,null,null,null,null,null,null,null,null,null,null,"",null,null,null,null,null,"",null,null,null,null,null,null,"Hydrophytic Vegetation Present?",null,null,null,null,null,null,null,null,null,null,null,null,null,null,null,null,null,null,null,null,null,null,null,0,0,0,0,0,0,0,true,0,0,0,0,0,0,{"$f":"IFERROR(LARGE(BQ$43:BQ$64,9),0)","v":0},0,{"$f":"IF(AND(CE51>0,SUM(CF$43:CF50)>0.5),\"\",CE51)","v":0},null,""]
[null,null,null,null,null,null,null,null,null,null,null,null,null,null,null,null,null,null,null,null,null,null,null,null,null,{"$f":"IF(SUM(BQ66:BQ75)>0,SUM(BQ66:BQ75),\"\")","v":""},null,null,null,null,"=Total Cover",null,null,null,null,null,null,null,null,null,null,null,null,null,null,null,null,null,null,null,null,null,null,null,null,null,null,null,null,null,null,null,null,null,null,null,null,null,0,0,0,0,0,0,0,true,0,0,0,0,0,0,{"$f":"IFERROR(LARGE(BQ$43:BQ$64,10),0)","v":0},0,{"$f":"IF(AND(CE52>0,SUM(CF$43:CF51)>0.5),\"\",CE52)","v":0},null,""]
[null,null,null,null,null,null,null,null,null,null,null,null,null,"50% of total cover:",null,null,null,null,null,null,null,null,{"$f":"IFERROR(ROUNDUP(Z52/2,0),\"\")","v":""},null,null,null,null,null,"20% of total cover:",null,null,null,null,null,null,null,null,{"$f":"IFERROR(ROUNDUP(Z52/5,0),\"\")","v":""},null,null,null,null,null,null,null,null,null,null,null,null,"Yes",null,null,{"$f":"BO61","v":""},"No",null,null,null,{"$f":"BP61","v":"X"},null,null,null,null,null,null,null,"BOTH",null,0,0,0,0,0,0,0,true,0,0,0,0,0,0,{"$f":"IFERROR(LARGE(BQ$43:BQ$64,11),0)","v":0},0,{"$f":"IF(AND(CE53>0,SUM(CF$43:CF52)>0.5),\"\",CE53)","v":0},null,""]
[null,null,null,null,null,null,null,null,null,null,null,null,null,null,null,null,null,null,null,null,null,null,null,null,null,null,null,null,null,null,null,null,null,null,null,null,null,null,null,null,null,null,null,null,null,null,null,null,null,null,null,null,null,null,null,null,null,null,null,null,null,null,null,null,null,null,"AR",null,{"$f":"IFERROR('Vegetation Continued, 5 Strata'!Z33,0)","v":0},{"$f":"IFERROR(IF(AND('Vegetation Continued, 5 Strata'!AF33=\"Yes\",OR('Vegetation Continued, 5 Strata'!AL33=\"OBL\",'Vegetation Continued, 5 Strata'!AL33=\"FACW\",'Vegetation Continued, 5 Strata'!AL33=\"FAC\")),1,0),0)","v":0},{"$f":"IFERROR(IF('Vegetation Continued, 5 Strata'!AF33=\"Yes\",1,0),0)","v":0},{"$f":"IFERROR(IF(AND('Vegetation Continued, 5 Strata'!AF33=\"Yes\",OR('Vegetation Continued, 5 Strata'!AL33=\"OBL\",'Vegetation Continued, 5 Strata'!AL33=\"FACW\")),1,0),0)","v":0},{"$f":"IFERROR(IF(AND('Vegetation Continued, 5 Strata'!AF33=\"Yes\",OR('Vegetation Continued, 5 Strata'!AL33=\"UPL\",'Vegetation Continued, 5 Strata'!AL33=\"FACU\")),1,0),0)","v":0},{"$f":"IFERROR(IF(OR('Vegetation Continued, 5 Strata'!AL33=\"OBL\",'Vegetation Continued, 5 Strata'!AL33=\"FACW\"),1,0),0)","v":0},{"$f":"IFERROR(IF(OR('Vegetation Continued, 5 Strata'!AL33=\"UPL\",'Vegetation Continued, 5 Strata'!AL33=\"FACU\"),1,0),0)","v":0},{"$f":"IF(AND('Vegetation Continued, 5 Strata'!AF33=\"YES\",OR('Vegetation Continued, 5 Strata'!AL33=\"UPL\",'Vegetation Continued, 5 Strata'!AL33=\"FACU\",'Vegetation Continued, 5 Strata'!AL33=\"FAC\")),FALSE,TRUE)","v":true},{"$f":"IFERROR(IF('Vegetation Continued, 5 Strata'!AL33=\"obl\",BQ54,0),0)","v":0},{"$f":"IFERROR(IF('Vegetation Continued, 5 Strata'!AL33=\"facw\",BQ54,0),0)","v":0},{"$f":"IFERROR(IF('Vegetation Continued, 5 Strata'!AL33=\"fac\",BQ54,0),0)","v":0},{"$f":"IFERROR(IF('Vegetation Continued, 5 Strata'!AL33=\"facu\",BQ54,0),0)","v":0},{"$f":"IFERROR(IF('Vegetation Continued, 5 Strata'!AL33=\"upl\",BQ54,0),0)","v":0},{"$f":"IFERROR(BQ54/Z$44,0)","v":0},{"$f":"IFERROR(LARGE(BQ$43:BQ$64,12),0)","v":0},{"$f":"IFERROR(CE54/Z$44,0)","v":0},{"$f":"IF(AND(CE54>0,SUM(CF$43:CF53)>0.5),\"\",CE54)","v":0},null,{"$f":"IFERROR(IF(ISNA(MATCH(\"AGCP\",$CH$4:$CH$9,0)),IF(ISNA(MATCH(\"WGC\",$CH$4:$CH$9,0)),\"\",VLOOKUP('Vegetation Continued, 5 Strata'!D33,Plant_List,3,FALSE)),VLOOKUP('Vegetation Continued, 5 Strata'!D33,Plant_List,2,FALSE)),\"\")","v":""}]
[null,"Remarks:  (If observed, list morphological adaptations below.)",null,null,null,null,null,null,null,null,null,null,null,null,null,null,null,null,null,null,null,null,null,null,null,null,null,null,null,null,null,null,null,null,null,null,null,null,null,null,null,null,null,null,null,null,null,null,null,null,null,null,null,null,null,null,null,null,null,null,null,null,null,null,null,null,"LA",null,{"$f":"IFERROR('Vegetation Continued, 5 Strata'!Z34,0)","v":0},{"$f":"IFERROR(IF(AND('Vegetation Continued, 5 Strata'!AF34=\"Yes\",OR('Vegetation Continued, 5 Strata'!AL34=\"OBL\",'Vegetation Continued, 5 Strata'!AL34=\"FACW\",'Vegetation Continued, 5 Strata'!AL34=\"FAC\")),1,0),0)","v":0},{"$f":"IFERROR(IF('Vegetation Continued, 5 Strata'!AF34=\"Yes\",1,0),0)","v":0},{"$f":"IFERROR(IF(AND('Vegetation Continued, 5 Strata'!AF34=\"Yes\",OR('Vegetation Continued, 5 Strata'!AL34=\"OBL\",'Vegetation Continued, 5 Strata'!AL34=\"FACW\")),1,0),0)","v":0},{"$f":"IFERROR(IF(AND('Vegetation Continued, 5 Strata'!AF34=\"Yes\",OR('Vegetation Continued, 5 Strata'!AL34=\"UPL\",'Vegetation Continued, 5 Strata'!AL34=\"FACU\")),1,0),0)","v":0},{"$f":"IFERROR(IF(OR('Vegetation Continued, 5 Strata'!AL34=\"OBL\",'Vegetation Continued, 5 Strata'!AL34=\"FACW\"),1,0),0)","v":0},{"$f":"IFERROR(IF(OR('Vegetation Continued, 5 Strata'!AL34=\"UPL\",'Vegetation Continued, 5 Strata'!AL34=\"FACU\"),1,0),0)","v":0},{"$f":"IF(AND('Vegetation Continued, 5 Strata'!AF34=\"YES\",OR('Vegetation Continued, 5 Strata'!AL34=\"UPL\",'Vegetation Continued, 5 Strata'!AL34=\"FACU\",'Vegetation Continued, 5 Strata'!AL34=\"FAC\")),FALSE,TRUE)","v":true},{"$f":"IFERROR(IF('Vegetation Continued, 5 Strata'!AL34=\"obl\",BQ55,0),0)","v":0},{"$f":"IFERROR(IF('Vegetation Continued, 5 Strata'!AL34=\"facw\",BQ55,0),0)","v":0},{"$f":"IFERROR(IF('Vegetation Continued, 5 Strata'!AL34=\"fac\",BQ55,0),0)","v":0},{"$f":"IFERROR(IF('Vegetation Continued, 5 Strata'!AL34=\"facu\",BQ55,0),0)","v":0},{"$f":"IFERROR(IF('Vegetation Continued, 5 Strata'!AL34=\"upl\",BQ55,0),0)","v":0},{"$f":"IFERROR(BQ55/Z$44,0)","v":0},{"$f":"IFERROR(LARGE(BQ$43:BQ$64,13),0)","v":0},{"$f":"IFERROR(CE55/Z$44,0)","v":0},{"$f":"IF(AND(CE55>0,SUM(CF$43:CF54)>0.5),\"\",CE55)","v":0},null,{"$f":"IFERROR(IF(ISNA(MATCH(\"AGCP\",$CH$4:$CH$9,0)),IF(ISNA(MATCH(\"WGC\",$CH$4:$CH$9,0)),\"\",VLOOKUP('Vegetation Continued, 5 Strata'!D34,Plant_List,3,FALSE)),VLOOKUP('Vegetation Continued, 5 Strata'!D34,Plant_List,2,FALSE)),\"\")","v":""}]
[null,null,null,null,null,null,null,null,null,null,null,null,null,null,null,null,null,null,null,null,null,null,null,null,null,null,null,null,null,null,null,null,null,null,null,null,null,null,null,null,null,null,null,null,null,null,null,null,null,null,null,null,null,null,null,null,null,null,null,null,null,null,null,null,null,null,"MS",null,{"$f":"IFERROR('Vegetation Continued, 5 Strata'!Z35,0)","v":0},{"$f":"IFERROR(IF(AND('Vegetation Continued, 5 Strata'!AF35=\"Yes\",OR('Vegetation Continued, 5 Strata'!AL35=\"OBL\",'Vegetation Continued, 5 Strata'!AL35=\"FACW\",'Vegetation Continued, 5 Strata'!AL35=\"FAC\")),1,0),0)","v":0},{"$f":"IFERROR(IF('Vegetation Continued, 5 Strata'!AF35=\"Yes\",1,0),0)","v":0},{"$f":"IFERROR(IF(AND('Vegetation Continued, 5 Strata'!AF35=\"Yes\",OR('Vegetation Continued, 5 Strata'!AL35=\"OBL\",'Vegetation Continued, 5 Strata'!AL35=\"FACW\")),1,0),0)","v":0},{"$f":"IFERROR(IF(AND('Vegetation Continued, 5 Strata'!AF35=\"Yes\",OR('Vegetation Continued, 5 Strata'!AL35=\"UPL\",'Vegetation Continued, 5 Strata'!AL35=\"FACU\")),1,0),0)","v":0},{"$f":"IFERROR(IF(OR('Vegetation Continued, 5 Strata'!AL35=\"OBL\",'Vegetation Continued, 5 Strata'!AL35=\"FACW\"),1,0),0)","v":0},{"$f":"IFERROR(IF(OR('Vegetation Continued, 5 Strata'!AL35=\"UPL\",'Vegetation Continued, 5 Strata'!AL35=\"FACU\"),1,0),0)","v":0},{"$f":"IF(AND('Vegetation Continued, 5 Strata'!AF35=\"YES\",OR('Vegetation Continued, 5 Strata'!AL35=\"UPL\",'Vegetation Continued, 5 Strata'!AL35=\"FACU\",'Vegetation Continued, 5 Strata'!AL35=\"FAC\")),FALSE,TRUE)","v":true},{"$f":"IFERROR(IF('Vegetation Continued, 5 Strata'!AL35=\"obl\",BQ56,0),0)","v":0},{"$f":"IFERROR(IF('Vegetation Continued, 5 Strata'!AL35=\"facw\",BQ56,0),0)","v":0},{"$f":"IFERROR(IF('Vegetation Continued, 5 Strata'!AL35=\"fac\",BQ56,0),0)","v":0},{"$f":"IFERROR(IF('Vegetation Continued, 5 Strata'!AL35=\"facu\",BQ56,0),0)","v":0},{"$f":"IFERROR(IF('Vegetation Continued, 5 Strata'!AL35=\"upl\",BQ56,0),0)","v":0},0,{"$f":"IFERROR(LARGE(BQ$43:BQ$64,14),0)","v":0},0,{"$f":"IF(AND(CE56>0,SUM(CF$43:CF55)>0.5),\"\",CE56)","v":0},null,{"$f":"IFERROR(IF(ISNA(MATCH(\"AGCP\",$CH$4:$CH$9,0)),IF(ISNA(MATCH(\"WGC\",$CH$4:$CH$9,0)),\"\",VLOOKUP('Vegetation Continued, 5 Strata'!D35,Plant_List,3,FALSE)),VLOOKUP('Vegetation Continued, 5 Strata'!D35,Plant_List,2,FALSE)),\"\")","v":""}]
["ENG FORM 6116-2, JUL 2018",null,null,null,null,null,null,null,null,null,null,null,null,null,null,null,null,null,null,null,null,null,null,null,null,null,null,null,null,null,null,null,null,null,null,null,null,null,null,null,null,null,null,null,null,null,null,"Atlantic and Gulf Coastal Plain – Version 2.0",null,null,null,null,null,null,null,null,null,null,null,null,null,null,null,null,null,null,"OK",null,{"$f":"IFERROR('Vegetation Continued, 5 Strata'!Z36,0)","v":0},{"$f":"IFERROR(IF(AND('Vegetation Continued, 5 Strata'!AF36=\"Yes\",OR('Vegetation Continued, 5 Strata'!AL36=\"OBL\",'Vegetation Continued, 5 Strata'!AL36=\"FACW\",'Vegetation Continued, 5 Strata'!AL36=\"FAC\")),1,0),0)","v":0},{"$f":"IFERROR(IF('Vegetation Continued, 5 Strata'!AF36=\"Yes\",1,0),0)","v":0},{"$f":"IFERROR(IF(AND('Vegetation Continued, 5 Strata'!AF36=\"Yes\",OR('Vegetation Continued, 5 Strata'!AL36=\"OBL\",'Vegetation Continued, 5 Strata'!AL36=\"FACW\")),1,0),0)","v":0},{"$f":"IFERROR(IF(AND('Vegetation Continued, 5 Strata'!AF36=\"Yes\",OR('Vegetation Continued, 5 Strata'!AL36=\"UPL\",'Vegetation Continued, 5 Strata'!AL36=\"FACU\")),1,0),0)","v":0},{"$f":"IFERROR(IF(OR('Vegetation Continued, 5 Strata'!AL36=\"OBL\",'Vegetation Continued, 5 Strata'!AL36=\"FACW\"),1,0),0)","v":0},{"$f":"IFERROR(IF(OR('Vegetation Continued, 5 Strata'!AL36=\"UPL\",'Vegetation Continued, 5 Strata'!AL36=\"FACU\"),1,0),0)","v":0},{"$f":"IF(AND('Vegetation Continued, 5 Strata'!AF36=\"YES\",OR('Vegetation Continued, 5 Strata'!AL36=\"UPL\",'Vegetation Continued, 5 Strata'!AL36=\"FACU\",'Vegetation Continued, 5 Strata'!AL36=\"FAC\")),FALSE,TRUE)","v":true},{"$f":"IFERROR(IF('Vegetation Continued, 5 Strata'!AL36=\"obl\",BQ57,0),0)","v":0},{"$f":"IFERROR(IF('Vegetation Continued, 5 Strata'!AL36=\"facw\",BQ57,0),0)","v":0},{"$f":"IFERROR(IF('Vegetation Continued, 5 Strata'!AL36=\"fac\",BQ57,0),0)","v":0},{"$f":"IFERROR(IF('Vegetation Continued, 5 Strata'!AL36=\"facu\",BQ57,0),0)","v":0},{"$f":"IFERROR(IF('Vegetation Continued, 5 Strata'!AL36=\"upl\",BQ57,0),0)","v":0},0,{"$f":"IFERROR(LARGE(BQ$43:BQ$64,15),0)","v":0},0,{"$f":"IF(AND(CE57>0,SUM(CF$43:CF56)>0.5),\"\",CE57)","v":0},null,{"$f":"IFERROR(IF(ISNA(MATCH(\"AGCP\",$CH$4:$CH$9,0)),IF(ISNA(MATCH(\"WGC\",$CH$4:$CH$9,0)),\"\",VLOOKUP('Vegetation Continued, 5 Strata'!D36,Plant_List,3,FALSE)),VLOOKUP('Vegetation Continued, 5 Strata'!D36,Plant_List,2,FALSE)),\"\")","v":""}]
[null,null,null,null,null,null,null,null,null,null,null,null,null,null,null,null,null,null,null,null,null,null,null,null,null,null,null,null,null,null,null,null,null,null,null,null,null,null,null,null,null,null,null,null,null,null,null,null,null,null,null,null,null,null,null,null,null,null,null,null,null,null,null,null,null,null,"TN",null,{"$f":"IFERROR('Vegetation Continued, 5 Strata'!Z37,0)","v":0},{"$f":"IFERROR(IF(AND('Vegetation Continued, 5 Strata'!AF37=\"Yes\",OR('Vegetation Continued, 5 Strata'!AL37=\"OBL\",'Vegetation Continued, 5 Strata'!AL37=\"FACW\",'Vegetation Continued, 5 Strata'!AL37=\"FAC\")),1,0),0)","v":0},{"$f":"IFERROR(IF('Vegetation Continued, 5 Strata'!AF37=\"Yes\",1,0),0)","v":0},{"$f":"IFERROR(IF(AND('Vegetation Continued, 5 Strata'!AF37=\"Yes\",OR('Vegetation Continued, 5 Strata'!AL37=\"OBL\",'Vegetation Continued, 5 Strata'!AL37=\"FACW\")),1,0),0)","v":0},{"$f":"IFERROR(IF(AND('Vegetation Continued, 5 Strata'!AF37=\"Yes\",OR('Vegetation Continued, 5 Strata'!AL37=\"UPL\",'Vegetation Continued, 5 Strata'!AL37=\"FACU\")),1,0),0)","v":0},{"$f":"IFERROR(IF(OR('Vegetation Continued, 5 Strata'!AL37=\"OBL\",'Vegetation Continued, 5 Strata'!AL37=\"FACW\"),1,0),0)","v":0},{"$f":"IFERROR(IF(OR('Vegetation Continued, 5 Strata'!AL37=\"UPL\",'Vegetation Continued, 5 Strata'!AL37=\"FACU\"),1,0),0)","v":0},{"$f":"IF(AND('Vegetation Continued, 5 Strata'!AF37=\"YES\",OR('Vegetation Continued, 5 Strata'!AL37=\"UPL\",'Vegetation Continued, 5 Strata'!AL37=\"FACU\",'Vegetation Continued, 5 Strata'!AL37=\"FAC\")),FALSE,TRUE)","v":true},{"$f":"IFERROR(IF('Vegetation Continued, 5 Strata'!AL37=\"obl\",BQ58,0),0)","v":0},{"$f":"IFERROR(IF('Vegetation Continued, 5 Strata'!AL37=\"facw\",BQ58,0),0)","v":0},{"$f":"IFERROR(IF('Vegetation Continued, 5 Strata'!AL37=\"fac\",BQ58,0),0)","v":0},{"$f":"IFERROR(IF('Vegetation Continued, 5 Strata'!AL37=\"facu\",BQ58,0),0)","v":0},{"$f":"IFERROR(IF('Vegetation Continued, 5 Strata'!AL37=\"upl\",BQ58,0),0)","v":0},0,{"$f":"IFERROR(LARGE(BQ$43:BQ$64,16),0)","v":0},0,{"$f":"IF(AND(CE58>0,SUM(CF$43:CF57)>0.5),\"\",CE58)","v":0},null,{"$f":"IFERROR(IF(ISNA(MATCH(\"AGCP\",$CH$4:$CH$9,0)),IF(ISNA(MATCH(\"WGC\",$CH$4:$CH$9,0)),\"\",VLOOKUP('Vegetation Continued, 5 Strata'!D37,Plant_List,3,FALSE)),VLOOKUP('Vegetation Continued, 5 Strata'!D37,Plant_List,2,FALSE)),\"\")","v":""}]
[null,null,null,null,null,null,null,null,null,null,null,null,null,null,null,null,null,null,null,null,null,null,null,null,null,null,null,null,null,null,null,null,null,null,null,null,null,null,null,null,null,null,null,null,null,null,null,null,null,null,null,null,null,null,null,null,null,null,null,null,null,null,null,null,null,null,null,null,{"$f":"IFERROR('Vegetation Continued, 5 Strata'!Z38,0)","v":0},{"$f":"IFERROR(IF(AND('Vegetation Continued, 5 Strata'!AF38=\"Yes\",OR('Vegetation Continued, 5 Strata'!AL38=\"OBL\",'Vegetation Continued, 5 Strata'!AL38=\"FACW\",'Vegetation Continued, 5 Strata'!AL38=\"FAC\")),1,0),0)","v":0},{"$f":"IFERROR(IF('Vegetation Continued, 5 Strata'!AF38=\"Yes\",1,0),0)","v":0},{"$f":"IFERROR(IF(AND('Vegetation Continued, 5 Strata'!AF38=\"Yes\",OR('Vegetation Continued, 5 Strata'!AL38=\"OBL\",'Vegetation Continued, 5 Strata'!AL38=\"FACW\")),1,0),0)","v":0},{"$f":"IFERROR(IF(AND('Vegetation Continued, 5 Strata'!AF38=\"Yes\",OR('Vegetation Continued, 5 Strata'!AL38=\"UPL\",'Vegetation Continued, 5 Strata'!AL38=\"FACU\")),1,0),0)","v":0},{"$f":"IFERROR(IF(OR('Vegetation Continued, 5 Strata'!AL38=\"OBL\",'Vegetation Continued, 5 Strata'!AL38=\"FACW\"),1,0),0)","v":0},{"$f":"IFERROR(IF(OR('Vegetation Continued, 5 Strata'!AL38=\"UPL\",'Vegetation Continued, 5 Strata'!AL38=\"FACU\"),1,0),0)","v":0},{"$f":"IF(AND('Vegetation Continued, 5 Strata'!AF38=\"YES\",OR('Vegetation Continued, 5 Strata'!AL38=\"UPL\",'Vegetation Continued, 5 Strata'!AL38=\"FACU\",'Vegetation Continued, 5 Strata'!AL38=\"FAC\")),FALSE,TRUE)","v":true},{"$f":"IFERROR(IF('Vegetation Continued, 5 Strata'!AL38=\"obl\",BQ59,0),0)","v":0},{"$f":"IFERROR(IF('Vegetation Continued, 5 Strata'!AL38=\"facw\",BQ59,0),0)","v":0},{"$f":"IFERROR(IF('Vegetation Continued, 5 Strata'!AL38=\"fac\",BQ59,0),0)","v":0},{"$f":"IFERROR(IF('Vegetation Continued, 5 Strata'!AL38=\"facu\",BQ59,0),0)","v":0},{"$f":"IFERROR(IF('Vegetation Continued, 5 Strata'!AL38=\"upl\",BQ59,0),0)","v":0},0,{"$f":"IFERROR(LARGE(BQ$43:BQ$64,17),0)","v":0},0,{"$f":"IF(AND(CE59>0,SUM(CF$43:CF58)>0.5),\"\",CE59)","v":0},null,{"$f":"IFERROR(IF(ISNA(MATCH(\"AGCP\",$CH$4:$CH$9,0)),IF(ISNA(MATCH(\"WGC\",$CH$4:$CH$9,0)),\"\",VLOOKUP('Vegetation Continued, 5 Strata'!D38,Plant_List,3,FALSE)),VLOOKUP('Vegetation Continued, 5 Strata'!D38,Plant_List,2,FALSE)),\"\")","v":""}]
[null,null,null,null,null,null,null,null,null,null,null,null,null,null,null,null,null,null,null,null,null,null,null,null,null,null,null,null,null,null,null,null,null,null,null,null,null,null,null,null,null,null,null,null,null,null,null,null,null,null,null,null,null,null,null,null,null,null,null,null,null,null,null,null,null,null,"Hydrophytic Vegetation Present",null,{"$f":"IFERROR('Vegetation Continued, 5 Strata'!Z39,0)","v":0},{"$f":"IFERROR(IF(AND('Vegetation Continued, 5 Strata'!AF39=\"Yes\",OR('Vegetation Continued, 5 Strata'!AL39=\"OBL\",'Vegetation Continued, 5 Strata'!AL39=\"FACW\",'Vegetation Continued, 5 Strata'!AL39=\"FAC\")),1,0),0)","v":0},{"$f":"IFERROR(IF('Vegetation Continued, 5 Strata'!AF39=\"Yes\",1,0),0)","v":0},{"$f":"IFERROR(IF(AND('Vegetation Continued, 5 Strata'!AF39=\"Yes\",OR('Vegetation Continued, 5 Strata'!AL39=\"OBL\",'Vegetation Continued, 5 Strata'!AL39=\"FACW\")),1,0),0)","v":0},{"$f":"IFERROR(IF(AND('Vegetation Continued, 5 Strata'!AF39=\"Yes\",OR('Vegetation Continued, 5 Strata'!AL39=\"UPL\",'Vegetation Continued, 5 Strata'!AL39=\"FACU\")),1,0),0)","v":0},{"$f":"IFERROR(IF(OR('Vegetation Continued, 5 Strata'!AL39=\"OBL\",'Vegetation Continued, 5 Strata'!AL39=\"FACW\"),1,0),0)","v":0},{"$f":"IFERROR(IF(OR('Vegetation Continued, 5 Strata'!AL39=\"UPL\",'Vegetation Continued, 5 Strata'!AL39=\"FACU\"),1,0),0)","v":0},{"$f":"IF(AND('Vegetation Continued, 5 Strata'!AF39=\"YES\",OR('Vegetation Continued, 5 Strata'!AL39=\"UPL\",'Vegetation Continued, 5 Strata'!AL39=\"FACU\",'Vegetation Continued, 5 Strata'!AL39=\"FAC\")),FALSE,TRUE)","v":true},{"$f":"IFERROR(IF('Vegetation Continued, 5 Strata'!AL39=\"obl\",BQ60,0),0)","v":0},{"$f":"IFERROR(IF('Vegetation Continued, 5 Strata'!AL39=\"facw\",BQ60,0),0)","v":0},{"$f":"IFERROR(IF('Vegetation Continued, 5 Strata'!AL39=\"fac\",BQ60,0),0)","v":0},{"$f":"IFERROR(IF('Vegetation Continued, 5 Strata'!AL39=\"facu\",BQ60,0),0)","v":0},{"$f":"IFERROR(IF('Vegetation Continued, 5 Strata'!AL39=\"upl\",BQ60,0),0)","v":0},0,{"$f":"IFERROR(LARGE(BQ$43:BQ$64,18),0)","v":0},0,{"$f":"IF(AND(CE60>0,SUM(CF$43:CF59)>0.5),\"\",CE60)","v":0},null,{"$f":"IFERROR(IF(ISNA(MATCH(\"AGCP\",$CH$4:$CH$9,0)),IF(ISNA(MATCH(\"WGC\",$CH$4:$CH$9,0)),\"\",VLOOKUP('Vegetation Continued, 5 Strata'!D39,Plant_List,3,FALSE)),VLOOKUP('Vegetation Continued, 5 Strata'!D39,Plant_List,2,FALSE)),\"\")","v":""}]
[null,null,null,null,null,null,null,null,null,null,null,null,null,null,null,null,null,null,null,null,null,null,null,null,null,null,null,null,null,null,null,null,null,null,null,null,null,null,null,null,null,null,null,null,null,null,null,null,null,null,null,null,null,null,null,null,null,null,null,null,null,null,null,null,null,null,{"$f":"IF(OR(AS22=\"X\",AS23=\"X\",AS24=\"X\"),\"X\",\"\")","v":""},{"$f":"IF(OR('Page 1 (Hydrology)'!H9=\"X\",'Page 1 (Hydrology)'!H9=\"Yes\",'Page 1 (Hydrology)'!H9=\"Y\",'Page 1 (Hydrology)'!H10=\"X\",'Page 1 (Hydrology)'!H10=\"Yes\",'Page 1 (Hydrology)'!H10=\"Y\",ISTEXT(AS25)),\"\",IF(AND(BB53=\"\",'Page 1 (Hydrology)'!Q12=\"\"),\"X\",\"\"))","v":"X"},{"$f":"IFERROR('Vegetation Continued, 5 Strata'!Z40,0)","v":0},{"$f":"IFERROR(IF(AND('Vegetation Continued, 5 Strata'!AF40=\"Yes\",OR('Vegetation Continued, 5 Strata'!AL40=\"OBL\",'Vegetation Continued, 5 Strata'!AL40=\"FACW\",'Vegetation Continued, 5 Strata'!AL40=\"FAC\")),1,0),0)","v":0},{"$f":"IFERROR(IF('Vegetation Continued, 5 Strata'!AF40=\"Yes\",1,0),0)","v":0},{"$f":"IFERROR(IF(AND('Vegetation Continued, 5 Strata'!AF40=\"Yes\",OR('Vegetation Continued, 5 Strata'!AL40=\"OBL\",'Vegetation Continued, 5 Strata'!AL40=\"FACW\")),1,0),0)","v":0},{"$f":"IFERROR(IF(AND('Vegetation Continued, 5 Strata'!AF40=\"Yes\",OR('Vegetation Continued, 5 Strata'!AL40=\"UPL\",'Vegetation Continued, 5 Strata'!AL40=\"FACU\")),1,0),0)","v":0},{"$f":"IFERROR(IF(OR('Vegetation Continued, 5 Strata'!AL40=\"OBL\",'Vegetation Continued, 5 Strata'!AL40=\"FACW\"),1,0),0)","v":0},{"$f":"IFERROR(IF(OR('Vegetation Continued, 5 Strata'!AL40=\"UPL\",'Vegetation Continued, 5 Strata'!AL40=\"FACU\"),1,0),0)","v":0},{"$f":"IF(AND('Vegetation Continued, 5 Strata'!AF40=\"YES\",OR('Vegetation Continued, 5 Strata'!AL40=\"UPL\",'Vegetation Continued, 5 Strata'!AL40=\"FACU\",'Vegetation Continued, 5 Strata'!AL40=\"FAC\")),FALSE,TRUE)","v":true},{"$f":"IFERROR(IF('Vegetation Continued, 5 Strata'!AL40=\"obl\",BQ61,0),0)","v":0},{"$f":"IFERROR(IF('Vegetation Continued, 5 Strata'!AL40=\"facw\",BQ61,0),0)","v":0},{"$f":"IFERROR(IF('Vegetation Continued, 5 Strata'!AL40=\"fac\",BQ61,0),0)","v":0},{"$f":"IFERROR(IF('Vegetation Continued, 5 Strata'!AL40=\"facu\",BQ61,0),0)","v":0},{"$f":"IFERROR(IF('Vegetation Continued, 5 Strata'!AL40=\"upl\",BQ61,0),0)","v":0},0,{"$f":"IFERROR(LARGE(BQ$43:BQ$64,19),0)","v":0},0,{"$f":"IF(AND(CE61>0,SUM(CF$43:CF60)>0.5),\"\",CE61)","v":0},null,{"$f":"IFERROR(IF(ISNA(MATCH(\"AGCP\",$CH$4:$CH$9,0)),IF(ISNA(MATCH(\"WGC\",$CH$4:$CH$9,0)),\"\",VLOOKUP('Vegetation Continued, 5 Strata'!D40,Plant_List,3,FALSE)),VLOOKUP('Vegetation Continued, 5 Strata'!D40,Plant_List,2,FALSE)),\"\")","v":""}]
[null,null,null,null,null,null,null,null,null,null,null,null,null,null,null,null,null,null,null,null,null,null,null,null,null,null,null,null,null,null,null,null,null,null,null,null,null,null,null,null,null,null,null,null,null,null,null,null,null,null,null,null,null,null,null,null,null,null,null,null,null,null,null,null,null,null,null,null,{"$f":"IFERROR('Vegetation Continued, 5 Strata'!Z41,0)","v":0},{"$f":"IFERROR(IF(AND('Vegetation Continued, 5 Strata'!AF41=\"Yes\",OR('Vegetation Continued, 5 Strata'!AL41=\"OBL\",'Vegetation Continued, 5 Strata'!AL41=\"FACW\",'Vegetation Continued, 5 Strata'!AL41=\"FAC\")),1,0),0)","v":0},{"$f":"IFERROR(IF('Vegetation Continued, 5 Strata'!AF41=\"Yes\",1,0),0)","v":0},{"$f":"IFERROR(IF(AND('Vegetation Continued, 5 Strata'!AF41=\"Yes\",OR('Vegetation Continued, 5 Strata'!AL41=\"OBL\",'Vegetation Continued, 5 Strata'!AL41=\"FACW\")),1,0),0)","v":0},{"$f":"IFERROR(IF(AND('Vegetation Continued, 5 Strata'!AF41=\"Yes\",OR('Vegetation Continued, 5 Strata'!AL41=\"UPL\",'Vegetation Continued, 5 Strata'!AL41=\"FACU\")),1,0),0)","v":0},{"$f":"IFERROR(IF(OR('Vegetation Continued, 5 Strata'!AL41=\"OBL\",'Vegetation Continued, 5 Strata'!AL41=\"FACW\"),1,0),0)","v":0},{"$f":"IFERROR(IF(OR('Vegetation Continued, 5 Strata'!AL41=\"UPL\",'Vegetation Continued, 5 Strata'!AL41=\"FACU\"),1,0),0)","v":0},{"$f":"IF(AND('Vegetation Continued, 5 Strata'!AF41=\"YES\",OR('Vegetation Continued, 5 Strata'!AL41=\"UPL\",'Vegetation Continued, 5 Strata'!AL41=\"FACU\",'Vegetation Continued, 5 Strata'!AL41=\"FAC\")),FALSE,TRUE)","v":true},{"$f":"IFERROR(IF('Vegetation Continued, 5 Strata'!AL41=\"obl\",BQ62,0),0)","v":0},{"$f":"IFERROR(IF('Vegetation Continued, 5 Strata'!AL41=\"facw\",BQ62,0),0)","v":0},{"$f":"IFERROR(IF('Vegetation Continued, 5 Strata'!AL41=\"fac\",BQ62,0),0)","v":0},{"$f":"IFERROR(IF('Vegetation Continued, 5 Strata'!AL41=\"facu\",BQ62,0),0)","v":0},{"$f":"IFERROR(IF('Vegetation Continued, 5 Strata'!AL41=\"upl\",BQ62,0),0)","v":0},0,{"$f":"IFERROR(LARGE(BQ$43:BQ$64,20),0)","v":0},0,{"$f":"IF(AND(CE62>0,SUM(CF$43:CF61)>0.5),\"\",CE62)","v":0},null,{"$f":"IFERROR(IF(ISNA(MATCH(\"AGCP\",$CH$4:$CH$9,0)),IF(ISNA(MATCH(\"WGC\",$CH$4:$CH$9,0)),\"\",VLOOKUP('Vegetation Continued, 5 Strata'!D41,Plant_List,3,FALSE)),VLOOKUP('Vegetation Continued, 5 Strata'!D41,Plant_List,2,FALSE)),\"\")","v":""}]
[null,null,null,null,null,null,null,null,null,null,null,null,null,null,null,null,null,null,null,null,null,null,null,null,null,null,null,null,null,null,null,null,null,null,null,null,null,null,null,null,null,null,null,null,null,null,null,null,null,null,null,null,null,null,null,null,null,null,null,null,null,null,null,null,null,null,"AR AGCP",null,{"$f":"IFERROR('Vegetation Continued, 5 Strata'!Z42,0)","v":0},{"$f":"IFERROR(IF(AND('Vegetation Continued, 5 Strata'!AF42=\"Yes\",OR('Vegetation Continued, 5 Strata'!AL42=\"OBL\",'Vegetation Continued, 5 Strata'!AL42=\"FACW\",'Vegetation Continued, 5 Strata'!AL42=\"FAC\")),1,0),0)","v":0},{"$f":"IFERROR(IF('Vegetation Continued, 5 Strata'!AF42=\"Yes\",1,0),0)","v":0},{"$f":"IFERROR(IF(AND('Vegetation Continued, 5 Strata'!AF42=\"Yes\",OR('Vegetation Continued, 5 Strata'!AL42=\"OBL\",'Vegetation Continued, 5 Strata'!AL42=\"FACW\")),1,0),0)","v":0},{"$f":"IFERROR(IF(AND('Vegetation Continued, 5 Strata'!AF42=\"Yes\",OR('Vegetation Continued, 5 Strata'!AL42=\"UPL\",'Vegetation Continued, 5 Strata'!AL42=\"FACU\")),1,0),0)","v":0},{"$f":"IFERROR(IF(OR('Vegetation Continued, 5 Strata'!AL42=\"OBL\",'Vegetation Continued, 5 Strata'!AL42=\"FACW\"),1,0),0)","v":0},{"$f":"IFERROR(IF(OR('Vegetation Continued, 5 Strata'!AL42=\"UPL\",'Vegetation Continued, 5 Strata'!AL42=\"FACU\"),1,0),0)","v":0},{"$f":"IF(AND('Vegetation Continued, 5 Strata'!AF42=\"YES\",OR('Vegetation Continued, 5 Strata'!AL42=\"UPL\",'Vegetation Continued, 5 Strata'!AL42=\"FACU\",'Vegetation Continued, 5 Strata'!AL42=\"FAC\")),FALSE,TRUE)","v":true},{"$f":"IFERROR(IF('Vegetation Continued, 5 Strata'!AL42=\"obl\",BQ63,0),0)","v":0},{"$f":"IFERROR(IF('Vegetation Continued, 5 Strata'!AL42=\"facw\",BQ63,0),0)","v":0},{"$f":"IFERROR(IF('Vegetation Continued, 5 Strata'!AL42=\"fac\",BQ63,0),0)","v":0},{"$f":"IFERROR(IF('Vegetation Continued, 5 Strata'!AL42=\"facu\",BQ63,0),0)","v":0},{"$f":"IFERROR(IF('Vegetation Continued, 5 Strata'!AL42=\"upl\",BQ63,0),0)","v":0},0,{"$f":"IFERROR(LARGE(BQ$43:BQ$64,21),0)","v":0},0,{"$f":"IF(AND(CE63>0,SUM(CF$43:CF62)>0.5),\"\",CE63)","v":0},null,{"$f":"IFERROR(IF(ISNA(MATCH(\"AGCP\",$CH$4:$CH$9,0)),IF(ISNA(MATCH(\"WGC\",$CH$4:$CH$9,0)),\"\",VLOOKUP('Vegetation Continued, 5 Strata'!D42,Plant_List,3,FALSE)),VLOOKUP('Vegetation Continued, 5 Strata'!D42,Plant_List,2,FALSE)),\"\")","v":""}]
[null,null,null,null,null,null,null,null,null,null,null,null,null,null,null,null,null,null,null,null,null,null,null,null,null,null,null,null,null,null,null,null,null,null,null,null,null,null,null,null,null,null,null,null,null,null,null,null,null,null,null,null,null,null,null,null,null,null,null,null,null,null,null,null,null,null,"LRR P, MLRA 135B",null,{"$f":"IFERROR('Vegetation Continued, 5 Strata'!Z43,0)","v":0},{"$f":"IFERROR(IF(AND('Vegetation Continued, 5 Strata'!AF43=\"Yes\",OR('Vegetation Continued, 5 Strata'!AL43=\"OBL\",'Vegetation Continued, 5 Strata'!AL43=\"FACW\",'Vegetation Continued, 5 Strata'!AL43=\"FAC\")),1,0),0)","v":0},{"$f":"IFERROR(IF('Vegetation Continued, 5 Strata'!AF43=\"Yes\",1,0),0)","v":0},{"$f":"IFERROR(IF(AND('Vegetation Continued, 5 Strata'!AF43=\"Yes\",OR('Vegetation Continued, 5 Strata'!AL43=\"OBL\",'Vegetation Continued, 5 Strata'!AL43=\"FACW\")),1,0),0)","v":0},{"$f":"IFERROR(IF(AND('Vegetation Continued, 5 Strata'!AF43=\"Yes\",OR('Vegetation Continued, 5 Strata'!AL43=\"UPL\",'Vegetation Continued, 5 Strata'!AL43=\"FACU\")),1,0),0)","v":0},{"$f":"IFERROR(IF(OR('Vegetation Continued, 5 Strata'!AL43=\"OBL\",'Vegetation Continued, 5 Strata'!AL43=\"FACW\"),1,0),0)","v":0},{"$f":"IFERROR(IF(OR('Vegetation Continued, 5 Strata'!AL43=\"UPL\",'Vegetation Continued, 5 Strata'!AL43=\"FACU\"),1,0),0)","v":0},{"$f":"IF(AND('Vegetation Continued, 5 Strata'!AF43=\"YES\",OR('Vegetation Continued, 5 Strata'!AL43=\"UPL\",'Vegetation Continued, 5 Strata'!AL43=\"FACU\",'Vegetation Continued, 5 Strata'!AL43=\"FAC\")),FALSE,TRUE)","v":true},{"$f":"IFERROR(IF('Vegetation Continued, 5 Strata'!AL43=\"obl\",BQ64,0),0)","v":0},{"$f":"IFERROR(IF('Vegetation Continued, 5 Strata'!AL43=\"facw\",BQ64,0),0)","v":0},{"$f":"IFERROR(IF('Vegetation Continued, 5 Strata'!AL43=\"fac\",BQ64,0),0)","v":0},{"$f":"IFERROR(IF('Vegetation Continued, 5 Strata'!AL43=\"facu\",BQ64,0),0)","v":0},{"$f":"IFERROR(IF('Vegetation Continued, 5 Strata'!AL43=\"upl\",BQ64,0),0)","v":0},0,{"$f":"IFERROR(LARGE(BQ$43:BQ$64,22),0)","v":0},0,{"$f":"IF(AND(CE64>0,SUM(CF$43:CF63)>0.5),\"\",CE64)","v":0},null,{"$f":"IFERROR(IF(ISNA(MATCH(\"AGCP\",$CH$4:$CH$9,0)),IF(ISNA(MATCH(\"WGC\",$CH$4:$CH$9,0)),\"\",VLOOKUP('Vegetation Continued, 5 Strata'!D43,Plant_List,3,FALSE)),VLOOKUP('Vegetation Continued, 5 Strata'!D43,Plant_List,2,FALSE)),\"\")","v":""}]
[null,null,null,null,null,null,null,null,null,null,null,null,null,null,null,null,null,null,null,null,null,null,null,null,null,null,null,null,null,null,null,null,null,null,null,null,null,null,null,null,null,null,null,null,null,null,null,null,null,null,null,null,null,null,null,null,null,null,null,null,null,null,null,null,null,null,"AR WGC"]
[null,null,null,null,null,null,null,null,null,null,null,null,null,null,null,null,null,null,null,null,null,null,null,null,null,null,null,null,null,null,null,null,null,null,null,null,null,null,null,null,null,null,null,null,null,null,null,null,null,null,null,null,null,null,null,null,null,null,null,null,null,null,null,null,null,null,"LRR O",null,{"$f":"IFERROR(Z47,0)","v":0},{"$f":"IF(AND(AF47=\"Yes\",OR(AL47=\"OBL\",AL47=\"FACW\",AL47=\"FAC\")),1,0)","v":0},{"$f":"IF(AF47=\"Yes\",1,0)","v":0},{"$f":"IF(AND(AF47=\"Yes\",OR(AL47=\"OBL\",AL47=\"FACW\")),1,0)","v":0},{"$f":"IF(AND(AF47=\"Yes\",OR(AL47=\"UPL\",AL47=\"FACU\")),1,0)","v":0},{"$f":"IF(OR(AL47=\"OBL\",AL47=\"FACW\"),1,0)","v":0},{"$f":"IF(OR(AL47=\"UPL\",AL47=\"FACU\"),1,0)","v":0},{"$f":"IF(AND(AF47=\"YES\",OR(AL47=\"UPL\",AL47=\"FACU\",AL47=\"FAC\")),FALSE,TRUE)","v":true},{"$f":"IF($AL47=\"obl\",$Z47,0)","v":0},{"$f":"IF($AL47=\"facw\",$Z47,0)","v":0},{"$f":"IF($AL47=\"fac\",$Z47,0)","v":0},{"$f":"IF($AL47=\"facu\",$Z47,0)","v":0},{"$f":"IF($AL47=\"upl\",$Z47,0)","v":0},{"$f":"IFERROR(Z47/Z$52,0)","v":0},{"$f":"IFERROR(LARGE(BQ$66:BQ$75,1),0)","v":0},{"$f":"IFERROR(CE66/$Z$52,0)","v":0},{"$f":"IF(CE66>0,CE66,\"\")","v":""},null,{"$f":"IFERROR(IF(ISNA(MATCH(\"AGCP\",$CH$4:$CH$9,0)),IF(ISNA(MATCH(\"WGC\",$CH$4:$CH$9,0)),\"\",VLOOKUP(D47,Plant_List,3,FALSE)),VLOOKUP(D47,Plant_List,2,FALSE)),\"\")","v":""}]
[null,null,null,null,null,null,null,null,null,null,null,null,null,null,null,null,null,null,null,null,null,null,null,null,null,null,null,null,null,null,null,null,null,null,null,null,null,null,null,null,null,null,null,null,null,null,null,null,null,null,null,null,null,null,null,null,null,null,null,null,null,null,null,null,null,null,"LRR O, MLRA 131A",null,{"$f":"IFERROR(Z48,0)","v":0},{"$f":"IF(AND(AF48=\"Yes\",OR(AL48=\"OBL\",AL48=\"FACW\",AL48=\"FAC\")),1,0)","v":0},{"$f":"IF(AF48=\"Yes\",1,0)","v":0},{"$f":"IF(AND(AF48=\"Yes\",OR(AL48=\"OBL\",AL48=\"FACW\")),1,0)","v":0},{"$f":"IF(AND(AF48=\"Yes\",OR(AL48=\"UPL\",AL48=\"FACU\")),1,0)","v":0},0,0,true,{"$f":"IF($AL48=\"obl\",$Z48,0)","v":0},{"$f":"IF($AL48=\"facw\",$Z48,0)","v":0},{"$f":"IF($AL48=\"fac\",$Z48,0)","v":0},{"$f":"IF($AL48=\"facu\",$Z48,0)","v":0},{"$f":"IF($AL48=\"upl\",$Z48,0)","v":0},{"$f":"IFERROR(Z48/Z$52,0)","v":0},{"$f":"IFERROR(LARGE(BQ$66:BQ$75,2),0)","v":0},{"$f":"IFERROR(CE67/$Z$52,0)","v":0},{"$f":"IF(AND(CE67>0,CF66>0.5),\"\",CE67)","v":0},null,{"$f":"IFERROR(IF(ISNA(MATCH(\"AGCP\",$CH$4:$CH$9,0)),IF(ISNA(MATCH(\"WGC\",$CH$4:$CH$9,0)),\"\",VLOOKUP(D48,Plant_List,3,FALSE)),VLOOKUP(D48,Plant_List,2,FALSE)),\"\")","v":""}]
[null,null,null,null,null,null,null,null,null,null,null,null,null,null,null,null,null,null,null,null,null,null,null,null,null,null,null,null,null,null,null,null,null,null,null,null,null,null,null,null,null,null,null,null,null,null,null,null,null,null,null,null,null,null,null,null,null,null,null,null,null,null,null,null,null,null,"LRR O, MLRA 131B",null,0,{"$f":"IF(AND(AF49=\"Yes\",OR(AL49=\"OBL\",AL49=\"FACW\",AL49=\"FAC\")),1,0)","v":0},{"$f":"IF(AF49=\"Yes\",1,0)","v":0},{"$f":"IF(AND(AF49=\"Yes\",OR(AL49=\"OBL\",AL49=\"FACW\")),1,0)","v":0},{"$f":"IF(AND(AF49=\"Yes\",OR(AL49=\"UPL\",AL49=\"FACU\")),1,0)","v":0},0,0,true,{"$f":"IF($AL49=\"obl\",$Z49,0)","v":0},{"$f":"IF($AL49=\"facw\",$Z49,0)","v":0},{"$f":"IF($AL49=\"fac\",$Z49,0)","v":0},{"$f":"IF($AL49=\"facu\",$Z49,0)","v":0},{"$f":"IF($AL49=\"upl\",$Z49,0)","v":0},{"$f":"IFERROR(Z49/Z$52,0)","v":0},{"$f":"IFERROR(LARGE(BQ$66:BQ$75,3),0)","v":0},0,{"$f":"IF(AND(CE68>0,SUM(CF$66:CF67)>0.5),\"\",CE68)","v":0},null,{"$f":"IFERROR(IF(ISNA(MATCH(\"AGCP\",$CH$4:$CH$9,0)),IF(ISNA(MATCH(\"WGC\",$CH$4:$CH$9,0)),\"\",VLOOKUP(D49,Plant_List,3,FALSE)),VLOOKUP(D49,Plant_List,2,FALSE)),\"\")","v":""}]
[null,null,null,null,null,null,null,null,null,null,null,null,null,null,null,null,null,null,null,null,null,null,null,null,null,null,null,null,null,null,null,null,null,null,null,null,null,null,null,null,null,null,null,null,null,null,null,null,null,null,null,null,null,null,null,null,null,null,null,null,null,null,null,null,null,null,"LRR O, MLRA 131C",null,0,{"$f":"IF(AND(AF50=\"Yes\",OR(AL50=\"OBL\",AL50=\"FACW\",AL50=\"FAC\")),1,0)","v":0},{"$f":"IF(AF50=\"Yes\",1,0)","v":0},{"$f":"IF(AND(AF50=\"Yes\",OR(AL50=\"OBL\",AL50=\"FACW\")),1,0)","v":0},{"$f":"IF(AND(AF50=\"Yes\",OR(AL50=\"UPL\",AL50=\"FACU\")),1,0)","v":0},0,0,true,{"$f":"IF($AL50=\"obl\",$Z50,0)","v":0},{"$f":"IF($AL50=\"facw\",$Z50,0)","v":0},{"$f":"IF($AL50=\"fac\",$Z50,0)","v":0},{"$f":"IF($AL50=\"facu\",$Z50,0)","v":0},{"$f":"IF($AL50=\"upl\",$Z50,0)","v":0},{"$f":"IFERROR(Z50/Z$52,0)","v":0},{"$f":"IFERROR(LARGE(BQ$66:BQ$75,4),0)","v":0},0,{"$f":"IF(AND(CE69>0,SUM(CF$66:CF68)>0.5),\"\",CE69)","v":0},null,{"$f":"IFERROR(IF(ISNA(MATCH(\"AGCP\",$CH$4:$CH$9,0)),IF(ISNA(MATCH(\"WGC\",$CH$4:$CH$9,0)),\"\",VLOOKUP(D50,Plant_List,3,FALSE)),VLOOKUP(D50,Plant_List,2,FALSE)),\"\")","v":""}]
[null,null,null,null,null,null,null,null,null,null,null,null,null,null,null,null,null,null,null,null,null,null,null,null,null,null,null,null,null,null,null,null,null,null,null,null,null,null,null,null,null,null,null,null,null,null,null,null,null,null,null,null,null,null,null,null,null,null,null,null,null,null,null,null,null,null,"LRR O, MLRA 131D",null,0,{"$f":"IF(AND(AF51=\"Yes\",OR(AL51=\"OBL\",AL51=\"FACW\",AL51=\"FAC\")),1,0)","v":0},{"$f":"IF(AF51=\"Yes\",1,0)","v":0},{"$f":"IF(AND(AF51=\"Yes\",OR(AL51=\"OBL\",AL51=\"FACW\")),1,0)","v":0},{"$f":"IF(AND(AF51=\"Yes\",OR(AL51=\"UPL\",AL51=\"FACU\")),1,0)","v":0},0,0,true,{"$f":"IF($AL51=\"obl\",$Z51,0)","v":0},{"$f":"IF($AL51=\"facw\",$Z51,0)","v":0},{"$f":"IF($AL51=\"fac\",$Z51,0)","v":0},{"$f":"IF($AL51=\"facu\",$Z51,0)","v":0},{"$f":"IF($AL51=\"upl\",$Z51,0)","v":0},{"$f":"IFERROR(Z51/Z$52,0)","v":0},{"$f":"IFERROR(LARGE(BQ$66:BQ$75,5),0)","v":0},{"$f":"IFERROR(CE70/$Z$52,0)","v":0},{"$f":"IF(AND(CE70>0,SUM(CF$66:CF69)>0.5),\"\",CE70)","v":0},null,{"$f":"IFERROR(IF(ISNA(MATCH(\"AGCP\",$CH$4:$CH$9,0)),IF(ISNA(MATCH(\"WGC\",$CH$4:$CH$9,0)),\"\",VLOOKUP(D51,Plant_List,3,FALSE)),VLOOKUP(D51,Plant_List,2,FALSE)),\"\")","v":""}]
[null,null,null,null,null,null,null,null,null,null,null,null,null,null,null,null,null,null,null,null,null,null,null,null,null,null,null,null,null,null,null,null,null,null,null,null,null,null,null,null,null,null,null,null,null,null,null,null,null,null,null,null,null,null,null,null,null,null,null,null,null,null,null,null,null,null,"LRR P, MLRA 133B",null,{"$f":"IFERROR('Vegetation Continued, 5 Strata'!Z47,0)","v":0},{"$f":"IFERROR(IF(AND('Vegetation Continued, 5 Strata'!AF47=\"Yes\",OR('Vegetation Continued, 5 Strata'!AL47=\"OBL\",'Vegetation Continued, 5 Strata'!AL47=\"FACW\",'Vegetation Continued, 5 Strata'!AL47=\"FAC\")),1,0),0)","v":0},{"$f":"IFERROR(IF('Vegetation Continued, 5 Strata'!AF47=\"Yes\",1,0),0)","v":0},{"$f":"IFERROR(IF(AND('Vegetation Continued, 5 Strata'!AF47=\"Yes\",OR('Vegetation Continued, 5 Strata'!AL47=\"OBL\",'Vegetation Continued, 5 Strata'!AL47=\"FACW\")),1,0),0)","v":0},{"$f":"IFERROR(IF(AND('Vegetation Continued, 5 Strata'!AF47=\"Yes\",OR('Vegetation Continued, 5 Strata'!AL47=\"UPL\",'Vegetation Continued, 5 Strata'!AL47=\"FACU\")),1,0),0)","v":0},{"$f":"IFERROR(IF(OR('Vegetation Continued, 5 Strata'!AL47=\"OBL\",'Vegetation Continued, 5 Strata'!AL47=\"FACW\"),1,0),0)","v":0},{"$f":"IFERROR(IF(OR('Vegetation Continued, 5 Strata'!AL47=\"UPL\",'Vegetation Continued, 5 Strata'!AL47=\"FACU\"),1,0),0)","v":0},{"$f":"IF(AND('Vegetation Continued, 5 Strata'!AF47=\"YES\",OR('Vegetation Continued, 5 Strata'!AL47=\"UPL\",'Vegetation Continued, 5 Strata'!AL47=\"FACU\",'Vegetation Continued, 5 Strata'!AL47=\"FAC\")),FALSE,TRUE)","v":true},{"$f":"IFERROR(IF('Vegetation Continued, 5 Strata'!AL47=\"obl\",BQ71,0),0)","v":0},{"$f":"IFERROR(IF('Vegetation Continued, 5 Strata'!AL47=\"facw\",BQ71,0),0)","v":0},{"$f":"IFERROR(IF('Vegetation Continued, 5 Strata'!AL47=\"fac\",BQ71,0),0)","v":0},{"$f":"IFERROR(IF('Vegetation Continued, 5 Strata'!AL47=\"facu\",BQ71,0),0)","v":0},{"$f":"IFERROR(IF('Vegetation Continued, 5 Strata'!AL47=\"upl\",BQ71,0),0)","v":0},{"$f":"IFERROR(BQ71/Z$52,0)","v":0},{"$f":"IFERROR(LARGE(BQ$66:BQ$75,6),0)","v":0},{"$f":"IFERROR(CE71/Z$52,0)","v":0},{"$f":"IF(AND(CE71>0,SUM(CF$66:CF70)>0.5),\"\",CE71)","v":0},null,{"$f":"IFERROR(IF(ISNA(MATCH(\"AGCP\",$CH$4:$CH$9,0)),IF(ISNA(MATCH(\"WGC\",$CH$4:$CH$9,0)),\"\",VLOOKUP('Vegetation Continued, 5 Strata'!D47,Plant_List,3,FALSE)),VLOOKUP('Vegetation Continued, 5 Strata'!D47,Plant_List,2,FALSE)),\"\")","v":""}]
[null,null,null,null,null,null,null,null,null,null,null,null,null,null,null,null,null,null,null,null,null,null,null,null,null,null,null,null,null,null,null,null,null,null,null,null,null,null,null,null,null,null,null,null,null,null,null,null,null,null,null,null,null,null,null,null,null,null,null,null,null,null,null,null,null,null,"LRR P, MLRA 134",null,{"$f":"IFERROR('Vegetation Continued, 5 Strata'!Z48,0)","v":0},{"$f":"IFERROR(IF(AND('Vegetation Continued, 5 Strata'!AF48=\"Yes\",OR('Vegetation Continued, 5 Strata'!AL48=\"OBL\",'Vegetation Continued, 5 Strata'!AL48=\"FACW\",'Vegetation Continued, 5 Strata'!AL48=\"FAC\")),1,0),0)","v":0},{"$f":"IFERROR(IF('Vegetation Continued, 5 Strata'!AF48=\"Yes\",1,0),0)","v":0},{"$f":"IFERROR(IF(AND('Vegetation Continued, 5 Strata'!AF48=\"Yes\",OR('Vegetation Continued, 5 Strata'!AL48=\"OBL\",'Vegetation Continued, 5 Strata'!AL48=\"FACW\")),1,0),0)","v":0},{"$f":"IFERROR(IF(AND('Vegetation Continued, 5 Strata'!AF48=\"Yes\",OR('Vegetation Continued, 5 Strata'!AL48=\"UPL\",'Vegetation Continued, 5 Strata'!AL48=\"FACU\")),1,0),0)","v":0},{"$f":"IFERROR(IF(OR('Vegetation Continued, 5 Strata'!AL48=\"OBL\",'Vegetation Continued, 5 Strata'!AL48=\"FACW\"),1,0),0)","v":0},{"$f":"IFERROR(IF(OR('Vegetation Continued, 5 Strata'!AL48=\"UPL\",'Vegetation Continued, 5 Strata'!AL48=\"FACU\"),1,0),0)","v":0},{"$f":"IF(AND('Vegetation Continued, 5 Strata'!AF48=\"YES\",OR('Vegetation Continued, 5 Strata'!AL48=\"UPL\",'Vegetation Continued, 5 Strata'!AL48=\"FACU\",'Vegetation Continued, 5 Strata'!AL48=\"FAC\")),FALSE,TRUE)","v":true},{"$f":"IFERROR(IF('Vegetation Continued, 5 Strata'!AL48=\"obl\",BQ72,0),0)","v":0},{"$f":"IFERROR(IF('Vegetation Continued, 5 Strata'!AL48=\"facw\",BQ72,0),0)","v":0},{"$f":"IFERROR(IF('Vegetation Continued, 5 Strata'!AL48=\"fac\",BQ72,0),0)","v":0},{"$f":"IFERROR(IF('Vegetation Continued, 5 Strata'!AL48=\"facu\",BQ72,0),0)","v":0},{"$f":"IFERROR(IF('Vegetation Continued, 5 Strata'!AL48=\"upl\",BQ72,0),0)","v":0},{"$f":"IFERROR(BQ72/Z$52,0)","v":0},{"$f":"IFERROR(LARGE(BQ$66:BQ$75,7),0)","v":0},{"$f":"IFERROR(CE72/Z$52,0)","v":0},{"$f":"IF(AND(CE72>0,SUM(CF$66:CF71)>0.5),\"\",CE72)","v":0},null,{"$f":"IFERROR(IF(ISNA(MATCH(\"AGCP\",$CH$4:$CH$9,0)),IF(ISNA(MATCH(\"WGC\",$CH$4:$CH$9,0)),\"\",VLOOKUP('Vegetation Continued, 5 Strata'!D48,Plant_List,3,FALSE)),VLOOKUP('Vegetation Continued, 5 Strata'!D48,Plant_List,2,FALSE)),\"\")","v":""}]
[null,null,null,null,null,null,null,null,null,null,null,null,null,null,null,null,null,null,null,null,null,null,null,null,null,null,null,null,null,null,null,null,null,null,null,null,null,null,null,null,null,null,null,null,null,null,null,null,null,null,null,null,null,null,null,null,null,null,null,null,null,null,null,null,null,null,null,null,{"$f":"IFERROR('Vegetation Continued, 5 Strata'!Z49,0)","v":0},{"$f":"IFERROR(IF(AND('Vegetation Continued, 5 Strata'!AF49=\"Yes\",OR('Vegetation Continued, 5 Strata'!AL49=\"OBL\",'Vegetation Continued, 5 Strata'!AL49=\"FACW\",'Vegetation Continued, 5 Strata'!AL49=\"FAC\")),1,0),0)","v":0},{"$f":"IFERROR(IF('Vegetation Continued, 5 Strata'!AF49=\"Yes\",1,0),0)","v":0},{"$f":"IFERROR(IF(AND('Vegetation Continued, 5 Strata'!AF49=\"Yes\",OR('Vegetation Continued, 5 Strata'!AL49=\"OBL\",'Vegetation Continued, 5 Strata'!AL49=\"FACW\")),1,0),0)","v":0},{"$f":"IFERROR(IF(AND('Vegetation Continued, 5 Strata'!AF49=\"Yes\",OR('Vegetation Continued, 5 Strata'!AL49=\"UPL\",'Vegetation Continued, 5 Strata'!AL49=\"FACU\")),1,0),0)","v":0},{"$f":"IFERROR(IF(OR('Vegetation Continued, 5 Strata'!AL49=\"OBL\",'Vegetation Continued, 5 Strata'!AL49=\"FACW\"),1,0),0)","v":0},{"$f":"IFERROR(IF(OR('Vegetation Continued, 5 Strata'!AL49=\"UPL\",'Vegetation Continued, 5 Strata'!AL49=\"FACU\"),1,0),0)","v":0},{"$f":"IF(AND('Vegetation Continued, 5 Strata'!AF49=\"YES\",OR('Vegetation Continued, 5 Strata'!AL49=\"UPL\",'Vegetation Continued, 5 Strata'!AL49=\"FACU\",'Vegetation Continued, 5 Strata'!AL49=\"FAC\")),FALSE,TRUE)","v":true},{"$f":"IFERROR(IF('Vegetation Continued, 5 Strata'!AL49=\"obl\",BQ73,0),0)","v":0},{"$f":"IFERROR(IF('Vegetation Continued, 5 Strata'!AL49=\"facw\",BQ73,0),0)","v":0},{"$f":"IFERROR(IF('Vegetation Continued, 5 Strata'!AL49=\"fac\",BQ73,0),0)","v":0},{"$f":"IFERROR(IF('Vegetation Continued, 5 Strata'!AL49=\"facu\",BQ73,0),0)","v":0},{"$f":"IFERROR(IF('Vegetation Continued, 5 Strata'!AL49=\"upl\",BQ73,0),0)","v":0},0,{"$f":"IFERROR(LARGE(BQ$66:BQ$75,8),0)","v":0},0,{"$f":"IF(AND(CE73>0,SUM(CF$66:CF72)>0.5),\"\",CE73)","v":0},null,{"$f":"IFERROR(IF(ISNA(MATCH(\"AGCP\",$CH$4:$CH$9,0)),IF(ISNA(MATCH(\"WGC\",$CH$4:$CH$9,0)),\"\",VLOOKUP('Vegetation Continued, 5 Strata'!D49,Plant_List,3,FALSE)),VLOOKUP('Vegetation Continued, 5 Strata'!D49,Plant_List,2,FALSE)),\"\")","v":""}]
[null,null,null,null,null,null,null,null,null,null,null,null,null,null,null,null,null,null,null,null,null,null,null,null,null,null,null,null,null,null,null,null,null,null,null,null,null,null,null,null,null,null,null,null,null,null,null,null,null,null,null,null,null,null,null,null,null,null,null,null,null,null,null,null,null,null,"LA AGCP",null,{"$f":"IFERROR('Vegetation Continued, 5 Strata'!Z50,0)","v":0},{"$f":"IFERROR(IF(AND('Vegetation Continued, 5 Strata'!AF50=\"Yes\",OR('Vegetation Continued, 5 Strata'!AL50=\"OBL\",'Vegetation Continued, 5 Strata'!AL50=\"FACW\",'Vegetation Continued, 5 Strata'!AL50=\"FAC\")),1,0),0)","v":0},{"$f":"IFERROR(IF('Vegetation Continued, 5 Strata'!AF50=\"Yes\",1,0),0)","v":0},{"$f":"IFERROR(IF(AND('Vegetation Continued, 5 Strata'!AF50=\"Yes\",OR('Vegetation Continued, 5 Strata'!AL50=\"OBL\",'Vegetation Continued, 5 Strata'!AL50=\"FACW\")),1,0),0)","v":0},{"$f":"IFERROR(IF(AND('Vegetation Continued, 5 Strata'!AF50=\"Yes\",OR('Vegetation Continued, 5 Strata'!AL50=\"UPL\",'Vegetation Continued, 5 Strata'!AL50=\"FACU\")),1,0),0)","v":0},{"$f":"IFERROR(IF(OR('Vegetation Continued, 5 Strata'!AL50=\"OBL\",'Vegetation Continued, 5 Strata'!AL50=\"FACW\"),1,0),0)","v":0},{"$f":"IFERROR(IF(OR('Vegetation Continued, 5 Strata'!AL50=\"UPL\",'Vegetation Continued, 5 Strata'!AL50=\"FACU\"),1,0),0)","v":0},{"$f":"IF(AND('Vegetation Continued, 5 Strata'!AF50=\"YES\",OR('Vegetation Continued, 5 Strata'!AL50=\"UPL\",'Vegetation Continued, 5 Strata'!AL50=\"FACU\",'Vegetation Continued, 5 Strata'!AL50=\"FAC\")),FALSE,TRUE)","v":true},{"$f":"IFERROR(IF('Vegetation Continued, 5 Strata'!AL50=\"obl\",BQ74,0),0)","v":0},{"$f":"IFERROR(IF('Vegetation Continued, 5 Strata'!AL50=\"facw\",BQ74,0),0)","v":0},{"$f":"IFERROR(IF('Vegetation Continued, 5 Strata'!AL50=\"fac\",BQ74,0),0)","v":0},{"$f":"IFERROR(IF('Vegetation Continued, 5 Strata'!AL50=\"facu\",BQ74,0),0)","v":0},{"$f":"IFERROR(IF('Vegetation Continued, 5 Strata'!AL50=\"upl\",BQ74,0),0)","v":0},0,{"$f":"IFERROR(LARGE(BQ$66:BQ$75,9),0)","v":0},0,{"$f":"IF(AND(CE74>0,SUM(CF$66:CF73)>0.5),\"\",CE74)","v":0},null,{"$f":"IFERROR(IF(ISNA(MATCH(\"AGCP\",$CH$4:$CH$9,0)),IF(ISNA(MATCH(\"WGC\",$CH$4:$CH$9,0)),\"\",VLOOKUP('Vegetation Continued, 5 Strata'!D50,Plant_List,3,FALSE)),VLOOKUP('Vegetation Continued, 5 Strata'!D50,Plant_List,2,FALSE)),\"\")","v":""}]
[null,null,null,null,null,null,null,null,null,null,null,null,null,null,null,null,null,null,null,null,null,null,null,null,null,null,null,null,null,null,null,null,null,null,null,null,null,null,null,null,null,null,null,null,null,null,null,null,null,null,null,null,null,null,null,null,null,null,null,null,null,null,null,null,null,null,"LRR P, MLRA 133A",null,{"$f":"IFERROR('Vegetation Continued, 5 Strata'!Z51,0)","v":0},{"$f":"IFERROR(IF(AND('Vegetation Continued, 5 Strata'!AF51=\"Yes\",OR('Vegetation Continued, 5 Strata'!AL51=\"OBL\",'Vegetation Continued, 5 Strata'!AL51=\"FACW\",'Vegetation Continued, 5 Strata'!AL51=\"FAC\")),1,0),0)","v":0},{"$f":"IFERROR(IF('Vegetation Continued, 5 Strata'!AF51=\"Yes\",1,0),0)","v":0},{"$f":"IFERROR(IF(AND('Vegetation Continued, 5 Strata'!AF51=\"Yes\",OR('Vegetation Continued, 5 Strata'!AL51=\"OBL\",'Vegetation Continued, 5 Strata'!AL51=\"FACW\")),1,0),0)","v":0},{"$f":"IFERROR(IF(AND('Vegetation Continued, 5 Strata'!AF51=\"Yes\",OR('Vegetation Continued, 5 Strata'!AL51=\"UPL\",'Vegetation Continued, 5 Strata'!AL51=\"FACU\")),1,0),0)","v":0},{"$f":"IFERROR(IF(OR('Vegetation Continued, 5 Strata'!AL51=\"OBL\",'Vegetation Continued, 5 Strata'!AL51=\"FACW\"),1,0),0)","v":0},{"$f":"IFERROR(IF(OR('Vegetation Continued, 5 Strata'!AL51=\"UPL\",'Vegetation Continued, 5 Strata'!AL51=\"FACU\"),1,0),0)","v":0},{"$f":"IF(AND('Vegetation Continued, 5 Strata'!AF51=\"YES\",OR('Vegetation Continued, 5 Strata'!AL51=\"UPL\",'Vegetation Continued, 5 Strata'!AL51=\"FACU\",'Vegetation Continued, 5 Strata'!AL51=\"FAC\")),FALSE,TRUE)","v":true},{"$f":"IFERROR(IF('Vegetation Continued, 5 Strata'!AL51=\"obl\",BQ75,0),0)","v":0},{"$f":"IFERROR(IF('Vegetation Continued, 5 Strata'!AL51=\"facw\",BQ75,0),0)","v":0},{"$f":"IFERROR(IF('Vegetation Continued, 5 Strata'!AL51=\"fac\",BQ75,0),0)","v":0},{"$f":"IFERROR(IF('Vegetation Continued, 5 Strata'!AL51=\"facu\",BQ75,0),0)","v":0},{"$f":"IFERROR(IF('Vegetation Continued, 5 Strata'!AL51=\"upl\",BQ75,0),0)","v":0},0,{"$f":"IFERROR(LARGE(BQ$66:BQ$75,10),0)","v":0},0,{"$f":"IF(AND(CE75>0,SUM(CF$66:CF74)>0.5),\"\",CE75)","v":0},null,{"$f":"IFERROR(IF(ISNA(MATCH(\"AGCP\",$CH$4:$CH$9,0)),IF(ISNA(MATCH(\"WGC\",$CH$4:$CH$9,0)),\"\",VLOOKUP('Vegetation Continued, 5 Strata'!D51,Plant_List,3,FALSE)),VLOOKUP('Vegetation Continued, 5 Strata'!D51,Plant_List,2,FALSE)),\"\")","v":""}]
[null,null,null,null,null,null,null,null,null,null,null,null,null,null,null,null,null,null,null,null,null,null,null,null,null,null,null,null,null,null,null,null,null,null,null,null,null,null,null,null,null,null,null,null,null,null,null,null,null,null,null,null,null,null,null,null,null,null,null,null,null,null,null,null,null,null,"LRR T, MLRA 152A"]
[null,null,null,null,null,null,null,null,null,null,null,null,null,null,null,null,null,null,null,null,null,null,null,null,null,null,null,null,null,null,null,null,null,null,null,null,null,null,null,null,null,null,null,null,null,null,null,null,null,null,null,null,null,null,null,null,null,null,null,null,null,null,null,null,null,null,"LA WGC"]
[null,null,null,null,null,null,null,null,null,null,null,null,null,null,null,null,null,null,null,null,null,null,null,null,null,null,null,null,null,null,null,null,null,null,null,null,null,null,null,null,null,null,null,null,null,null,null,null,null,null,null,null,null,null,null,null,null,null,null,null,null,null,null,null,null,null,"LRR O"]
[null,null,null,null,null,null,null,null,null,null,null,null,null,null,null,null,null,null,null,null,null,null,null,null,null,null,null,null,null,null,null,null,null,null,null,null,null,null,null,null,null,null,null,null,null,null,null,null,null,null,null,null,null,null,null,null,null,null,null,null,null,null,null,null,null,null,"LRR O, MLRA 131A"]
[null,null,null,null,null,null,null,null,null,null,null,null,null,null,null,null,null,null,null,null,null,null,null,null,null,null,null,null,null,null,null,null,null,null,null,null,null,null,null,null,null,null,null,null,null,null,null,null,null,null,null,null,null,null,null,null,null,null,null,null,null,null,null,null,null,null,"LRR O, MLRA 131B"]
[null,null,null,null,null,null,null,null,null,null,null,null,null,null,null,null,null,null,null,null,null,null,null,null,null,null,null,null,null,null,null,null,null,null,null,null,null,null,null,null,null,null,null,null,null,null,null,null,null,null,null,null,null,null,null,null,null,null,null,null,null,null,null,null,null,null,"LRR O, MLRA 131C"]
[null,null,null,null,null,null,null,null,null,null,null,null,null,null,null,null,null,null,null,null,null,null,null,null,null,null,null,null,null,null,null,null,null,null,null,null,null,null,null,null,null,null,null,null,null,null,null,null,null,null,null,null,null,null,null,null,null,null,null,null,null,null,null,null,null,null,"LRR O, MLRA 131D"]
[null,null,null,null,null,null,null,null,null,null,null,null,null,null,null,null,null,null,null,null,null,null,null,null,null,null,null,null,null,null,null,null,null,null,null,null,null,null,null,null,null,null,null,null,null,null,null,null,null,null,null,null,null,null,null,null,null,null,null,null,null,null,null,null,null,null,"LRR P, MLRA 133B"]
[null,null,null,null,null,null,null,null,null,null,null,null,null,null,null,null,null,null,null,null,null,null,null,null,null,null,null,null,null,null,null,null,null,null,null,null,null,null,null,null,null,null,null,null,null,null,null,null,null,null,null,null,null,null,null,null,null,null,null,null,null,null,null,null,null,null,"LRR P, MLRA 134"]
[null,null,null,null,null,null,null,null,null,null,null,null,null,null,null,null,null,null,null,null,null,null,null,null,null,null,null,null,null,null,null,null,null,null,null,null,null,null,null,null,null,null,null,null,null,null,null,null,null,null,null,null,null,null,null,null,null,null,null,null,null,null,null,null,null,null,"LRR T, MLRA 150A"]
[null,null,null,null,null,null,null,null,null,null,null,null,null,null,null,null,null,null,null,null,null,null,null,null,null,null,null,null,null,null,null,null,null,null,null,null,null,null,null,null,null,null,null,null,null,null,null,null,null,null,null,null,null,null,null,null,null,null,null,null,null,null,null,null,null,null,"LRR T, MLRA 151"]
[null,null,null,null,null,null,null,null,null,null,null,null,null,null,null,null,null,null,null,null,null,null,null,null,null,null,null,null,null,null,null,null,null,null,null,null,null,null,null,null,null,null,null,null,null,null,null,null,null,null,null,null,null,null,null,null,null,null,null,null,null,null,null,null,null,null,"LRR T, MLRA 152B"]
[]
[null,null,null,null,null,null,null,null,null,null,null,null,null,null,null,null,null,null,null,null,null,null,null,null,null,null,null,null,null,null,null,null,null,null,null,null,null,null,null,null,null,null,null,null,null,null,null,null,null,null,null,null,null,null,null,null,null,null,null,null,null,null,null,null,null,null,"MS AGCP"]
[null,null,null,null,null,null,null,null,null,null,null,null,null,null,null,null,null,null,null,null,null,null,null,null,null,null,null,null,null,null,null,null,null,null,null,null,null,null,null,null,null,null,null,null,null,null,null,null,null,null,null,null,null,null,null,null,null,null,null,null,null,null,null,null,null,null,"LRR P, MLRA 133A"]
[null,null,null,null,null,null,null,null,null,null,null,null,null,null,null,null,null,null,null,null,null,null,null,null,null,null,null,null,null,null,null,null,null,null,null,null,null,null,null,null,null,null,null,null,null,null,null,null,null,null,null,null,null,null,null,null,null,null,null,null,null,null,null,null,null,null,"LRR P, MLRA 135A"]
[null,null,null,null,null,null,null,null,null,null,null,null,null,null,null,null,null,null,null,null,null,null,null,null,null,null,null,null,null,null,null,null,null,null,null,null,null,null,null,null,null,null,null,null,null,null,null,null,null,null,null,null,null,null,null,null,null,null,null,null,null,null,null,null,null,null,"LRR T, MLRA 152A"]
[]
[null,null,null,null,null,null,null,null,null,null,null,null,null,null,null,null,null,null,null,null,null,null,null,null,null,null,null,null,null,null,null,null,null,null,null,null,null,null,null,null,null,null,null,null,null,null,null,null,null,null,null,null,null,null,null,null,null,null,null,null,null,null,null,null,null,null,"MS WGC"]
[null,null,null,null,null,null,null,null,null,null,null,null,null,null,null,null,null,null,null,null,null,null,null,null,null,null,null,null,null,null,null,null,null,null,null,null,null,null,null,null,null,null,null,null,null,null,null,null,null,null,null,null,null,null,null,null,null,null,null,null,null,null,null,null,null,null,"LRR O"]
[null,null,null,null,null,null,null,null,null,null,null,null,null,null,null,null,null,null,null,null,null,null,null,null,null,null,null,null,null,null,null,null,null,null,null,null,null,null,null,null,null,null,null,null,null,null,null,null,null,null,null,null,null,null,null,null,null,null,null,null,null,null,null,null,null,null,"LRR O, MLRA 131A"]
[null,null,null,null,null,null,null,null,null,null,null,null,null,null,null,null,null,null,null,null,null,null,null,null,null,null,null,null,null,null,null,null,null,null,null,null,null,null,null,null,null,null,null,null,null,null,null,null,null,null,null,null,null,null,null,null,null,null,null,null,null,null,null,null,null,null,"LRR P, MLRA 134"]
[null,null,null,null,null,null,null,null,null,null,null,null,null,null,null,null,null,null,null,null,null,null,null,null,null,null,null,null,null,null,null,null,null,null,null,null,null,null,null,null,null,null,null,null,null,null,null,null,null,null,null,null,null,null,null,null,null,null,null,null,null,null,null,null,null,null,"LRR T, MLRA 151"]
[]
[null,null,null,null,null,null,null,null,null,null,null,null,null,null,null,null,null,null,null,null,null,null,null,null,null,null,null,null,null,null,null,null,null,null,null,null,null,null,null,null,null,null,null,null,null,null,null,null,null,null,null,null,null,null,null,null,null,null,null,null,null,null,null,null,null,null,"OK AGCP"]
[null,null,null,null,null,null,null,null,null,null,null,null,null,null,null,null,null,null,null,null,null,null,null,null,null,null,null,null,null,null,null,null,null,null,null,null,null,null,null,null,null,null,null,null,null,null,null,null,null,null,null,null,null,null,null,null,null,null,null,null,null,null,null,null,null,null,"LRR P, MLRA 135B"]
[null,null,null,null,null,null,null,null,null,null,null,null,null,null,null,null,null,null,null,null,null,null,null,null,null,null,null,null,null,null,null,null,null,null,null,null,null,null,null,null,null,null,null,null,null,null,null,null,null,null,null,null,null,null,null,null,null,null,null,null,null,null,null,null,null,null,"OK WGC"]
[null,null,null,null,null,null,null,null,null,null,null,null,null,null,null,null,null,null,null,null,null,null,null,null,null,null,null,null,null,null,null,null,null,null,null,null,null,null,null,null,null,null,null,null,null,null,null,null,null,null,null,null,null,null,null,null,null,null,null,null,null,null,null,null,null,null,"LRR P, MLRA 133B"]
[]
[null,null,null,null,null,null,null,null,null,null,null,null,null,null,null,null,null,null,null,null,null,null,null,null,null,null,null,null,null,null,null,null,null,null,null,null,null,null,null,null,null,null,null,null,null,null,null,null,null,null,null,null,null,null,null,null,null,null,null,null,null,null,null,null,null,null,"TN AGCP"]
[null,null,null,null,null,null,null,null,null,null,null,null,null,null,null,null,null,null,null,null,null,null,null,null,null,null,null,null,null,null,null,null,null,null,null,null,null,null,null,null,null,null,null,null,null,null,null,null,null,null,null,null,null,null,null,null,null,null,null,null,null,null,null,null,null,null,"LRR P, MLRA 133A"]
[null,null,null,null,null,null,null,null,null,null,null,null,null,null,null,null,null,null,null,null,null,null,null,null,null,null,null,null,null,null,null,null,null,null,null,null,null,null,null,null,null,null,null,null,null,null,null,null,null,null,null,null,null,null,null,null,null,null,null,null,null,null,null,null,null,null,"LRR P, MLRA 135A"]
[null,null,null,null,null,null,null,null,null,null,null,null,null,null,null,null,null,null,null,null,null,null,null,null,null,null,null,null,null,null,null,null,null,null,null,null,null,null,null,null,null,null,null,null,null,null,null,null,null,null,null,null,null,null,null,null,null,null,null,null,null,null,null,null,null,null,"TN WGC"]
[null,null,null,null,null,null,null,null,null,null,null,null,null,null,null,null,null,null,null,null,null,null,null,null,null,null,null,null,null,null,null,null,null,null,null,null,null,null,null,null,null,null,null,null,null,null,null,null,null,null,null,null,null,null,null,null,null,null,null,null,null,null,null,null,null,null,"LRR O"]
[null,null,null,null,null,null,null,null,null,null,null,null,null,null,null,null,null,null,null,null,null,null,null,null,null,null,null,null,null,null,null,null,null,null,null,null,null,null,null,null,null,null,null,null,null,null,null,null,null,null,null,null,null,null,null,null,null,null,null,null,null,null,null,null,null,null,"LRR O, MLRA 131A"]
[null,null,null,null,null,null,null,null,null,null,null,null,null,null,null,null,null,null,null,null,null,null,null,null,null,null,null,null,null,null,null,null,null,null,null,null,null,null,null,null,null,null,null,null,null,null,null,null,null,null,null,null,null,null,null,null,null,null,null,null,null,null,null,null,null,null,"LRR P, MLRA 134"]
[]
[null,null,null,null,null,null,null,null,null,null,null,null,null,null,null,null,null,null,null,null,null,null,null,null,null,null,null,null,null,null,null,null,null,null,null,null,null,null,null,null,null,null,null,null,null,null,null,null,null,null,null,null,null,null,null,null,null,null,null,null,null,null,null,null,null,null,"Conditional Formatting Indicator Status"]
[null,null,null,null,null,null,null,null,null,null,null,null,null,null,null,null,null,null,null,null,null,null,null,null,null,null,null,null,null,null,null,null,null,null,null,null,null,null,null,null,null,null,null,null,null,null,null,null,null,null,null,null,null,null,null,null,null,null,null,null,null,null,null,null,null,null,"AR"]
[null,null,null,null,null,null,null,null,null,null,null,null,null,null,null,null,null,null,null,null,null,null,null,null,null,null,null,null,null,null,null,null,null,null,null,null,null,null,null,null,null,null,null,null,null,null,null,null,null,null,null,null,null,null,null,null,null,null,null,null,null,null,null,null,null,null,"LRR O"]
[null,null,null,null,null,null,null,null,null,null,null,null,null,null,null,null,null,null,null,null,null,null,null,null,null,null,null,null,null,null,null,null,null,null,null,null,null,null,null,null,null,null,null,null,null,null,null,null,null,null,null,null,null,null,null,null,null,null,null,null,null,null,null,null,null,null,"LRR O, MLRA 131A"]
[null,null,null,null,null,null,null,null,null,null,null,null,null,null,null,null,null,null,null,null,null,null,null,null,null,null,null,null,null,null,null,null,null,null,null,null,null,null,null,null,null,null,null,null,null,null,null,null,null,null,null,null,null,null,null,null,null,null,null,null,null,null,null,null,null,null,"LRR O, MLRA 131B"]
[null,null,null,null,null,null,null,null,null,null,null,null,null,null,null,null,null,null,null,null,null,null,null,null,null,null,null,null,null,null,null,null,null,null,null,null,null,null,null,null,null,null,null,null,null,null,null,null,null,null,null,null,null,null,null,null,null,null,null,null,null,null,null,null,null,null,"LRR O, MLRA 131C"]
[null,null,null,null,null,null,null,null,null,null,null,null,null,null,null,null,null,null,null,null,null,null,null,null,null,null,null,null,null,null,null,null,null,null,null,null,null,null,null,null,null,null,null,null,null,null,null,null,null,null,null,null,null,null,null,null,null,null,null,null,null,null,null,null,null,null,"LRR O, MLRA 131D"]
[null,null,null,null,null,null,null,null,null,null,null,null,null,null,null,null,null,null,null,null,null,null,null,null,null,null,null,null,null,null,null,null,null,null,null,null,null,null,null,null,null,null,null,null,null,null,null,null,null,null,null,null,null,null,null,null,null,null,null,null,null,null,null,null,null,null,"LRR P, MLRA 133B"]
[null,null,null,null,null,null,null,null,null,null,null,null,null,null,null,null,null,null,null,null,null,null,null,null,null,null,null,null,null,null,null,null,null,null,null,null,null,null,null,null,null,null,null,null,null,null,null,null,null,null,null,null,null,null,null,null,null,null,null,null,null,null,null,null,null,null,"LRR P, MLRA 134"]
[null,null,null,null,null,null,null,null,null,null,null,null,null,null,null,null,null,null,null,null,null,null,null,null,null,null,null,null,null,null,null,null,null,null,null,null,null,null,null,null,null,null,null,null,null,null,null,null,null,null,null,null,null,null,null,null,null,null,null,null,null,null,null,null,null,null,"LRR P, MLRA 135B"]
[]
[null,null,null,null,null,null,null,null,null,null,null,null,null,null,null,null,null,null,null,null,null,null,null,null,null,null,null,null,null,null,null,null,null,null,null,null,null,null,null,null,null,null,null,null,null,null,null,null,null,null,null,null,null,null,null,null,null,null,null,null,null,null,null,null,null,null,"LA"]
[null,null,null,null,null,null,null,null,null,null,null,null,null,null,null,null,null,null,null,null,null,null,null,null,null,null,null,null,null,null,null,null,null,null,null,null,null,null,null,null,null,null,null,null,null,null,null,null,null,null,null,null,null,null,null,null,null,null,null,null,null,null,null,null,null,null,"LRR O"]
[null,null,null,null,null,null,null,null,null,null,null,null,null,null,null,null,null,null,null,null,null,null,null,null,null,null,null,null,null,null,null,null,null,null,null,null,null,null,null,null,null,null,null,null,null,null,null,null,null,null,null,null,null,null,null,null,null,null,null,null,null,null,null,null,null,null,"LRR O, MLRA 131A"]
[null,null,null,null,null,null,null,null,null,null,null,null,null,null,null,null,null,null,null,null,null,null,null,null,null,null,null,null,null,null,null,null,null,null,null,null,null,null,null,null,null,null,null,null,null,null,null,null,null,null,null,null,null,null,null,null,null,null,null,null,null,null,null,null,null,null,"LRR O, MLRA 131B"]
[null,null,null,null,null,null,null,null,null,null,null,null,null,null,null,null,null,null,null,null,null,null,null,null,null,null,null,null,null,null,null,null,null,null,null,null,null,null,null,null,null,null,null,null,null,null,null,null,null,null,null,null,null,null,null,null,null,null,null,null,null,null,null,null,null,null,"LRR O, MLRA 131C"]
[null,null,null,null,null,null,null,null,null,null,null,null,null,null,null,null,null,null,null,null,null,null,null,null,null,null,null,null,null,null,null,null,null,null,null,null,null,null,null,null,null,null,null,null,null,null,null,null,null,null,null,null,null,null,null,null,null,null,null,null,null,null,null,null,null,null,"LRR O, MLRA 131D"]
[null,null,null,null,null,null,null,null,null,null,null,null,null,null,null,null,null,null,null,null,null,null,null,null,null,null,null,null,null,null,null,null,null,null,null,null,null,null,null,null,null,null,null,null,null,null,null,null,null,null,null,null,null,null,null,null,null,null,null,null,null,null,null,null,null,null,"LRR P, MLRA 133A"]
[null,null,null,null,null,null,null,null,null,null,null,null,null,null,null,null,null,null,null,null,null,null,null,null,null,null,null,null,null,null,null,null,null,null,null,null,null,null,null,null,null,null,null,null,null,null,null,null,null,null,null,null,null,null,null,null,null,null,null,null,null,null,null,null,null,null,"LRR P, MLRA 133B"]
[null,null,null,null,null,null,null,null,null,null,null,null,null,null,null,null,null,null,null,null,null,null,null,null,null,null,null,null,null,null,null,null,null,null,null,null,null,null,null,null,null,null,null,null,null,null,null,null,null,null,null,null,null,null,null,null,null,null,null,null,null,null,null,null,null,null,"LRR P, MLRA 134"]
[null,null,null,null,null,null,null,null,null,null,null,null,null,null,null,null,null,null,null,null,null,null,null,null,null,null,null,null,null,null,null,null,null,null,null,null,null,null,null,null,null,null,null,null,null,null,null,null,null,null,null,null,null,null,null,null,null,null,null,null,null,null,null,null,null,null,"LRR T, MLRA 150A"]
[null,null,null,null,null,null,null,null,null,null,null,null,null,null,null,null,null,null,null,null,null,null,null,null,null,null,null,null,null,null,null,null,null,null,null,null,null,null,null,null,null,null,null,null,null,null,null,null,null,null,null,null,null,null,null,null,null,null,null,null,null,null,null,null,null,null,"LRR T, MLRA 151"]
[null,null,null,null,null,null,null,null,null,null,null,null,null,null,null,null,null,null,null,null,null,null,null,null,null,null,null,null,null,null,null,null,null,null,null,null,null,null,null,null,null,null,null,null,null,null,null,null,null,null,null,null,null,null,null,null,null,null,null,null,null,null,null,null,null,null,"LRR T, MLRA 152A"]
[null,null,null,null,null,null,null,null,null,null,null,null,null,null,null,null,null,null,null,null,null,null,null,null,null,null,null,null,null,null,null,null,null,null,null,null,null,null,null,null,null,null,null,null,null,null,null,null,null,null,null,null,null,null,null,null,null,null,null,null,null,null,null,null,null,null,"LRR T, MLRA 152B"]
[]
[null,null,null,null,null,null,null,null,null,null,null,null,null,null,null,null,null,null,null,null,null,null,null,null,null,null,null,null,null,null,null,null,null,null,null,null,null,null,null,null,null,null,null,null,null,null,null,null,null,null,null,null,null,null,null,null,null,null,null,null,null,null,null,null,null,null,"MS"]
[null,null,null,null,null,null,null,null,null,null,null,null,null,null,null,null,null,null,null,null,null,null,null,null,null,null,null,null,null,null,null,null,null,null,null,null,null,null,null,null,null,null,null,null,null,null,null,null,null,null,null,null,null,null,null,null,null,null,null,null,null,null,null,null,null,null,"LRR O"]
[null,null,null,null,null,null,null,null,null,null,null,null,null,null,null,null,null,null,null,null,null,null,null,null,null,null,null,null,null,null,null,null,null,null,null,null,null,null,null,null,null,null,null,null,null,null,null,null,null,null,null,null,null,null,null,null,null,null,null,null,null,null,null,null,null,null,"LRR O, MLRA 131A"]
[null,null,null,null,null,null,null,null,null,null,null,null,null,null,null,null,null,null,null,null,null,null,null,null,null,null,null,null,null,null,null,null,null,null,null,null,null,null,null,null,null,null,null,null,null,null,null,null,null,null,null,null,null,null,null,null,null,null,null,null,null,null,null,null,null,null,"LRR P, MLRA 133A"]
[null,null,null,null,null,null,null,null,null,null,null,null,null,null,null,null,null,null,null,null,null,null,null,null,null,null,null,null,null,null,null,null,null,null,null,null,null,null,null,null,null,null,null,null,null,null,null,null,null,null,null,null,null,null,null,null,null,null,null,null,null,null,null,null,null,null,"LRR P, MLRA 134"]
[null,null,null,null,null,null,null,null,null,null,null,null,null,null,null,null,null,null,null,null,null,null,null,null,null,null,null,null,null,null,null,null,null,null,null,null,null,null,null,null,null,null,null,null,null,null,null,null,null,null,null,null,null,null,null,null,null,null,null,null,null,null,null,null,null,null,"LRR P, MLRA 135A"]
[null,null,null,null,null,null,null,null,null,null,null,null,null,null,null,null,null,null,null,null,null,null,null,null,null,null,null,null,null,null,null,null,null,null,null,null,null,null,null,null,null,null,null,null,null,null,null,null,null,null,null,null,null,null,null,null,null,null,null,null,null,null,null,null,null,null,"LRR T, MLRA 151"]
[null,null,null,null,null,null,null,null,null,null,null,null,null,null,null,null,null,null,null,null,null,null,null,null,null,null,null,null,null,null,null,null,null,null,null,null,null,null,null,null,null,null,null,null,null,null,null,null,null,null,null,null,null,null,null,null,null,null,null,null,null,null,null,null,null,null,"LRR T, MLRA 152A"]
[]
[null,null,null,null,null,null,null,null,null,null,null,null,null,null,null,null,null,null,null,null,null,null,null,null,null,null,null,null,null,null,null,null,null,null,null,null,null,null,null,null,null,null,null,null,null,null,null,null,null,null,null,null,null,null,null,null,null,null,null,null,null,null,null,null,null,null,"OK"]
[null,null,null,null,null,null,null,null,null,null,null,null,null,null,null,null,null,null,null,null,null,null,null,null,null,null,null,null,null,null,null,null,null,null,null,null,null,null,null,null,null,null,null,null,null,null,null,null,null,null,null,null,null,null,null,null,null,null,null,null,null,null,null,null,null,null,"LRR P, MLRA 133B"]
[null,null,null,null,null,null,null,null,null,null,null,null,null,null,null,null,null,null,null,null,null,null,null,null,null,null,null,null,null,null,null,null,null,null,null,null,null,null,null,null,null,null,null,null,null,null,null,null,null,null,null,null,null,null,null,null,null,null,null,null,null,null,null,null,null,null,"LRR P, MLRA 135B"]
[]
[null,null,null,null,null,null,null,null,null,null,null,null,null,null,null,null,null,null,null,null,null,null,null,null,null,null,null,null,null,null,null,null,null,null,null,null,null,null,null,null,null,null,null,null,null,null,null,null,null,null,null,null,null,null,null,null,null,null,null,null,null,null,null,null,null,null,"TN"]
[null,null,null,null,null,null,null,null,null,null,null,null,null,null,null,null,null,null,null,null,null,null,null,null,null,null,null,null,null,null,null,null,null,null,null,null,null,null,null,null,null,null,null,null,null,null,null,null,null,null,null,null,null,null,null,null,null,null,null,null,null,null,null,null,null,null,"LRR O"]
[null,null,null,null,null,null,null,null,null,null,null,null,null,null,null,null,null,null,null,null,null,null,null,null,null,null,null,null,null,null,null,null,null,null,null,null,null,null,null,null,null,null,null,null,null,null,null,null,null,null,null,null,null,null,null,null,null,null,null,null,null,null,null,null,null,null,"LRR O, MLRA 131A"]
[null,null,null,null,null,null,null,null,null,null,null,null,null,null,null,null,null,null,null,null,null,null,null,null,null,null,null,null,null,null,null,null,null,null,null,null,null,null,null,null,null,null,null,null,null,null,null,null,null,null,null,null,null,null,null,null,null,null,null,null,null,null,null,null,null,null,"LRR P, MLRA 133A"]
[null,null,null,null,null,null,null,null,null,null,null,null,null,null,null,null,null,null,null,null,null,null,null,null,null,null,null,null,null,null,null,null,null,null,null,null,null,null,null,null,null,null,null,null,null,null,null,null,null,null,null,null,null,null,null,null,null,null,null,null,null,null,null,null,null,null,"LRR P, MLRA 134"]
[null,null,null,null,null,null,null,null,null,null,null,null,null,null,null,null,null,null,null,null,null,null,null,null,null,null,null,null,null,null,null,null,null,null,null,null,null,null,null,null,null,null,null,null,null,null,null,null,null,null,null,null,null,null,null,null,null,null,null,null,null,null,null,null,null,null,"LRR P, MLRA 135A"]

{"sheet":"Page 2 (Vegetation, 4 Strata)","index":2,"n_rows":154,"n_cols":87,"rows_kept":154,"cut":false,"hidden":false,"merged":[[36,37,36,41],[36,31,36,35],[33,25,33,29],[29,3,29,23],[29,37,29,41],[46,43,48,43],[41,16,41,22],[41,23,41,42],[47,1,47,24],[43,25,43,29],[44,25,44,29],[46,25,46,29],[47,25,47,29],[43,3,43,23],[42,25,42,29],[42,36,46,36],[43,37,43,41],[44,37,44,41],[41,43,45,63],[42,31,42,35],[43,31,43,35],[44,31,44,35],[46,31,46,35],[42,42,46,42],[42,3,42,23],[42,37,42,41],[46,37,46,41],[15,58,15,61],[11,54,16,54],[42,24,46,24],[2,20,2,24],[23,3,23,23],[21,3,21,23],[20,25,20,29],[21,37,21,41],[3,24,8,24],[10,24,11,24],[15,24,18,24],[17,3,17,23],[15,3,15,23],[2,1,2,7],[3,3,3,23],[4,3,4,23],[5,3,5,23],[6,3,6,23],[20,24,23,24],[11,25,11,29],[2,30,8,30],[7,44,8,55],[7,56,7,63],[11,44,11,53],[10,44,10,63],[14,50,14,53],[15,50,15,53],[14,58,14,61],[10,37,10,41],[2,31,2,35],[20,42,23,42],[11,62,16,63],[17,58,17,61],[16,50,16,53],[17,50,17,53],[12,50,12,53],[13,50,13,53],[17,54,17,57],[19,1,19,42],[18,46,18,56],[12,25,12,29],[15,25,15,29],[11,55,11,61],[13,58,13,61],[18,57,18,61],[16,44,16,49],[14,24,14,42],[12,30,12,42],[21,45,21,63],[19,43,19,63],[20,43,28,43],[24,45,24,63],[27,37,27,41],[22,45,22,63],[10,30,11,30],[15,30,18,30],[17,25,17,29],[18,25,18,29],[16,37,16,41],[18,3,18,23],[2,43,8,43],[10,42,11,42],[15,42,18,42],[4,31,4,35],[3,31,3,35],[4,37,4,41],[3,37,3,41],[9,43,9,63],[10,43,17,43],[16,58,16,61],[15,31,15,35],[17,31,17,35],[18,62,18,63],[18,43,18,45],[13,37,13,41],[15,37,15,41],[10,31,10,35],[5,37,5,41],[0,58,0,62],[4,56,4,60],[6,56,6,60],[15,44,15,49],[5,44,6,55],[1,0,1,63],[2,44,2,63],[3,56,3,63],[2,42,8,42],[5,56,5,63],[3,44,4,55],[5,31,5,35],[6,61,6,63],[6,31,6,35],[6,37,6,41],[2,37,2,41],[3,25,3,29],[0,0,0,16],[0,17,0,51],[12,44,12,49],[13,44,13,49],[14,44,14,49],[8,56,8,60],[4,61,4,63],[27,24,38,24],[25,1,25,12],[34,25,34,29],[33,3,33,23],[35,3,35,23],[38,25,38,29],[35,25,35,29],[27,25,27,29],[35,31,35,35],[31,3,31,23],[37,3,37,23],[28,3,28,23],[38,31,38,35],[29,25,29,29],[30,3,30,23],[27,3,27,23],[30,31,30,35],[2,25,2,29],[8,31,8,35],[4,25,4,29],[24,1,24,24],[16,31,16,35],[26,20,26,42],[23,25,23,29],[11,3,11,23],[26,13,26,19],[16,25,16,29],[11,31,11,35],[23,37,23,41],[22,37,22,41],[5,25,5,29],[15,36,18,36],[20,36,23,36],[18,31,18,35],[20,3,20,23],[22,3,22,23],[7,31,7,35],[8,25,8,29],[13,1,13,12],[7,3,7,23],[10,25,10,29],[20,44,20,63],[25,37,25,41],[20,37,20,41],[33,44,35,63],[27,36,38,36],[27,31,27,35],[33,37,33,41],[34,37,34,41],[37,37,37,41],[28,37,28,41],[38,37,38,41],[37,31,37,35],[29,43,40,43],[36,44,38,63],[32,37,32,41],[30,37,30,41],[35,37,35,41],[39,30,39,42],[29,44,29,63],[30,44,32,63],[31,31,31,35],[32,31,32,35],[28,31,28,35],[29,31,29,35],[31,37,31,41],[27,42,38,42],[34,31,34,35],[7,37,7,41],[13,22,13,26],[32,25,32,29],[36,25,36,29],[30,25,30,29],[31,25,31,29],[36,3,36,23],[8,37,8,41],[7,25,7,29],[17,37,17,41],[14,17,14,23],[25,22,25,26],[24,25,24,29],[27,30,38,30],[28,25,28,29],[18,37,18,41],[21,31,21,35],[23,31,23,35],[20,30,23,30],[37,25,37,29],[32,3,32,23],[50,0,55,0],[40,37,40,41],[45,3,45,23],[45,25,45,29],[45,31,45,35],[45,37,45,41],[48,37,48,41],[40,22,40,26],[48,22,48,26],[49,1,49,42],[48,1,48,12],[47,30,47,42],[50,1,50,63],[46,3,46,23],[44,3,44,23],[48,59,48,63],[46,44,48,49],[42,30,46,30],[40,1,40,12],[51,1,55,63],[49,43,49,63],[48,50,48,52],[48,54,48,57],[46,50,47,63],[2,0,49,0],[23,45,23,63],[25,44,26,63],[27,44,28,63],[39,44,40,63],[12,58,12,61],[24,30,24,42],[22,25,22,29],[22,31,22,35],[20,31,20,35],[21,25,21,29],[8,3,8,23],[10,3,10,23],[6,25,6,29],[39,25,39,29],[33,31,33,35],[38,3,38,23],[39,1,39,24],[34,3,34,23],[2,13,2,19],[16,3,16,23],[11,37,11,41],[9,1,9,42],[12,1,12,24]]}
["VEGETATION (Four Strata)",null,null,null,null,null,null,null,null,null,null,null,null,null,null,null,null,"– Use scientific names of plants.",null,null,null,null,null,null,null,null,null,null,null,null,null,null,null,null,null,null,null,null,null,null,null,null,null,null,null,null,null,null,null,null,null,null,"Sampling Point:",null,null,null,null,null,{"$f":"IF('Page 1 (Hydrology)'!AP3=0,\"\",'Page 1 (Hydrology)'!AP3)","v":""},null,null,null,null,null,null,null,{"$f":"IF(AND(D12=\"\",D24=\"\",D39=\"\",D47=\"\"),FALSE,TRUE)","v":false},{"$f":"ISERROR('Vegetation Continued, 4 Strata'!Z4)","v":false}]
[]
[null,"Tree Stratum",null,null,null,null,null,null,"(Plot size:",null,null,null,null,null,null,null,null,null,null,null,")",null,null,null,null,"Absolute % Cover",null,null,null,null,null,"Dominant Species?",null,null,null,null,null,"Indicator Status",null,null,null,null,null,null,"Dominance Test worksheet:",null,null,null,null,null,null,null,null,null,null,null,null,null,null,null,null,null,null,null,null,null,"Indicators",null,"Absolute Cover","Dominance",null,"FAC-Neutral",null,null,null,"Rapid","Prevalence Index Plant Totals For Worksheet",null,null,null,null,"50/20 rule",null,null,null,"Indicator Status"]
[null,"1.",null,"",null,null,null,null,null,null,null,null,null,null,null,null,null,null,null,null,null,null,null,null,null,null,null,null,null,null,null,{"$f":"IF(Z4>0,IF(OR(AND(Z$13<5,Z$25=\"\",Z$40=\"\",Z$48=\"\"),Z$13>=5),IF(AND(ISNA(MATCH(Z4,CG$4:CG$19,0)),CD4<0.2),\"No\",\"Yes\"),\"No\"),\"\")","v":""},null,null,null,null,null,{"$f":"IF(CI4=0,\"\",CI4)","v":""},null,null,null,null,null,null,"Number of Dominant Species That Are OBL, FACW, or FAC:",null,null,null,null,null,null,null,null,null,null,null,null,null,null,null,null,null,null,null,null,null,"OBL",null,{"$f":"Z4","v":0},{"$f":"IF(AND(AF4=\"Yes\",OR(AL4=\"OBL\",AL4=\"FACW\",AL4=\"FAC\")),1,0)","v":0},{"$f":"IF(AF4=\"Yes\",1,0)","v":0},{"$f":"IF(AND(AF4=\"Yes\",OR(AL4=\"OBL\",AL4=\"FACW\")),1,0)","v":0},{"$f":"IF(AND(AF4=\"Yes\",OR(AL4=\"UPL\",AL4=\"FACU\")),1,0)","v":0},{"$f":"IF(OR(AL4=\"OBL\",AL4=\"FACW\"),1,0)","v":0},{"$f":"IF(OR(AL4=\"UPL\",AL4=\"FACU\"),1,0)","v":0},{"$f":"IF(AND(AF4=\"YES\",OR(AL4=\"UPL\",AL4=\"FACU\",AL4=\"FAC\")),FALSE,TRUE)","v":true},{"$f":"IF($AL4=\"obl\",$Z4,0)","v":0},{"$f":"IF($AL4=\"facw\",$Z4,0)","v":0},{"$f":"IF($AL4=\"fac\",$Z4,0)","v":0},{"$f":"IF($AL4=\"facu\",$Z4,0)","v":0},{"$f":"IF($AL4=\"upl\",$Z4,0)","v":0},{"$f":"IFERROR(Z4/Z$13,0)","v":0},{"$f":"IFERROR(LARGE((BQ$4:BQ$19),1),0)","v":0},{"$f":"IFERROR(CE4/Z$13,0)","v":0},{"$f":"IF(CE4>0,CE4,\"\")","v":""},{"$f":"IF(ISNA(MATCH('Page 1 (Hydrology)'!$AI$3,$BO$33:$BO$43,0)),IF(ISNA(MATCH('Page 1 (Hydrology)'!$AI$3,$BO$46:$BO$49,0)),0,\"WGC\"),\"AGCP\")","v":0},{"$f":"IFERROR(IF(ISNA(MATCH(\"AGCP\",$CH$4:$CH$9,0)),IF(ISNA(MATCH(\"WGC\",$CH$4:$CH$9,0)),\"\",VLOOKUP(D4,Plant_List,3,FALSE)),VLOOKUP(D4,Plant_List,2,FALSE)),\"\")","v":""}]
[null,"2.",null,"",null,null,null,null,null,null,null,null,null,null,null,null,null,null,null,null,null,null,null,null,null,null,null,null,null,null,null,{"$f":"IF(Z5>0,IF(OR(AND(Z$13<5,Z$25=\"\",Z$40=\"\",Z$48=\"\"),Z$13>=5),IF(AND(ISNA(MATCH(Z5,CG$4:CG$19,0)),CD5<0.2),\"No\",\"Yes\"),\"No\"),\"\")","v":""},null,null,null,null,null,{"$f":"IF(CI5=0,\"\",CI5)","v":""},null,null,null,null,null,null,null,null,null,null,null,null,null,null,null,null,null,null,{"$f":"IF($BM$5=FALSE,IF(BE7=\"\",\"\",SUM(BR4:BR72)),\"\")","v":""},null,null,null,null,"(A)",null,null,false,"This sampling point has passed the Rapid Test for Hydrophytic Vegetation.","FACW",null,{"$f":"Z5","v":0},0,0,0,0,{"$f":"IF(OR(AL5=\"OBL\",AL5=\"FACW\"),1,0)","v":0},{"$f":"IF(OR(AL5=\"UPL\",AL5=\"FACU\"),1,0)","v":0},{"$f":"IF(AND(AF5=\"YES\",OR(AL5=\"UPL\",AL5=\"FACU\",AL5=\"FAC\")),FALSE,TRUE)","v":true},0,0,0,0,0,0,{"$f":"IFERROR(LARGE((BQ$4:BQ$19),2),0)","v":0},0,{"$f":"IF(AND(CE5>0,CF4>0.5),\"\",CE5)","v":0},{"$f":"IF(AND(CH$4=0,'Page 1 (Hydrology)'!$AI$3=\"AR\"),IF(ISNA(MATCH('Page 1 (Hydrology)'!$L$6,BO62,0)),IF(ISNA(MATCH('Page 1 (Hydrology)'!$L$6,BO64:BO70,0)),0,\"WGC\"),\"AGCP\"),0)","v":0},""]
[null,"3.",null,"",null,null,null,null,null,null,null,null,null,null,null,null,null,null,null,null,null,null,null,null,null,null,null,null,null,null,null,"",null,null,null,null,null,"",null,null,null,null,null,null,"Total Number of Dominant Species Across All Strata:",null,null,null,null,null,null,null,null,null,null,null,null,null,null,null,null,null,null,null,null,"I do not wish to have the Dominance Test worksheet calculated.","FAC",null,0,0,0,0,0,0,0,true,0,0,0,0,0,0,{"$f":"IFERROR(LARGE((BQ$4:BQ$19),3),0)","v":0},0,{"$f":"IF(AND(CE6>0,SUM(CF$4:CF5)>0.5),\"\",CE6)","v":0},{"$f":"IF(AND(CH$4=0,'Page 1 (Hydrology)'!$AI$3=\"LA\"),IF(ISNA(MATCH('Page 1 (Hydrology)'!$L$6,BO73:BO74,0)),IF(ISNA(MATCH('Page 1 (Hydrology)'!$L$6,BO76:BO85,0)),0,\"WGC\"),\"AGCP\"),0)","v":0},""]
[null,"4.",null,"",null,null,null,null,null,null,null,null,null,null,null,null,null,null,null,null,null,null,null,null,null,null,null,null,null,null,null,"",null,null,null,null,null,"",null,null,null,null,null,null,null,null,null,null,null,null,null,null,null,null,null,null,{"$f":"IF($BM$5=FALSE,IF(SUM(BS4:BS72)>0,SUM(BS4:BS72),\"\"),\"\")","v":""},null,null,null,null,"(B)",null,null,null,null,"FACU",null,0,0,0,0,0,0,0,true,0,0,0,0,0,0,{"$f":"IFERROR(LARGE((BQ$4:BQ$19),4),0)","v":0},0,{"$f":"IF(AND(CE7>0,SUM(CF$4:CF6)>0.5),\"\",CE7)","v":0},{"$f":"IF(AND(CH$4=0,'Page 1 (Hydrology)'!$AI$3=\"MS\"),IF(ISNA(MATCH('Page 1 (Hydrology)'!$L$6,BO88:BO90,0)),IF(ISNA(MATCH('Page 1 (Hydrology)'!$L$6,BO93:BO96,0)),0,\"WGC\"),\"AGCP\"),0)","v":0},""]
[null,"5.",null,"",null,null,null,null,null,null,null,null,null,null,null,null,null,null,null,null,null,null,null,null,null,null,null,null,null,null,null,"",null,null,null,null,null,"",null,null,null,null,null,null,"Percent of Dominant Species That Are OBL, FACW, or FAC:",null,null,null,null,null,null,null,null,null,null,null,null,null,null,null,null,null,null,null,null,null,"UPL",null,0,0,0,0,0,0,0,true,0,0,0,0,0,0,{"$f":"IFERROR(LARGE((BQ$4:BQ$19),5),0)","v":0},0,{"$f":"IF(AND(CE8>0,SUM(CF$4:CF7)>0.5),\"\",CE8)","v":0},{"$f":"IF(AND(CH$4=0,'Page 1 (Hydrology)'!$AI$3=\"OK\"),IF(ISNA(MATCH('Page 1 (Hydrology)'!$L$6,BO99,0)),IF(ISNA(MATCH('Page 1 (Hydrology)'!$L$6,BO101,0)),0,\"WGC\"),\"AGCP\"),0)","v":0},""]
[null,"6.",null,"",null,null,null,null,null,null,null,null,null,null,null,null,null,null,null,null,null,null,null,null,null,null,null,null,null,null,null,"",null,null,null,null,null,"",null,null,null,null,null,null,null,null,null,null,null,null,null,null,null,null,null,null,{"$f":"IF(BE7=\"\",\"\",ROUND(BE5/BE7,3))","v":""},null,null,null,null,"(A/B)",null,null,null,null,null,null,0,0,0,0,0,0,0,true,0,0,0,0,0,0,{"$f":"IFERROR(LARGE((BQ$4:BQ$19),6),0)","v":0},0,{"$f":"IF(AND(CE9>0,SUM(CF$4:CF8)>0.5),\"\",CE9)","v":0},{"$f":"IF(AND(CH$4=0,'Page 1 (Hydrology)'!$AI$3=\"TN\"),IF(ISNA(MATCH('Page 1 (Hydrology)'!$L$6,BO104:BO105,0)),IF(ISNA(MATCH('Page 1 (Hydrology)'!$L$6,BO107:BO109,0)),0,\"WGC\"),\"AGCP\"),0)","v":0},""]
[null,"",null,null,null,null,null,null,null,null,null,null,null,null,null,null,null,null,null,null,null,null,null,null,null,null,null,null,null,null,null,null,null,null,null,null,null,null,null,null,null,null,null,null,null,null,null,null,null,null,null,null,null,null,null,null,null,null,null,null,null,null,null,null,null,null,null,null,{"$f":"Z11","v":0},{"$f":"IF(AND(AF11=\"Yes\",OR(AL11=\"OBL\",AL11=\"FACW\",AL11=\"FAC\")),1,0)","v":0},{"$f":"IF(AF11=\"Yes\",1,0)","v":0},{"$f":"IF(AND(AF11=\"Yes\",OR(AL11=\"OBL\",AL11=\"FACW\")),1,0)","v":0},{"$f":"IF(AND(AF11=\"Yes\",OR(AL11=\"UPL\",AL11=\"FACU\")),1,0)","v":0},{"$f":"IF(OR(AL11=\"OBL\",AL11=\"FACW\"),1,0)","v":0},{"$f":"IF(OR(AL11=\"UPL\",AL11=\"FACU\"),1,0)","v":0},{"$f":"IF(AND(AF11=\"YES\",OR(AL11=\"UPL\",AL11=\"FACU\",AL11=\"FAC\")),FALSE,TRUE)","v":true},{"$f":"IF($AL11=\"obl\",$Z11,0)","v":0},{"$f":"IF($AL11=\"facw\",$Z11,0)","v":0},{"$f":"IF($AL11=\"fac\",$Z11,0)","v":0},{"$f":"IF($AL11=\"facu\",$Z11,0)","v":0},{"$f":"IF($AL11=\"upl\",$Z11,0)","v":0},{"$f":"IFERROR(Z11/Z$13,0)","v":0},{"$f":"IFERROR(LARGE((BQ$4:BQ$19),7),0)","v":0},{"$f":"IFERROR(CE10/Z$13,0)","v":0},{"$f":"IF(AND(CE10>0,SUM(CF$4:CF9)>0.5),\"\",CE10)","v":0},null,{"$f":"IFERROR(IF(ISNA(MATCH(\"AGCP\",$CH$4:$CH$9,0)),IF(ISNA(MATCH(\"WGC\",$CH$4:$CH$9,0)),\"\",VLOOKUP(D11,Plant_List,3,FALSE)),VLOOKUP(D11,Plant_List,2,FALSE)),\"\")","v":""}]
[null,"7.",null,"",null,null,null,null,null,null,null,null,null,null,null,null,null,null,null,null,null,null,null,null,null,null,null,null,null,null,null,{"$f":"IF(Z11>0,IF(OR(AND(Z$13<5,Z$25=\"\",Z$40=\"\",Z$48=\"\"),Z$13>=5),IF(AND(ISNA(MATCH(Z11,CG$4:CG$19,0)),CD10<0.2),\"No\",\"Yes\"),\"No\"),\"\")","v":""},null,null,null,null,null,{"$f":"IF(CI10=0,\"\",CI10)","v":""},null,null,null,null,null,null,"Prevalence Index worksheet:",null,null,null,null,null,null,null,null,null,null,null,null,null,null,null,null,null,null,null,false,"This sampling point has passed the Rapid Test for Hydrophytic Vegetation","Page 1",null,{"$f":"Z12","v":0},{"$f":"IF(AND(AF12=\"Yes\",OR(AL12=\"OBL\",AL12=\"FACW\",AL12=\"FAC\")),1,0)","v":0},{"$f":"IF(AF12=\"Yes\",1,0)","v":0},{"$f":"IF(AND(AF12=\"Yes\",OR(AL12=\"OBL\",AL12=\"FACW\")),1,0)","v":0},{"$f":"IF(AND(AF12=\"Yes\",OR(AL12=\"UPL\",AL12=\"FACU\")),1,0)","v":0},{"$f":"IF(OR(AL12=\"OBL\",AL12=\"FACW\"),1,0)","v":0},{"$f":"IF(OR(AL12=\"UPL\",AL12=\"FACU\"),1,0)","v":0},{"$f":"IF(AND(AF12=\"YES\",OR(AL12=\"UPL\",AL12=\"FACU\",AL12=\"FAC\")),FALSE,TRUE)","v":true},{"$f":"IF($AL12=\"obl\",$Z12,0)","v":0},{"$f":"IF($AL12=\"facw\",$Z12,0)","v":0},{"$f":"IF($AL12=\"fac\",$Z12,0)","v":0},{"$f":"IF($AL12=\"facu\",$Z12,0)","v":0},{"$f":"IF($AL12=\"upl\",$Z12,0)","v":0},{"$f":"IFERROR(Z12/Z$13,0)","v":0},{"$f":"IFERROR(LARGE((BQ$4:BQ$19),8),0)","v":0},{"$f":"IFERROR(CE11/Z$13,0)","v":0},{"$f":"IF(AND(CE11>0,SUM(CF$4:CF10)>0.5),\"\",CE11)","v":0},null,{"$f":"IFERROR(IF(ISNA(MATCH(\"AGCP\",$CH$4:$CH$9,0)),IF(ISNA(MATCH(\"WGC\",$CH$4:$CH$9,0)),\"\",VLOOKUP(D12,Plant_List,3,FALSE)),VLOOKUP(D12,Plant_List,2,FALSE)),\"\")","v":""}]
[null,"8.",null,"",null,null,null,null,null,null,null,null,null,null,null,null,null,null,null,null,null,null,null,null,null,null,null,null,null,null,null,{"$f":"IF(Z12>0,IF(OR(AND(Z$13<5,Z$25=\"\",Z$40=\"\",Z$48=\"\"),Z$13>=5),IF(AND(ISNA(MATCH(Z12,CG$4:CG$19,0)),CD11<0.2),\"No\",\"Yes\"),\"No\"),\"\")","v":""},null,null,null,null,null,{"$f":"IF(CI11=0,\"\",CI11)","v":""},null,null,null,null,null,null,"Total % Cover of:",null,null,null,null,null,null,null,null,null,null,"Multiply by:",null,null,null,null,null,null,null,null,null,"and/or the Dominance Test.  I do not wish to have the Prevalence Index",{"$f":"ISBLANK('Page 1 (Hydrology)'!AI3)","v":true},null,{"$f":"IFERROR('Vegetation Continued, 4 Strata'!Z4,0)","v":0},{"$f":"IFERROR(IF(AND('Vegetation Continued, 4 Strata'!AF4=\"Yes\",OR('Vegetation Continued, 4 Strata'!AL4=\"OBL\",'Vegetation Continued, 4 Strata'!AL4=\"FACW\",'Vegetation Continued, 4 Strata'!AL4=\"FAC\")),1,0),0)","v":0},{"$f":"IFERROR(IF('Vegetation Continued, 4 Strata'!AF4=\"Yes\",1,0),0)","v":0},{"$f":"IFERROR(IF(AND('Vegetation Continued, 4 Strata'!AF4=\"Yes\",OR('Vegetation Continued, 4 Strata'!AL4=\"OBL\",'Vegetation Continued, 4 Strata'!AL4=\"FACW\")),1,0),0)","v":0},{"$f":"IFERROR(IF(AND('Vegetation Continued, 4 Strata'!AF4=\"Yes\",OR('Vegetation Continued, 4 Strata'!AL4=\"UPL\",'Vegetation Continued, 4 Strata'!AL4=\"FACU\")),1,0),0)","v":0},{"$f":"IFERROR(IF(OR('Vegetation Continued, 4 Strata'!AL4=\"OBL\",'Vegetation Continued, 4 Strata'!AL4=\"FACW\"),1,0),0)","v":0},{"$f":"IFERROR(IF(OR('Vegetation Continued, 4 Strata'!AL4=\"UPL\",'Vegetation Continued, 4 Strata'!AL4=\"FACU\"),1,0),0)","v":0},{"$f":"IFERROR(IF(AND('Vegetation Continued, 4 Strata'!AF4=\"YES\",OR('Vegetation Continued, 4 Strata'!AL4=\"UPL\",'Vegetation Continued, 4 Strata'!AL4=\"FACU\",'Vegetation Continued, 4 Strata'!AL4=\"FAC\")),FALSE,TRUE),TRUE)","v":true},{"$f":"IFERROR(IF('Vegetation Continued, 4 Strata'!AL4=\"obl\",BQ12,0),0)","v":0},{"$f":"IFERROR(IF('Vegetation Continued, 4 Strata'!AL4=\"facw\",BQ12,0),0)","v":0},{"$f":"IFERROR(IF('Vegetation Continued, 4 Strata'!AL4=\"fac\",BQ12,0),0)","v":0},{"$f":"IFERROR(IF('Vegetation Continued, 4 Strata'!AL4=\"facu\",BQ12,0),0)","v":0},{"$f":"IFERROR(IF('Vegetation Continued, 4 Strata'!AL4=\"upl\",BQ12,0),0)","v":0},{"$f":"IFERROR(BQ12/Z$13,0)","v":0},{"$f":"IFERROR(LARGE((BQ$4:BQ$19),9),0)","v":0},{"$f":"IFERROR(CE12/Z$13,0)","v":0},{"$f":"IF(AND(CE12>0,SUM(CF$4:CF11)>0.5),\"\",CE12)","v":0},null,{"$f":"IFERROR(IF(ISNA(MATCH(\"AGCP\",$CH$4:$CH$9,0)),IF(ISNA(MATCH(\"WGC\",$CH$4:$CH$9,0)),\"\",VLOOKUP('Vegetation Continued, 4 Strata'!D4,Plant_List,3,FALSE)),VLOOKUP('Vegetation Continued, 4 Strata'!D4,Plant_List,2,FALSE)),\"\")","v":""}]
[null,null,null,null,null,null,null,null,null,null,null,null,null,null,null,null,null,null,null,null,null,null,null,null,null,{"$f":"IF(SUM(BQ4:BQ19)>0,SUM(BQ4:BQ19),\"\")","v":""},null,null,null,null,"=Total Cover",null,null,null,null,null,null,null,null,null,null,null,null,null,"OBL species",null,null,null,null,null,{"$f":"IF($BM$11=FALSE,IF(OR(ISNUMBER($Z$13),ISNUMBER($Z$25),ISNUMBER($Z$40),ISNUMBER($Z$48)),SUM(BY$4:BY$72),\"\"),\"\")","v":""},null,null,null,null,"x 1 =",null,null,{"$f":"IF(ISNUMBER(AY13),AY13,\"\")","v":""},null,null,null,null,null,null,"worksheet calculated.",{"$f":"IF('Page 1 (Hydrology)'!$AI$3=\"AR\",IF(ISNA(MATCH('Page 1 (Hydrology)'!$L$6,BO113:BO120,0)),TRUE,FALSE))","v":false},null,{"$f":"IFERROR('Vegetation Continued, 4 Strata'!Z5,0)","v":0},{"$f":"IFERROR(IF(AND('Vegetation Continued, 4 Strata'!AF5=\"Yes\",OR('Vegetation Continued, 4 Strata'!AL5=\"OBL\",'Vegetation Continued, 4 Strata'!AL5=\"FACW\",'Vegetation Continued, 4 Strata'!AL5=\"FAC\")),1,0),0)","v":0},{"$f":"IFERROR(IF('Vegetation Continued, 4 Strata'!AF5=\"Yes\",1,0),0)","v":0},{"$f":"IFERROR(IF(AND('Vegetation Continued, 4 Strata'!AF5=\"Yes\",OR('Vegetation Continued, 4 Strata'!AL5=\"OBL\",'Vegetation Continued, 4 Strata'!AL5=\"FACW\")),1,0),0)","v":0},{"$f":"IFERROR(IF(AND('Vegetation Continued, 4 Strata'!AF5=\"Yes\",OR('Vegetation Continued, 4 Strata'!AL5=\"UPL\",'Vegetation Continued, 4 Strata'!AL5=\"FACU\")),1,0),0)","v":0},{"$f":"IFERROR(IF(OR('Vegetation Continued, 4 Strata'!AL5=\"OBL\",'Vegetation Continued, 4 Strata'!AL5=\"FACW\"),1,0),0)","v":0},{"$f":"IFERROR(IF(OR('Vegetation Continued, 4 Strata'!AL5=\"UPL\",'Vegetation Continued, 4 Strata'!AL5=\"FACU\"),1,0),0)","v":0},{"$f":"IFERROR(IF(AND('Vegetation Continued, 4 Strata'!AF5=\"YES\",OR('Vegetation Continued, 4 Strata'!AL5=\"UPL\",'Vegetation Continued, 4 Strata'!AL5=\"FACU\",'Vegetation Continued, 4 Strata'!AL5=\"FAC\")),FALSE,TRUE),TRUE)","v":true},{"$f":"IFERROR(IF('Vegetation Continued, 4 Strata'!AL5=\"obl\",BQ13,0),0)","v":0},{"$f":"IFERROR(IF('Vegetation Continued, 4 Strata'!AL5=\"facw\",BQ13,0),0)","v":0},{"$f":"IFERROR(IF('Vegetation Continued, 4 Strata'!AL5=\"fac\",BQ13,0),0)","v":0},{"$f":"IFERROR(IF('Vegetation Continued, 4 Strata'!AL5=\"facu\",BQ13,0),0)","v":0},{"$f":"IFERROR(IF('Vegetation Continued, 4 Strata'!AL5=\"upl\",BQ13,0),0)","v":0},{"$f":"IFERROR(BQ13/Z$13,0)","v":0},{"$f":"IFERROR(LARGE((BQ$4:BQ$19),10),0)","v":0},{"$f":"IFERROR(CE13/Z$13,0)","v":0},{"$f":"IF(AND(CE13>0,SUM(CF$4:CF12)>0.5),\"\",CE13)","v":0},null,{"$f":"IFERROR(IF(ISNA(MATCH(\"AGCP\",$CH$4:$CH$9,0)),IF(ISNA(MATCH(\"WGC\",$CH$4:$CH$9,0)),\"\",VLOOKUP('Vegetation Continued, 4 Strata'!D5,Plant_List,3,FALSE)),VLOOKUP('Vegetation Continued, 4 Strata'!D5,Plant_List,2,FALSE)),\"\")","v":""}]
[null,null,null,null,null,null,null,null,null,null,null,null,null,"50% of total cover:",null,null,null,null,null,null,null,null,{"$f":"IFERROR(ROUNDUP(Z13/2,0),\"\")","v":""},null,null,null,null,null,"20% of total cover:",null,null,null,null,null,null,null,null,{"$f":"IFERROR(ROUNDUP(Z13/5,0),\"\")","v":""},null,null,null,null,null,null,"FACW species",null,null,null,null,null,{"$f":"IF($BM$11=FALSE,IF(OR(ISNUMBER($Z$13),ISNUMBER($Z$25),ISNUMBER($Z$40),ISNUMBER($Z$48)),SUM(BZ$4:BZ$72),\"\"),\"\")","v":""},null,null,null,null,"x 2 =",null,null,{"$f":"IF(ISNUMBER(AY14),AY14*2,\"\")","v":""},null,null,null,null,null,null,null,{"$f":"IF('Page 1 (Hydrology)'!$AI$3=\"LA\",IF(ISNA(MATCH('Page 1 (Hydrology)'!$L$6,BO123:BO134,0)),TRUE,FALSE))","v":false},null,{"$f":"IFERROR('Vegetation Continued, 4 Strata'!Z6,0)","v":0},{"$f":"IFERROR(IF(AND('Vegetation Continued, 4 Strata'!AF6=\"Yes\",OR('Vegetation Continued, 4 Strata'!AL6=\"OBL\",'Vegetation Continued, 4 Strata'!AL6=\"FACW\",'Vegetation Continued, 4 Strata'!AL6=\"FAC\")),1,0),0)","v":0},{"$f":"IFERROR(IF('Vegetation Continued, 4 Strata'!AF6=\"Yes\",1,0),0)","v":0},{"$f":"IFERROR(IF(AND('Vegetation Continued, 4 Strata'!AF6=\"Yes\",OR('Vegetation Continued, 4 Strata'!AL6=\"OBL\",'Vegetation Continued, 4 Strata'!AL6=\"FACW\")),1,0),0)","v":0},{"$f":"IFERROR(IF(AND('Vegetation Continued, 4 Strata'!AF6=\"Yes\",OR('Vegetation Continued, 4 Strata'!AL6=\"UPL\",'Vegetation Continued, 4 Strata'!AL6=\"FACU\")),1,0),0)","v":0},{"$f":"IFERROR(IF(OR('Vegetation Continued, 4 Strata'!AL6=\"OBL\",'Vegetation Continued, 4 Strata'!AL6=\"FACW\"),1,0),0)","v":0},{"$f":"IFERROR(IF(OR('Vegetation Continued, 4 Strata'!AL6=\"UPL\",'Vegetation Continued, 4 Strata'!AL6=\"FACU\"),1,0),0)","v":0},{"$f":"IFERROR(IF(AND('Vegetation Continued, 4 Strata'!AF6=\"YES\",OR('Vegetation Continued, 4 Strata'!AL6=\"UPL\",'Vegetation Continued, 4 Strata'!AL6=\"FACU\",'Vegetation Continued, 4 Strata'!AL6=\"FAC\")),FALSE,TRUE),TRUE)","v":true},{"$f":"IFERROR(IF('Vegetation Continued, 4 Strata'!AL6=\"obl\",BQ14,0),0)","v":0},{"$f":"IFERROR(IF('Vegetation Continued, 4 Strata'!AL6=\"facw\",BQ14,0),0)","v":0},{"$f":"IFERROR(IF('Vegetation Continued, 4 Strata'!AL6=\"fac\",BQ14,0),0)","v":0},{"$f":"IFERROR(IF('Vegetation Continued, 4 Strata'!AL6=\"facu\",BQ14,0),0)","v":0},{"$f":"IFERROR(IF('Vegetation Continued, 4 Strata'!AL6=\"upl\",BQ14,0),0)","v":0},0,{"$f":"IFERROR(LARGE((BQ$4:BQ$19),11),0)","v":0},0,{"$f":"IF(AND(CE14>0,SUM(CF$4:CF13)>0.5),\"\",CE14)","v":0},null,{"$f":"IFERROR(IF(ISNA(MATCH(\"AGCP\",$CH$4:$CH$9,0)),IF(ISNA(MATCH(\"WGC\",$CH$4:$CH$9,0)),\"\",VLOOKUP('Vegetation Continued, 4 Strata'!D6,Plant_List,3,FALSE)),VLOOKUP('Vegetation Continued, 4 Strata'!D6,Plant_List,2,FALSE)),\"\")","v":""}]
[null,"Sapling/Shrub Stratum",null,null,null,null,null,null,null,null,null,null,"(Plot size:",null,null,null,null,null,null,null,null,null,null,null,")",null,null,null,null,null,null,null,null,null,null,null,null,null,null,null,null,null,null,null,"FAC species",null,null,null,null,null,{"$f":"IF($BM$11=FALSE,IF(OR(ISNUMBER($Z$13),ISNUMBER($Z$25),ISNUMBER($Z$40),ISNUMBER($Z$48)),SUM(CA$4:CA$72),\"\"),\"\")","v":""},null,null,null,null,"x 3 =",null,null,{"$f":"IF(ISNUMBER(AY15),AY15*3,\"\")","v":""},null,null,null,null,null,null,null,{"$f":"IF('Page 1 (Hydrology)'!$AI$3=\"MS\",IF(ISNA(MATCH('Page 1 (Hydrology)'!$L$6,BO137:BO143,0)),TRUE,FALSE))","v":false},null,{"$f":"IFERROR('Vegetation Continued, 4 Strata'!Z7,0)","v":0},{"$f":"IFERROR(IF(AND('Vegetation Continued, 4 Strata'!AF7=\"Yes\",OR('Vegetation Continued, 4 Strata'!AL7=\"OBL\",'Vegetation Continued, 4 Strata'!AL7=\"FACW\",'Vegetation Continued, 4 Strata'!AL7=\"FAC\")),1,0),0)","v":0},{"$f":"IFERROR(IF('Vegetation Continued, 4 Strata'!AF7=\"Yes\",1,0),0)","v":0},{"$f":"IFERROR(IF(AND('Vegetation Continued, 4 Strata'!AF7=\"Yes\",OR('Vegetation Continued, 4 Strata'!AL7=\"OBL\",'Vegetation Continued, 4 Strata'!AL7=\"FACW\")),1,0),0)","v":0},{"$f":"IFERROR(IF(AND('Vegetation Continued, 4 Strata'!AF7=\"Yes\",OR('Vegetation Continued, 4 Strata'!AL7=\"UPL\",'Vegetation Continued, 4 Strata'!AL7=\"FACU\")),1,0),0)","v":0},{"$f":"IFERROR(IF(OR('Vegetation Continued, 4 Strata'!AL7=\"OBL\",'Vegetation Continued, 4 Strata'!AL7=\"FACW\"),1,0),0)","v":0},{"$f":"IFERROR(IF(OR('Vegetation Continued, 4 Strata'!AL7=\"UPL\",'Vegetation Continued, 4 Strata'!AL7=\"FACU\"),1,0),0)","v":0},{"$f":"IFERROR(IF(AND('Vegetation Continued, 4 Strata'!AF7=\"YES\",OR('Vegetation Continued, 4 Strata'!AL7=\"UPL\",'Vegetation Continued, 4 Strata'!AL7=\"FACU\",'Vegetation Continued, 4 Strata'!AL7=\"FAC\")),FALSE,TRUE),TRUE)","v":true},{"$f":"IFERROR(IF('Vegetation Continued, 4 Strata'!AL7=\"obl\",BQ15,0),0)","v":0},{"$f":"IFERROR(IF('Vegetation Continued, 4 Strata'!AL7=\"facw\",BQ15,0),0)","v":0},{"$f":"IFERROR(IF('Vegetation Continued, 4 Strata'!AL7=\"fac\",BQ15,0),0)","v":0},{"$f":"IFERROR(IF('Vegetation Continued, 4 Strata'!AL7=\"facu\",BQ15,0),0)","v":0},{"$f":"IFERROR(IF('Vegetation Continued, 4 Strata'!AL7=\"upl\",BQ15,0),0)","v":0},0,{"$f":"IFERROR(LARGE((BQ$4:BQ$19),12),0)","v":0},0,{"$f":"IF(AND(CE15>0,SUM(CF$4:CF14)>0.5),\"\",CE15)","v":0},null,{"$f":"IFERROR(IF(ISNA(MATCH(\"AGCP\",$CH$4:$CH$9,0)),IF(ISNA(MATCH(\"WGC\",$CH$4:$CH$9,0)),\"\",VLOOKUP('Vegetation Continued, 4 Strata'!D7,Plant_List,3,FALSE)),VLOOKUP('Vegetation Continued, 4 Strata'!D7,Plant_List,2,FALSE)),\"\")","v":""}]
[null,"1.",null,null,null,null,null,null,null,null,null,null,null,null,null,null,null,null,null,null,null,null,null,null,null,null,null,null,null,null,null,{"$f":"IF(Z16>0,IF(OR(AND(Z$25<5,Z$13=\"\",Z$40=\"\",Z$48=\"\"),Z$25>=5),IF(AND(ISNA(MATCH(Z16,CG$21:CG$36,0)),CD21<0.2),\"No\",\"Yes\"),\"No\"),\"\")","v":""},null,null,null,null,null,{"$f":"IF(CI21=0,\"\",CI21)","v":""},null,null,null,null,null,null,"FACU species",null,null,null,null,null,{"$f":"IF($BM$11=FALSE,IF(OR(ISNUMBER($Z$13),ISNUMBER($Z$25),ISNUMBER($Z$40),ISNUMBER($Z$48)),SUM(CB$4:CB$72),\"\"),\"\")","v":""},null,null,null,null,"x 4 =",null,null,{"$f":"IF(ISNUMBER(AY16),AY16*4,\"\")","v":""},null,null,null,null,null,null,null,{"$f":"IF('Page 1 (Hydrology)'!$AI$3=\"OK\",IF(ISNA(MATCH('Page 1 (Hydrology)'!$L$6,BO146:BO147,0)),TRUE,FALSE))","v":false},null,{"$f":"IFERROR('Vegetation Continued, 4 Strata'!Z8,0)","v":0},{"$f":"IFERROR(IF(AND('Vegetation Continued, 4 Strata'!AF8=\"Yes\",OR('Vegetation Continued, 4 Strata'!AL8=\"OBL\",'Vegetation Continued, 4 Strata'!AL8=\"FACW\",'Vegetation Continued, 4 Strata'!AL8=\"FAC\")),1,0),0)","v":0},{"$f":"IFERROR(IF('Vegetation Continued, 4 Strata'!AF8=\"Yes\",1,0),0)","v":0},{"$f":"IFERROR(IF(AND('Vegetation Continued, 4 Strata'!AF8=\"Yes\",OR('Vegetation Continued, 4 Strata'!AL8=\"OBL\",'Vegetation Continued, 4 Strata'!AL8=\"FACW\")),1,0),0)","v":0},{"$f":"IFERROR(IF(AND('Vegetation Continued, 4 Strata'!AF8=\"Yes\",OR('Vegetation Continued, 4 Strata'!AL8=\"UPL\",'Vegetation Continued, 4 Strata'!AL8=\"FACU\")),1,0),0)","v":0},{"$f":"IFERROR(IF(OR('Vegetation Continued, 4 Strata'!AL8=\"OBL\",'Vegetation Continued, 4 Strata'!AL8=\"FACW\"),1,0),0)","v":0},{"$f":"IFERROR(IF(OR('Vegetation Continued, 4 Strata'!AL8=\"UPL\",'Vegetation Continued, 4 Strata'!AL8=\"FACU\"),1,0),0)","v":0},{"$f":"IFERROR(IF(AND('Vegetation Continued, 4 Strata'!AF8=\"YES\",OR('Vegetation Continued, 4 Strata'!AL8=\"UPL\",'Vegetation Continued, 4 Strata'!AL8=\"FACU\",'Vegetation Continued, 4 Strata'!AL8=\"FAC\")),FALSE,TRUE),TRUE)","v":true},{"$f":"IFERROR(IF('Vegetation Continued, 4 Strata'!AL8=\"obl\",BQ16,0),0)","v":0},{"$f":"IFERROR(IF('Vegetation Continued, 4 Strata'!AL8=\"facw\",BQ16,0),0)","v":0},{"$f":"IFERROR(IF('Vegetation Continued, 4 Strata'!AL8=\"fac\",BQ16,0),0)","v":0},{"$f":"IFERROR(IF('Vegetation Continued, 4 Strata'!AL8=\"facu\",BQ16,0),0)","v":0},{"$f":"IFERROR(IF('Vegetation Continued, 4 Strata'!AL8=\"upl\",BQ16,0),0)","v":0},0,{"$f":"IFERROR(LARGE((BQ$4:BQ$19),13),0)","v":0},0,{"$f":"IF(AND(CE16>0,SUM(CF$4:CF15)>0.5),\"\",CE16)","v":0},null,{"$f":"IFERROR(IF(ISNA(MATCH(\"AGCP\",$CH$4:$CH$9,0)),IF(ISNA(MATCH(\"WGC\",$CH$4:$CH$9,0)),\"\",VLOOKUP('Vegetation Continued, 4 Strata'!D8,Plant_List,3,FALSE)),VLOOKUP('Vegetation Continued, 4 Strata'!D8,Plant_List,2,FALSE)),\"\")","v":""}]
[null,"2.",null,"",null,null,null,null,null,null,null,null,null,null,null,null,null,null,null,null,null,null,null,null,null,null,null,null,null,null,null,{"$f":"IF(Z17>0,IF(OR(AND(Z$25<5,Z$13=\"\",Z$40=\"\",Z$48=\"\"),Z$25>=5),IF(AND(ISNA(MATCH(Z17,CG$21:CG$36,0)),CD22<0.2),\"No\",\"Yes\"),\"No\"),\"\")","v":""},null,null,null,null,null,{"$f":"IF(CI22=0,\"\",CI22)","v":""},null,null,null,null,null,null,"UPL species",null,null,null,null,null,{"$f":"IF($BM$11=FALSE,IF(OR(ISNUMBER($Z$13),ISNUMBER($Z$25),ISNUMBER($Z$40),ISNUMBER($Z$48)),SUM(CC$4:CC$72),\"\"),\"\")","v":""},null,null,null,null,"x 5 =",null,null,{"$f":"IF(ISNUMBER(AY17),AY17*5,\"\")","v":""},null,null,null,null,null,null,null,{"$f":"IF('Page 1 (Hydrology)'!$AI$3=\"TN\",IF(ISNA(MATCH('Page 1 (Hydrology)'!$L$6,BO150:BO154,0)),TRUE,FALSE))","v":false},null,{"$f":"IFERROR('Vegetation Continued, 4 Strata'!Z9,0)","v":0},{"$f":"IFERROR(IF(AND('Vegetation Continued, 4 Strata'!AF9=\"Yes\",OR('Vegetation Continued, 4 Strata'!AL9=\"OBL\",'Vegetation Continued, 4 Strata'!AL9=\"FACW\",'Vegetation Continued, 4 Strata'!AL9=\"FAC\")),1,0),0)","v":0},{"$f":"IFERROR(IF('Vegetation Continued, 4 Strata'!AF9=\"Yes\",1,0),0)","v":0},{"$f":"IFERROR(IF(AND('Vegetation Continued, 4 Strata'!AF9=\"Yes\",OR('Vegetation Continued, 4 Strata'!AL9=\"OBL\",'Vegetation Continued, 4 Strata'!AL9=\"FACW\")),1,0),0)","v":0},{"$f":"IFERROR(IF(AND('Vegetation Continued, 4 Strata'!AF9=\"Yes\",OR('Vegetation Continued, 4 Strata'!AL9=\"UPL\",'Vegetation Continued, 4 Strata'!AL9=\"FACU\")),1,0),0)","v":0},{"$f":"IFERROR(IF(OR('Vegetation Continued, 4 Strata'!AL9=\"OBL\",'Vegetation Continued, 4 Strata'!AL9=\"FACW\"),1,0),0)","v":0},{"$f":"IFERROR(IF(OR('Vegetation Continued, 4 Strata'!AL9=\"UPL\",'Vegetation Continued, 4 Strata'!AL9=\"FACU\"),1,0),0)","v":0},{"$f":"IFERROR(IF(AND('Vegetation Continued, 4 Strata'!AF9=\"YES\",OR('Vegetation Continued, 4 Strata'!AL9=\"UPL\",'Vegetation Continued, 4 Strata'!AL9=\"FACU\",'Vegetation Continued, 4 Strata'!AL9=\"FAC\")),FALSE,TRUE),TRUE)","v":true},{"$f":"IFERROR(IF('Vegetation Continued, 4 Strata'!AL9=\"obl\",BQ17,0),0)","v":0},{"$f":"IFERROR(IF('Vegetation Continued, 4 Strata'!AL9=\"facw\",BQ17,0),0)","v":0},{"$f":"IFERROR(IF('Vegetation Continued, 4 Strata'!AL9=\"fac\",BQ17,0),0)","v":0},{"$f":"IFERROR(IF('Vegetation Continued, 4 Strata'!AL9=\"facu\",BQ17,0),0)","v":0},{"$f":"IFERROR(IF('Vegetation Continued, 4 Strata'!AL9=\"upl\",BQ17,0),0)","v":0},0,{"$f":"IFERROR(LARGE((BQ$4:BQ$19),14),0)","v":0},0,{"$f":"IF(AND(CE17>0,SUM(CF$4:CF16)>0.5),\"\",CE17)","v":0},null,{"$f":"IFERROR(IF(ISNA(MATCH(\"AGCP\",$CH$4:$CH$9,0)),IF(ISNA(MATCH(\"WGC\",$CH$4:$CH$9,0)),\"\",VLOOKUP('Vegetation Continued, 4 Strata'!D9,Plant_List,3,FALSE)),VLOOKUP('Vegetation Continued, 4 Strata'!D9,Plant_List,2,FALSE)),\"\")","v":""}]
[null,"3.",null,"",null,null,null,null,null,null,null,null,null,null,null,null,null,null,null,null,null,null,null,null,null,null,null,null,null,null,null,"",null,null,null,null,null,{"$f":"IF(CI23=0,\"\",CI23)","v":""},null,null,null,null,null,null,"Column Totals:",null,null,null,null,null,{"$f":"IF(AND(AY13=\"\",AY14=\"\",AY15=\"\",AY16=\"\",AY17=\"\"),\"\",SUM(AY13:BB17))","v":""},null,null,null,"(A)",null,null,null,{"$f":"IF(BM11=FALSE,IF(OR(ISNUMBER($Z$13),ISNUMBER($Z$25),ISNUMBER($Z$40),ISNUMBER($Z$48)),SUM(BG13:BJ17),\"\"),\"\")","v":""},null,null,null,"(B)",null,null,null,{"$f":"IF(AND(OR($BO$12=TRUE,$BO$13=TRUE,$BO$14=TRUE,$BO$15=TRUE,$BO$16=TRUE,$BO$17=TRUE),D4<>\"\"),TRUE,FALSE)","v":false},null,{"$f":"IFERROR('Vegetation Continued, 4 Strata'!Z11,0)","v":0},{"$f":"IFERROR(IF(AND('Vegetation Continued, 4 Strata'!AF11=\"Yes\",OR('Vegetation Continued, 4 Strata'!AL11=\"OBL\",'Vegetation Continued, 4 Strata'!AL11=\"FACW\",'Vegetation Continued, 4 Strata'!AL11=\"FAC\")),1,0),0)","v":0},{"$f":"IFERROR(IF('Vegetation Continued, 4 Strata'!AF11=\"Yes\",1,0),0)","v":0},{"$f":"IFERROR(IF(AND('Vegetation Continued, 4 Strata'!AF11=\"Yes\",OR('Vegetation Continued, 4 Strata'!AL11=\"OBL\",'Vegetation Continued, 4 Strata'!AL11=\"FACW\")),1,0),0)","v":0},{"$f":"IFERROR(IF(AND('Vegetation Continued, 4 Strata'!AF11=\"Yes\",OR('Vegetation Continued, 4 Strata'!AL11=\"UPL\",'Vegetation Continued, 4 Strata'!AL11=\"FACU\")),1,0),0)","v":0},{"$f":"IFERROR(IF(OR('Vegetation Continued, 4 Strata'!AL11=\"OBL\",'Vegetation Continued, 4 Strata'!AL11=\"FACW\"),1,0),0)","v":0},{"$f":"IFERROR(IF(OR('Vegetation Continued, 4 Strata'!AL11=\"UPL\",'Vegetation Continued, 4 Strata'!AL11=\"FACU\"),1,0),0)","v":0},{"$f":"IFERROR(IF(AND('Vegetation Continued, 4 Strata'!AF11=\"YES\",OR('Vegetation Continued, 4 Strata'!AL11=\"UPL\",'Vegetation Continued, 4 Strata'!AL11=\"FACU\",'Vegetation Continued, 4 Strata'!AL11=\"FAC\")),FALSE,TRUE),TRUE)","v":true},{"$f":"IFERROR(IF('Vegetation Continued, 4 Strata'!AL11=\"obl\",BQ18,0),0)","v":0},{"$f":"IFERROR(IF('Vegetation Continued, 4 Strata'!AL11=\"facw\",BQ18,0),0)","v":0},{"$f":"IFERROR(IF('Vegetation Continued, 4 Strata'!AL11=\"fac\",BQ18,0),0)","v":0},{"$f":"IFERROR(IF('Vegetation Continued, 4 Strata'!AL11=\"facu\",BQ18,0),0)","v":0},{"$f":"IFERROR(IF('Vegetation Continued, 4 Strata'!AL11=\"upl\",BQ18,0),0)","v":0},{"$f":"IFERROR(BQ18/Z$13,0)","v":0},{"$f":"IFERROR(LARGE((BQ$4:BQ$19),15),0)","v":0},{"$f":"IFERROR(CE18/Z$13,0)","v":0},{"$f":"IF(AND(CE18>0,SUM(CF$4:CF17)>0.5),\"\",CE18)","v":0},null,{"$f":"IFERROR(IF(ISNA(MATCH(\"AGCP\",$CH$4:$CH$9,0)),IF(ISNA(MATCH(\"WGC\",$CH$4:$CH$9,0)),\"\",VLOOKUP('Vegetation Continued, 4 Strata'!D11,Plant_List,3,FALSE)),VLOOKUP('Vegetation Continued, 4 Strata'!D11,Plant_List,2,FALSE)),\"\")","v":""}]
[null,"4.",null,"",null,null,null,null,null,null,null,null,null,null,null,null,null,null,null,null,null,null,null,null,null,null,null,null,null,null,null,"",null,null,null,null,null,{"$f":"IF(CI24=0,\"\",CI24)","v":""},null,null,null,null,null,null,null,null,"Prevalence Index  = B/A =",null,null,null,null,null,null,null,null,null,null,{"$f":"IFERROR(IF(ISNUMBER(BG18),ROUND(BG18/AY18,2),\"\"),\"\")","v":""},null,null,null,null,null,null,null,null,null,null,{"$f":"IFERROR('Vegetation Continued, 4 Strata'!Z12,0)","v":0},{"$f":"IFERROR(IF(AND('Vegetation Continued, 4 Strata'!AF12=\"Yes\",OR('Vegetation Continued, 4 Strata'!AL12=\"OBL\",'Vegetation Continued, 4 Strata'!AL12=\"FACW\",'Vegetation Continued, 4 Strata'!AL12=\"FAC\")),1,0),0)","v":0},{"$f":"IFERROR(IF('Vegetation Continued, 4 Strata'!AF12=\"Yes\",1,0),0)","v":0},{"$f":"IFERROR(IF(AND('Vegetation Continued, 4 Strata'!AF12=\"Yes\",OR('Vegetation Continued, 4 Strata'!AL12=\"OBL\",'Vegetation Continued, 4 Strata'!AL12=\"FACW\")),1,0),0)","v":0},{"$f":"IFERROR(IF(AND('Vegetation Continued, 4 Strata'!AF12=\"Yes\",OR('Vegetation Continued, 4 Strata'!AL12=\"UPL\",'Vegetation Continued, 4 Strata'!AL12=\"FACU\")),1,0),0)","v":0},{"$f":"IFERROR(IF(OR('Vegetation Continued, 4 Strata'!AL12=\"OBL\",'Vegetation Continued, 4 Strata'!AL12=\"FACW\"),1,0),0)","v":0},{"$f":"IFERROR(IF(OR('Vegetation Continued, 4 Strata'!AL12=\"UPL\",'Vegetation Continued, 4 Strata'!AL12=\"FACU\"),1,0),0)","v":0},{"$f":"IFERROR(IF(AND('Vegetation Continued, 4 Strata'!AF12=\"YES\",OR('Vegetation Continued, 4 Strata'!AL12=\"UPL\",'Vegetation Continued, 4 Strata'!AL12=\"FACU\",'Vegetation Continued, 4 Strata'!AL12=\"FAC\")),FALSE,TRUE),TRUE)","v":true},{"$f":"IFERROR(IF('Vegetation Continued, 4 Strata'!AL12=\"obl\",BQ19,0),0)","v":0},{"$f":"IFERROR(IF('Vegetation Continued, 4 Strata'!AL12=\"facw\",BQ19,0),0)","v":0},{"$f":"IFERROR(IF('Vegetation Continued, 4 Strata'!AL12=\"fac\",BQ19,0),0)","v":0},{"$f":"IFERROR(IF('Vegetation Continued, 4 Strata'!AL12=\"facu\",BQ19,0),0)","v":0},{"$f":"IFERROR(IF('Vegetation Continued, 4 Strata'!AL12=\"upl\",BQ19,0),0)","v":0},{"$f":"IFERROR(BQ19/Z$13,0)","v":0},{"$f":"IFERROR(LARGE((BQ$4:BQ$19),16),0)","v":0},{"$f":"IFERROR(CE19/Z$13,0)","v":0},{"$f":"IF(AND(CE19>0,SUM(CF$4:CF18)>0.5),\"\",CE19)","v":0},null,{"$f":"IFERROR(IF(ISNA(MATCH(\"AGCP\",$CH$4:$CH$9,0)),IF(ISNA(MATCH(\"WGC\",$CH$4:$CH$9,0)),\"\",VLOOKUP('Vegetation Continued, 4 Strata'!D12,Plant_List,3,FALSE)),VLOOKUP('Vegetation Continued, 4 Strata'!D12,Plant_List,2,FALSE)),\"\")","v":""}]
[]
[null,"5.",null,null,null,null,null,null,null,null,null,null,null,null,null,null,null,null,null,null,null,null,null,null,null,null,null,null,null,null,null,{"$f":"IF(Z21>0,IF(OR(AND(Z$25<5,Z$13=\"\",Z$40=\"\",Z$48=\"\"),Z$25>=5),IF(AND(ISNA(MATCH(Z21,CG$21:CG$36,0)),CD25<0.2),\"No\",\"Yes\"),\"No\"),\"\")","v":""},null,null,null,null,null,{"$f":"IF(CI25=0,\"\",CI25)","v":""},null,null,null,null,null,null,"Hydrophytic Vegetation Indicators:",null,null,null,null,null,null,null,null,null,null,null,null,null,null,null,null,null,null,null,null,null,"Rapid Test",null,{"$f":"Z16","v":0},{"$f":"IF(AND(AF16=\"Yes\",OR(AL16=\"OBL\",AL16=\"FACW\",AL16=\"FAC\")),1,0)","v":0},{"$f":"IF(AF16=\"Yes\",1,0)","v":0},{"$f":"IF(AND(AF16=\"Yes\",OR(AL16=\"OBL\",AL16=\"FACW\")),1,0)","v":0},{"$f":"IF(AND(AF16=\"Yes\",OR(AL16=\"UPL\",AL16=\"FACU\")),1,0)","v":0},{"$f":"IF(OR(AL16=\"OBL\",AL16=\"FACW\"),1,0)","v":0},{"$f":"IF(OR(AL16=\"UPL\",AL16=\"FACU\"),1,0)","v":0},{"$f":"IF(AND(AF16=\"YES\",OR(AL16=\"UPL\",AL16=\"FACU\",AL16=\"FAC\")),FALSE,TRUE)","v":true},{"$f":"IF($AL16=\"obl\",$Z16,0)","v":0},{"$f":"IF($AL16=\"facw\",$Z16,0)","v":0},{"$f":"IF($AL16=\"fac\",$Z16,0)","v":0},{"$f":"IF($AL16=\"facu\",$Z16,0)","v":0},{"$f":"IF($AL16=\"upl\",$Z16,0)","v":0},{"$f":"IFERROR(Z16/Z$25,0)","v":0},{"$f":"IFERROR(LARGE((BQ$21:BQ$36),1),0)","v":0},{"$f":"IFERROR(CE21/Z$25,0)","v":0},{"$f":"IF(CE21>0,CE21,\"\")","v":""},null,{"$f":"IFERROR(IF(ISNA(MATCH(\"AGCP\",$CH$4:$CH$9,0)),IF(ISNA(MATCH(\"WGC\",$CH$4:$CH$9,0)),\"\",VLOOKUP(D16,Plant_List,3,FALSE)),VLOOKUP(D16,Plant_List,2,FALSE)),\"\")","v":""}]
[null,"6.",null,"",null,null,null,null,null,null,null,null,null,null,null,null,null,null,null,null,null,null,null,null,null,null,null,null,null,null,null,{"$f":"IF(Z22>0,IF(OR(AND(Z$25<5,Z$13=\"\",Z$40=\"\",Z$48=\"\"),Z$25>=5),IF(AND(ISNA(MATCH(Z22,CG$21:CG$36,0)),CD26<0.2),\"No\",\"Yes\"),\"No\"),\"\")","v":""},null,null,null,null,null,{"$f":"IF(CI26=0,\"\",CI26)","v":""},null,null,null,null,null,null,null,"1 - Rapid Test for Hydrophytic Vegetation",null,null,null,null,null,null,null,null,null,null,null,null,null,null,null,null,null,null,null,null,{"$f":"IF(ISNA(MATCH(FALSE,BX4:BX71,0)),TRUE,FALSE)","v":true},null,{"$f":"Z17","v":0},0,0,0,0,0,0,true,0,0,0,0,0,{"$f":"IFERROR(Z17/Z$25,0)","v":0},{"$f":"IFERROR(LARGE((BQ$21:BQ$36),2),0)","v":0},0,{"$f":"IF(AND(CE22>0,CF21>0.5),\"\",CE22)","v":0},null,{"$f":"IFERROR(IF(ISNA(MATCH(\"AGCP\",$CH$4:$CH$9,0)),IF(ISNA(MATCH(\"WGC\",$CH$4:$CH$9,0)),\"\",VLOOKUP(D17,Plant_List,3,FALSE)),VLOOKUP(D17,Plant_List,2,FALSE)),\"\")","v":""}]
[null,"7.",null,"",null,null,null,null,null,null,null,null,null,null,null,null,null,null,null,null,null,null,null,null,null,null,null,null,null,null,null,"",null,null,null,null,null,{"$f":"IF(CI27=0,\"\",CI27)","v":""},null,null,null,null,null,null,{"$f":"IF(AND(BE9>0.5,BE9<>\"\"),\"X\",\"\")","v":""},"2 - Dominance Test is >50%",null,null,null,null,null,null,null,null,null,null,null,null,null,null,null,null,null,null,null,null,null,null,0,0,0,0,0,0,0,true,0,0,0,0,0,{"$f":"IFERROR(Z18/Z$25,0)","v":0},{"$f":"IFERROR(LARGE((BQ$21:BQ$36),3),0)","v":0},0,{"$f":"IF(AND(CE23>0,SUM(CF$21:CF22)>0.5),\"\",CE23)","v":0},null,{"$f":"IFERROR(IF(ISNA(MATCH(\"AGCP\",$CH$4:$CH$9,0)),IF(ISNA(MATCH(\"WGC\",$CH$4:$CH$9,0)),\"\",VLOOKUP(D18,Plant_List,3,FALSE)),VLOOKUP(D18,Plant_List,2,FALSE)),\"\")","v":""}]
[null,"8.",null,"",null,null,null,null,null,null,null,null,null,null,null,null,null,null,null,null,null,null,null,null,null,null,null,null,null,null,null,{"$f":"IF(Z24>0,IF(OR(AND(Z$25<5,Z$13=\"\",Z$40=\"\",Z$48=\"\"),Z$25>=5),IF(AND(ISNA(MATCH(Z24,CG$21:CG$36,0)),CD28<0.2),\"No\",\"Yes\"),\"No\"),\"\")","v":""},null,null,null,null,null,{"$f":"IF(CI28=0,\"\",CI28)","v":""},null,null,null,null,null,null,{"$f":"IF(AND(BF19<=3,BO29=TRUE),\"X\",\"\")","v":""},"3 - Prevalence Index is ≤3.01",null,null,null,null,null,null,null,null,null,null,null,null,null,null,null,null,null,null,null,null,"Hydro/Soil",null,0,0,0,0,0,0,0,true,0,0,0,0,0,{"$f":"IFERROR(Z19/Z$25,0)","v":0},{"$f":"IFERROR(LARGE((BQ$21:BQ$36),4),0)","v":0},0,{"$f":"IF(AND(CE24>0,SUM(CF$21:CF23)>0.5),\"\",CE24)","v":0},null,{"$f":"IFERROR(IF(ISNA(MATCH(\"AGCP\",$CH$4:$CH$9,0)),IF(ISNA(MATCH(\"WGC\",$CH$4:$CH$9,0)),\"\",VLOOKUP(D19,Plant_List,3,FALSE)),VLOOKUP(D19,Plant_List,2,FALSE)),\"\")","v":""}]
[null,null,null,null,null,null,null,null,null,null,null,null,null,null,null,null,null,null,null,null,null,null,null,null,null,{"$f":"IF(SUM(BQ21:BQ36)>0,SUM(BQ21:BQ36),\"\")","v":""},null,null,null,null,"=Total Cover",null,null,null,null,null,null,null,null,null,null,null,null,null,null,"Problematic Hydrophytic Vegetation1 (Explain)",null,null,null,null,null,null,null,null,null,null,null,null,null,null,null,null,null,null,null,null,{"$f":"IF(OR('Page 1 (Hydrology)'!Q9=\"X\",'Page 1 (Hydrology)'!Q9=\"Yes\",'Page 1 (Hydrology)'!Q9=\"Y\",'Page 1 (Hydrology)'!Q10=\"X\",'Page 1 (Hydrology)'!Q10=\"Yes\",'Page 1 (Hydrology)'!Q10=\"Y\"),TRUE,FALSE)","v":false},null,{"$f":"Z21","v":0},{"$f":"IF(AND(AF21=\"Yes\",OR(AL21=\"OBL\",AL21=\"FACW\",AL21=\"FAC\")),1,0)","v":0},{"$f":"IF(AF21=\"Yes\",1,0)","v":0},{"$f":"IF(AND(AF21=\"Yes\",OR(AL21=\"OBL\",AL21=\"FACW\")),1,0)","v":0},{"$f":"IF(AND(AF21=\"Yes\",OR(AL21=\"UPL\",AL21=\"FACU\")),1,0)","v":0},{"$f":"IF(OR(AL21=\"OBL\",AL21=\"FACW\"),1,0)","v":0},{"$f":"IF(OR(AL21=\"UPL\",AL21=\"FACU\"),1,0)","v":0},{"$f":"IF(AND(AF21=\"YES\",OR(AL21=\"UPL\",AL21=\"FACU\",AL21=\"FAC\")),FALSE,TRUE)","v":true},{"$f":"IF($AL21=\"obl\",$Z21,0)","v":0},{"$f":"IF($AL21=\"facw\",$Z21,0)","v":0},{"$f":"IF($AL21=\"fac\",$Z21,0)","v":0},{"$f":"IF($AL21=\"facu\",$Z21,0)","v":0},{"$f":"IF($AL21=\"upl\",$Z21,0)","v":0},{"$f":"IFERROR(Z21/Z$25,0)","v":0},{"$f":"IFERROR(LARGE((BQ$21:BQ$36),5),0)","v":0},0,{"$f":"IF(AND(CE25>0,SUM(CF$21:CF24)>0.5),\"\",CE25)","v":0},null,{"$f":"IFERROR(IF(ISNA(MATCH(\"AGCP\",$CH$4:$CH$9,0)),IF(ISNA(MATCH(\"WGC\",$CH$4:$CH$9,0)),\"\",VLOOKUP(D21,Plant_List,3,FALSE)),VLOOKUP(D21,Plant_List,2,FALSE)),\"\")","v":""}]
[null,null,null,null,null,null,null,null,null,null,null,null,null,"50% of total cover:",null,null,null,null,null,null,null,null,{"$f":"IFERROR(ROUNDUP(Z25/2,0),\"\")","v":""},null,null,null,null,null,"20% of total cover:",null,null,null,null,null,null,null,null,{"$f":"IFERROR(ROUNDUP(Z25/5,0),\"\")","v":""},null,null,null,null,null,null,null,null,null,null,null,null,null,null,null,null,null,null,null,null,null,null,null,null,null,null,null,null,{"$f":"IF(OR('Page 1 (Hydrology)'!AO39=\"X\",'Page 1 (Hydrology)'!Q14=\"X\"),TRUE,FALSE)","v":false},null,{"$f":"Z22","v":0},{"$f":"IF(AND(AF22=\"Yes\",OR(AL22=\"OBL\",AL22=\"FACW\",AL22=\"FAC\")),1,0)","v":0},{"$f":"IF(AF22=\"Yes\",1,0)","v":0},{"$f":"IF(AND(AF22=\"Yes\",OR(AL22=\"OBL\",AL22=\"FACW\")),1,0)","v":0},{"$f":"IF(AND(AF22=\"Yes\",OR(AL22=\"UPL\",AL22=\"FACU\")),1,0)","v":0},0,0,true,{"$f":"IF($AL22=\"obl\",$Z22,0)","v":0},{"$f":"IF($AL22=\"facw\",$Z22,0)","v":0},{"$f":"IF($AL22=\"fac\",$Z22,0)","v":0},{"$f":"IF($AL22=\"facu\",$Z22,0)","v":0},{"$f":"IF($AL22=\"upl\",$Z22,0)","v":0},{"$f":"IFERROR(Z22/Z$25,0)","v":0},{"$f":"IFERROR(LARGE((BQ$21:BQ$36),6),0)","v":0},0,{"$f":"IF(AND(CE26>0,SUM(CF$21:CF25)>0.5),\"\",CE26)","v":0},null,{"$f":"IFERROR(IF(ISNA(MATCH(\"AGCP\",$CH$4:$CH$9,0)),IF(ISNA(MATCH(\"WGC\",$CH$4:$CH$9,0)),\"\",VLOOKUP(D22,Plant_List,3,FALSE)),VLOOKUP(D22,Plant_List,2,FALSE)),\"\")","v":""}]
[null,"Herb Stratum",null,null,null,null,null,null,"(Plot size:",null,null,null,null,null,null,null,null,null,null,null,")",null,null,null,null,null,null,null,null,null,null,null,null,null,null,null,null,null,null,null,null,null,null,null,null,null,null,null,null,null,null,null,null,null,null,null,null,null,null,null,null,null,null,null,null,null,{"$f":"IF(OR('Page 1 (Hydrology)'!L9=\"X\",'Page 1 (Hydrology)'!L9=\"Yes\",'Page 1 (Hydrology)'!L9=\"Y\",'Page 1 (Hydrology)'!L10=\"X\",'Page 1 (Hydrology)'!L10=\"Yes\",'Page 1 (Hydrology)'!L10=\"Y\"),TRUE,FALSE)","v":false},null,0,{"$f":"IF(AND(AF23=\"Yes\",OR(AL23=\"OBL\",AL23=\"FACW\",AL23=\"FAC\")),1,0)","v":0},{"$f":"IF(AF23=\"Yes\",1,0)","v":0},{"$f":"IF(AND(AF23=\"Yes\",OR(AL23=\"OBL\",AL23=\"FACW\")),1,0)","v":0},{"$f":"IF(AND(AF23=\"Yes\",OR(AL23=\"UPL\",AL23=\"FACU\")),1,0)","v":0},0,0,true,{"$f":"IF($AL23=\"obl\",$Z23,0)","v":0},{"$f":"IF($AL23=\"facw\",$Z23,0)","v":0},{"$f":"IF($AL23=\"fac\",$Z23,0)","v":0},{"$f":"IF($AL23=\"facu\",$Z23,0)","v":0},{"$f":"IF($AL23=\"upl\",$Z23,0)","v":0},{"$f":"IFERROR(Z23/Z$25,0)","v":0},{"$f":"IFERROR(LARGE((BQ$21:BQ$36),7),0)","v":0},0,{"$f":"IF(AND(CE27>0,SUM(CF$21:CF26)>0.5),\"\",CE27)","v":0},null,{"$f":"IFERROR(IF(ISNA(MATCH(\"AGCP\",$CH$4:$CH$9,0)),IF(ISNA(MATCH(\"WGC\",$CH$4:$CH$9,0)),\"\",VLOOKUP(D23,Plant_List,3,FALSE)),VLOOKUP(D23,Plant_List,2,FALSE)),\"\")","v":""}]
[null,"1.",null,"",null,null,null,null,null,null,null,null,null,null,null,null,null,null,null,null,null,null,null,null,null,null,null,null,null,null,null,{"$f":"IF(Z28>0,IF(OR(AND(Z$40<5,Z$13=\"\",Z$25=\"\",Z$48=\"\"),Z$40>=5),IF(AND(ISNA(MATCH(Z28,CG$38:CG$61,0)),CD38<0.2),\"No\",\"Yes\"),\"No\"),\"\")","v":""},null,null,null,null,null,{"$f":"IF(CI38=0,\"\",CI38)","v":""},null,null,null,null,null,null,"1Indicators of hydric soil and wetland hydrology must be present, unless disturbed or problematic.",null,null,null,null,null,null,null,null,null,null,null,null,null,null,null,null,null,null,null,null,null,{"$f":"IF(OR('Page 3 (Soil)'!BE38=\"X\",'Page 1 (Hydrology)'!Q13=\"X\"),TRUE,FALSE)","v":false},null,{"$f":"Z24","v":0},{"$f":"IF(AND(AF24=\"Yes\",OR(AL24=\"OBL\",AL24=\"FACW\",AL24=\"FAC\")),1,0)","v":0},{"$f":"IF(AF24=\"Yes\",1,0)","v":0},{"$f":"IF(AND(AF24=\"Yes\",OR(AL24=\"OBL\",AL24=\"FACW\")),1,0)","v":0},{"$f":"IF(AND(AF24=\"Yes\",OR(AL24=\"UPL\",AL24=\"FACU\")),1,0)","v":0},0,0,true,{"$f":"IF($AL24=\"obl\",$Z24,0)","v":0},{"$f":"IF($AL24=\"facw\",$Z24,0)","v":0},{"$f":"IF($AL24=\"fac\",$Z24,0)","v":0},{"$f":"IF($AL24=\"facu\",$Z24,0)","v":0},{"$f":"IF($AL24=\"upl\",$Z24,0)","v":0},{"$f":"IFERROR(Z24/Z$25,0)","v":0},{"$f":"IFERROR(LARGE((BQ$21:BQ$36),8),0)","v":0},0,{"$f":"IF(AND(CE28>0,SUM(CF$21:CF27)>0.5),\"\",CE28)","v":0},null,{"$f":"IFERROR(IF(ISNA(MATCH(\"AGCP\",$CH$4:$CH$9,0)),IF(ISNA(MATCH(\"WGC\",$CH$4:$CH$9,0)),\"\",VLOOKUP(D24,Plant_List,3,FALSE)),VLOOKUP(D24,Plant_List,2,FALSE)),\"\")","v":""}]
[null,"2.",null,"",null,null,null,null,null,null,null,null,null,null,null,null,null,null,null,null,null,null,null,null,null,null,null,null,null,null,null,{"$f":"IF(Z29>0,IF(OR(AND(Z$40<5,Z$13=\"\",Z$25=\"\",Z$48=\"\"),Z$40>=5),IF(AND(ISNA(MATCH(Z29,CG$38:CG$61,0)),CD39<0.2),\"No\",\"Yes\"),\"No\"),\"\")","v":""},null,null,null,null,null,{"$f":"IF(CI39=0,\"\",CI39)","v":""},null,null,null,null,null,null,null,null,null,null,null,null,null,null,null,null,null,null,null,null,null,null,null,null,null,null,null,null,{"$f":"IF(AND(OR(BO25=TRUE,BO26=TRUE),OR(BO27=TRUE,BO28=TRUE)),TRUE,FALSE)","v":false},null,{"$f":"IFERROR('Vegetation Continued, 4 Strata'!Z16,0)","v":0},{"$f":"IFERROR(IF(AND('Vegetation Continued, 4 Strata'!AF16=\"Yes\",OR('Vegetation Continued, 4 Strata'!AL16=\"OBL\",'Vegetation Continued, 4 Strata'!AL16=\"FACW\",'Vegetation Continued, 4 Strata'!AL16=\"FAC\")),1,0),0)","v":0},{"$f":"IFERROR(IF('Vegetation Continued, 4 Strata'!AF16=\"Yes\",1,0),0)","v":0},{"$f":"IFERROR(IF(AND('Vegetation Continued, 4 Strata'!AF16=\"Yes\",OR('Vegetation Continued, 4 Strata'!AL16=\"OBL\",'Vegetation Continued, 4 Strata'!AL16=\"FACW\")),1,0),0)","v":0},{"$f":"IFERROR(IF(AND('Vegetation Continued, 4 Strata'!AF16=\"Yes\",OR('Vegetation Continued, 4 Strata'!AL16=\"UPL\",'Vegetation Continued, 4 Strata'!AL16=\"FACU\")),1,0),0)","v":0},{"$f":"IFERROR(IF(OR('Vegetation Continued, 4 Strata'!AL16=\"OBL\",'Vegetation Continued, 4 Strata'!AL16=\"FACW\"),1,0),0)","v":0},{"$f":"IFERROR(IF(OR('Vegetation Continued, 4 Strata'!AL16=\"UPL\",'Vegetation Continued, 4 Strata'!AL16=\"FACU\"),1,0),0)","v":0},{"$f":"IFERROR(IF(AND('Vegetation Continued, 4 Strata'!AF16=\"YES\",OR('Vegetation Continued, 4 Strata'!AL16=\"UPL\",'Vegetation Continued, 4 Strata'!AL16=\"FACU\",'Vegetation Continued, 4 Strata'!AL16=\"FAC\")),FALSE,TRUE),TRUE)","v":true},{"$f":"IFERROR(IF('Vegetation Continued, 4 Strata'!AL16=\"obl\",BQ29,0),0)","v":0},{"$f":"IFERROR(IF('Vegetation Continued, 4 Strata'!AL16=\"facw\",BQ29,0),0)","v":0},{"$f":"IFERROR(IF('Vegetation Continued, 4 Strata'!AL16=\"fac\",BQ29,0),0)","v":0},{"$f":"IFERROR(IF('Vegetation Continued, 4 Strata'!AL16=\"facu\",BQ29,0),0)","v":0},{"$f":"IFERROR(IF('Vegetation Continued, 4 Strata'!AL16=\"upl\",BQ29,0),0)","v":0},{"$f":"IFERROR(BQ29/Z$25,0)","v":0},{"$f":"IFERROR(LARGE((BQ$21:BQ$36),9),0)","v":0},0,{"$f":"IF(AND(CE29>0,SUM(CF$21:CF28)>0.5),\"\",CE29)","v":0},null,{"$f":"IFERROR(IF(ISNA(MATCH(\"AGCP\",$CH$4:$CH$9,0)),IF(ISNA(MATCH(\"WGC\",$CH$4:$CH$9,0)),\"\",VLOOKUP('Vegetation Continued, 4 Strata'!D16,Plant_List,3,FALSE)),VLOOKUP('Vegetation Continued, 4 Strata'!D16,Plant_List,2,FALSE)),\"\")","v":""}]
[null,"3.",null,null,null,null,null,null,null,null,null,null,null,null,null,null,null,null,null,null,null,null,null,null,null,null,null,null,null,null,null,"",null,null,null,null,null,"",null,null,null,null,null,null,"Definitions of Four Vegetation Strata:",null,null,null,null,null,null,null,null,null,null,null,null,null,null,null,null,null,null,null,null,null,null,null,{"$f":"IFERROR('Vegetation Continued, 4 Strata'!Z17,0)","v":0},{"$f":"IFERROR(IF(AND('Vegetation Continued, 4 Strata'!AF17=\"Yes\",OR('Vegetation Continued, 4 Strata'!AL17=\"OBL\",'Vegetation Continued, 4 Strata'!AL17=\"FACW\",'Vegetation Continued, 4 Strata'!AL17=\"FAC\")),1,0),0)","v":0},{"$f":"IFERROR(IF('Vegetation Continued, 4 Strata'!AF17=\"Yes\",1,0),0)","v":0},{"$f":"IFERROR(IF(AND('Vegetation Continued, 4 Strata'!AF17=\"Yes\",OR('Vegetation Continued, 4 Strata'!AL17=\"OBL\",'Vegetation Continued, 4 Strata'!AL17=\"FACW\")),1,0),0)","v":0},{"$f":"IFERROR(IF(AND('Vegetation Continued, 4 Strata'!AF17=\"Yes\",OR('Vegetation Continued, 4 Strata'!AL17=\"UPL\",'Vegetation Continued, 4 Strata'!AL17=\"FACU\")),1,0),0)","v":0},{"$f":"IFERROR(IF(OR('Vegetation Continued, 4 Strata'!AL17=\"OBL\",'Vegetation Continued, 4 Strata'!AL17=\"FACW\"),1,0),0)","v":0},{"$f":"IFERROR(IF(OR('Vegetation Continued, 4 Strata'!AL17=\"UPL\",'Vegetation Continued, 4 Strata'!AL17=\"FACU\"),1,0),0)","v":0},{"$f":"IFERROR(IF(AND('Vegetation Continued, 4 Strata'!AF17=\"YES\",OR('Vegetation Continued, 4 Strata'!AL17=\"UPL\",'Vegetation Continued, 4 Strata'!AL17=\"FACU\",'Vegetation Continued, 4 Strata'!AL17=\"FAC\")),FALSE,TRUE),TRUE)","v":true},{"$f":"IFERROR(IF('Vegetation Continued, 4 Strata'!AL17=\"obl\",BQ30,0),0)","v":0},{"$f":"IFERROR(IF('Vegetation Continued, 4 Strata'!AL17=\"facw\",BQ30,0),0)","v":0},{"$f":"IFERROR(IF('Vegetation Continued, 4 Strata'!AL17=\"fac\",BQ30,0),0)","v":0},{"$f":"IFERROR(IF('Vegetation Continued, 4 Strata'!AL17=\"facu\",BQ30,0),0)","v":0},{"$f":"IFERROR(IF('Vegetation Continued, 4 Strata'!AL17=\"upl\",BQ30,0),0)","v":0},{"$f":"IFERROR(BQ30/Z$25,0)","v":0},{"$f":"IFERROR(LARGE((BQ$21:BQ$36),10),0)","v":0},{"$f":"IFERROR(CE30/Z$25,0)","v":0},{"$f":"IF(AND(CE30>0,SUM(CF$21:CF29)>0.5),\"\",CE30)","v":0},null,{"$f":"IFERROR(IF(ISNA(MATCH(\"AGCP\",$CH$4:$CH$9,0)),IF(ISNA(MATCH(\"WGC\",$CH$4:$CH$9,0)),\"\",VLOOKUP('Vegetation Continued, 4 Strata'!D17,Plant_List,3,FALSE)),VLOOKUP('Vegetation Continued, 4 Strata'!D17,Plant_List,2,FALSE)),\"\")","v":""}]
[null,"4.",null,null,null,null,null,null,null,null,null,null,null,null,null,null,null,null,null,null,null,null,null,null,null,null,null,null,null,null,null,"",null,null,null,null,null,"",null,null,null,null,null,null,"Tree – Woody plants, excluding vines, 3 in. (7.6 cm) or more in diameter at breast height (DBH), regardless of height.",null,null,null,null,null,null,null,null,null,null,null,null,null,null,null,null,null,null,null,null,null,"State Regions",null,{"$f":"IFERROR('Vegetation Continued, 4 Strata'!Z18,0)","v":0},{"$f":"IFERROR(IF(AND('Vegetation Continued, 4 Strata'!AF18=\"Yes\",OR('Vegetation Continued, 4 Strata'!AL18=\"OBL\",'Vegetation Continued, 4 Strata'!AL18=\"FACW\",'Vegetation Continued, 4 Strata'!AL18=\"FAC\")),1,0),0)","v":0},{"$f":"IFERROR(IF('Vegetation Continued, 4 Strata'!AF18=\"Yes\",1,0),0)","v":0},{"$f":"IFERROR(IF(AND('Vegetation Continued, 4 Strata'!AF18=\"Yes\",OR('Vegetation Continued, 4 Strata'!AL18=\"OBL\",'Vegetation Continued, 4 Strata'!AL18=\"FACW\")),1,0),0)","v":0},{"$f":"IFERROR(IF(AND('Vegetation Continued, 4 Strata'!AF18=\"Yes\",OR('Vegetation Continued, 4 Strata'!AL18=\"UPL\",'Vegetation Continued, 4 Strata'!AL18=\"FACU\")),1,0),0)","v":0},{"$f":"IFERROR(IF(OR('Vegetation Continued, 4 Strata'!AL18=\"OBL\",'Vegetation Continued, 4 Strata'!AL18=\"FACW\"),1,0),0)","v":0},{"$f":"IFERROR(IF(OR('Vegetation Continued, 4 Strata'!AL18=\"UPL\",'Vegetation Continued, 4 Strata'!AL18=\"FACU\"),1,0),0)","v":0},{"$f":"IFERROR(IF(AND('Vegetation Continued, 4 Strata'!AF18=\"YES\",OR('Vegetation Continued, 4 Strata'!AL18=\"UPL\",'Vegetation Continued, 4 Strata'!AL18=\"FACU\",'Vegetation Continued, 4 Strata'!AL18=\"FAC\")),FALSE,TRUE),TRUE)","v":true},{"$f":"IFERROR(IF('Vegetation Continued, 4 Strata'!AL18=\"obl\",BQ31,0),0)","v":0},{"$f":"IFERROR(IF('Vegetation Continued, 4 Strata'!AL18=\"facw\",BQ31,0),0)","v":0},{"$f":"IFERROR(IF('Vegetation Continued, 4 Strata'!AL18=\"fac\",BQ31,0),0)","v":0},{"$f":"IFERROR(IF('Vegetation Continued, 4 Strata'!AL18=\"facu\",BQ31,0),0)","v":0},{"$f":"IFERROR(IF('Vegetation Continued, 4 Strata'!AL18=\"upl\",BQ31,0),0)","v":0},0,{"$f":"IFERROR(LARGE((BQ$21:BQ$36),11),0)","v":0},0,{"$f":"IF(AND(CE31>0,SUM(CF$21:CF30)>0.5),\"\",CE31)","v":0},null,{"$f":"IFERROR(IF(ISNA(MATCH(\"AGCP\",$CH$4:$CH$9,0)),IF(ISNA(MATCH(\"WGC\",$CH$4:$CH$9,0)),\"\",VLOOKUP('Vegetation Continued, 4 Strata'!D18,Plant_List,3,FALSE)),VLOOKUP('Vegetation Continued, 4 Strata'!D18,Plant_List,2,FALSE)),\"\")","v":""}]
[null,"5.",null,"",null,null,null,null,null,null,null,null,null,null,null,null,null,null,null,null,null,null,null,null,null,null,null,null,null,null,null,"",null,null,null,null,null,"",null,null,null,null,null,null,null,null,null,null,null,null,null,null,null,null,null,null,null,null,null,null,null,null,null,null,null,null,"AGCP",null,{"$f":"IFERROR('Vegetation Continued, 4 Strata'!Z19,0)","v":0},{"$f":"IFERROR(IF(AND('Vegetation Continued, 4 Strata'!AF19=\"Yes\",OR('Vegetation Continued, 4 Strata'!AL19=\"OBL\",'Vegetation Continued, 4 Strata'!AL19=\"FACW\",'Vegetation Continued, 4 Strata'!AL19=\"FAC\")),1,0),0)","v":0},{"$f":"IFERROR(IF('Vegetation Continued, 4 Strata'!AF19=\"Yes\",1,0),0)","v":0},{"$f":"IFERROR(IF(AND('Vegetation Continued, 4 Strata'!AF19=\"Yes\",OR('Vegetation Continued, 4 Strata'!AL19=\"OBL\",'Vegetation Continued, 4 Strata'!AL19=\"FACW\")),1,0),0)","v":0},{"$f":"IFERROR(IF(AND('Vegetation Continued, 4 Strata'!AF19=\"Yes\",OR('Vegetation Continued, 4 Strata'!AL19=\"UPL\",'Vegetation Continued, 4 Strata'!AL19=\"FACU\")),1,0),0)","v":0},{"$f":"IFERROR(IF(OR('Vegetation Continued, 4 Strata'!AL19=\"OBL\",'Vegetation Continued, 4 Strata'!AL19=\"FACW\"),1,0),0)","v":0},{"$f":"IFERROR(IF(OR('Vegetation Continued, 4 Strata'!AL19=\"UPL\",'Vegetation Continued, 4 Strata'!AL19=\"FACU\"),1,0),0)","v":0},{"$f":"IFERROR(IF(AND('Vegetation Continued, 4 Strata'!AF19=\"YES\",OR('Vegetation Continued, 4 Strata'!AL19=\"UPL\",'Vegetation Continued, 4 Strata'!AL19=\"FACU\",'Vegetation Continued, 4 Strata'!AL19=\"FAC\")),FALSE,TRUE),TRUE)","v":true},{"$f":"IFERROR(IF('Vegetation Continued, 4 Strata'!AL19=\"obl\",BQ32,0),0)","v":0},{"$f":"IFERROR(IF('Vegetation Continued, 4 Strata'!AL19=\"facw\",BQ32,0),0)","v":0},{"$f":"IFERROR(IF('Vegetation Continued, 4 Strata'!AL19=\"fac\",BQ32,0),0)","v":0},{"$f":"IFERROR(IF('Vegetation Continued, 4 Strata'!AL19=\"facu\",BQ32,0),0)","v":0},{"$f":"IFERROR(IF('Vegetation Continued, 4 Strata'!AL19=\"upl\",BQ32,0),0)","v":0},0,{"$f":"IFERROR(LARGE((BQ$21:BQ$36),12),0)","v":0},0,{"$f":"IF(AND(CE32>0,SUM(CF$21:CF31)>0.5),\"\",CE32)","v":0},null,{"$f":"IFERROR(IF(ISNA(MATCH(\"AGCP\",$CH$4:$CH$9,0)),IF(ISNA(MATCH(\"WGC\",$CH$4:$CH$9,0)),\"\",VLOOKUP('Vegetation Continued, 4 Strata'!D19,Plant_List,3,FALSE)),VLOOKUP('Vegetation Continued, 4 Strata'!D19,Plant_List,2,FALSE)),\"\")","v":""}]
[null,"6.",null,"",null,null,null,null,null,null,null,null,null,null,null,null,null,null,null,null,null,null,null,null,null,null,null,null,null,null,null,"",null,null,null,null,null,"",null,null,null,null,null,null,null,null,null,null,null,null,null,null,null,null,null,null,null,null,null,null,null,null,null,null,null,null,"AL",null,{"$f":"IFERROR('Vegetation Continued, 4 Strata'!Z21,0)","v":0},{"$f":"IFERROR(IF(AND('Vegetation Continued, 4 Strata'!AF21=\"Yes\",OR('Vegetation Continued, 4 Strata'!AL21=\"OBL\",'Vegetation Continued, 4 Strata'!AL21=\"FACW\",'Vegetation Continued, 4 Strata'!AL21=\"FAC\")),1,0),0)","v":0},{"$f":"IFERROR(IF('Vegetation Continued, 4 Strata'!AF21=\"Yes\",1,0),0)","v":0},{"$f":"IFERROR(IF(AND('Vegetation Continued, 4 Strata'!AF21=\"Yes\",OR('Vegetation Continued, 4 Strata'!AL21=\"OBL\",'Vegetation Continued, 4 Strata'!AL21=\"FACW\")),1,0),0)","v":0},{"$f":"IFERROR(IF(AND('Vegetation Continued, 4 Strata'!AF21=\"Yes\",OR('Vegetation Continued, 4 Strata'!AL21=\"UPL\",'Vegetation Continued, 4 Strata'!AL21=\"FACU\")),1,0),0)","v":0},{"$f":"IFERROR(IF(OR('Vegetation Continued, 4 Strata'!AL21=\"OBL\",'Vegetation Continued, 4 Strata'!AL21=\"FACW\"),1,0),0)","v":0},{"$f":"IFERROR(IF(OR('Vegetation Continued, 4 Strata'!AL21=\"UPL\",'Vegetation Continued, 4 Strata'!AL21=\"FACU\"),1,0),0)","v":0},{"$f":"IFERROR(IF(AND('Vegetation Continued, 4 Strata'!AF21=\"YES\",OR('Vegetation Continued, 4 Strata'!AL21=\"UPL\",'Vegetation Continued, 4 Strata'!AL21=\"FACU\",'Vegetation Continued, 4 Strata'!AL21=\"FAC\")),FALSE,TRUE),TRUE)","v":true},{"$f":"IFERROR(IF('Vegetation Continued, 4 Strata'!AL21=\"obl\",BQ33,0),0)","v":0},{"$f":"IFERROR(IF('Vegetation Continued, 4 Strata'!AL21=\"facw\",BQ33,0),0)","v":0},{"$f":"IFERROR(IF('Vegetation Continued, 4 Strata'!AL21=\"fac\",BQ33,0),0)","v":0},{"$f":"IFERROR(IF('Vegetation Continued, 4 Strata'!AL21=\"facu\",BQ33,0),0)","v":0},{"$f":"IFERROR(IF('Vegetation Continued, 4 Strata'!AL21=\"upl\",BQ33,0),0)","v":0},{"$f":"IFERROR(BQ33/Z$25,0)","v":0},{"$f":"IFERROR(LARGE((BQ$21:BQ$36),13),0)","v":0},{"$f":"IFERROR(CE33/Z$25,0)","v":0},{"$f":"IF(AND(CE33>0,SUM(CF$21:CF32)>0.5),\"\",CE33)","v":0},null,{"$f":"IFERROR(IF(ISNA(MATCH(\"AGCP\",$CH$4:$CH$9,0)),IF(ISNA(MATCH(\"WGC\",$CH$4:$CH$9,0)),\"\",VLOOKUP('Vegetation Continued, 4 Strata'!D21,Plant_List,3,FALSE)),VLOOKUP('Vegetation Continued, 4 Strata'!D21,Plant_List,2,FALSE)),\"\")","v":""}]
[null,"7.",null,"",null,null,null,null,null,null,null,null,null,null,null,null,null,null,null,null,null,null,null,null,null,null,null,null,null,null,null,"",null,null,null,null,null,"",null,null,null,null,null,null,"Sapling/Shrub – Woody plants, excluding vines, less than 3 in. DBH and greater than 3.28 ft (1 m) tall.",null,null,null,null,null,null,null,null,null,null,null,null,null,null,null,null,null,null,null,null,null,"DC",null,{"$f":"IFERROR('Vegetation Continued, 4 Strata'!Z22,0)","v":0},{"$f":"IFERROR(IF(AND('Vegetation Continued, 4 Strata'!AF22=\"Yes\",OR('Vegetation Continued, 4 Strata'!AL22=\"OBL\",'Vegetation Continued, 4 Strata'!AL22=\"FACW\",'Vegetation Continued, 4 Strata'!AL22=\"FAC\")),1,0),0)","v":0},{"$f":"IFERROR(IF('Vegetation Continued, 4 Strata'!AF22=\"Yes\",1,0),0)","v":0},{"$f":"IFERROR(IF(AND('Vegetation Continued, 4 Strata'!AF22=\"Yes\",OR('Vegetation Continued, 4 Strata'!AL22=\"OBL\",'Vegetation Continued, 4 Strata'!AL22=\"FACW\")),1,0),0)","v":0},{"$f":"IFERROR(IF(AND('Vegetation Continued, 4 Strata'!AF22=\"Yes\",OR('Vegetation Continued, 4 Strata'!AL22=\"UPL\",'Vegetation Continued, 4 Strata'!AL22=\"FACU\")),1,0),0)","v":0},{"$f":"IFERROR(IF(OR('Vegetation Continued, 4 Strata'!AL22=\"OBL\",'Vegetation Continued, 4 Strata'!AL22=\"FACW\"),1,0),0)","v":0},{"$f":"IFERROR(IF(OR('Vegetation Continued, 4 Strata'!AL22=\"UPL\",'Vegetation Continued, 4 Strata'!AL22=\"FACU\"),1,0),0)","v":0},{"$f":"IFERROR(IF(AND('Vegetation Continued, 4 Strata'!AF22=\"YES\",OR('Vegetation Continued, 4 Strata'!AL22=\"UPL\",'Vegetation Continued, 4 Strata'!AL22=\"FACU\",'Vegetation Continued, 4 Strata'!AL22=\"FAC\")),FALSE,TRUE),TRUE)","v":true},{"$f":"IFERROR(IF('Vegetation Continued, 4 Strata'!AL22=\"obl\",BQ34,0),0)","v":0},{"$f":"IFERROR(IF('Vegetation Continued, 4 Strata'!AL22=\"facw\",BQ34,0),0)","v":0},{"$f":"IFERROR(IF('Vegetation Continued, 4 Strata'!AL22=\"fac\",BQ34,0),0)","v":0},{"$f":"IFERROR(IF('Vegetation Continued, 4 Strata'!AL22=\"facu\",BQ34,0),0)","v":0},{"$f":"IFERROR(IF('Vegetation Continued, 4 Strata'!AL22=\"upl\",BQ34,0),0)","v":0},{"$f":"IFERROR(BQ34/Z$25,0)","v":0},{"$f":"IFERROR(LARGE((BQ$21:BQ$36),14),0)","v":0},{"$f":"IFERROR(CE34/Z$25,0)","v":0},{"$f":"IF(AND(CE34>0,SUM(CF$21:CF33)>0.5),\"\",CE34)","v":0},null,{"$f":"IFERROR(IF(ISNA(MATCH(\"AGCP\",$CH$4:$CH$9,0)),IF(ISNA(MATCH(\"WGC\",$CH$4:$CH$9,0)),\"\",VLOOKUP('Vegetation Continued, 4 Strata'!D22,Plant_List,3,FALSE)),VLOOKUP('Vegetation Continued, 4 Strata'!D22,Plant_List,2,FALSE)),\"\")","v":""}]
[null,"8.",null,"",null,null,null,null,null,null,null,null,null,null,null,null,null,null,null,null,null,null,null,null,null,null,null,null,null,null,null,"",null,null,null,null,null,"",null,null,null,null,null,null,null,null,null,null,null,null,null,null,null,null,null,null,null,null,null,null,null,null,null,null,null,null,"DE",null,{"$f":"IFERROR('Vegetation Continued, 4 Strata'!Z23,0)","v":0},{"$f":"IFERROR(IF(AND('Vegetation Continued, 4 Strata'!AF23=\"Yes\",OR('Vegetation Continued, 4 Strata'!AL23=\"OBL\",'Vegetation Continued, 4 Strata'!AL23=\"FACW\",'Vegetation Continued, 4 Strata'!AL23=\"FAC\")),1,0),0)","v":0},{"$f":"IFERROR(IF('Vegetation Continued, 4 Strata'!AF23=\"Yes\",1,0),0)","v":0},{"$f":"IFERROR(IF(AND('Vegetation Continued, 4 Strata'!AF23=\"Yes\",OR('Vegetation Continued, 4 Strata'!AL23=\"OBL\",'Vegetation Continued, 4 Strata'!AL23=\"FACW\")),1,0),0)","v":0},{"$f":"IFERROR(IF(AND('Vegetation Continued, 4 Strata'!AF23=\"Yes\",OR('Vegetation Continued, 4 Strata'!AL23=\"UPL\",'Vegetation Continued, 4 Strata'!AL23=\"FACU\")),1,0),0)","v":0},{"$f":"IFERROR(IF(OR('Vegetation Continued, 4 Strata'!AL23=\"OBL\",'Vegetation Continued, 4 Strata'!AL23=\"FACW\"),1,0),0)","v":0},{"$f":"IFERROR(IF(OR('Vegetation Continued, 4 Strata'!AL23=\"UPL\",'Vegetation Continued, 4 Strata'!AL23=\"FACU\"),1,0),0)","v":0},{"$f":"IFERROR(IF(AND('Vegetation Continued, 4 Strata'!AF23=\"YES\",OR('Vegetation Continued, 4 Strata'!AL23=\"UPL\",'Vegetation Continued, 4 Strata'!AL23=\"FACU\",'Vegetation Continued, 4 Strata'!AL23=\"FAC\")),FALSE,TRUE),TRUE)","v":true},{"$f":"IFERROR(IF('Vegetation Continued, 4 Strata'!AL23=\"obl\",BQ35,0),0)","v":0},{"$f":"IFERROR(IF('Vegetation Continued, 4 Strata'!AL23=\"facw\",BQ35,0),0)","v":0},{"$f":"IFERROR(IF('Vegetation Continued, 4 Strata'!AL23=\"fac\",BQ35,0),0)","v":0},{"$f":"IFERROR(IF('Vegetation Continued, 4 Strata'!AL23=\"facu\",BQ35,0),0)","v":0},{"$f":"IFERROR(IF('Vegetation Continued, 4 Strata'!AL23=\"upl\",BQ35,0),0)","v":0},0,{"$f":"IFERROR(LARGE((BQ$21:BQ$36),15),0)","v":0},0,{"$f":"IF(AND(CE35>0,SUM(CF$21:CF34)>0.5),\"\",CE35)","v":0},null,{"$f":"IFERROR(IF(ISNA(MATCH(\"AGCP\",$CH$4:$CH$9,0)),IF(ISNA(MATCH(\"WGC\",$CH$4:$CH$9,0)),\"\",VLOOKUP('Vegetation Continued, 4 Strata'!D23,Plant_List,3,FALSE)),VLOOKUP('Vegetation Continued, 4 Strata'!D23,Plant_List,2,FALSE)),\"\")","v":""}]
[null,"9.",null,"",null,null,null,null,null,null,null,null,null,null,null,null,null,null,null,null,null,null,null,null,null,null,null,null,null,null,null,"",null,null,null,null,null,"",null,null,null,null,null,null,null,null,null,null,null,null,null,null,null,null,null,null,null,null,null,null,null,null,null,null,null,null,"FL",null,{"$f":"IFERROR('Vegetation Continued, 4 Strata'!Z24,0)","v":0},{"$f":"IFERROR(IF(AND('Vegetation Continued, 4 Strata'!AF24=\"Yes\",OR('Vegetation Continued, 4 Strata'!AL24=\"OBL\",'Vegetation Continued, 4 Strata'!AL24=\"FACW\",'Vegetation Continued, 4 Strata'!AL24=\"FAC\")),1,0),0)","v":0},{"$f":"IFERROR(IF('Vegetation Continued, 4 Strata'!AF24=\"Yes\",1,0),0)","v":0},{"$f":"IFERROR(IF(AND('Vegetation Continued, 4 Strata'!AF24=\"Yes\",OR('Vegetation Continued, 4 Strata'!AL24=\"OBL\",'Vegetation Continued, 4 Strata'!AL24=\"FACW\")),1,0),0)","v":0},{"$f":"IFERROR(IF(AND('Vegetation Continued, 4 Strata'!AF24=\"Yes\",OR('Vegetation Continued, 4 Strata'!AL24=\"UPL\",'Vegetation Continued, 4 Strata'!AL24=\"FACU\")),1,0),0)","v":0},{"$f":"IFERROR(IF(OR('Vegetation Continued, 4 Strata'!AL24=\"OBL\",'Vegetation Continued, 4 Strata'!AL24=\"FACW\"),1,0),0)","v":0},{"$f":"IFERROR(IF(OR('Vegetation Continued, 4 Strata'!AL24=\"UPL\",'Vegetation Continued, 4 Strata'!AL24=\"FACU\"),1,0),0)","v":0},{"$f":"IFERROR(IF(AND('Vegetation Continued, 4 Strata'!AF24=\"YES\",OR('Vegetation Continued, 4 Strata'!AL24=\"UPL\",'Vegetation Continued, 4 Strata'!AL24=\"FACU\",'Vegetation Continued, 4 Strata'!AL24=\"FAC\")),FALSE,TRUE),TRUE)","v":true},{"$f":"IFERROR(IF('Vegetation Continued, 4 Strata'!AL24=\"obl\",BQ36,0),0)","v":0},{"$f":"IFERROR(IF('Vegetation Continued, 4 Strata'!AL24=\"facw\",BQ36,0),0)","v":0},{"$f":"IFERROR(IF('Vegetation Continued, 4 Strata'!AL24=\"fac\",BQ36,0),0)","v":0},{"$f":"IFERROR(IF('Vegetation Continued, 4 Strata'!AL24=\"facu\",BQ36,0),0)","v":0},{"$f":"IFERROR(IF('Vegetation Continued, 4 Strata'!AL24=\"upl\",BQ36,0),0)","v":0},0,{"$f":"IFERROR(LARGE((BQ$21:BQ$36),16),0)","v":0},0,{"$f":"IF(AND(CE36>0,SUM(CF$21:CF35)>0.5),\"\",CE36)","v":0},null,{"$f":"IFERROR(IF(ISNA(MATCH(\"AGCP\",$CH$4:$CH$9,0)),IF(ISNA(MATCH(\"WGC\",$CH$4:$CH$9,0)),\"\",VLOOKUP('Vegetation Continued, 4 Strata'!D24,Plant_List,3,FALSE)),VLOOKUP('Vegetation Continued, 4 Strata'!D24,Plant_List,2,FALSE)),\"\")","v":""}]
[null,"10.",null,null,null,null,null,null,null,null,null,null,null,null,null,null,null,null,null,null,null,null,null,null,null,null,null,null,null,null,null,"",null,null,null,null,null,"",null,null,null,null,null,null,"Herb – All herbaceous (non-woody) plants, regardless of size, and woody plants less than 3.28 ft tall.",null,null,null,null,null,null,null,null,null,null,null,null,null,null,null,null,null,null,null,null,null,"GA"]
[null,"11.",null,"",null,null,null,null,null,null,null,null,null,null,null,null,null,null,null,null,null,null,null,null,null,null,null,null,null,null,null,"",null,null,null,null,null,"",null,null,null,null,null,null,null,null,null,null,null,null,null,null,null,null,null,null,null,null,null,null,null,null,null,null,null,null,"MD",null,{"$f":"Z28","v":0},{"$f":"IF(AND(AF28=\"Yes\",OR(AL28=\"OBL\",AL28=\"FACW\",AL28=\"FAC\")),1,0)","v":0},{"$f":"IF(AF28=\"Yes\",1,0)","v":0},{"$f":"IF(AND(AF28=\"Yes\",OR(AL28=\"OBL\",AL28=\"FACW\")),1,0)","v":0},{"$f":"IF(AND(AF28=\"Yes\",OR(AL28=\"UPL\",AL28=\"FACU\")),1,0)","v":0},{"$f":"IF(OR(AL28=\"OBL\",AL28=\"FACW\"),1,0)","v":0},{"$f":"IF(OR(AL28=\"UPL\",AL28=\"FACU\"),1,0)","v":0},{"$f":"IF(AND(AF28=\"YES\",OR(AL28=\"UPL\",AL28=\"FACU\",AL28=\"FAC\")),FALSE,TRUE)","v":true},{"$f":"IF($AL28=\"obl\",$Z28,0)","v":0},{"$f":"IF($AL28=\"facw\",$Z28,0)","v":0},{"$f":"IF($AL28=\"fac\",$Z28,0)","v":0},{"$f":"IF($AL28=\"facu\",$Z28,0)","v":0},{"$f":"IF($AL28=\"upl\",$Z28,0)","v":0},{"$f":"IFERROR(Z28/Z$40,0)","v":0},{"$f":"IFERROR(LARGE(BQ$38:BQ$61,1),0)","v":0},{"$f":"IFERROR(CE38/$Z$40,0)","v":0},{"$f":"IF(CE38>0,CE38,\"\")","v":""},null,{"$f":"IFERROR(IF(ISNA(MATCH(\"AGCP\",$CH$4:$CH$9,0)),IF(ISNA(MATCH(\"WGC\",$CH$4:$CH$9,0)),\"\",VLOOKUP(D28,Plant_List,3,FALSE)),VLOOKUP(D28,Plant_List,2,FALSE)),\"\")","v":""}]
[null,"12.",null,"",null,null,null,null,null,null,null,null,null,null,null,null,null,null,null,null,null,null,null,null,null,null,null,null,null,null,null,"",null,null,null,null,null,"",null,null,null,null,null,null,null,null,null,null,null,null,null,null,null,null,null,null,null,null,null,null,null,null,null,null,null,null,"NC",null,{"$f":"Z29","v":0},0,0,0,0,0,0,true,0,0,0,0,0,0,{"$f":"IFERROR(LARGE(BQ$38:BQ$61,2),0)","v":0},0,{"$f":"IF(AND(CE39>0,CF38>0.5),\"\",CE39)","v":0},null,""]
[null,null,null,null,null,null,null,null,null,null,null,null,null,null,null,null,null,null,null,null,null,null,null,null,null,{"$f":"IF(SUM(BQ38:BQ61)>0,SUM(BQ38:BQ61),\"\")","v":""},null,null,null,null,"=Total Cover",null,null,null,null,null,null,null,null,null,null,null,null,null,"Woody Vine – All woody vines greater than 3.28 ft in height.",null,null,null,null,null,null,null,null,null,null,null,null,null,null,null,null,null,null,null,null,null,"NJ",null,0,0,0,0,0,0,0,true,0,0,0,0,0,0,{"$f":"IFERROR(LARGE(BQ$38:BQ$61,3),0)","v":0},0,{"$f":"IF(AND(CE40>0,SUM(CF$38:CF39)>0.5),\"\",CE40)","v":0},null,""]
[null,null,null,null,null,null,null,null,null,null,null,null,null,"50% of total cover:",null,null,null,null,null,null,null,null,{"$f":"IFERROR(ROUNDUP(Z40/2,0),\"\")","v":""},null,null,null,null,null,"20% of total cover:",null,null,null,null,null,null,null,null,{"$f":"IFERROR(ROUNDUP(Z40/5,0),\"\")","v":""},null,null,null,null,null,null,null,null,null,null,null,null,null,null,null,null,null,null,null,null,null,null,null,null,null,null,null,null,"PA",null,0,0,0,0,0,0,0,true,0,0,0,0,0,0,{"$f":"IFERROR(LARGE(BQ$38:BQ$61,4),0)","v":0},0,{"$f":"IF(AND(CE41>0,SUM(CF$38:CF40)>0.5),\"\",CE41)","v":0},null,""]
[null,"Woody Vine Stratum",null,null,null,null,null,null,null,null,null,"(Plot size:",null,null,null,null,null,null,null,null,null,null,null,")",null,null,null,null,null,null,null,null,null,null,null,null,null,null,null,null,null,null,null,null,null,null,null,null,null,null,null,null,null,null,null,null,null,null,null,null,null,null,null,null,null,null,"SC",null,0,0,0,0,0,0,0,true,0,0,0,0,0,0,{"$f":"IFERROR(LARGE(BQ$38:BQ$61,5),0)","v":0},0,{"$f":"IF(AND(CE42>0,SUM(CF$38:CF41)>0.5),\"\",CE42)","v":0},null,""]
[null,"1.",null,"",null,null,null,null,null,null,null,null,null,null,null,null,null,null,null,null,null,null,null,null,null,null,null,null,null,null,null,{"$f":"IF(Z43>0,IF(OR(AND(Z$48<5,Z$13=\"\",Z$25=\"\",Z$40=\"\"),Z$48>=5),IF(AND(ISNA(MATCH(Z43,CG$63:CG$72,0)),CD63<0.2),\"No\",\"Yes\"),\"No\"),\"\")","v":""},null,null,null,null,null,{"$f":"IF(CI63=0,\"\",CI63)","v":""},null,null,null,null,null,null,null,null,null,null,null,null,null,null,null,null,null,null,null,null,null,null,null,null,null,null,null,null,"VA",null,0,0,0,0,0,0,0,true,0,0,0,0,0,0,{"$f":"IFERROR(LARGE(BQ$38:BQ$61,6),0)","v":0},0,{"$f":"IF(AND(CE43>0,SUM(CF$38:CF42)>0.5),\"\",CE43)","v":0},null,""]
[null,"2.",null,null,null,null,null,null,null,null,null,null,null,null,null,null,null,null,null,null,null,null,null,null,null,null,null,null,null,null,null,{"$f":"IF(Z44>0,IF(OR(AND(Z$48<5,Z$13=\"\",Z$25=\"\",Z$40=\"\"),Z$48>=5),IF(AND(ISNA(MATCH(Z44,CG$63:CG$72,0)),CD64<0.2),\"No\",\"Yes\"),\"No\"),\"\")","v":""},null,null,null,null,null,{"$f":"IF(CI64=0,\"\",CI64)","v":""},null,null,null,null,null,null,null,null,null,null,null,null,null,null,null,null,null,null,null,null,null,null,null,null,null,null,null,null,null,null,0,0,0,0,0,0,0,true,0,0,0,0,0,0,{"$f":"IFERROR(LARGE(BQ$38:BQ$61,7),0)","v":0},0,{"$f":"IF(AND(CE44>0,SUM(CF$38:CF43)>0.5),\"\",CE44)","v":0},null,""]
[null,"3.",null,null,null,null,null,null,null,null,null,null,null,null,null,null,null,null,null,null,null,null,null,null,null,null,null,null,null,null,null,"",null,null,null,null,null,{"$f":"IF(CI65=0,\"\",CI65)","v":""},null,null,null,null,null,null,null,null,null,null,null,null,null,null,null,null,null,null,null,null,null,null,null,null,null,null,null,null,"WGC",null,0,0,0,0,0,0,0,true,0,0,0,0,0,0,{"$f":"IFERROR(LARGE(BQ$38:BQ$61,8),0)","v":0},0,{"$f":"IF(AND(CE45>0,SUM(CF$38:CF44)>0.5),\"\",CE45)","v":0},null,""]
[null,"4.",null,"",null,null,null,null,null,null,null,null,null,null,null,null,null,null,null,null,null,null,null,null,null,null,null,null,null,null,null,"",null,null,null,null,null,{"$f":"IF(CI66=0,\"\",CI66)","v":""},null,null,null,null,null,null,null,null,null,null,null,null,null,null,null,null,null,null,null,null,null,null,null,null,null,null,null,null,"IL",null,0,0,0,0,0,0,0,true,0,0,0,0,0,0,{"$f":"IFERROR(LARGE(BQ$38:BQ$61,9),0)","v":0},0,{"$f":"IF(AND(CE46>0,SUM(CF$38:CF45)>0.5),\"\",CE46)","v":0},null,""]
[null,"5.",null,"",null,null,null,null,null,null,null,null,null,null,null,null,null,null,null,null,null,null,null,null,null,null,null,null,null,null,null,"",null,null,null,null,null,{"$f":"IF(CI67=0,\"\",CI67)","v":""},null,null,null,null,null,null,"Hydrophytic Vegetation Present?",null,null,null,null,null,null,null,null,null,null,null,null,null,null,null,null,null,null,null,null,null,"KY",null,0,0,0,0,0,0,0,true,0,0,0,0,0,0,{"$f":"IFERROR(LARGE(BQ$38:BQ$61,10),0)","v":0},0,{"$f":"IF(AND(CE47>0,SUM(CF$38:CF46)>0.5),\"\",CE47)","v":0},null,""]
[null,null,null,null,null,null,null,null,null,null,null,null,null,null,null,null,null,null,null,null,null,null,null,null,null,{"$f":"IF(SUM(BQ63:BQ72)>0,SUM(BQ63:BQ72),\"\")","v":""},null,null,null,null,"=Total Cover",null,null,null,null,null,null,null,null,null,null,null,null,null,null,null,null,null,null,null,null,null,null,null,null,null,null,null,null,null,null,null,null,null,null,null,"MO",null,0,0,0,0,0,0,0,true,0,0,0,0,0,0,{"$f":"IFERROR(LARGE(BQ$38:BQ$61,11),0)","v":0},0,{"$f":"IF(AND(CE48>0,SUM(CF$38:CF47)>0.5),\"\",CE48)","v":0},null,""]
[null,null,null,null,null,null,null,null,null,null,null,null,null,"50% of total cover:",null,null,null,null,null,null,null,null,{"$f":"IFERROR(ROUNDUP(Z48/2,0),\"\")","v":""},null,null,null,null,null,"20% of total cover:",null,null,null,null,null,null,null,null,{"$f":"IFERROR(ROUNDUP(Z48/5,0),\"\")","v":""},null,null,null,null,null,null,null,null,null,null,null,null,"Yes",null,null,{"$f":"BO59","v":""},"No",null,null,null,{"$f":"BP59","v":"X"},null,null,null,null,null,null,null,"TX",null,0,0,0,0,0,0,0,true,0,0,0,0,0,0,{"$f":"IFERROR(LARGE(BQ$38:BQ$61,12),0)","v":0},0,{"$f":"IF(AND(CE49>0,SUM(CF$38:CF48)>0.5),\"\",CE49)","v":0},null,""]
[null,null,null,null,null,null,null,null,null,null,null,null,null,null,null,null,null,null,null,null,null,null,null,null,null,null,null,null,null,null,null,null,null,null,null,null,null,null,null,null,null,null,null,null,null,null,null,null,null,null,null,null,null,null,null,null,null,null,null,null,null,null,null,null,null,null,null,null,{"$f":"IFERROR('Vegetation Continued, 4 Strata'!Z28,0)","v":0},{"$f":"IFERROR(IF(AND('Vegetation Continued, 4 Strata'!AF28=\"Yes\",OR('Vegetation Continued, 4 Strata'!AL28=\"OBL\",'Vegetation Continued, 4 Strata'!AL28=\"FACW\",'Vegetation Continued, 4 Strata'!AL28=\"FAC\")),1,0),0)","v":0},{"$f":"IFERROR(IF('Vegetation Continued, 4 Strata'!AF28=\"Yes\",1,0),0)","v":0},{"$f":"IFERROR(IF(AND('Vegetation Continued, 4 Strata'!AF28=\"Yes\",OR('Vegetation Continued, 4 Strata'!AL28=\"OBL\",'Vegetation Continued, 4 Strata'!AL28=\"FACW\")),1,0),0)","v":0},{"$f":"IFERROR(IF(AND('Vegetation Continued, 4 Strata'!AF28=\"Yes\",OR('Vegetation Continued, 4 Strata'!AL28=\"UPL\",'Vegetation Continued, 4 Strata'!AL28=\"FACU\")),1,0),0)","v":0},{"$f":"IFERROR(IF(OR('Vegetation Continued, 4 Strata'!AL28=\"OBL\",'Vegetation Continued, 4 Strata'!AL28=\"FACW\"),1,0),0)","v":0},{"$f":"IFERROR(IF(OR('Vegetation Continued, 4 Strata'!AL28=\"UPL\",'Vegetation Continued, 4 Strata'!AL28=\"FACU\"),1,0),0)","v":0},{"$f":"IFERROR(IF(AND('Vegetation Continued, 4 Strata'!AF28=\"YES\",OR('Vegetation Continued, 4 Strata'!AL28=\"UPL\",'Vegetation Continued, 4 Strata'!AL28=\"FACU\",'Vegetation Continued, 4 Strata'!AL28=\"FAC\")),FALSE,TRUE),TRUE)","v":true},{"$f":"IFERROR(IF('Vegetation Continued, 4 Strata'!AL28=\"obl\",BQ50,0),0)","v":0},{"$f":"IFERROR(IF('Vegetation Continued, 4 Strata'!AL28=\"facw\",BQ50,0),0)","v":0},{"$f":"IFERROR(IF('Vegetation Continued, 4 Strata'!AL28=\"fac\",BQ50,0),0)","v":0},{"$f":"IFERROR(IF('Vegetation Continued, 4 Strata'!AL28=\"facu\",BQ50,0),0)","v":0},{"$f":"IFERROR(IF('Vegetation Continued, 4 Strata'!AL28=\"upl\",BQ50,0),0)","v":0},{"$f":"IFERROR(BQ50/Z$40,0)","v":0},{"$f":"IFERROR(LARGE(BQ$38:BQ$61,13),0)","v":0},{"$f":"IFERROR(CE50/Z$40,0)","v":0},{"$f":"IF(AND(CE50>0,SUM(CF$38:CF49)>0.5),\"\",CE50)","v":0},null,{"$f":"IFERROR(IF(ISNA(MATCH(\"AGCP\",$CH$4:$CH$9,0)),IF(ISNA(MATCH(\"WGC\",$CH$4:$CH$9,0)),\"\",VLOOKUP('Vegetation Continued, 4 Strata'!D28,Plant_List,3,FALSE)),VLOOKUP('Vegetation Continued, 4 Strata'!D28,Plant_List,2,FALSE)),\"\")","v":""}]
[null,"Remarks:  (If observed, list morphological adaptations below.)",null,null,null,null,null,null,null,null,null,null,null,null,null,null,null,null,null,null,null,null,null,null,null,null,null,null,null,null,null,null,null,null,null,null,null,null,null,null,null,null,null,null,null,null,null,null,null,null,null,null,null,null,null,null,null,null,null,null,null,null,null,null,null,null,"BOTH",null,{"$f":"IFERROR('Vegetation Continued, 4 Strata'!Z29,0)","v":0},{"$f":"IFERROR(IF(AND('Vegetation Continued, 4 Strata'!AF29=\"Yes\",OR('Vegetation Continued, 4 Strata'!AL29=\"OBL\",'Vegetation Continued, 4 Strata'!AL29=\"FACW\",'Vegetation Continued, 4 Strata'!AL29=\"FAC\")),1,0),0)","v":0},{"$f":"IFERROR(IF('Vegetation Continued, 4 Strata'!AF29=\"Yes\",1,0),0)","v":0},{"$f":"IFERROR(IF(AND('Vegetation Continued, 4 Strata'!AF29=\"Yes\",OR('Vegetation Continued, 4 Strata'!AL29=\"OBL\",'Vegetation Continued, 4 Strata'!AL29=\"FACW\")),1,0),0)","v":0},{"$f":"IFERROR(IF(AND('Vegetation Continued, 4 Strata'!AF29=\"Yes\",OR('Vegetation Continued, 4 Strata'!AL29=\"UPL\",'Vegetation Continued, 4 Strata'!AL29=\"FACU\")),1,0),0)","v":0},{"$f":"IFERROR(IF(OR('Vegetation Continued, 4 Strata'!AL29=\"OBL\",'Vegetation Continued, 4 Strata'!AL29=\"FACW\"),1,0),0)","v":0},{"$f":"IFERROR(IF(OR('Vegetation Continued, 4 Strata'!AL29=\"UPL\",'Vegetation Continued, 4 Strata'!AL29=\"FACU\"),1,0),0)","v":0},{"$f":"IFERROR(IF(AND('Vegetation Continued, 4 Strata'!AF29=\"YES\",OR('Vegetation Continued, 4 Strata'!AL29=\"UPL\",'Vegetation Continued, 4 Strata'!AL29=\"FACU\",'Vegetation Continued, 4 Strata'!AL29=\"FAC\")),FALSE,TRUE),TRUE)","v":true},{"$f":"IFERROR(IF('Vegetation Continued, 4 Strata'!AL29=\"obl\",BQ51,0),0)","v":0},{"$f":"IFERROR(IF('Vegetation Continued, 4 Strata'!AL29=\"facw\",BQ51,0),0)","v":0},{"$f":"IFERROR(IF('Vegetation Continued, 4 Strata'!AL29=\"fac\",BQ51,0),0)","v":0},{"$f":"IFERROR(IF('Vegetation Continued, 4 Strata'!AL29=\"facu\",BQ51,0),0)","v":0},{"$f":"IFERROR(IF('Vegetation Continued, 4 Strata'!AL29=\"upl\",BQ51,0),0)","v":0},{"$f":"IFERROR(BQ51/Z$40,0)","v":0},{"$f":"IFERROR(LARGE(BQ$38:BQ$61,14),0)","v":0},{"$f":"IFERROR(CE51/Z$40,0)","v":0},{"$f":"IF(AND(CE51>0,SUM(CF$38:CF50)>0.5),\"\",CE51)","v":0},null,{"$f":"IFERROR(IF(ISNA(MATCH(\"AGCP\",$CH$4:$CH$9,0)),IF(ISNA(MATCH(\"WGC\",$CH$4:$CH$9,0)),\"\",VLOOKUP('Vegetation Continued, 4 Strata'!D29,Plant_List,3,FALSE)),VLOOKUP('Vegetation Continued, 4 Strata'!D29,Plant_List,2,FALSE)),\"\")","v":""}]
[null,null,null,null,null,null,null,null,null,null,null,null,null,null,null,null,null,null,null,null,null,null,null,null,null,null,null,null,null,null,null,null,null,null,null,null,null,null,null,null,null,null,null,null,null,null,null,null,null,null,null,null,null,null,null,null,null,null,null,null,null,null,null,null,null,null,"AR",null,{"$f":"IFERROR('Vegetation Continued, 4 Strata'!Z30,0)","v":0},{"$f":"IFERROR(IF(AND('Vegetation Continued, 4 Strata'!AF30=\"Yes\",OR('Vegetation Continued, 4 Strata'!AL30=\"OBL\",'Vegetation Continued, 4 Strata'!AL30=\"FACW\",'Vegetation Continued, 4 Strata'!AL30=\"FAC\")),1,0),0)","v":0},{"$f":"IFERROR(IF('Vegetation Continued, 4 Strata'!AF30=\"Yes\",1,0),0)","v":0},{"$f":"IFERROR(IF(AND('Vegetation Continued, 4 Strata'!AF30=\"Yes\",OR('Vegetation Continued, 4 Strata'!AL30=\"OBL\",'Vegetation Continued, 4 Strata'!AL30=\"FACW\")),1,0),0)","v":0},{"$f":"IFERROR(IF(AND('Vegetation Continued, 4 Strata'!AF30=\"Yes\",OR('Vegetation Continued, 4 Strata'!AL30=\"UPL\",'Vegetation Continued, 4 Strata'!AL30=\"FACU\")),1,0),0)","v":0},{"$f":"IFERROR(IF(OR('Vegetation Continued, 4 Strata'!AL30=\"OBL\",'Vegetation Continued, 4 Strata'!AL30=\"FACW\"),1,0),0)","v":0},{"$f":"IFERROR(IF(OR('Vegetation Continued, 4 Strata'!AL30=\"UPL\",'Vegetation Continued, 4 Strata'!AL30=\"FACU\"),1,0),0)","v":0},{"$f":"IFERROR(IF(AND('Vegetation Continued, 4 Strata'!AF30=\"YES\",OR('Vegetation Continued, 4 Strata'!AL30=\"UPL\",'Vegetation Continued, 4 Strata'!AL30=\"FACU\",'Vegetation Continued, 4 Strata'!AL30=\"FAC\")),FALSE,TRUE),TRUE)","v":true},{"$f":"IFERROR(IF('Vegetation Continued, 4 Strata'!AL30=\"obl\",BQ52,0),0)","v":0},{"$f":"IFERROR(IF('Vegetation Continued, 4 Strata'!AL30=\"facw\",BQ52,0),0)","v":0},{"$f":"IFERROR(IF('Vegetation Continued, 4 Strata'!AL30=\"fac\",BQ52,0),0)","v":0},{"$f":"IFERROR(IF('Vegetation Continued, 4 Strata'!AL30=\"facu\",BQ52,0),0)","v":0},{"$f":"IFERROR(IF('Vegetation Continued, 4 Strata'!AL30=\"upl\",BQ52,0),0)","v":0},0,{"$f":"IFERROR(LARGE(BQ$38:BQ$61,15),0)","v":0},0,{"$f":"IF(AND(CE52>0,SUM(CF$38:CF51)>0.5),\"\",CE52)","v":0},null,{"$f":"IFERROR(IF(ISNA(MATCH(\"AGCP\",$CH$4:$CH$9,0)),IF(ISNA(MATCH(\"WGC\",$CH$4:$CH$9,0)),\"\",VLOOKUP('Vegetation Continued, 4 Strata'!D30,Plant_List,3,FALSE)),VLOOKUP('Vegetation Continued, 4 Strata'!D30,Plant_List,2,FALSE)),\"\")","v":""}]
[null,null,null,null,null,null,null,null,null,null,null,null,null,null,null,null,null,null,null,null,null,null,null,null,null,null,null,null,null,null,null,null,null,null,null,null,null,null,null,null,null,null,null,null,null,null,null,null,null,null,null,null,null,null,null,null,null,null,null,null,null,null,null,null,null,null,"LA",null,{"$f":"IFERROR('Vegetation Continued, 4 Strata'!Z31,0)","v":0},{"$f":"IFERROR(IF(AND('Vegetation Continued, 4 Strata'!AF31=\"Yes\",OR('Vegetation Continued, 4 Strata'!AL31=\"OBL\",'Vegetation Continued, 4 Strata'!AL31=\"FACW\",'Vegetation Continued, 4 Strata'!AL31=\"FAC\")),1,0),0)","v":0},{"$f":"IFERROR(IF('Vegetation Continued, 4 Strata'!AF31=\"Yes\",1,0),0)","v":0},{"$f":"IFERROR(IF(AND('Vegetation Continued, 4 Strata'!AF31=\"Yes\",OR('Vegetation Continued, 4 Strata'!AL31=\"OBL\",'Vegetation Continued, 4 Strata'!AL31=\"FACW\")),1,0),0)","v":0},{"$f":"IFERROR(IF(AND('Vegetation Continued, 4 Strata'!AF31=\"Yes\",OR('Vegetation Continued, 4 Strata'!AL31=\"UPL\",'Vegetation Continued, 4 Strata'!AL31=\"FACU\")),1,0),0)","v":0},{"$f":"IFERROR(IF(OR('Vegetation Continued, 4 Strata'!AL31=\"OBL\",'Vegetation Continued, 4 Strata'!AL31=\"FACW\"),1,0),0)","v":0},{"$f":"IFERROR(IF(OR('Vegetation Continued, 4 Strata'!AL31=\"UPL\",'Vegetation Continued, 4 Strata'!AL31=\"FACU\"),1,0),0)","v":0},{"$f":"IFERROR(IF(AND('Vegetation Continued, 4 Strata'!AF31=\"YES\",OR('Vegetation Continued, 4 Strata'!AL31=\"UPL\",'Vegetation Continued, 4 Strata'!AL31=\"FACU\",'Vegetation Continued, 4 Strata'!AL31=\"FAC\")),FALSE,TRUE),TRUE)","v":true},{"$f":"IFERROR(IF('Vegetation Continued, 4 Strata'!AL31=\"obl\",BQ53,0),0)","v":0},{"$f":"IFERROR(IF('Vegetation Continued, 4 Strata'!AL31=\"facw\",BQ53,0),0)","v":0},{"$f":"IFERROR(IF('Vegetation Continued, 4 Strata'!AL31=\"fac\",BQ53,0),0)","v":0},{"$f":"IFERROR(IF('Vegetation Continued, 4 Strata'!AL31=\"facu\",BQ53,0),0)","v":0},{"$f":"IFERROR(IF('Vegetation Continued, 4 Strata'!AL31=\"upl\",BQ53,0),0)","v":0},0,{"$f":"IFERROR(LARGE(BQ$38:BQ$61,16),0)","v":0},0,{"$f":"IF(AND(CE53>0,SUM(CF$38:CF52)>0.5),\"\",CE53)","v":0},null,{"$f":"IFERROR(IF(ISNA(MATCH(\"AGCP\",$CH$4:$CH$9,0)),IF(ISNA(MATCH(\"WGC\",$CH$4:$CH$9,0)),\"\",VLOOKUP('Vegetation Continued, 4 Strata'!D31,Plant_List,3,FALSE)),VLOOKUP('Vegetation Continued, 4 Strata'!D31,Plant_List,2,FALSE)),\"\")","v":""}]
[null,null,null,null,null,null,null,null,null,null,null,null,null,null,null,null,null,null,null,null,null,null,null,null,null,null,null,null,null,null,null,null,null,null,null,null,null,null,null,null,null,null,null,null,null,null,null,null,null,null,null,null,null,null,null,null,null,null,null,null,null,null,null,null,null,null,"MS",null,{"$f":"IFERROR('Vegetation Continued, 4 Strata'!Z32,0)","v":0},{"$f":"IFERROR(IF(AND('Vegetation Continued, 4 Strata'!AF32=\"Yes\",OR('Vegetation Continued, 4 Strata'!AL32=\"OBL\",'Vegetation Continued, 4 Strata'!AL32=\"FACW\",'Vegetation Continued, 4 Strata'!AL32=\"FAC\")),1,0),0)","v":0},{"$f":"IFERROR(IF('Vegetation Continued, 4 Strata'!AF32=\"Yes\",1,0),0)","v":0},{"$f":"IFERROR(IF(AND('Vegetation Continued, 4 Strata'!AF32=\"Yes\",OR('Vegetation Continued, 4 Strata'!AL32=\"OBL\",'Vegetation Continued, 4 Strata'!AL32=\"FACW\")),1,0),0)","v":0},{"$f":"IFERROR(IF(AND('Vegetation Continued, 4 Strata'!AF32=\"Yes\",OR('Vegetation Continued, 4 Strata'!AL32=\"UPL\",'Vegetation Continued, 4 Strata'!AL32=\"FACU\")),1,0),0)","v":0},{"$f":"IFERROR(IF(OR('Vegetation Continued, 4 Strata'!AL32=\"OBL\",'Vegetation Continued, 4 Strata'!AL32=\"FACW\"),1,0),0)","v":0},{"$f":"IFERROR(IF(OR('Vegetation Continued, 4 Strata'!AL32=\"UPL\",'Vegetation Continued, 4 Strata'!AL32=\"FACU\"),1,0),0)","v":0},{"$f":"IFERROR(IF(AND('Vegetation Continued, 4 Strata'!AF32=\"YES\",OR('Vegetation Continued, 4 Strata'!AL32=\"UPL\",'Vegetation Continued, 4 Strata'!AL32=\"FACU\",'Vegetation Continued, 4 Strata'!AL32=\"FAC\")),FALSE,TRUE),TRUE)","v":true},{"$f":"IFERROR(IF('Vegetation Continued, 4 Strata'!AL32=\"obl\",BQ54,0),0)","v":0},{"$f":"IFERROR(IF('Vegetation Continued, 4 Strata'!AL32=\"facw\",BQ54,0),0)","v":0},{"$f":"IFERROR(IF('Vegetation Continued, 4 Strata'!AL32=\"fac\",BQ54,0),0)","v":0},{"$f":"IFERROR(IF('Vegetation Continued, 4 Strata'!AL32=\"facu\",BQ54,0),0)","v":0},{"$f":"IFERROR(IF('Vegetation Continued, 4 Strata'!AL32=\"upl\",BQ54,0),0)","v":0},0,{"$f":"IFERROR(LARGE(BQ$38:BQ$61,17),0)","v":0},0,{"$f":"IF(AND(CE54>0,SUM(CF$38:CF53)>0.5),\"\",CE54)","v":0},null,{"$f":"IFERROR(IF(ISNA(MATCH(\"AGCP\",$CH$4:$CH$9,0)),IF(ISNA(MATCH(\"WGC\",$CH$4:$CH$9,0)),\"\",VLOOKUP('Vegetation Continued, 4 Strata'!D32,Plant_List,3,FALSE)),VLOOKUP('Vegetation Continued, 4 Strata'!D32,Plant_List,2,FALSE)),\"\")","v":""}]
[null,null,null,null,null,null,null,null,null,null,null,null,null,null,null,null,null,null,null,null,null,null,null,null,null,null,null,null,null,null,null,null,null,null,null,null,null,null,null,null,null,null,null,null,null,null,null,null,null,null,null,null,null,null,null,null,null,null,null,null,null,null,null,null,null,null,"OK",null,{"$f":"IFERROR('Vegetation Continued, 4 Strata'!Z33,0)","v":0},{"$f":"IFERROR(IF(AND('Vegetation Continued, 4 Strata'!AF33=\"Yes\",OR('Vegetation Continued, 4 Strata'!AL33=\"OBL\",'Vegetation Continued, 4 Strata'!AL33=\"FACW\",'Vegetation Continued, 4 Strata'!AL33=\"FAC\")),1,0),0)","v":0},{"$f":"IFERROR(IF('Vegetation Continued, 4 Strata'!AF33=\"Yes\",1,0),0)","v":0},{"$f":"IFERROR(IF(AND('Vegetation Continued, 4 Strata'!AF33=\"Yes\",OR('Vegetation Continued, 4 Strata'!AL33=\"OBL\",'Vegetation Continued, 4 Strata'!AL33=\"FACW\")),1,0),0)","v":0},{"$f":"IFERROR(IF(AND('Vegetation Continued, 4 Strata'!AF33=\"Yes\",OR('Vegetation Continued, 4 Strata'!AL33=\"UPL\",'Vegetation Continued, 4 Strata'!AL33=\"FACU\")),1,0),0)","v":0},{"$f":"IFERROR(IF(OR('Vegetation Continued, 4 Strata'!AL33=\"OBL\",'Vegetation Continued, 4 Strata'!AL33=\"FACW\"),1,0),0)","v":0},{"$f":"IFERROR(IF(OR('Vegetation Continued, 4 Strata'!AL33=\"UPL\",'Vegetation Continued, 4 Strata'!AL33=\"FACU\"),1,0),0)","v":0},{"$f":"IFERROR(IF(AND('Vegetation Continued, 4 Strata'!AF33=\"YES\",OR('Vegetation Continued, 4 Strata'!AL33=\"UPL\",'Vegetation Continued, 4 Strata'!AL33=\"FACU\",'Vegetation Continued, 4 Strata'!AL33=\"FAC\")),FALSE,TRUE),TRUE)","v":true},{"$f":"IFERROR(IF('Vegetation Continued, 4 Strata'!AL33=\"obl\",BQ55,0),0)","v":0},{"$f":"IFERROR(IF('Vegetation Continued, 4 Strata'!AL33=\"facw\",BQ55,0),0)","v":0},{"$f":"IFERROR(IF('Vegetation Continued, 4 Strata'!AL33=\"fac\",BQ55,0),0)","v":0},{"$f":"IFERROR(IF('Vegetation Continued, 4 Strata'!AL33=\"facu\",BQ55,0),0)","v":0},{"$f":"IFERROR(IF('Vegetation Continued, 4 Strata'!AL33=\"upl\",BQ55,0),0)","v":0},0,{"$f":"IFERROR(LARGE(BQ$38:BQ$61,18),0)","v":0},0,{"$f":"IF(AND(CE55>0,SUM(CF$38:CF54)>0.5),\"\",CE55)","v":0},null,{"$f":"IFERROR(IF(ISNA(MATCH(\"AGCP\",$CH$4:$CH$9,0)),IF(ISNA(MATCH(\"WGC\",$CH$4:$CH$9,0)),\"\",VLOOKUP('Vegetation Continued, 4 Strata'!D33,Plant_List,3,FALSE)),VLOOKUP('Vegetation Continued, 4 Strata'!D33,Plant_List,2,FALSE)),\"\")","v":""}]
[null,null,null,null,null,null,null,null,null,null,null,null,null,null,null,null,null,null,null,null,null,null,null,null,null,null,null,null,null,null,null,null,null,null,null,null,null,null,null,null,null,null,null,null,null,null,null,null,null,null,null,null,null,null,null,null,null,null,null,null,null,null,null,null,null,null,"TN",null,{"$f":"IFERROR('Vegetation Continued, 4 Strata'!Z34,0)","v":0},{"$f":"IFERROR(IF(AND('Vegetation Continued, 4 Strata'!AF34=\"Yes\",OR('Vegetation Continued, 4 Strata'!AL34=\"OBL\",'Vegetation Continued, 4 Strata'!AL34=\"FACW\",'Vegetation Continued, 4 Strata'!AL34=\"FAC\")),1,0),0)","v":0},{"$f":"IFERROR(IF('Vegetation Continued, 4 Strata'!AF34=\"Yes\",1,0),0)","v":0},{"$f":"IFERROR(IF(AND('Vegetation Continued, 4 Strata'!AF34=\"Yes\",OR('Vegetation Continued, 4 Strata'!AL34=\"OBL\",'Vegetation Continued, 4 Strata'!AL34=\"FACW\")),1,0),0)","v":0},{"$f":"IFERROR(IF(AND('Vegetation Continued, 4 Strata'!AF34=\"Yes\",OR('Vegetation Continued, 4 Strata'!AL34=\"UPL\",'Vegetation Continued, 4 Strata'!AL34=\"FACU\")),1,0),0)","v":0},{"$f":"IFERROR(IF(OR('Vegetation Continued, 4 Strata'!AL34=\"OBL\",'Vegetation Continued, 4 Strata'!AL34=\"FACW\"),1,0),0)","v":0},{"$f":"IFERROR(IF(OR('Vegetation Continued, 4 Strata'!AL34=\"UPL\",'Vegetation Continued, 4 Strata'!AL34=\"FACU\"),1,0),0)","v":0},{"$f":"IFERROR(IF(AND('Vegetation Continued, 4 Strata'!AF34=\"YES\",OR('Vegetation Continued, 4 Strata'!AL34=\"UPL\",'Vegetation Continued, 4 Strata'!AL34=\"FACU\",'Vegetation Continued, 4 Strata'!AL34=\"FAC\")),FALSE,TRUE),TRUE)","v":true},{"$f":"IFERROR(IF('Vegetation Continued, 4 Strata'!AL34=\"obl\",BQ56,0),0)","v":0},{"$f":"IFERROR(IF('Vegetation Continued, 4 Strata'!AL34=\"facw\",BQ56,0),0)","v":0},{"$f":"IFERROR(IF('Vegetation Continued, 4 Strata'!AL34=\"fac\",BQ56,0),0)","v":0},{"$f":"IFERROR(IF('Vegetation Continued, 4 Strata'!AL34=\"facu\",BQ56,0),0)","v":0},{"$f":"IFERROR(IF('Vegetation Continued, 4 Strata'!AL34=\"upl\",BQ56,0),0)","v":0},0,{"$f":"IFERROR(LARGE(BQ$38:BQ$61,19),0)","v":0},0,{"$f":"IF(AND(CE56>0,SUM(CF$38:CF55)>0.5),\"\",CE56)","v":0},null,{"$f":"IFERROR(IF(ISNA(MATCH(\"AGCP\",$CH$4:$CH$9,0)),IF(ISNA(MATCH(\"WGC\",$CH$4:$CH$9,0)),\"\",VLOOKUP('Vegetation Continued, 4 Strata'!D34,Plant_List,3,FALSE)),VLOOKUP('Vegetation Continued, 4 Strata'!D34,Plant_List,2,FALSE)),\"\")","v":""}]
["ENG FORM 6116-2, JUL 2018",null,null,null,null,null,null,null,null,null,null,null,null,null,null,null,null,null,null,null,null,null,null,null,null,null,null,null,null,null,null,null,null,null,null,null,null,null,null,null,null,null,null,null,null,null,null,"Atlantic and Gulf Coastal Plain – Version 2.0",null,null,null,null,null,null,null,null,null,null,null,null,null,null,null,null,null,null,null,null,{"$f":"IFERROR('Vegetation Continued, 4 Strata'!Z35,0)","v":0},{"$f":"IFERROR(IF(AND('Vegetation Continued, 4 Strata'!AF35=\"Yes\",OR('Vegetation Continued, 4 Strata'!AL35=\"OBL\",'Vegetation Continued, 4 Strata'!AL35=\"FACW\",'Vegetation Continued, 4 Strata'!AL35=\"FAC\")),1,0),0)","v":0},{"$f":"IFERROR(IF('Vegetation Continued, 4 Strata'!AF35=\"Yes\",1,0),0)","v":0},{"$f":"IFERROR(IF(AND('Vegetation Continued, 4 Strata'!AF35=\"Yes\",OR('Vegetation Continued, 4 Strata'!AL35=\"OBL\",'Vegetation Continued, 4 Strata'!AL35=\"FACW\")),1,0),0)","v":0},{"$f":"IFERROR(IF(AND('Vegetation Continued, 4 Strata'!AF35=\"Yes\",OR('Vegetation Continued, 4 Strata'!AL35=\"UPL\",'Vegetation Continued, 4 Strata'!AL35=\"FACU\")),1,0),0)","v":0},{"$f":"IFERROR(IF(OR('Vegetation Continued, 4 Strata'!AL35=\"OBL\",'Vegetation Continued, 4 Strata'!AL35=\"FACW\"),1,0),0)","v":0},{"$f":"IFERROR(IF(OR('Vegetation Continued, 4 Strata'!AL35=\"UPL\",'Vegetation Continued, 4 Strata'!AL35=\"FACU\"),1,0),0)","v":0},{"$f":"IFERROR(IF(AND('Vegetation Continued, 4 Strata'!AF35=\"YES\",OR('Vegetation Continued, 4 Strata'!AL35=\"UPL\",'Vegetation Continued, 4 Strata'!AL35=\"FACU\",'Vegetation Continued, 4 Strata'!AL35=\"FAC\")),FALSE,TRUE),TRUE)","v":true},{"$f":"IFERROR(IF('Vegetation Continued, 4 Strata'!AL35=\"obl\",BQ57,0),0)","v":0},{"$f":"IFERROR(IF('Vegetation Continued, 4 Strata'!AL35=\"facw\",BQ57,0),0)","v":0},{"$f":"IFERROR(IF('Vegetation Continued, 4 Strata'!AL35=\"fac\",BQ57,0),0)","v":0},{"$f":"IFERROR(IF('Vegetation Continued, 4 Strata'!AL35=\"facu\",BQ57,0),0)","v":0},{"$f":"IFERROR(IF('Vegetation Continued, 4 Strata'!AL35=\"upl\",BQ57,0),0)","v":0},0,{"$f":"IFERROR(LARGE(BQ$38:BQ$61,20),0)","v":0},0,{"$f":"IF(AND(CE57>0,SUM(CF$38:CF56)>0.5),\"\",CE57)","v":0},null,{"$f":"IFERROR(IF(ISNA(MATCH(\"AGCP\",$CH$4:$CH$9,0)),IF(ISNA(MATCH(\"WGC\",$CH$4:$CH$9,0)),\"\",VLOOKUP('Vegetation Continued, 4 Strata'!D35,Plant_List,3,FALSE)),VLOOKUP('Vegetation Continued, 4 Strata'!D35,Plant_List,2,FALSE)),\"\")","v":""}]
[null,null,null,null,null,null,null,null,null,null,null,null,null,null,null,null,null,null,null,null,null,null,null,null,null,null,null,null,null,null,null,null,null,null,null,null,null,null,null,null,null,null,null,null,null,null,null,null,null,null,null,null,null,null,null,null,null,null,null,null,null,null,null,null,null,null,"Hydrophytic Vegetation Present",null,{"$f":"IFERROR('Vegetation Continued, 4 Strata'!Z36,0)","v":0},{"$f":"IFERROR(IF(AND('Vegetation Continued, 4 Strata'!AF36=\"Yes\",OR('Vegetation Continued, 4 Strata'!AL36=\"OBL\",'Vegetation Continued, 4 Strata'!AL36=\"FACW\",'Vegetation Continued, 4 Strata'!AL36=\"FAC\")),1,0),0)","v":0},{"$f":"IFERROR(IF('Vegetation Continued, 4 Strata'!AF36=\"Yes\",1,0),0)","v":0},{"$f":"IFERROR(IF(AND('Vegetation Continued, 4 Strata'!AF36=\"Yes\",OR('Vegetation Continued, 4 Strata'!AL36=\"OBL\",'Vegetation Continued, 4 Strata'!AL36=\"FACW\")),1,0),0)","v":0},{"$f":"IFERROR(IF(AND('Vegetation Continued, 4 Strata'!AF36=\"Yes\",OR('Vegetation Continued, 4 Strata'!AL36=\"UPL\",'Vegetation Continued, 4 Strata'!AL36=\"FACU\")),1,0),0)","v":0},{"$f":"IFERROR(IF(OR('Vegetation Continued, 4 Strata'!AL36=\"OBL\",'Vegetation Continued, 4 Strata'!AL36=\"FACW\"),1,0),0)","v":0},{"$f":"IFERROR(IF(OR('Vegetation Continued, 4 Strata'!AL36=\"UPL\",'Vegetation Continued, 4 Strata'!AL36=\"FACU\"),1,0),0)","v":0},{"$f":"IFERROR(IF(AND('Vegetation Continued, 4 Strata'!AF36=\"YES\",OR('Vegetation Continued, 4 Strata'!AL36=\"UPL\",'Vegetation Continued, 4 Strata'!AL36=\"FACU\",'Vegetation Continued, 4 Strata'!AL36=\"FAC\")),FALSE,TRUE),TRUE)","v":true},{"$f":"IFERROR(IF('Vegetation Continued, 4 Strata'!AL36=\"obl\",BQ58,0),0)","v":0},{"$f":"IFERROR(IF('Vegetation Continued, 4 Strata'!AL36=\"facw\",BQ58,0),0)","v":0},{"$f":"IFERROR(IF('Vegetation Continued, 4 Strata'!AL36=\"fac\",BQ58,0),0)","v":0},{"$f":"IFERROR(IF('Vegetation Continued, 4 Strata'!AL36=\"facu\",BQ58,0),0)","v":0},{"$f":"IFERROR(IF('Vegetation Continued, 4 Strata'!AL36=\"upl\",BQ58,0),0)","v":0},0,{"$f":"IFERROR(LARGE(BQ$38:BQ$61,21),0)","v":0},0,{"$f":"IF(AND(CE58>0,SUM(CF$38:CF57)>0.5),\"\",CE58)","v":0},null,{"$f":"IFERROR(IF(ISNA(MATCH(\"AGCP\",$CH$4:$CH$9,0)),IF(ISNA(MATCH(\"WGC\",$CH$4:$CH$9,0)),\"\",VLOOKUP('Vegetation Continued, 4 Strata'!D36,Plant_List,3,FALSE)),VLOOKUP('Vegetation Continued, 4 Strata'!D36,Plant_List,2,FALSE)),\"\")","v":""}]
[null,null,null,null,null,null,null,null,null,null,null,null,null,null,null,null,null,null,null,null,null,null,null,null,null,null,null,null,null,null,null,null,null,null,null,null,null,null,null,null,null,null,null,null,null,null,null,null,null,null,null,null,null,null,null,null,null,null,null,null,null,null,null,null,null,null,{"$f":"IF(OR(AS22=\"X\",AS23=\"X\",AS24=\"X\"),\"X\",\"\")","v":""},{"$f":"IF(OR('Page 1 (Hydrology)'!H9=\"X\",'Page 1 (Hydrology)'!H9=\"Yes\",'Page 1 (Hydrology)'!H9=\"Y\",'Page 1 (Hydrology)'!H10=\"X\",'Page 1 (Hydrology)'!H10=\"Yes\",'Page 1 (Hydrology)'!H10=\"Y\",ISTEXT(AS25)),\"\",IF(AND(BB49=\"\",'Page 1 (Hydrology)'!Q12=\"\"),\"X\",\"\"))","v":"X"},{"$f":"IFERROR('Vegetation Continued, 4 Strata'!Z37,0)","v":0},{"$f":"IFERROR(IF(AND('Vegetation Continued, 4 Strata'!AF37=\"Yes\",OR('Vegetation Continued, 4 Strata'!AL37=\"OBL\",'Vegetation Continued, 4 Strata'!AL37=\"FACW\",'Vegetation Continued, 4 Strata'!AL37=\"FAC\")),1,0),0)","v":0},{"$f":"IFERROR(IF('Vegetation Continued, 4 Strata'!AF37=\"Yes\",1,0),0)","v":0},{"$f":"IFERROR(IF(AND('Vegetation Continued, 4 Strata'!AF37=\"Yes\",OR('Vegetation Continued, 4 Strata'!AL37=\"OBL\",'Vegetation Continued, 4 Strata'!AL37=\"FACW\")),1,0),0)","v":0},{"$f":"IFERROR(IF(AND('Vegetation Continued, 4 Strata'!AF37=\"Yes\",OR('Vegetation Continued, 4 Strata'!AL37=\"UPL\",'Vegetation Continued, 4 Strata'!AL37=\"FACU\")),1,0),0)","v":0},{"$f":"IFERROR(IF(OR('Vegetation Continued, 4 Strata'!AL37=\"OBL\",'Vegetation Continued, 4 Strata'!AL37=\"FACW\"),1,0),0)","v":0},{"$f":"IFERROR(IF(OR('Vegetation Continued, 4 Strata'!AL37=\"UPL\",'Vegetation Continued, 4 Strata'!AL37=\"FACU\"),1,0),0)","v":0},{"$f":"IFERROR(IF(AND('Vegetation Continued, 4 Strata'!AF37=\"YES\",OR('Vegetation Continued, 4 Strata'!AL37=\"UPL\",'Vegetation Continued, 4 Strata'!AL37=\"FACU\",'Vegetation Continued, 4 Strata'!AL37=\"FAC\")),FALSE,TRUE),TRUE)","v":true},{"$f":"IFERROR(IF('Vegetation Continued, 4 Strata'!AL37=\"obl\",BQ59,0),0)","v":0},{"$f":"IFERROR(IF('Vegetation Continued, 4 Strata'!AL37=\"facw\",BQ59,0),0)","v":0},{"$f":"IFERROR(IF('Vegetation Continued, 4 Strata'!AL37=\"fac\",BQ59,0),0)","v":0},{"$f":"IFERROR(IF('Vegetation Continued, 4 Strata'!AL37=\"facu\",BQ59,0),0)","v":0},{"$f":"IFERROR(IF('Vegetation Continued, 4 Strata'!AL37=\"upl\",BQ59,0),0)","v":0},0,{"$f":"IFERROR(LARGE(BQ$38:BQ$61,22),0)","v":0},0,{"$f":"IF(AND(CE59>0,SUM(CF$38:CF58)>0.5),\"\",CE59)","v":0},null,{"$f":"IFERROR(IF(ISNA(MATCH(\"AGCP\",$CH$4:$CH$9,0)),IF(ISNA(MATCH(\"WGC\",$CH$4:$CH$9,0)),\"\",VLOOKUP('Vegetation Continued, 4 Strata'!D37,Plant_List,3,FALSE)),VLOOKUP('Vegetation Continued, 4 Strata'!D37,Plant_List,2,FALSE)),\"\")","v":""}]
[null,null,null,null,null,null,null,null,null,null,null,null,null,null,null,null,null,null,null,null,null,null,null,null,null,null,null,null,null,null,null,null,null,null,null,null,null,null,null,null,null,null,null,null,null,null,null,null,null,null,null,null,null,null,null,null,null,null,null,null,null,null,null,null,null,null,null,null,{"$f":"IFERROR('Vegetation Continued, 4 Strata'!Z38,0)","v":0},{"$f":"IFERROR(IF(AND('Vegetation Continued, 4 Strata'!AF38=\"Yes\",OR('Vegetation Continued, 4 Strata'!AL38=\"OBL\",'Vegetation Continued, 4 Strata'!AL38=\"FACW\",'Vegetation Continued, 4 Strata'!AL38=\"FAC\")),1,0),0)","v":0},{"$f":"IFERROR(IF('Vegetation Continued, 4 Strata'!AF38=\"Yes\",1,0),0)","v":0},{"$f":"IFERROR(IF(AND('Vegetation Continued, 4 Strata'!AF38=\"Yes\",OR('Vegetation Continued, 4 Strata'!AL38=\"OBL\",'Vegetation Continued, 4 Strata'!AL38=\"FACW\")),1,0),0)","v":0},{"$f":"IFERROR(IF(AND('Vegetation Continued, 4 Strata'!AF38=\"Yes\",OR('Vegetation Continued, 4 Strata'!AL38=\"UPL\",'Vegetation Continued, 4 Strata'!AL38=\"FACU\")),1,0),0)","v":0},{"$f":"IFERROR(IF(OR('Vegetation Continued, 4 Strata'!AL38=\"OBL\",'Vegetation Continued, 4 Strata'!AL38=\"FACW\"),1,0),0)","v":0},{"$f":"IFERROR(IF(OR('Vegetation Continued, 4 Strata'!AL38=\"UPL\",'Vegetation Continued, 4 Strata'!AL38=\"FACU\"),1,0),0)","v":0},{"$f":"IFERROR(IF(AND('Vegetation Continued, 4 Strata'!AF38=\"YES\",OR('Vegetation Continued, 4 Strata'!AL38=\"UPL\",'Vegetation Continued, 4 Strata'!AL38=\"FACU\",'Vegetation Continued, 4 Strata'!AL38=\"FAC\")),FALSE,TRUE),TRUE)","v":true},{"$f":"IFERROR(IF('Vegetation Continued, 4 Strata'!AL38=\"obl\",BQ60,0),0)","v":0},{"$f":"IFERROR(IF('Vegetation Continued, 4 Strata'!AL38=\"facw\",BQ60,0),0)","v":0},{"$f":"IFERROR(IF('Vegetation Continued, 4 Strata'!AL38=\"fac\",BQ60,0),0)","v":0},{"$f":"IFERROR(IF('Vegetation Continued, 4 Strata'!AL38=\"facu\",BQ60,0),0)","v":0},{"$f":"IFERROR(IF('Vegetation Continued, 4 Strata'!AL38=\"upl\",BQ60,0),0)","v":0},0,{"$f":"IFERROR(LARGE(BQ$38:BQ$61,23),0)","v":0},0,{"$f":"IF(AND(CE60>0,SUM(CF$38:CF59)>0.5),\"\",CE60)","v":0},null,{"$f":"IFERROR(IF(ISNA(MATCH(\"AGCP\",$CH$4:$CH$9,0)),IF(ISNA(MATCH(\"WGC\",$CH$4:$CH$9,0)),\"\",VLOOKUP('Vegetation Continued, 4 Strata'!D38,Plant_List,3,FALSE)),VLOOKUP('Vegetation Continued, 4 Strata'!D38,Plant_List,2,FALSE)),\"\")","v":""}]
[null,null,null,null,null,null,null,null,null,null,null,null,null,null,null,null,null,null,null,null,null,null,null,null,null,null,null,null,null,null,null,null,null,null,null,null,null,null,null,null,null,null,null,null,null,null,null,null,null,null,null,null,null,null,null,null,null,null,null,null,null,null,null,null,null,null,"AR AGCP",null,{"$f":"IFERROR('Vegetation Continued, 4 Strata'!Z39,0)","v":0},{"$f":"IFERROR(IF(AND('Vegetation Continued, 4 Strata'!AF39=\"Yes\",OR('Vegetation Continued, 4 Strata'!AL39=\"OBL\",'Vegetation Continued, 4 Strata'!AL39=\"FACW\",'Vegetation Continued, 4 Strata'!AL39=\"FAC\")),1,0),0)","v":0},{"$f":"IFERROR(IF('Vegetation Continued, 4 Strata'!AF39=\"Yes\",1,0),0)","v":0},{"$f":"IFERROR(IF(AND('Vegetation Continued, 4 Strata'!AF39=\"Yes\",OR('Vegetation Continued, 4 Strata'!AL39=\"OBL\",'Vegetation Continued, 4 Strata'!AL39=\"FACW\")),1,0),0)","v":0},{"$f":"IFERROR(IF(AND('Vegetation Continued, 4 Strata'!AF39=\"Yes\",OR('Vegetation Continued, 4 Strata'!AL39=\"UPL\",'Vegetation Continued, 4 Strata'!AL39=\"FACU\")),1,0),0)","v":0},{"$f":"IFERROR(IF(OR('Vegetation Continued, 4 Strata'!AL39=\"OBL\",'Vegetation Continued, 4 Strata'!AL39=\"FACW\"),1,0),0)","v":0},{"$f":"IFERROR(IF(OR('Vegetation Continued, 4 Strata'!AL39=\"UPL\",'Vegetation Continued, 4 Strata'!AL39=\"FACU\"),1,0),0)","v":0},{"$f":"IFERROR(IF(AND('Vegetation Continued, 4 Strata'!AF39=\"YES\",OR('Vegetation Continued, 4 Strata'!AL39=\"UPL\",'Vegetation Continued, 4 Strata'!AL39=\"FACU\",'Vegetation Continued, 4 Strata'!AL39=\"FAC\")),FALSE,TRUE),TRUE)","v":true},{"$f":"IFERROR(IF('Vegetation Continued, 4 Strata'!AL39=\"obl\",BQ61,0),0)","v":0},{"$f":"IFERROR(IF('Vegetation Continued, 4 Strata'!AL39=\"facw\",BQ61,0),0)","v":0},{"$f":"IFERROR(IF('Vegetation Continued, 4 Strata'!AL39=\"fac\",BQ61,0),0)","v":0},{"$f":"IFERROR(IF('Vegetation Continued, 4 Strata'!AL39=\"facu\",BQ61,0),0)","v":0},{"$f":"IFERROR(IF('Vegetation Continued, 4 Strata'!AL39=\"upl\",BQ61,0),0)","v":0},0,{"$f":"IFERROR(LARGE(BQ$38:BQ$61,24),0)","v":0},0,{"$f":"IF(AND(CE61>0,SUM(CF$38:CF60)>0.5),\"\",CE61)","v":0},null,{"$f":"IFERROR(IF(ISNA(MATCH(\"AGCP\",$CH$4:$CH$9,0)),IF(ISNA(MATCH(\"WGC\",$CH$4:$CH$9,0)),\"\",VLOOKUP('Vegetation Continued, 4 Strata'!D39,Plant_List,3,FALSE)),VLOOKUP('Vegetation Continued, 4 Strata'!D39,Plant_List,2,FALSE)),\"\")","v":""}]
[null,null,null,null,null,null,null,null,null,null,null,null,null,null,null,null,null,null,null,null,null,null,null,null,null,null,null,null,null,null,null,null,null,null,null,null,null,null,null,null,null,null,null,null,null,null,null,null,null,null,null,null,null,null,null,null,null,null,null,null,null,null,null,null,null,null,"LRR P, MLRA 135B"]
[null,null,null,null,null,null,null,null,null,null,null,null,null,null,null,null,null,null,null,null,null,null,null,null,null,null,null,null,null,null,null,null,null,null,null,null,null,null,null,null,null,null,null,null,null,null,null,null,null,null,null,null,null,null,null,null,null,null,null,null,null,null,null,null,null,null,"AR WGC",null,{"$f":"Z43","v":0},{"$f":"IF(AND(AF43=\"Yes\",OR(AL43=\"OBL\",AL43=\"FACW\",AL43=\"FAC\")),1,0)","v":0},{"$f":"IF(AF43=\"Yes\",1,0)","v":0},{"$f":"IF(AND(AF43=\"Yes\",OR(AL43=\"OBL\",AL43=\"FACW\")),1,0)","v":0},{"$f":"IF(AND(AF43=\"Yes\",OR(AL43=\"UPL\",AL43=\"FACU\")),1,0)","v":0},{"$f":"IF(OR(AL43=\"OBL\",AL43=\"FACW\"),1,0)","v":0},{"$f":"IF(OR(AL43=\"UPL\",AL43=\"FACU\"),1,0)","v":0},{"$f":"IF(AND(AF43=\"YES\",OR(AL43=\"UPL\",AL43=\"FACU\",AL43=\"FAC\")),FALSE,TRUE)","v":true},{"$f":"IF($AL43=\"obl\",$Z43,0)","v":0},{"$f":"IF($AL43=\"facw\",$Z43,0)","v":0},{"$f":"IF($AL43=\"fac\",$Z43,0)","v":0},{"$f":"IF($AL43=\"facu\",$Z43,0)","v":0},{"$f":"IF($AL43=\"upl\",$Z43,0)","v":0},{"$f":"IFERROR(Z43/Z$48,0)","v":0},{"$f":"IFERROR(LARGE(BQ$63:BQ$72,1),0)","v":0},{"$f":"IFERROR(CE63/$Z$48,0)","v":0},{"$f":"IF(CE63>0,CE63,\"\")","v":""},null,{"$f":"IFERROR(IF(ISNA(MATCH(\"AGCP\",$CH$4:$CH$9,0)),IF(ISNA(MATCH(\"WGC\",$CH$4:$CH$9,0)),\"\",VLOOKUP(D43,Plant_List,3,FALSE)),VLOOKUP(D43,Plant_List,2,FALSE)),\"\")","v":""}]
[null,null,null,null,null,null,null,null,null,null,null,null,null,null,null,null,null,null,null,null,null,null,null,null,null,null,null,null,null,null,null,null,null,null,null,null,null,null,null,null,null,null,null,null,null,null,null,null,null,null,null,null,null,null,null,null,null,null,null,null,null,null,null,null,null,null,"LRR O",null,{"$f":"Z44","v":0},{"$f":"IF(AND(AF44=\"Yes\",OR(AL44=\"OBL\",AL44=\"FACW\",AL44=\"FAC\")),1,0)","v":0},{"$f":"IF(AF44=\"Yes\",1,0)","v":0},{"$f":"IF(AND(AF44=\"Yes\",OR(AL44=\"OBL\",AL44=\"FACW\")),1,0)","v":0},{"$f":"IF(AND(AF44=\"Yes\",OR(AL44=\"UPL\",AL44=\"FACU\")),1,0)","v":0},0,0,true,{"$f":"IF($AL44=\"obl\",$Z44,0)","v":0},{"$f":"IF($AL44=\"facw\",$Z44,0)","v":0},{"$f":"IF($AL44=\"fac\",$Z44,0)","v":0},{"$f":"IF($AL44=\"facu\",$Z44,0)","v":0},{"$f":"IF($AL44=\"upl\",$Z44,0)","v":0},{"$f":"IFERROR(Z44/Z$48,0)","v":0},{"$f":"IFERROR(LARGE(BQ$63:BQ$72,2),0)","v":0},{"$f":"IFERROR(CE64/$Z$48,0)","v":0},{"$f":"IF(AND(CE64>0,CF63>0.5),\"\",CE64)","v":0},null,{"$f":"IFERROR(IF(ISNA(MATCH(\"AGCP\",$CH$4:$CH$9,0)),IF(ISNA(MATCH(\"WGC\",$CH$4:$CH$9,0)),\"\",VLOOKUP(D44,Plant_List,3,FALSE)),VLOOKUP(D44,Plant_List,2,FALSE)),\"\")","v":""}]
[null,null,null,null,null,null,null,null,null,null,null,null,null,null,null,null,null,null,null,null,null,null,null,null,null,null,null,null,null,null,null,null,null,null,null,null,null,null,null,null,null,null,null,null,null,null,null,null,null,null,null,null,null,null,null,null,null,null,null,null,null,null,null,null,null,null,"LRR O, MLRA 131A",null,0,{"$f":"IF(AND(AF45=\"Yes\",OR(AL45=\"OBL\",AL45=\"FACW\",AL45=\"FAC\")),1,0)","v":0},{"$f":"IF(AF45=\"Yes\",1,0)","v":0},{"$f":"IF(AND(AF45=\"Yes\",OR(AL45=\"OBL\",AL45=\"FACW\")),1,0)","v":0},{"$f":"IF(AND(AF45=\"Yes\",OR(AL45=\"UPL\",AL45=\"FACU\")),1,0)","v":0},0,0,true,{"$f":"IF($AL45=\"obl\",$Z45,0)","v":0},{"$f":"IF($AL45=\"facw\",$Z45,0)","v":0},{"$f":"IF($AL45=\"fac\",$Z45,0)","v":0},{"$f":"IF($AL45=\"facu\",$Z45,0)","v":0},{"$f":"IF($AL45=\"upl\",$Z45,0)","v":0},{"$f":"IFERROR(Z45/Z$48,0)","v":0},{"$f":"IFERROR(LARGE(BQ$63:BQ$72,3),0)","v":0},0,{"$f":"IF(AND(CE65>0,SUM(CF$63:CF64)>0.5),\"\",CE65)","v":0},null,{"$f":"IFERROR(IF(ISNA(MATCH(\"AGCP\",$CH$4:$CH$9,0)),IF(ISNA(MATCH(\"WGC\",$CH$4:$CH$9,0)),\"\",VLOOKUP(D45,Plant_List,3,FALSE)),VLOOKUP(D45,Plant_List,2,FALSE)),\"\")","v":""}]
[null,null,null,null,null,null,null,null,null,null,null,null,null,null,null,null,null,null,null,null,null,null,null,null,null,null,null,null,null,null,null,null,null,null,null,null,null,null,null,null,null,null,null,null,null,null,null,null,null,null,null,null,null,null,null,null,null,null,null,null,null,null,null,null,null,null,"LRR O, MLRA 131B",null,0,{"$f":"IF(AND(AF46=\"Yes\",OR(AL46=\"OBL\",AL46=\"FACW\",AL46=\"FAC\")),1,0)","v":0},{"$f":"IF(AF46=\"Yes\",1,0)","v":0},{"$f":"IF(AND(AF46=\"Yes\",OR(AL46=\"OBL\",AL46=\"FACW\")),1,0)","v":0},{"$f":"IF(AND(AF46=\"Yes\",OR(AL46=\"UPL\",AL46=\"FACU\")),1,0)","v":0},0,0,true,{"$f":"IF($AL46=\"obl\",$Z46,0)","v":0},{"$f":"IF($AL46=\"facw\",$Z46,0)","v":0},{"$f":"IF($AL46=\"fac\",$Z46,0)","v":0},{"$f":"IF($AL46=\"facu\",$Z46,0)","v":0},{"$f":"IF($AL46=\"upl\",$Z46,0)","v":0},{"$f":"IFERROR(Z46/Z$48,0)","v":0},{"$f":"IFERROR(LARGE(BQ$63:BQ$72,4),0)","v":0},0,{"$f":"IF(AND(CE66>0,SUM(CF$63:CF65)>0.5),\"\",CE66)","v":0},null,{"$f":"IFERROR(IF(ISNA(MATCH(\"AGCP\",$CH$4:$CH$9,0)),IF(ISNA(MATCH(\"WGC\",$CH$4:$CH$9,0)),\"\",VLOOKUP(D46,Plant_List,3,FALSE)),VLOOKUP(D46,Plant_List,2,FALSE)),\"\")","v":""}]
[null,null,null,null,null,null,null,null,null,null,null,null,null,null,null,null,null,null,null,null,null,null,null,null,null,null,null,null,null,null,null,null,null,null,null,null,null,null,null,null,null,null,null,null,null,null,null,null,null,null,null,null,null,null,null,null,null,null,null,null,null,null,null,null,null,null,"LRR O, MLRA 131C",null,0,{"$f":"IF(AND(AF47=\"Yes\",OR(AL47=\"OBL\",AL47=\"FACW\",AL47=\"FAC\")),1,0)","v":0},{"$f":"IF(AF47=\"Yes\",1,0)","v":0},{"$f":"IF(AND(AF47=\"Yes\",OR(AL47=\"OBL\",AL47=\"FACW\")),1,0)","v":0},{"$f":"IF(AND(AF47=\"Yes\",OR(AL47=\"UPL\",AL47=\"FACU\")),1,0)","v":0},0,0,true,{"$f":"IF($AL47=\"obl\",$Z47,0)","v":0},{"$f":"IF($AL47=\"facw\",$Z47,0)","v":0},{"$f":"IF($AL47=\"fac\",$Z47,0)","v":0},{"$f":"IF($AL47=\"facu\",$Z47,0)","v":0},{"$f":"IF($AL47=\"upl\",$Z47,0)","v":0},{"$f":"IFERROR(Z47/Z$48,0)","v":0},{"$f":"IFERROR(LARGE(BQ$63:BQ$72,5),0)","v":0},{"$f":"IFERROR(CE67/$Z$48,0)","v":0},{"$f":"IF(AND(CE67>0,SUM(CF$63:CF66)>0.5),\"\",CE67)","v":0},null,{"$f":"IFERROR(IF(ISNA(MATCH(\"AGCP\",$CH$4:$CH$9,0)),IF(ISNA(MATCH(\"WGC\",$CH$4:$CH$9,0)),\"\",VLOOKUP(D47,Plant_List,3,FALSE)),VLOOKUP(D47,Plant_List,2,FALSE)),\"\")","v":""}]
[null,null,null,null,null,null,null,null,null,null,null,null,null,null,null,null,null,null,null,null,null,null,null,null,null,null,null,null,null,null,null,null,null,null,null,null,null,null,null,null,null,null,null,null,null,null,null,null,null,null,null,null,null,null,null,null,null,null,null,null,null,null,null,null,null,null,"LRR O, MLRA 131D",null,{"$f":"IFERROR('Vegetation Continued, 4 Strata'!Z43,0)","v":0},{"$f":"IFERROR(IF(AND('Vegetation Continued, 4 Strata'!AF43=\"Yes\",OR('Vegetation Continued, 4 Strata'!AL43=\"OBL\",'Vegetation Continued, 4 Strata'!AL43=\"FACW\",'Vegetation Continued, 4 Strata'!AL43=\"FAC\")),1,0),0)","v":0},{"$f":"IFERROR(IF('Vegetation Continued, 4 Strata'!AF43=\"Yes\",1,0),0)","v":0},{"$f":"IFERROR(IF(AND('Vegetation Continued, 4 Strata'!AF43=\"Yes\",OR('Vegetation Continued, 4 Strata'!AL43=\"OBL\",'Vegetation Continued, 4 Strata'!AL43=\"FACW\")),1,0),0)","v":0},{"$f":"IFERROR(IF(AND('Vegetation Continued, 4 Strata'!AF43=\"Yes\",OR('Vegetation Continued, 4 Strata'!AL43=\"UPL\",'Vegetation Continued, 4 Strata'!AL43=\"FACU\")),1,0),0)","v":0},{"$f":"IFERROR(IF(OR('Vegetation Continued, 4 Strata'!AL43=\"OBL\",'Vegetation Continued, 4 Strata'!AL43=\"FACW\"),1,0),0)","v":0},{"$f":"IFERROR(IF(OR('Vegetation Continued, 4 Strata'!AL43=\"UPL\",'Vegetation Continued, 4 Strata'!AL43=\"FACU\"),1,0),0)","v":0},{"$f":"IFERROR(IF(AND('Vegetation Continued, 4 Strata'!AF43=\"YES\",OR('Vegetation Continued, 4 Strata'!AL43=\"UPL\",'Vegetation Continued, 4 Strata'!AL43=\"FACU\",'Vegetation Continued, 4 Strata'!AL43=\"FAC\")),FALSE,TRUE),TRUE)","v":true},{"$f":"IFERROR(IF('Vegetation Continued, 4 Strata'!AL43=\"obl\",BQ68,0),0)","v":0},{"$f":"IFERROR(IF('Vegetation Continued, 4 Strata'!AL43=\"facw\",BQ68,0),0)","v":0},{"$f":"IFERROR(IF('Vegetation Continued, 4 Strata'!AL43=\"fac\",BQ68,0),0)","v":0},{"$f":"IFERROR(IF('Vegetation Continued, 4 Strata'!AL43=\"facu\",BQ68,0),0)","v":0},{"$f":"IFERROR(IF('Vegetation Continued, 4 Strata'!AL43=\"upl\",BQ68,0),0)","v":0},{"$f":"IFERROR(BQ68/Z$48,0)","v":0},{"$f":"IFERROR(LARGE(BQ$63:BQ$72,6),0)","v":0},{"$f":"IFERROR(CE68/Z$48,0)","v":0},{"$f":"IF(AND(CE68>0,SUM(CF$63:CF67)>0.5),\"\",CE68)","v":0},null,{"$f":"IFERROR(IF(ISNA(MATCH(\"AGCP\",$CH$4:$CH$9,0)),IF(ISNA(MATCH(\"WGC\",$CH$4:$CH$9,0)),\"\",VLOOKUP('Vegetation Continued, 4 Strata'!D43,Plant_List,3,FALSE)),VLOOKUP('Vegetation Continued, 4 Strata'!D43,Plant_List,2,FALSE)),\"\")","v":""}]
[null,null,null,null,null,null,null,null,null,null,null,null,null,null,null,null,null,null,null,null,null,null,null,null,null,null,null,null,null,null,null,null,null,null,null,null,null,null,null,null,null,null,null,null,null,null,null,null,null,null,null,null,null,null,null,null,null,null,null,null,null,null,null,null,null,null,"LRR P, MLRA 133B",null,{"$f":"IFERROR('Vegetation Continued, 4 Strata'!Z44,0)","v":0},{"$f":"IFERROR(IF(AND('Vegetation Continued, 4 Strata'!AF44=\"Yes\",OR('Vegetation Continued, 4 Strata'!AL44=\"OBL\",'Vegetation Continued, 4 Strata'!AL44=\"FACW\",'Vegetation Continued, 4 Strata'!AL44=\"FAC\")),1,0),0)","v":0},{"$f":"IFERROR(IF('Vegetation Continued, 4 Strata'!AF44=\"Yes\",1,0),0)","v":0},{"$f":"IFERROR(IF(AND('Vegetation Continued, 4 Strata'!AF44=\"Yes\",OR('Vegetation Continued, 4 Strata'!AL44=\"OBL\",'Vegetation Continued, 4 Strata'!AL44=\"FACW\")),1,0),0)","v":0},{"$f":"IFERROR(IF(AND('Vegetation Continued, 4 Strata'!AF44=\"Yes\",OR('Vegetation Continued, 4 Strata'!AL44=\"UPL\",'Vegetation Continued, 4 Strata'!AL44=\"FACU\")),1,0),0)","v":0},{"$f":"IFERROR(IF(OR('Vegetation Continued, 4 Strata'!AL44=\"OBL\",'Vegetation Continued, 4 Strata'!AL44=\"FACW\"),1,0),0)","v":0},{"$f":"IFERROR(IF(OR('Vegetation Continued, 4 Strata'!AL44=\"UPL\",'Vegetation Continued, 4 Strata'!AL44=\"FACU\"),1,0),0)","v":0},{"$f":"IFERROR(IF(AND('Vegetation Continued, 4 Strata'!AF44=\"YES\",OR('Vegetation Continued, 4 Strata'!AL44=\"UPL\",'Vegetation Continued, 4 Strata'!AL44=\"FACU\",'Vegetation Continued, 4 Strata'!AL44=\"FAC\")),FALSE,TRUE),TRUE)","v":true},{"$f":"IFERROR(IF('Vegetation Continued, 4 Strata'!AL44=\"obl\",BQ69,0),0)","v":0},{"$f":"IFERROR(IF('Vegetation Continued, 4 Strata'!AL44=\"facw\",BQ69,0),0)","v":0},{"$f":"IFERROR(IF('Vegetation Continued, 4 Strata'!AL44=\"fac\",BQ69,0),0)","v":0},{"$f":"IFERROR(IF('Vegetation Continued, 4 Strata'!AL44=\"facu\",BQ69,0),0)","v":0},{"$f":"IFERROR(IF('Vegetation Continued, 4 Strata'!AL44=\"upl\",BQ69,0),0)","v":0},{"$f":"IFERROR(BQ69/Z$48,0)","v":0},{"$f":"IFERROR(LARGE(BQ$63:BQ$72,7),0)","v":0},{"$f":"IFERROR(CE69/Z$48,0)","v":0},{"$f":"IF(AND(CE69>0,SUM(CF$63:CF68)>0.5),\"\",CE69)","v":0},null,{"$f":"IFERROR(IF(ISNA(MATCH(\"AGCP\",$CH$4:$CH$9,0)),IF(ISNA(MATCH(\"WGC\",$CH$4:$CH$9,0)),\"\",VLOOKUP('Vegetation Continued, 4 Strata'!D44,Plant_List,3,FALSE)),VLOOKUP('Vegetation Continued, 4 Strata'!D44,Plant_List,2,FALSE)),\"\")","v":""}]
[null,null,null,null,null,null,null,null,null,null,null,null,null,null,null,null,null,null,null,null,null,null,null,null,null,null,null,null,null,null,null,null,null,null,null,null,null,null,null,null,null,null,null,null,null,null,null,null,null,null,null,null,null,null,null,null,null,null,null,null,null,null,null,null,null,null,"LRR P, MLRA 134",null,{"$f":"IFERROR('Vegetation Continued, 4 Strata'!Z45,0)","v":0},{"$f":"IFERROR(IF(AND('Vegetation Continued, 4 Strata'!AF45=\"Yes\",OR('Vegetation Continued, 4 Strata'!AL45=\"OBL\",'Vegetation Continued, 4 Strata'!AL45=\"FACW\",'Vegetation Continued, 4 Strata'!AL45=\"FAC\")),1,0),0)","v":0},{"$f":"IFERROR(IF('Vegetation Continued, 4 Strata'!AF45=\"Yes\",1,0),0)","v":0},{"$f":"IFERROR(IF(AND('Vegetation Continued, 4 Strata'!AF45=\"Yes\",OR('Vegetation Continued, 4 Strata'!AL45=\"OBL\",'Vegetation Continued, 4 Strata'!AL45=\"FACW\")),1,0),0)","v":0},{"$f":"IFERROR(IF(AND('Vegetation Continued, 4 Strata'!AF45=\"Yes\",OR('Vegetation Continued, 4 Strata'!AL45=\"UPL\",'Vegetation Continued, 4 Strata'!AL45=\"FACU\")),1,0),0)","v":0},{"$f":"IFERROR(IF(OR('Vegetation Continued, 4 Strata'!AL45=\"OBL\",'Vegetation Continued, 4 Strata'!AL45=\"FACW\"),1,0),0)","v":0},{"$f":"IFERROR(IF(OR('Vegetation Continued, 4 Strata'!AL45=\"UPL\",'Vegetation Continued, 4 Strata'!AL45=\"FACU\"),1,0),0)","v":0},{"$f":"IFERROR(IF(AND('Vegetation Continued, 4 Strata'!AF45=\"YES\",OR('Vegetation Continued, 4 Strata'!AL45=\"UPL\",'Vegetation Continued, 4 Strata'!AL45=\"FACU\",'Vegetation Continued, 4 Strata'!AL45=\"FAC\")),FALSE,TRUE),TRUE)","v":true},{"$f":"IFERROR(IF('Vegetation Continued, 4 Strata'!AL45=\"obl\",BQ70,0),0)","v":0},{"$f":"IFERROR(IF('Vegetation Continued, 4 Strata'!AL45=\"facw\",BQ70,0),0)","v":0},{"$f":"IFERROR(IF('Vegetation Continued, 4 Strata'!AL45=\"fac\",BQ70,0),0)","v":0},{"$f":"IFERROR(IF('Vegetation Continued, 4 Strata'!AL45=\"facu\",BQ70,0),0)","v":0},{"$f":"IFERROR(IF('Vegetation Continued, 4 Strata'!AL45=\"upl\",BQ70,0),0)","v":0},0,{"$f":"IFERROR(LARGE(BQ$63:BQ$72,8),0)","v":0},0,{"$f":"IF(AND(CE70>0,SUM(CF$63:CF69)>0.5),\"\",CE70)","v":0},null,{"$f":"IFERROR(IF(ISNA(MATCH(\"AGCP\",$CH$4:$CH$9,0)),IF(ISNA(MATCH(\"WGC\",$CH$4:$CH$9,0)),\"\",VLOOKUP('Vegetation Continued, 4 Strata'!D45,Plant_List,3,FALSE)),VLOOKUP('Vegetation Continued, 4 Strata'!D45,Plant_List,2,FALSE)),\"\")","v":""}]
[null,null,null,null,null,null,null,null,null,null,null,null,null,null,null,null,null,null,null,null,null,null,null,null,null,null,null,null,null,null,null,null,null,null,null,null,null,null,null,null,null,null,null,null,null,null,null,null,null,null,null,null,null,null,null,null,null,null,null,null,null,null,null,null,null,null,null,null,{"$f":"IFERROR('Vegetation Continued, 4 Strata'!Z46,0)","v":0},{"$f":"IFERROR(IF(AND('Vegetation Continued, 4 Strata'!AF46=\"Yes\",OR('Vegetation Continued, 4 Strata'!AL46=\"OBL\",'Vegetation Continued, 4 Strata'!AL46=\"FACW\",'Vegetation Continued, 4 Strata'!AL46=\"FAC\")),1,0),0)","v":0},{"$f":"IFERROR(IF('Vegetation Continued, 4 Strata'!AF46=\"Yes\",1,0),0)","v":0},{"$f":"IFERROR(IF(AND('Vegetation Continued, 4 Strata'!AF46=\"Yes\",OR('Vegetation Continued, 4 Strata'!AL46=\"OBL\",'Vegetation Continued, 4 Strata'!AL46=\"FACW\")),1,0),0)","v":0},{"$f":"IFERROR(IF(AND('Vegetation Continued, 4 Strata'!AF46=\"Yes\",OR('Vegetation Continued, 4 Strata'!AL46=\"UPL\",'Vegetation Continued, 4 Strata'!AL46=\"FACU\")),1,0),0)","v":0},{"$f":"IFERROR(IF(OR('Vegetation Continued, 4 Strata'!AL46=\"OBL\",'Vegetation Continued, 4 Strata'!AL46=\"FACW\"),1,0),0)","v":0},{"$f":"IFERROR(IF(OR('Vegetation Continued, 4 Strata'!AL46=\"UPL\",'Vegetation Continued, 4 Strata'!AL46=\"FACU\"),1,0),0)","v":0},{"$f":"IFERROR(IF(AND('Vegetation Continued, 4 Strata'!AF46=\"YES\",OR('Vegetation Continued, 4 Strata'!AL46=\"UPL\",'Vegetation Continued, 4 Strata'!AL46=\"FACU\",'Vegetation Continued, 4 Strata'!AL46=\"FAC\")),FALSE,TRUE),TRUE)","v":true},{"$f":"IFERROR(IF('Vegetation Continued, 4 Strata'!AL46=\"obl\",BQ71,0),0)","v":0},{"$f":"IFERROR(IF('Vegetation Continued, 4 Strata'!AL46=\"facw\",BQ71,0),0)","v":0},{"$f":"IFERROR(IF('Vegetation Continued, 4 Strata'!AL46=\"fac\",BQ71,0),0)","v":0},{"$f":"IFERROR(IF('Vegetation Continued, 4 Strata'!AL46=\"facu\",BQ71,0),0)","v":0},{"$f":"IFERROR(IF('Vegetation Continued, 4 Strata'!AL46=\"upl\",BQ71,0),0)","v":0},0,{"$f":"IFERROR(LARGE(BQ$63:BQ$72,9),0)","v":0},0,{"$f":"IF(AND(CE71>0,SUM(CF$63:CF70)>0.5),\"\",CE71)","v":0},null,{"$f":"IFERROR(IF(ISNA(MATCH(\"AGCP\",$CH$4:$CH$9,0)),IF(ISNA(MATCH(\"WGC\",$CH$4:$CH$9,0)),\"\",VLOOKUP('Vegetation Continued, 4 Strata'!D46,Plant_List,3,FALSE)),VLOOKUP('Vegetation Continued, 4 Strata'!D46,Plant_List,2,FALSE)),\"\")","v":""}]
[null,null,null,null,null,null,null,null,null,null,null,null,null,null,null,null,null,null,null,null,null,null,null,null,null,null,null,null,null,null,null,null,null,null,null,null,null,null,null,null,null,null,null,null,null,null,null,null,null,null,null,null,null,null,null,null,null,null,null,null,null,null,null,null,null,null,"LA AGCP",null,{"$f":"IFERROR('Vegetation Continued, 4 Strata'!Z47,0)","v":0},{"$f":"IFERROR(IF(AND('Vegetation Continued, 4 Strata'!AF47=\"Yes\",OR('Vegetation Continued, 4 Strata'!AL47=\"OBL\",'Vegetation Continued, 4 Strata'!AL47=\"FACW\",'Vegetation Continued, 4 Strata'!AL47=\"FAC\")),1,0),0)","v":0},{"$f":"IFERROR(IF('Vegetation Continued, 4 Strata'!AF47=\"Yes\",1,0),0)","v":0},{"$f":"IFERROR(IF(AND('Vegetation Continued, 4 Strata'!AF47=\"Yes\",OR('Vegetation Continued, 4 Strata'!AL47=\"OBL\",'Vegetation Continued, 4 Strata'!AL47=\"FACW\")),1,0),0)","v":0},{"$f":"IFERROR(IF(AND('Vegetation Continued, 4 Strata'!AF47=\"Yes\",OR('Vegetation Continued, 4 Strata'!AL47=\"UPL\",'Vegetation Continued, 4 Strata'!AL47=\"FACU\")),1,0),0)","v":0},{"$f":"IFERROR(IF(OR('Vegetation Continued, 4 Strata'!AL47=\"OBL\",'Vegetation Continued, 4 Strata'!AL47=\"FACW\"),1,0),0)","v":0},{"$f":"IFERROR(IF(OR('Vegetation Continued, 4 Strata'!AL47=\"UPL\",'Vegetation Continued, 4 Strata'!AL47=\"FACU\"),1,0),0)","v":0},{"$f":"IFERROR(IF(AND('Vegetation Continued, 4 Strata'!AF47=\"YES\",OR('Vegetation Continued, 4 Strata'!AL47=\"UPL\",'Vegetation Continued, 4 Strata'!AL47=\"FACU\",'Vegetation Continued, 4 Strata'!AL47=\"FAC\")),FALSE,TRUE),TRUE)","v":true},{"$f":"IFERROR(IF('Vegetation Continued, 4 Strata'!AL47=\"obl\",BQ72,0),0)","v":0},{"$f":"IFERROR(IF('Vegetation Continued, 4 Strata'!AL47=\"facw\",BQ72,0),0)","v":0},{"$f":"IFERROR(IF('Vegetation Continued, 4 Strata'!AL47=\"fac\",BQ72,0),0)","v":0},{"$f":"IFERROR(IF('Vegetation Continued, 4 Strata'!AL47=\"facu\",BQ72,0),0)","v":0},{"$f":"IFERROR(IF('Vegetation Continued, 4 Strata'!AL47=\"upl\",BQ72,0),0)","v":0},0,{"$f":"IFERROR(LARGE(BQ$63:BQ$72,10),0)","v":0},0,{"$f":"IF(AND(CE72>0,SUM(CF$63:CF71)>0.5),\"\",CE72)","v":0},null,{"$f":"IFERROR(IF(ISNA(MATCH(\"AGCP\",$CH$4:$CH$9,0)),IF(ISNA(MATCH(\"WGC\",$CH$4:$CH$9,0)),\"\",VLOOKUP('Vegetation Continued, 4 Strata'!D47,Plant_List,3,FALSE)),VLOOKUP('Vegetation Continued, 4 Strata'!D47,Plant_List,2,FALSE)),\"\")","v":""}]
[null,null,null,null,null,null,null,null,null,null,null,null,null,null,null,null,null,null,null,null,null,null,null,null,null,null,null,null,null,null,null,null,null,null,null,null,null,null,null,null,null,null,null,null,null,null,null,null,null,null,null,null,null,null,null,null,null,null,null,null,null,null,null,null,null,null,"LRR P, MLRA 133A"]
[null,null,null,null,null,null,null,null,null,null,null,null,null,null,null,null,null,null,null,null,null,null,null,null,null,null,null,null,null,null,null,null,null,null,null,null,null,null,null,null,null,null,null,null,null,null,null,null,null,null,null,null,null,null,null,null,null,null,null,null,null,null,null,null,null,null,"LRR T, MLRA 152A"]
[null,null,null,null,null,null,null,null,null,null,null,null,null,null,null,null,null,null,null,null,null,null,null,null,null,null,null,null,null,null,null,null,null,null,null,null,null,null,null,null,null,null,null,null,null,null,null,null,null,null,null,null,null,null,null,null,null,null,null,null,null,null,null,null,null,null,"LA WGC"]
[null,null,null,null,null,null,null,null,null,null,null,null,null,null,null,null,null,null,null,null,null,null,null,null,null,null,null,null,null,null,null,null,null,null,null,null,null,null,null,null,null,null,null,null,null,null,null,null,null,null,null,null,null,null,null,null,null,null,null,null,null,null,null,null,null,null,"LRR O"]
[null,null,null,null,null,null,null,null,null,null,null,null,null,null,null,null,null,null,null,null,null,null,null,null,null,null,null,null,null,null,null,null,null,null,null,null,null,null,null,null,null,null,null,null,null,null,null,null,null,null,null,null,null,null,null,null,null,null,null,null,null,null,null,null,null,null,"LRR O, MLRA 131A"]
[null,null,null,null,null,null,null,null,null,null,null,null,null,null,null,null,null,null,null,null,null,null,null,null,null,null,null,null,null,null,null,null,null,null,null,null,null,null,null,null,null,null,null,null,null,null,null,null,null,null,null,null,null,null,null,null,null,null,null,null,null,null,null,null,null,null,"LRR O, MLRA 131B"]
[null,null,null,null,null,null,null,null,null,null,null,null,null,null,null,null,null,null,null,null,null,null,null,null,null,null,null,null,null,null,null,null,null,null,null,null,null,null,null,null,null,null,null,null,null,null,null,null,null,null,null,null,null,null,null,null,null,null,null,null,null,null,null,null,null,null,"LRR O, MLRA 131C"]
[null,null,null,null,null,null,null,null,null,null,null,null,null,null,null,null,null,null,null,null,null,null,null,null,null,null,null,null,null,null,null,null,null,null,null,null,null,null,null,null,null,null,null,null,null,null,null,null,null,null,null,null,null,null,null,null,null,null,null,null,null,null,null,null,null,null,"LRR O, MLRA 131D"]
[null,null,null,null,null,null,null,null,null,null,null,null,null,null,null,null,null,null,null,null,null,null,null,null,null,null,null,null,null,null,null,null,null,null,null,null,null,null,null,null,null,null,null,null,null,null,null,null,null,null,null,null,null,null,null,null,null,null,null,null,null,null,null,null,null,null,"LRR P, MLRA 133B"]
[null,null,null,null,null,null,null,null,null,null,null,null,null,null,null,null,null,null,null,null,null,null,null,null,null,null,null,null,null,null,null,null,null,null,null,null,null,null,null,null,null,null,null,null,null,null,null,null,null,null,null,null,null,null,null,null,null,null,null,null,null,null,null,null,null,null,"LRR P, MLRA 134"]
[null,null,null,null,null,null,null,null,null,null,null,null,null,null,null,null,null,null,null,null,null,null,null,null,null,null,null,null,null,null,null,null,null,null,null,null,null,null,null,null,null,null,null,null,null,null,null,null,null,null,null,null,null,null,null,null,null,null,null,null,null,null,null,null,null,null,"LRR T, MLRA 150A"]
[null,null,null,null,null,null,null,null,null,null,null,null,null,null,null,null,null,null,null,null,null,null,null,null,null,null,null,null,null,null,null,null,null,null,null,null,null,null,null,null,null,null,null,null,null,null,null,null,null,null,null,null,null,null,null,null,null,null,null,null,null,null,null,null,null,null,"LRR T, MLRA 151"]
[null,null,null,null,null,null,null,null,null,null,null,null,null,null,null,null,null,null,null,null,null,null,null,null,null,null,null,null,null,null,null,null,null,null,null,null,null,null,null,null,null,null,null,null,null,null,null,null,null,null,null,null,null,null,null,null,null,null,null,null,null,null,null,null,null,null,"LRR T, MLRA 152B"]
[]
[null,null,null,null,null,null,null,null,null,null,null,null,null,null,null,null,null,null,null,null,null,null,null,null,null,null,null,null,null,null,null,null,null,null,null,null,null,null,null,null,null,null,null,null,null,null,null,null,null,null,null,null,null,null,null,null,null,null,null,null,null,null,null,null,null,null,"MS AGCP"]
[null,null,null,null,null,null,null,null,null,null,null,null,null,null,null,null,null,null,null,null,null,null,null,null,null,null,null,null,null,null,null,null,null,null,null,null,null,null,null,null,null,null,null,null,null,null,null,null,null,null,null,null,null,null,null,null,null,null,null,null,null,null,null,null,null,null,"LRR P, MLRA 133A"]
[null,null,null,null,null,null,null,null,null,null,null,null,null,null,null,null,null,null,null,null,null,null,null,null,null,null,null,null,null,null,null,null,null,null,null,null,null,null,null,null,null,null,null,null,null,null,null,null,null,null,null,null,null,null,null,null,null,null,null,null,null,null,null,null,null,null,"LRR P, MLRA 135A"]
[null,null,null,null,null,null,null,null,null,null,null,null,null,null,null,null,null,null,null,null,null,null,null,null,null,null,null,null,null,null,null,null,null,null,null,null,null,null,null,null,null,null,null,null,null,null,null,null,null,null,null,null,null,null,null,null,null,null,null,null,null,null,null,null,null,null,"LRR T, MLRA 152A"]
[]
[null,null,null,null,null,null,null,null,null,null,null,null,null,null,null,null,null,null,null,null,null,null,null,null,null,null,null,null,null,null,null,null,null,null,null,null,null,null,null,null,null,null,null,null,null,null,null,null,null,null,null,null,null,null,null,null,null,null,null,null,null,null,null,null,null,null,"MS WGC"]
[null,null,null,null,null,null,null,null,null,null,null,null,null,null,null,null,null,null,null,null,null,null,null,null,null,null,null,null,null,null,null,null,null,null,null,null,null,null,null,null,null,null,null,null,null,null,null,null,null,null,null,null,null,null,null,null,null,null,null,null,null,null,null,null,null,null,"LRR O"]
[null,null,null,null,null,null,null,null,null,null,null,null,null,null,null,null,null,null,null,null,null,null,null,null,null,null,null,null,null,null,null,null,null,null,null,null,null,null,null,null,null,null,null,null,null,null,null,null,null,null,null,null,null,null,null,null,null,null,null,null,null,null,null,null,null,null,"LRR O, MLRA 131A"]
[null,null,null,null,null,null,null,null,null,null,null,null,null,null,null,null,null,null,null,null,null,null,null,null,null,null,null,null,null,null,null,null,null,null,null,null,null,null,null,null,null,null,null,null,null,null,null,null,null,null,null,null,null,null,null,null,null,null,null,null,null,null,null,null,null,null,"LRR P, MLRA 134"]
[null,null,null,null,null,null,null,null,null,null,null,null,null,null,null,null,null,null,null,null,null,null,null,null,null,null,null,null,null,null,null,null,null,null,null,null,null,null,null,null,null,null,null,null,null,null,null,null,null,null,null,null,null,null,null,null,null,null,null,null,null,null,null,null,null,null,"LRR T, MLRA 151"]
[]
[null,null,null,null,null,null,null,null,null,null,null,null,null,null,null,null,null,null,null,null,null,null,null,null,null,null,null,null,null,null,null,null,null,null,null,null,null,null,null,null,null,null,null,null,null,null,null,null,null,null,null,null,null,null,null,null,null,null,null,null,null,null,null,null,null,null,"OK AGCP"]
[null,null,null,null,null,null,null,null,null,null,null,null,null,null,null,null,null,null,null,null,null,null,null,null,null,null,null,null,null,null,null,null,null,null,null,null,null,null,null,null,null,null,null,null,null,null,null,null,null,null,null,null,null,null,null,null,null,null,null,null,null,null,null,null,null,null,"LRR P, MLRA 135B"]
[null,null,null,null,null,null,null,null,null,null,null,null,null,null,null,null,null,null,null,null,null,null,null,null,null,null,null,null,null,null,null,null,null,null,null,null,null,null,null,null,null,null,null,null,null,null,null,null,null,null,null,null,null,null,null,null,null,null,null,null,null,null,null,null,null,null,"OK WGC"]
[null,null,null,null,null,null,null,null,null,null,null,null,null,null,null,null,null,null,null,null,null,null,null,null,null,null,null,null,null,null,null,null,null,null,null,null,null,null,null,null,null,null,null,null,null,null,null,null,null,null,null,null,null,null,null,null,null,null,null,null,null,null,null,null,null,null,"LRR P, MLRA 133B"]
[]
[null,null,null,null,null,null,null,null,null,null,null,null,null,null,null,null,null,null,null,null,null,null,null,null,null,null,null,null,null,null,null,null,null,null,null,null,null,null,null,null,null,null,null,null,null,null,null,null,null,null,null,null,null,null,null,null,null,null,null,null,null,null,null,null,null,null,"TN AGCP"]
[null,null,null,null,null,null,null,null,null,null,null,null,null,null,null,null,null,null,null,null,null,null,null,null,null,null,null,null,null,null,null,null,null,null,null,null,null,null,null,null,null,null,null,null,null,null,null,null,null,null,null,null,null,null,null,null,null,null,null,null,null,null,null,null,null,null,"LRR P, MLRA 133A"]
[null,null,null,null,null,null,null,null,null,null,null,null,null,null,null,null,null,null,null,null,null,null,null,null,null,null,null,null,null,null,null,null,null,null,null,null,null,null,null,null,null,null,null,null,null,null,null,null,null,null,null,null,null,null,null,null,null,null,null,null,null,null,null,null,null,null,"LRR P, MLRA 135A"]
[null,null,null,null,null,null,null,null,null,null,null,null,null,null,null,null,null,null,null,null,null,null,null,null,null,null,null,null,null,null,null,null,null,null,null,null,null,null,null,null,null,null,null,null,null,null,null,null,null,null,null,null,null,null,null,null,null,null,null,null,null,null,null,null,null,null,"TN WGC"]
[null,null,null,null,null,null,null,null,null,null,null,null,null,null,null,null,null,null,null,null,null,null,null,null,null,null,null,null,null,null,null,null,null,null,null,null,null,null,null,null,null,null,null,null,null,null,null,null,null,null,null,null,null,null,null,null,null,null,null,null,null,null,null,null,null,null,"LRR O"]
[null,null,null,null,null,null,null,null,null,null,null,null,null,null,null,null,null,null,null,null,null,null,null,null,null,null,null,null,null,null,null,null,null,null,null,null,null,null,null,null,null,null,null,null,null,null,null,null,null,null,null,null,null,null,null,null,null,null,null,null,null,null,null,null,null,null,"LRR O, MLRA 131A"]
[null,null,null,null,null,null,null,null,null,null,null,null,null,null,null,null,null,null,null,null,null,null,null,null,null,null,null,null,null,null,null,null,null,null,null,null,null,null,null,null,null,null,null,null,null,null,null,null,null,null,null,null,null,null,null,null,null,null,null,null,null,null,null,null,null,null,"LRR P, MLRA 134"]
[]
[null,null,null,null,null,null,null,null,null,null,null,null,null,null,null,null,null,null,null,null,null,null,null,null,null,null,null,null,null,null,null,null,null,null,null,null,null,null,null,null,null,null,null,null,null,null,null,null,null,null,null,null,null,null,null,null,null,null,null,null,null,null,null,null,null,null,"Conditional Formatting Indicator Status"]
[null,null,null,null,null,null,null,null,null,null,null,null,null,null,null,null,null,null,null,null,null,null,null,null,null,null,null,null,null,null,null,null,null,null,null,null,null,null,null,null,null,null,null,null,null,null,null,null,null,null,null,null,null,null,null,null,null,null,null,null,null,null,null,null,null,null,"AR"]
[null,null,null,null,null,null,null,null,null,null,null,null,null,null,null,null,null,null,null,null,null,null,null,null,null,null,null,null,null,null,null,null,null,null,null,null,null,null,null,null,null,null,null,null,null,null,null,null,null,null,null,null,null,null,null,null,null,null,null,null,null,null,null,null,null,null,"LRR O"]
[null,null,null,null,null,null,null,null,null,null,null,null,null,null,null,null,null,null,null,null,null,null,null,null,null,null,null,null,null,null,null,null,null,null,null,null,null,null,null,null,null,null,null,null,null,null,null,null,null,null,null,null,null,null,null,null,null,null,null,null,null,null,null,null,null,null,"LRR O, MLRA 131A"]
[null,null,null,null,null,null,null,null,null,null,null,null,null,null,null,null,null,null,null,null,null,null,null,null,null,null,null,null,null,null,null,null,null,null,null,null,null,null,null,null,null,null,null,null,null,null,null,null,null,null,null,null,null,null,null,null,null,null,null,null,null,null,null,null,null,null,"LRR O, MLRA 131B"]
[null,null,null,null,null,null,null,null,null,null,null,null,null,null,null,null,null,null,null,null,null,null,null,null,null,null,null,null,null,null,null,null,null,null,null,null,null,null,null,null,null,null,null,null,null,null,null,null,null,null,null,null,null,null,null,null,null,null,null,null,null,null,null,null,null,null,"LRR O, MLRA 131C"]
[null,null,null,null,null,null,null,null,null,null,null,null,null,null,null,null,null,null,null,null,null,null,null,null,null,null,null,null,null,null,null,null,null,null,null,null,null,null,null,null,null,null,null,null,null,null,null,null,null,null,null,null,null,null,null,null,null,null,null,null,null,null,null,null,null,null,"LRR O, MLRA 131D"]
[null,null,null,null,null,null,null,null,null,null,null,null,null,null,null,null,null,null,null,null,null,null,null,null,null,null,null,null,null,null,null,null,null,null,null,null,null,null,null,null,null,null,null,null,null,null,null,null,null,null,null,null,null,null,null,null,null,null,null,null,null,null,null,null,null,null,"LRR P, MLRA 133B"]
[null,null,null,null,null,null,null,null,null,null,null,null,null,null,null,null,null,null,null,null,null,null,null,null,null,null,null,null,null,null,null,null,null,null,null,null,null,null,null,null,null,null,null,null,null,null,null,null,null,null,null,null,null,null,null,null,null,null,null,null,null,null,null,null,null,null,"LRR P, MLRA 134"]
[null,null,null,null,null,null,null,null,null,null,null,null,null,null,null,null,null,null,null,null,null,null,null,null,null,null,null,null,null,null,null,null,null,null,null,null,null,null,null,null,null,null,null,null,null,null,null,null,null,null,null,null,null,null,null,null,null,null,null,null,null,null,null,null,null,null,"LRR P, MLRA 135B"]
[]
[null,null,null,null,null,null,null,null,null,null,null,null,null,null,null,null,null,null,null,null,null,null,null,null,null,null,null,null,null,null,null,null,null,null,null,null,null,null,null,null,null,null,null,null,null,null,null,null,null,null,null,null,null,null,null,null,null,null,null,null,null,null,null,null,null,null,"LA"]
[null,null,null,null,null,null,null,null,null,null,null,null,null,null,null,null,null,null,null,null,null,null,null,null,null,null,null,null,null,null,null,null,null,null,null,null,null,null,null,null,null,null,null,null,null,null,null,null,null,null,null,null,null,null,null,null,null,null,null,null,null,null,null,null,null,null,"LRR O"]
[null,null,null,null,null,null,null,null,null,null,null,null,null,null,null,null,null,null,null,null,null,null,null,null,null,null,null,null,null,null,null,null,null,null,null,null,null,null,null,null,null,null,null,null,null,null,null,null,null,null,null,null,null,null,null,null,null,null,null,null,null,null,null,null,null,null,"LRR O, MLRA 131A"]
[null,null,null,null,null,null,null,null,null,null,null,null,null,null,null,null,null,null,null,null,null,null,null,null,null,null,null,null,null,null,null,null,null,null,null,null,null,null,null,null,null,null,null,null,null,null,null,null,null,null,null,null,null,null,null,null,null,null,null,null,null,null,null,null,null,null,"LRR O, MLRA 131B"]
[null,null,null,null,null,null,null,null,null,null,null,null,null,null,null,null,null,null,null,null,null,null,null,null,null,null,null,null,null,null,null,null,null,null,null,null,null,null,null,null,null,null,null,null,null,null,null,null,null,null,null,null,null,null,null,null,null,null,null,null,null,null,null,null,null,null,"LRR O, MLRA 131C"]
[null,null,null,null,null,null,null,null,null,null,null,null,null,null,null,null,null,null,null,null,null,null,null,null,null,null,null,null,null,null,null,null,null,null,null,null,null,null,null,null,null,null,null,null,null,null,null,null,null,null,null,null,null,null,null,null,null,null,null,null,null,null,null,null,null,null,"LRR O, MLRA 131D"]
[null,null,null,null,null,null,null,null,null,null,null,null,null,null,null,null,null,null,null,null,null,null,null,null,null,null,null,null,null,null,null,null,null,null,null,null,null,null,null,null,null,null,null,null,null,null,null,null,null,null,null,null,null,null,null,null,null,null,null,null,null,null,null,null,null,null,"LRR P, MLRA 133A"]
[null,null,null,null,null,null,null,null,null,null,null,null,null,null,null,null,null,null,null,null,null,null,null,null,null,null,null,null,null,null,null,null,null,null,null,null,null,null,null,null,null,null,null,null,null,null,null,null,null,null,null,null,null,null,null,null,null,null,null,null,null,null,null,null,null,null,"LRR P, MLRA 133B"]
[null,null,null,null,null,null,null,null,null,null,null,null,null,null,null,null,null,null,null,null,null,null,null,null,null,null,null,null,null,null,null,null,null,null,null,null,null,null,null,null,null,null,null,null,null,null,null,null,null,null,null,null,null,null,null,null,null,null,null,null,null,null,null,null,null,null,"LRR P, MLRA 134"]
[null,null,null,null,null,null,null,null,null,null,null,null,null,null,null,null,null,null,null,null,null,null,null,null,null,null,null,null,null,null,null,null,null,null,null,null,null,null,null,null,null,null,null,null,null,null,null,null,null,null,null,null,null,null,null,null,null,null,null,null,null,null,null,null,null,null,"LRR T, MLRA 150A"]
[null,null,null,null,null,null,null,null,null,null,null,null,null,null,null,null,null,null,null,null,null,null,null,null,null,null,null,null,null,null,null,null,null,null,null,null,null,null,null,null,null,null,null,null,null,null,null,null,null,null,null,null,null,null,null,null,null,null,null,null,null,null,null,null,null,null,"LRR T, MLRA 151"]
[null,null,null,null,null,null,null,null,null,null,null,null,null,null,null,null,null,null,null,null,null,null,null,null,null,null,null,null,null,null,null,null,null,null,null,null,null,null,null,null,null,null,null,null,null,null,null,null,null,null,null,null,null,null,null,null,null,null,null,null,null,null,null,null,null,null,"LRR T, MLRA 152A"]
[null,null,null,null,null,null,null,null,null,null,null,null,null,null,null,null,null,null,null,null,null,null,null,null,null,null,null,null,null,null,null,null,null,null,null,null,null,null,null,null,null,null,null,null,null,null,null,null,null,null,null,null,null,null,null,null,null,null,null,null,null,null,null,null,null,null,"LRR T, MLRA 152B"]
[]
[null,null,null,null,null,null,null,null,null,null,null,null,null,null,null,null,null,null,null,null,null,null,null,null,null,null,null,null,null,null,null,null,null,null,null,null,null,null,null,null,null,null,null,null,null,null,null,null,null,null,null,null,null,null,null,null,null,null,null,null,null,null,null,null,null,null,"MS"]
[null,null,null,null,null,null,null,null,null,null,null,null,null,null,null,null,null,null,null,null,null,null,null,null,null,null,null,null,null,null,null,null,null,null,null,null,null,null,null,null,null,null,null,null,null,null,null,null,null,null,null,null,null,null,null,null,null,null,null,null,null,null,null,null,null,null,"LRR O"]
[null,null,null,null,null,null,null,null,null,null,null,null,null,null,null,null,null,null,null,null,null,null,null,null,null,null,null,null,null,null,null,null,null,null,null,null,null,null,null,null,null,null,null,null,null,null,null,null,null,null,null,null,null,null,null,null,null,null,null,null,null,null,null,null,null,null,"LRR O, MLRA 131A"]
[null,null,null,null,null,null,null,null,null,null,null,null,null,null,null,null,null,null,null,null,null,null,null,null,null,null,null,null,null,null,null,null,null,null,null,null,null,null,null,null,null,null,null,null,null,null,null,null,null,null,null,null,null,null,null,null,null,null,null,null,null,null,null,null,null,null,"LRR P, MLRA 133A"]
[null,null,null,null,null,null,null,null,null,null,null,null,null,null,null,null,null,null,null,null,null,null,null,null,null,null,null,null,null,null,null,null,null,null,null,null,null,null,null,null,null,null,null,null,null,null,null,null,null,null,null,null,null,null,null,null,null,null,null,null,null,null,null,null,null,null,"LRR P, MLRA 134"]
[null,null,null,null,null,null,null,null,null,null,null,null,null,null,null,null,null,null,null,null,null,null,null,null,null,null,null,null,null,null,null,null,null,null,null,null,null,null,null,null,null,null,null,null,null,null,null,null,null,null,null,null,null,null,null,null,null,null,null,null,null,null,null,null,null,null,"LRR P, MLRA 135A"]
[null,null,null,null,null,null,null,null,null,null,null,null,null,null,null,null,null,null,null,null,null,null,null,null,null,null,null,null,null,null,null,null,null,null,null,null,null,null,null,null,null,null,null,null,null,null,null,null,null,null,null,null,null,null,null,null,null,null,null,null,null,null,null,null,null,null,"LRR T, MLRA 151"]
[null,null,null,null,null,null,null,null,null,null,null,null,null,null,null,null,null,null,null,null,null,null,null,null,null,null,null,null,null,null,null,null,null,null,null,null,null,null,null,null,null,null,null,null,null,null,null,null,null,null,null,null,null,null,null,null,null,null,null,null,null,null,null,null,null,null,"LRR T, MLRA 152A"]
[]
[null,null,null,null,null,null,null,null,null,null,null,null,null,null,null,null,null,null,null,null,null,null,null,null,null,null,null,null,null,null,null,null,null,null,null,null,null,null,null,null,null,null,null,null,null,null,null,null,null,null,null,null,null,null,null,null,null,null,null,null,null,null,null,null,null,null,"OK"]
[null,null,null,null,null,null,null,null,null,null,null,null,null,null,null,null,null,null,null,null,null,null,null,null,null,null,null,null,null,null,null,null,null,null,null,null,null,null,null,null,null,null,null,null,null,null,null,null,null,null,null,null,null,null,null,null,null,null,null,null,null,null,null,null,null,null,"LRR P, MLRA 133B"]
[null,null,null,null,null,null,null,null,null,null,null,null,null,null,null,null,null,null,null,null,null,null,null,null,null,null,null,null,null,null,null,null,null,null,null,null,null,null,null,null,null,null,null,null,null,null,null,null,null,null,null,null,null,null,null,null,null,null,null,null,null,null,null,null,null,null,"LRR P, MLRA 135B"]
[]
[null,null,null,null,null,null,null,null,null,null,null,null,null,null,null,null,null,null,null,null,null,null,null,null,null,null,null,null,null,null,null,null,null,null,null,null,null,null,null,null,null,null,null,null,null,null,null,null,null,null,null,null,null,null,null,null,null,null,null,null,null,null,null,null,null,null,"TN"]
[null,null,null,null,null,null,null,null,null,null,null,null,null,null,null,null,null,null,null,null,null,null,null,null,null,null,null,null,null,null,null,null,null,null,null,null,null,null,null,null,null,null,null,null,null,null,null,null,null,null,null,null,null,null,null,null,null,null,null,null,null,null,null,null,null,null,"LRR O"]
[null,null,null,null,null,null,null,null,null,null,null,null,null,null,null,null,null,null,null,null,null,null,null,null,null,null,null,null,null,null,null,null,null,null,null,null,null,null,null,null,null,null,null,null,null,null,null,null,null,null,null,null,null,null,null,null,null,null,null,null,null,null,null,null,null,null,"LRR O, MLRA 131A"]
[null,null,null,null,null,null,null,null,null,null,null,null,null,null,null,null,null,null,null,null,null,null,null,null,null,null,null,null,null,null,null,null,null,null,null,null,null,null,null,null,null,null,null,null,null,null,null,null,null,null,null,null,null,null,null,null,null,null,null,null,null,null,null,null,null,null,"LRR P, MLRA 133A"]
[null,null,null,null,null,null,null,null,null,null,null,null,null,null,null,null,null,null,null,null,null,null,null,null,null,null,null,null,null,null,null,null,null,null,null,null,null,null,null,null,null,null,null,null,null,null,null,null,null,null,null,null,null,null,null,null,null,null,null,null,null,null,null,null,null,null,"LRR P, MLRA 134"]
[null,null,null,null,null,null,null,null,null,null,null,null,null,null,null,null,null,null,null,null,null,null,null,null,null,null,null,null,null,null,null,null,null,null,null,null,null,null,null,null,null,null,null,null,null,null,null,null,null,null,null,null,null,null,null,null,null,null,null,null,null,null,null,null,null,null,"LRR P, MLRA 135A"]

{"sheet":"Page 3 (Soil)","index":3,"n_rows":497,"n_cols":299,"rows_kept":497,"cut":false,"hidden":false,"merged":[[40,1,57,65],[13,0,33,0],[33,1,33,23],[32,3,32,21],[33,24,33,46],[29,23,29,65],[25,47,25,65],[27,47,27,65],[28,47,28,65],[30,23,30,65],[32,23,32,46],[32,47,32,65],[33,47,33,65],[20,23,20,45],[17,23,17,46],[19,23,19,46],[17,47,17,65],[16,47,16,65],[16,2,16,23],[28,2,28,21],[29,2,29,21],[39,1,39,65],[25,2,25,21],[27,2,27,21],[0,0,0,49],[0,50,0,56],[37,61,37,65],[13,1,13,45],[13,46,13,65],[12,1,12,45],[12,46,12,65],[14,47,14,65],[15,47,15,65],[18,47,18,65],[37,57,37,59],[37,52,37,55],[17,2,17,21],[18,2,18,21],[19,2,19,21],[20,2,20,21],[21,2,21,21],[22,2,22,21],[0,57,0,64],[1,0,1,65],[2,0,12,0],[2,1,2,65],[4,16,11,16],[7,17,7,19],[9,42,9,48],[10,42,10,48],[11,42,11,48],[9,1,9,5],[9,7,9,15],[9,17,9,19],[8,38,8,40],[11,1,11,5],[11,7,11,15],[11,17,11,19],[8,7,8,15],[9,38,9,40],[8,17,8,19],[10,7,10,15],[10,17,10,19],[10,21,10,28],[11,21,11,28],[11,38,11,40],[4,1,4,5],[4,7,4,15],[6,7,6,15],[8,30,8,32],[7,34,7,36],[6,17,6,19],[7,21,7,28],[6,1,6,5],[7,1,7,5],[7,7,7,15],[3,6,11,6],[5,1,5,5],[5,30,5,32],[5,17,5,19],[6,21,6,28],[7,30,7,32],[5,7,5,15],[9,34,9,36],[9,30,9,32],[11,34,11,36],[10,30,10,32],[10,34,10,36],[4,29,11,29],[3,257,3,263],[8,42,8,48],[6,30,6,32],[8,21,8,28],[3,116,3,120],[4,37,11,37],[4,38,4,40],[7,38,7,40],[4,42,4,48],[4,50,4,64],[7,50,7,64],[8,50,8,64],[9,50,9,64],[10,50,10,64],[5,42,5,48],[6,42,6,48],[11,50,11,64],[4,65,11,65],[5,34,5,36],[7,42,7,48],[4,33,11,33],[10,38,10,40],[4,30,4,32],[6,38,6,40],[3,112,3,113],[14,2,14,21],[4,41,11,41],[26,47,26,65],[23,2,23,21],[6,34,6,36],[11,30,11,32],[14,23,14,45],[15,2,15,21],[10,1,10,5],[3,20,11,20],[4,17,4,19],[3,7,3,19],[9,21,9,28],[8,1,8,5],[5,21,5,28],[4,21,4,28],[3,41,3,65],[4,34,4,36],[8,34,8,36],[3,21,3,40],[3,1,3,5],[18,23,18,45],[5,38,5,40],[6,50,6,64],[5,50,5,64],[38,1,38,41],[35,1,35,23],[36,2,36,5],[36,1,37,1],[19,47,19,65],[20,47,20,65],[35,42,36,65],[35,24,37,41],[24,47,24,65],[21,47,21,65],[31,47,31,65],[37,43,37,51],[37,10,37,23],[31,24,31,46],[23,23,23,45],[24,23,24,45],[22,47,22,65],[23,47,23,65],[22,23,22,46],[26,23,26,45],[32,1,32,2],[24,2,24,21],[34,0,34,65],[35,0,38,0],[25,23,25,45],[15,23,15,45],[16,24,16,45],[21,23,21,45],[27,23,27,45],[30,2,30,21],[31,2,31,23],[38,42,38,65],[36,6,36,23]]}
["SOIL",null,null,null,null,null,null,null,null,null,null,null,null,null,null,null,null,null,null,null,null,null,null,null,null,null,null,null,null,null,null,null,null,null,null,null,null,null,null,null,null,null,null,null,null,null,null,null,null,null,"Sampling Point:",null,null,null,null,null,null,{"$f":"IF('Page 1 (Hydrology)'!AP3=0,\"\",'Page 1 (Hydrology)'!AP3)","v":""},null,null,null,null,null,null,null,null,null,null,null,null,null,null,null,null,null,null,null,null,null,null,null,null,null,null,null,null,null,null,null,null,null,null,null,null,null,null,null,null,null,null,null,null,null,null,null,null,null,null,null,null,null,null,null,null,null,null,null,null,null,null,null,null,null,null,null,null,null,null,null,null,null,null,null,null,null,null,null,null,null,null,null,null,null,null,null,null,null,null,null,null,null,null,null,null,null,null,null,null,null,null,null,null,null,null,null,null,null,null,null,null,null,null,null,null,null,null,null,null,null,null,null,null,null,null,null,null,null,null,null,null,null,null,null,null,null,null,null,null,null,null,null,null,null,null,null,null,null,null,null,null,null,null,null,null,null,null,null,null,null,null,null,null,null,null,null,null,null,null,null,null,null,null,null,null,null,null,null,null,null,null," "]
[]
[null,"Profile Description:  (Describe to the depth needed to document the indicator or confirm the absence of indicators.)",null,null,null,null,null,null,null,null,null,null,null,null,null,null,null,null,null,null,null,null,null,null,null,null,null,null,null,null,null,null,null,null,null,null,null,null,null,null,null,null,null,null,null,null,null,null,null,null,null,null,null,null,null,null,null,null,null,null,null,null,null,null,null,null,null,null,null,null,null,null,null,null,null,null,null,null,null,null,null,null,null,null,null,null,null,null,null,null,null,null,null,null,null,null,null,null,null,null,null,null,null,null,null,null,null,null,null,null,null,null,null,null,null,null,null,null,null,null,null,null,null,null,null,null,null,null,null,null,null,null,null,null,null,null,null,null,null,null,null,null,null,null,null,null,null,null,null,null,null,null,null,null,null,null,null,null,null,null,null,null,null,null,null,null,null,null,null,null,null,null,null,null,null,null,null,null,null,null,null,null,null,null,null,null,null,null,null,null,null,null,null,null,null,null,null,null,null,null,null,null,null,null,null,null,null,null,null,null,null,null,null,null,null,null,null,null,null,null,null,null,null,null,null,null,null,null,null,null,null,null,null,null,null,null,null,null,null,null,null,null,null,null,null,null,null,null,null,null,null,null,null,null,null,null,null,null,null,null,null,null,null,null,null,null,null,null,null,null,null,null,null,null,null,null,null,null,null,null,null,null,null,null,null,null,null,null,null,null,null,null,null,null,null,null,"Hydrology Indicator and Hydric Soil Definition"]
[null,"Depth",null,null,null,null,null,"Matrix",null,null,null,null,null,null,null,null,null,null,null,null,null,"Redox Features",null,null,null,null,null,null,null,null,null,null,null,null,null,null,null,null,null,null,null,null,null,null,null,null,null,null,null,null,null,null,null,null,null,null,null,null,null,null,null,null,null,null,null,null,null,null,null,null,null,null,null,null,null,null,null,null,null,"Redox 2% Prominent/Distinct",null,null,null,"Redox 5% Prominent/Distinct",null,null,null,"Histosol (A1)",null,null,null,null,null,"Histic Epipedon (A2)",null,null,null,"Black Histic (A3)",null,null,null,null,null,"Hydrogen Sulfide (A4)","Stratified Layers (A5)",null,null,null,null,null,null,null,"Organic Bodies (A6)",null,null,null,"5 cm Mucky Mineral (A7)",null,null,null,null,"Muck Presence (A8)",null,null,null,"1 cm Muck (A9)",null,null,null,null,"2 cm Muck (A10)",null,null,null,null,"Depleted Below Dark Surface (A11)",null,null,null,null,null,null,null,"Thick Dark Surface (A12)",null,null,null,null,null,null,null,"Coast Prairie Redox (A16)",null,null,"Sandy Mucky Mineral (S1)",null,null,null,null,"Sandy Gleyed Matrix (S4)",null,null,null,"Sandy Redox (S5)",null,null,null,null,"Stripped Matrix (S6)",null,"Dark Surface (S7)",null,null,null,null,null,null,"Polyvalue Below Surface (S8)",null,null,null,null,null,null,null,"Thin Dark Surface (S9)",null,null,null,"Barrier Islands 1 cm Muck (S12)",null,null,null,null,"Loamy Mucky Mineral (F1)",null,null,null,null,"Loamy Gleyed Matrix (F2)",null,null,null,"Depleted Matrix (F3)",null,null,null,null,null,null,"Redox Dark Surface (F6)",null,null,null,null,"Depleted Dark Surface (F7)",null,null,null,null,null,null,null,null,null,null,null,"Redox Depressions (F8)",null,null,"Marl (F10)",null,"Depleted Ochric (F11)",null,null,null,null,"Iron-Manganese Masses (F12)",null,null,null,null,null,null,null,"Umbric Surface (F13)",null,null,null,null,null,null,"Delta Ochric (F17)",null,null,null,null,"Reduced Vertic (F18)",null,null,null,null,null,null,"Piedmont Floodplain Soils (F19)",null,null,null,null,null,null,"Anomalous Bright Loamy Soils (F20)",null,null,null,null,null,null,"Red Parent Material (F21)",null,null,null,null,null,null,"Very Shallow Dark Surface (F22)",null,null,null,null,null,"Barrier Islands Low Chroma Matrix (TS7)",null,null,null,null,"Presence of Reduced Iron (C4)"]
[null,"(inches)",null,null,null,null,null,"Color (moist)",null,null,null,null,null,null,null,null,null,"%",null,null,null,"Color (moist)",null,null,null,null,null,null,null,null,"%",null,null,null,"Type1",null,null,null,"Loc2",null,null,null,"Texture",null,null,null,null,null,null,null,"Remarks",null,null,null,null,null,null,null,null,null,null,null,null,null,null,null,"Start Depth","End Depth","Matrix Color","Hue","Value","Chroma","%","Hue","Value","Chroma","Contrast hue-chroma-value","Redox","Texture","Checks if there is a qualifying prominent or distinct redox in the same row and then checks if the redox is high enough %.  Else, it looks down the same soil layer (same start depth) and determines if there is a TRUE in the same layer.","Adds percentages of lines that qualify as Prominent or Distinct but are insufficient %.","Checks if there is Prominent or Distinct redox in that line.","Checks below this line in the same layer to see if there is Prominent or Distinct redox in that soil layer.","Checks if there is a qualifying prominent or distinct redox in the same row and then checks if the redox is high enough %.  Else, it looks down the same soil layer (same start depth) and determines if there is a TRUE in the same layer.","Adds percentages of lines that qualify as Prominent or Distinct but are insufficient %.","Checks if there is Prominent or Distinct redox in that line.","Checks below this line in the same layer to see if there is Prominent or Distinct redox in that soil layer.","Conditions","Calculates depth if organic soil","Running total of previous column that matches conditions","Checks if current soil layer is organic for histosols <16\" over a restrictive layer.","Checks for mineral soils with chroma > 2 and calculates depth","Totals the previous column and checks if >= 6 above indicator","Conditions","Calculates depth if organic soil","Running total of previous column that matches conditions","Checks for organic soil in layer above at the proper thickness, then checks if mineral soil exists at the current layer at chroma <= 2","Conditions","Checks for organic soils, then checks for 10YR or yellower, then checks for chroma 1 or less and calculates depth","Running total of previous column that matches conditions","Checks for organic soil in layer above at the proper thickness, then checks if mineral soil exists at the current layer at chroma <= 2","Checks for mineral soils with chroma > 2 and calculates depth","Totals the previous column and checks if >= 6 above indicator","CZ6 checks if Hydrogen Sulfide Odor (C1) on Page 1 is checked","Conditions","Checks for a layer with value <=3 chroma <=1, then checks for organic or mucky modified mineral.  TRUE for layer with color qualify or organic/mucky modified, False for colors that don't qualify, 0 for layers that are repeats (for redox) so they are not counted twice.","Checks for a layer with  chroma <=2, if not already qualified in DB.  TRUE for layer with color qualify, False for colors that don't qualify, 0 for layers that are repeats (for redox) so they are not counted twice.  ","Checks DC for >=2 qualifying layers <=6\" in depth.","Checks DB if any qualifying layers are above the current layer,else checks for 2 qualifying DC layers above, and finally checks if a qualifying layer in DB or DC has begun.","Checks DB if any qualifying layers are below the current layer, then if that layer <=6\" in depth, and finally checks if a qualifying layer in DC has begun.","Checks DB and DC to see if the indicator has started above.","Returns TRUE if a layer does not qualify in either DB or DC if the indicator has started.","Conditions","Checks for starting depth meeting conditions, then checks if there are organic bodies by checking if non-automated remarks have been entered in that line.","Checks for mineral soils with chroma > 2 and calculates depth","Totals the previous column and checks if >= 6 above indicator","Conditions","Calculates layers with mucky mineral","Running total of previous column that matches conditions","Checks for mineral soils with chroma > 2 and calculates depth","Totals the previous column and checks if >= 6 above indicator","Conditions","Checks for starting depth meeting conditions, then checks if there is muck and if it is value <=3 and chroma <=1.","Checks for mineral soils with chroma > 2 and calculates depth","Totals the previous column and checks if >= 6 above indicator","Conditions","Calculates layer depth for muck value <= 3, chroma <=1","Running total of previous column that matches conditions","Checks for mineral soils with chroma > 2 and calculates depth","Totals the previous column and checks if >= 6 above indicator","Conditions","Calculates layer depth for muck value <= 3, chroma <=1","Running total of previous column that matches conditions","Checks for mineral soils with chroma > 2 and calculates depth","Totals the previous column and checks if >= 6 above indicator","Conditions","Conditions","Checks for dark layers, organic and loamy/clayey with value <=3 chroma <=2 and sands value <=3, chroma <=1.  Returns TRUE for qualifying organic or loamy/clayey, SAND for sands, and FALSE if layer does not meet requirements.","Checks in columns 2 and 4 in Master Soil List to see if depleted matrix or gleyed matrix at 60% matrix, if not it checks column 3 with 2% prominent or distinct redox.  It calculates layer depth if TRUE in either case.","Running total of previous column that matches conditions in EF","Running total of previous column that matches conditions in EG","Checks for mineral soils with chroma > 2 and calculates depth","Totals the previous column and checks if >= 6 above indicator","Conditions","Calculates depth of layers above depleted matrix with value <=2.5 chroma <=1.","Running total of previous column that matches conditions","Checks in columns 2 and 4 in Master Soil List to see if depleted matrix or gleyed matrix at 60% matrix, if not it checks column 3 with 2% prominent or distinct redox.  It calculates layer depth if TRUE in either case.","Running total of previous column that matches conditions","Checks for layers above depleted matrix for value <=3, chroma <=1 if upper and lower totals are met.  Returns TRUE for qualifying, SAND for sands, FALSE if any layer does not meet requirements, and 0 for layers that qualify in EQ.","Checks for mineral soils with chroma > 2 and calculates depth","Totals the previous column and checks if >= 6 above indicator","Conditions","Calculates layers with 2% redox","Running total of previous column that matches conditions","Conditions","Calculates layers with mucky sand","Running total of previous column that matches conditions","Checks for mineral soils with chroma > 2 and calculates depth","Totals the previous column and checks if >= 6 above indicator","Conditions","Checks for sandy soil, then gleyed matrix in Master Soil List, then checks if start depth meets conditions","Checks for mineral soils with chroma > 2 and calculates depth","Totals the previous column and checks if >= 6 above indicator","Conditions","Calculates layers that are sandy, have matrix >=60, and have 2% prominent/distinct redox","Running total of previous column that matches conditions","Checks for mineral soils with chroma > 2 and calculates depth","Totals the previous column and checks if >= 6 above indicator","Conditions","Checks for sandy soil and starting depth meeting conditions, then checks if there is >=10% stripped material by checking if matrix <=90%","Conditions","Calculates sandy layers with value<=3 chroma <=1","Running total of previous column that matches conditions","Checks for sand in one layer greater than 4 inches, else checks for qualifying sand in layer above at the proper thickness, then checks if current layer has chroma <=2.","Checks for qualifying sand in layer above without thickness (for combination indicators), then checks if current layer has chroma <=2","Checks for mineral soils with chroma > 2 and calculates depth","Totals the previous column and checks if >= 6 above indicator","Conditions","Checks for sandy soil value <=3, chroma <=1, and starting depth meeting conditions","Checks for qualifying sand in layer above, then checks if current layer has at least 5% value <=3 chroma<=1 and >=4 and chroma <=1.","Adds percentages of lines that qualify as dark soil but are insufficient %.","Checks if there is dark soil in that line.","Checks below this line in the same layer to see if there is dark soil in that soil layer.","Checks for mineral soils with chroma > 2 and calculates depth","Totals the previous column and checks if >= 6 above indicator","Conditions","Calculates sandy layers  with value <=3 and chroma <=1","Running total of previous column that matches conditions","Checks for qualifying sand in layer above at the proper thickness, then checks if current layer has chroma <=1","Conditions","Calculates layer depth for muck value <= 3, chroma <=2","Running total of previous column that matches conditions","Checks for mineral soils with chroma > 2 and calculates depth","Totals the previous column and checks if >= 6 above indicator","Conditions","Calculates layers with mucky loam/clay","Running total of previous column that matches conditions","Checks for mineral soils with chroma > 2 and calculates depth","Totals the previous column and checks if >= 6 above indicator","Conditions","Checks for loamy/clayey soil, then gleyed matrix in Master Soil List, then if it meets conditions","Checks for mineral soils with chroma > 2 and calculates depth","Totals the previous column and checks if >= 6 above indicator","Conditions","Conditions","Checks in column 2 in Master Soil List to see if depleted matrix at 60% matrix, if not it checks column 3 with 2% prominent or distinct redox.  It calculates layer depth if TRUE in either case.","Running total of previous column that matches conditions in GV","Running total of column GX that matches conditions in GW","Checks for mineral soils with chroma > 2 and calculates depth","Totals the previous column and checks if >= 6 above indicator","Conditions","Calculates for prominent/distinct redox of >=2% with value <=3, chroma <=1 or for prominent/distinct redox >=5% with value <=3, chroma <=2.","Running total of previous column that matches conditions","Checks for mineral soils with chroma > 2 and calculates depth","Totals the previous column and checks if >= 6 above indicator","Conditions","Checks if there is a qualifying redox depletions in the same row and then checks if the redox >=10%.  Else, it looks down the same layer (same start depth) and determines if there is a TRUE in the same layer.","Adds percentages of lines that qualify as depletions but are insufficient %.","Checks if there are qualifying depletions in that line.","Checks below this line in the same layer to see if there are qualifying depletions in that soil layer.","Checks if there is a qualifying redox depletions in the same row and then checks if the redox >=20%.  Else, it looks down the same layer (same start depth) and determines if there is a TRUE in the same layer.","Checks if there are qualifying depletions in that line.","Checks below this line in the same layer to see if there are qualifying depletions in that soil layer.","Calculates depleted redox of >=10% with value <=3, chroma <=1 or for depleted redox >=20% with value <=3, chroma <=2.","Running total of previous column that matches conditions","Checks for mineral soils with chroma > 2 and calculates depth","Totals the previous column and checks if >= 6 above indicator","Conditions","Calculates loamy/clayey with prominent/distinct redox of >=5%.","Running total of previous column that matches conditions","Conditions","Checks for loamy/clayey soil, then if it meets conditions","Conditions","Calculates loamy/clayey layers with 60% value >=4, chroma <=1.","Running total of previous column that matches conditions","Checks for mineral soils with chroma > 2 and calculates depth","Totals the previous column and checks if >= 6 above indicator","Conditions","Checks if there is a qualifying prominent or distinct redox in the same row and then checks if the redox is high enough %.  Else, it looks down the same soil layer (same start depth) and determines if there is a TRUE in the same layer.","Adds percentages of lines that qualify as Prominent or Distinct but are insufficient %.","Checks if there is Prominent or Distinct redox in that line.","Checks below this line in the same layer to see if there is Prominent or Distinct redox in that soil layer.","Calculates layers with >=40% matrix chroma <=2 with qualifying redox","Running total of previous column that matches conditions","Checks if the qualifying surface layer is mineral.","Conditions","Calculates loamy/clayey layers with value <=3, chroma <=1.","Running total of previous column that matches conditions","Calculates loamy/clayey layers with chroma <=2 once IN begins.","Running total of previous column that matches conditions","Checks for mineral soils with chroma > 2 and calculates depth","Totals the previous column and checks if >= 6 above indicator","Conditions","Calculates loamy/clayey layers with 60% value >=4, chroma <=2.","Running total of previous column that matches conditions","Checks for mineral soils with chroma > 2 and calculates depth","Totals the previous column and checks if >= 6 above indicator","Conditions","Conditions","Calculates loamy/clayey layers.","Running total of previous column that matches conditions in IX","Running total of IZ that matches conditions in IY","Checks for mineral soils with chroma > 2 and calculates depth","Totals the previous column and checks if >= 6 above indicator","Conditions","Checks if there is a qualifying prominent or distinct redox in the same row and then checks if the redox is high enough %.  Else, it looks down the same soil layer (same start depth) and determines if there is a TRUE in the same layer.","Adds percentages of lines that qualify as Prominent or Distinct but are insufficient %.","Checks if there is Prominent or Distinct redox in that line.","Checks below this line in the same layer to see if there is Prominent or Distinct redox in that soil layer.","Calculates layers with >=60% matrix chroma <=3 with qualifying redox","Running total of previous column that matches conditions","Conditions","Checks if there is a qualifying prominent or distinct redox in the same row and then checks if the redox or depletions is high enough %.  Else, it looks down the same soil layer (same start depth) and determines if there is a TRUE in the same layer.","Adds percentages of lines that qualify as Prominent or Distinct or depletions but are insufficient %.","Checks if there is Prominent or Distinct redox or depletions in that line.","Checks below this line in the same layer to see if there is Prominent or Distinct redox or depletions in that soil layer.","Calculates layers that are loamy/clayey, >=60% matrix chroma <=4 with 10% redox concentrations or depletions","Running total of previous column that matches conditions","Conditions","Checks if there is a qualifying prominent or distinct redox in the same row and then checks if the redox or qualifying depletions are high enough %.  Else, it looks down the same soil layer (same start depth) and determines if there is a TRUE in the same layer.","Adds percentages of lines that qualify as Prominent or Distinct redox or qualifying depletions but are insufficient %.","Checks if there is Prominent or Distinct redox or qualifying depletions in that line.","Checks below this line in the same layer to see if there is Prominent or Distinct redox or qualifying in that soil layer.","Calculates layers that are loamy/clayey, 7.5YR or redder hue, value and chroma <=4 with 10% redox concentrations or depletions","Running total of previous column that matches conditions","Conditions","Conditions","Calculates layers with loam/clay, bedrock<=10 inches, value<=2.5, and chroma<=1","Running total of previous column that matches conditions in JZ","Running total of KB that matches conditions in KA","Checks for layers that don't qualify for KB for chroma <=2","Conditions","Calculates sandy layers with value <=4, chroma <=2.","Running total of previous column that matches conditions","Calculates sandy layers with hue 2.5Y or yellower, value >=4, and chroma <2.","Running total of previous column that matches conditions","Conditions","Checks if there is a reduced matrix in the layer."," "]
[null,null,null,null,null,null,null,null,null,null,null,null,null,null,null,null,null,null,null,null,null,null,null,null,null,null,null,null,null,null,null,null,null,null,null,null,null,null,null,null,null,null,null,null,null,null,null,null,null,null,{"$f":"IF(BZ6=\"\",\"\",BZ6)","v":""},null,null,null,null,null,null,null,null,null,null,null,null,null,null,null,{"$f":"IFERROR(IF(B6=\"\",\"\",VALUE(LEFT(B6,SEARCH(\"-\",B6)-1))),\"\")","v":""},{"$f":"IFERROR(IF(B6=\"\",\"\",VALUE(RIGHT(B6,LEN(B6)-SEARCH(\"-\",B6)))),\"\")","v":""},{"$f":"IF(H6=\"\",\"\",H6)","v":""},{"$f":"IFERROR(IF(H6=\"\",\"\",LEFT(TRIM(H6),SEARCH(\" \",(TRIM(H6)))-1)),\"\")","v":""},{"$f":"IFERROR(IF(H6=\"\",\"\",VALUE(MID(TRIM(H6),SEARCH(\" \",(TRIM(H6)))+1,(SEARCH(\"/\",(TRIM(H6)))-SEARCH(\" \",(TRIM(H6)))-1)))),\"\")","v":""},{"$f":"IFERROR(IF(AND(H6<>\"\",ISNUMBER(VALUE(RIGHT(TRIM(H6),1)))),VALUE(RIGHT(TRIM(H6),LEN(TRIM(H6))-SEARCH(\"/\",(TRIM(H6))))),\"\"),\"\")","v":""},{"$f":"VALUE(R6)","v":0},{"$f":"IFERROR(IF(V6=\"\",\"\",LEFT(TRIM(V6),SEARCH(\" \",(TRIM(V6)))-1)),\"\")","v":""},{"$f":"IFERROR(IF(V6=\"\",\"\",VALUE(MID(TRIM(V6),SEARCH(\" \",(TRIM(V6)))+1,(SEARCH(\"/\",(TRIM(V6)))-SEARCH(\" \",(TRIM(V6)))-1)))),\"\")","v":""},{"$f":"IFERROR(IF(AND(V6<>\"\",ISNUMBER(VALUE(RIGHT(TRIM(V6),1)))),VALUE(RIGHT(TRIM(V6),LEN(TRIM(V6))-SEARCH(\"/\",(TRIM(V6))))),\"\"),\"\")","v":""},{"$f":"IFERROR(IF($BV6=\"\",\"\",IF(AND($BR6=\"N\",$BV6=\"N\"),TEXT(0,\"0\")&\"-\"&TEXT(ABS($BW6-$BS6),\"0.0\")&\"-\"&TEXT(ABS(IF($BX6=\"\",0,$BX6)-IF($BT6=\"\",0,$BT6)),\"0\"),IF(OR($BR6=\"N\",$BV6=\"N\"),TEXT(1,\"0\")&\"-\"&TEXT(ABS($BW6-$BS6),\"0.0\")&\"-\"&TEXT(ABS(IF($BX6=\"\",0,$BX6)-IF($BT6=\"\",0,$BT6)),\"0\"),TEXT(ABS(VLOOKUP($BV6,$CC$62:$CD$81,2,FALSE)-VLOOKUP($BR6,$CC$62:$CD$81,2,FALSE)),\"0\")&\"-\"&TEXT(ABS($BW6-$BS6),\"0.0\")&\"-\"&TEXT(ABS(IF($BX6=\"\",0,$BX6)-IF($BT6=\"\",0,$BT6)),\"0\")))),\"\")","v":""},{"$f":"IFERROR(IF(SEARCH(\"C\",AI6,1)>=1,IF(AND($BW6<>\"\",$BW6<=3,OR($BX6=2,$BX6=1,$BX6=\"\"),$BS6<>\"\",$BS6<=3,OR($BX6=2,$BX6=1,$BX6=\"\")),$BZ$61,IF(OR($BR6=\"N\",$BV6=\"N\"),VLOOKUP($BY6,$CI$62:$CJ$445,2,FALSE),IF(ABS(VLOOKUP($BV6,$CC$62:$CD$81,2,FALSE)-VLOOKUP($BR6,$CC$62:$CD$81,2,FALSE))>=3,$BZ$63,VLOOKUP($BY6,$CI$62:$CJ$445,2,FALSE)))),\"\"),\"\")","v":""},{"$f":"IF(AQ6=\"\",\"\",AQ6)","v":""},{"$f":"IF(AND(OR($BZ6=$BZ$62,$BZ6=$BZ$63),$AE6>=CB$13),TRUE,IF(AND($BO6=$BO7,CB7=TRUE),TRUE,FALSE))","v":false},{"$f":"IF(AND(($AE6>0),OR($BZ6=$BZ$62,$BZ6=$BZ$63)),$AE6,0)","v":0},{"$f":"IF(OR(CB6=TRUE,CC6>=CB$13),TRUE,FALSE)","v":false},{"$f":"IF($BO6=$BO7,IF(OR(CD6=TRUE,CD7=TRUE,CE7=TRUE),TRUE,FALSE),IF(CD6=TRUE,TRUE,FALSE))","v":false},{"$f":"IF(AND(OR($BZ6=$BZ$62,$BZ6=$BZ$63),$AE6>=CF$13),TRUE,IF(AND($BO6=$BO7,CF7=TRUE),TRUE,FALSE))","v":false},{"$f":"IF(AND(($AE6>0),OR($BZ6=$BZ$62,$BZ6=$BZ$63)),$AE6,0)","v":0},{"$f":"IF(OR(CF6=TRUE,CG6>=CF$13),TRUE,FALSE)","v":false},{"$f":"IF($BO6=$BO7,IF(OR(CH6=TRUE,CH7=TRUE,CI7=TRUE),TRUE,FALSE),IF(CH6=TRUE,TRUE,FALSE))","v":false},"Min Cum. Thickness",{"$f":"IF(ISNA(MATCH($AQ6,$BX$65:$BX$67,0)),0,$BP6-$BO6)","v":0},{"$f":"IF($BP6<=CJ$9,CK6,IF(AND($BO6<CJ$9,CK6>0),CK6-($BP6-CJ$9),0))","v":0},{"$f":"IF(ISNA(MATCH(CA6,$BX$65:$BX$67,0)),FALSE,TRUE)","v":false},{"$f":"IF(ISNA(MATCH($CA6,$BX$61:$BX$64,0)),0,IF(AND(SUM(CL$6:CL6)=0,$BT6>2,$BT6<>\"\"),$BP6-$BO6,0))","v":0},{"$f":"IF(AND($B6<>\"\",$AQ6<>\"\",SUM(CN$6:CN6)>=6),TRUE,FALSE)","v":false},"Min Cum. Thickness",{"$f":"IF(ISNA(MATCH($CA6,$BX$65:$BX$67,0)),0,$BP6-$BO6)","v":0},{"$f":"CQ6","v":0},null,"Min Cum. Thickness",{"$f":"IF(ISNA(MATCH($AQ6,$BX$65:$BX$67,0)),0,IF(ISNA(MATCH($BR6,$CC$68:$CC$70,0)),0,IF(AND($BS6<>\"\",$BS6<=3,OR($BT6=1,$BT6=\"\")),$BP6-$BO6,0)))","v":0},{"$f":"IF($BO6>CT$9,0,CU6)","v":0},null,{"$f":"IF(ISNA(MATCH($CA6,$BX$61:$BX$64,0)),0,IF(AND(SUM(CV$6:CV6)=0,$BT6>2,$BT6<>\"\"),$BP6-$BO6,0))","v":0},{"$f":"IF(AND($B6<>\"\",$AQ6<>\"\",SUM(CX$6:CX6)>=6),TRUE,FALSE)","v":false},{"$f":"IF('Page 1 (Hydrology)'!P27=\"X\",\"X\",\"\")","v":""},"Max Start Depth",{"$f":"IF($B6=\"\",0,IF(AND($BS6<>\"\",$BS6<=3,OR($BT6=1,$BT6=\"\")),IF($AQ6<>\"\",TRUE,FALSE),IF(ISNA(MATCH($CA6,$BX$63:$BX$67,0)),FALSE,IF($AQ6<>\"\",TRUE,FALSE))))","v":0},{"$f":"IF(OR($B6=\"\",DB6=TRUE),0,IF(OR($BT6=2,$BT6=1,$BT6=\"\"),IF($AQ6<>\"\",TRUE,FALSE),FALSE))","v":0},{"$f":"IF($BO6<=$DA$7,COUNTIF(DC6,TRUE),0)","v":0},null,{"$f":"IF(ISNA(MATCH(TRUE,$DB7:$DB$12,0)),FALSE,IF(AND($BO6<=$DA$7,INDIRECT(ADDRESS(MATCH(TRUE,$DB7:$DB$12,0)+6,67))<=$DA$7,DC6=TRUE),TRUE,FALSE))","v":false},null,null,"Max Start Depth",{"$f":"IF(ISNA(MATCH($AY6,$BZ$61:$BZ$63,0)),IF(AND($BO6<=DI$7,$B6<>\"\",$AQ6<>\"\",$AY6<>\"\"),TRUE,FALSE),FALSE)","v":false},{"$f":"IF(ISNA(MATCH($CA6,$BX$61:$BX$64,0)),0,IF(ISNA(MATCH(TRUE,DJ$6:DJ6,0)),IF(AND($BT6>2,$BT6<>\"\"),$BP6-$BO6,0),0))","v":0},{"$f":"IF(AND($B6<>\"\",$AQ6<>\"\",SUM(DK$6:DK6)>=6),TRUE,FALSE)","v":false},"Min Cum. Thickness",{"$f":"IF(OR($CA6=$BX$63,$CA6=$BX$64),$BP6-$BO6,0)","v":0},{"$f":"IF($BO6>DM$9,0,DN6)","v":0},{"$f":"IF(ISNA(MATCH($CA6,$BX$61:$BX$64,0)),0,IF(AND(SUM(DO$6:DO6)=0,$BT6>2,$BT6<>\"\"),$BP6-$BO6,0))","v":0},{"$f":"IF(AND($B6<>\"\",$AQ6<>\"\",SUM(DP$6:DP6)>=6),TRUE,FALSE)","v":false},"Max Start Depth",{"$f":"IF(AND($B6<>\"\",$AQ6<>\"\",$CA6=$BX$65,$BS6<>\"\",$BS6<=3,OR($BT6=1,$BT6=\"\"),$BO6<=DR$7),TRUE,FALSE)","v":false},{"$f":"IF(ISNA(MATCH($CA6,$BX$61:$BX$64,0)),0,IF(ISNA(MATCH(TRUE,DS$6:DS6,0)),IF(AND($BT6>2,$BT6<>\"\"),$BP6-$BO6,0),0))","v":0},{"$f":"IF(AND($B6<>\"\",$AQ6<>\"\",SUM(DT$6:DT6)>=6),TRUE,FALSE)","v":false},"Min Cum. Thickness",{"$f":"IF(AND($CA6=$BX$65,$BS6<>\"\",$BS6<=3,OR($BT6=1,$BT6=\"\")),$BP6-$BO6,0)","v":0},{"$f":"IF($BO6>DV$9,0,DW6)","v":0},{"$f":"IF(ISNA(MATCH($CA6,$BX$61:$BX$64,0)),0,IF(AND(SUM(DX$6:DX6)=0,$BT6>2,$BT6<>\"\"),$BP6-$BO6,0))","v":0},{"$f":"IF(AND($B6<>\"\",$AQ6<>\"\",SUM(DY$6:DY6)>=6),TRUE,FALSE)","v":false},"Min Cum. Thickness",{"$f":"IF(AND($CA6=$BX$65,$BS6<>\"\",$BS6<=3,OR($BT6=1,$BT6=\"\")),$BP6-$BO6,0)","v":0},{"$f":"IF($BO6>EA$9,0,EB6)","v":0},{"$f":"IF(ISNA(MATCH($CA6,$BX$61:$BX$64,0)),0,IF(AND(SUM(EC$6:EC6)=0,$BT6>2,$BT6<>\"\"),$BP6-$BO6,0))","v":0},{"$f":"IF(AND($B6<>\"\",$AQ6<>\"\",SUM(ED$6:ED6)>=6),TRUE,FALSE)","v":false},"Min Cum. Thickness","Min Cum. Thickness Fragmental",{"$f":"IF(BO6<=6,IF(AND(OR($CA6=$BX$62,$CA6=$BX$64),$BS6<>\"\",$BS6<=3,OR($BT6=1,$BT6=\"\")),\"SAND\",IF(AND(OR($CA6=$BX$61,$CA6=$BX$63,$CA6=$BX$65,$CA6=$BX$66,$CA6=$BX$67),$BS6<>\"\",$BS6<=3,OR($BT6=2,$BT6=1,$BT6=\"\")),TRUE,FALSE)),FALSE)","v":false},null,null,null,{"$f":"IF(ISNA(MATCH($CA6,$BX$61:$BX$64,0)),0,IF(ISNA(MATCH(TRUE,EH$6:EH6,0)),IF(AND($BT6>2,$BT6<>\"\"),$BP6-$BO6,0),0))","v":0},{"$f":"IF(AND($B6<>\"\",$AQ6<>\"\",SUM(EL$6:EL6)>=6),TRUE,FALSE)","v":false},"Upper Min Cum. Thickness",{"$f":"IF(AND($BS6<>\"\",$BS6<=2.5,OR($BT6=1,$BT6=\"\")),$BP6-$BO6,0)","v":0},{"$f":"IF($BO6>=EN$9,0,EO6)","v":0},{"$f":"IFERROR(IF($BQ6=\"\",0,IF(AND(OR(VLOOKUP($BQ6,$BO$62:$BR$497,2,FALSE),VLOOKUP($BQ6,$BO$62:$BR$497,4,FALSE)),$BU6>=60),$BP6-$BO6,IF(AND(VLOOKUP($BQ6,$BO$62:$BR$497,3,FALSE),CE6=TRUE,$BU6>=60),$BP6-$BO6,0))),0)","v":0},{"$f":"IF($BO6>=EN$13,EQ6,0)","v":0},{"$f":"IF(AND(ER$12>=EN$11,EP$11>=EN$7,EP6>0,ER6=0),IF(AND($BS6<>\"\",$BS6<=3,OR($BT6=1,$BT6=\"\")),IF(OR($CA6=$BX$62,$CA6=$BX$64),\"SAND\",TRUE),FALSE),\"0\")","v":"0"},{"$f":"IF(ISNA(MATCH($CA6,$BX$61:$BX$64,0)),0,IF(AND(SUM(EP$6:EP6)=0,$BT6>2,$BT6<>\"\"),$BP6-$BO6,0))","v":0},{"$f":"IF(AND($B6<>\"\",$AQ6<>\"\",SUM(ET$6:ET6)>=6),TRUE,FALSE)","v":false},"Min Cum. Thickness",{"$f":"IF(AND(OR($BT6=3,$BT6=2,$BT6=1,$BT6=\"\"),CE6=TRUE),$BP6-$BO6,0)","v":0},{"$f":"IF($BO6>EV$9,0,EW6)","v":0},"Min Cum. Thickness",{"$f":"IF($CA6=$BX$64,$BP6-$BO6,0)","v":0},{"$f":"IF($BO6>EY$9,0,EZ6)","v":0},{"$f":"IF(ISNA(MATCH($CA6,$BX$61:$BX$64,0)),0,IF(AND(SUM(FA$6:FA6)=0,$BT6>2,$BT6<>\"\"),$BP6-$BO6,0))","v":0},{"$f":"IF(AND($B6<>\"\",$AQ6<>\"\",SUM(FB$6:FB6)>=6),TRUE,FALSE)","v":false},"Max Start Depth",{"$f":"IFERROR(IF($BQ6=\"\",FALSE,IF(AND($B6<>\"\",$AQ6<>\"\",OR($CA6=$BX$62,$CA6=$BX$64),VLOOKUP($BQ6,$BO$62:$BR$497,4,FALSE),$BU6>=60,$BO6<=FD$7),TRUE,FALSE)),FALSE)","v":false},{"$f":"IF(ISNA(MATCH($CA6,$BX$61:$BX$64,0)),0,IF(ISNA(MATCH(TRUE,FE$6:FE6,0)),IF(AND($BT6>2,$BT6<>\"\"),$BP6-$BO6,0),0))","v":0},{"$f":"IF(AND($B6<>\"\",$AQ6<>\"\",SUM(FF$6:FF6)>=6),TRUE,FALSE)","v":false},"Min Cum. Thickness",{"$f":"IF(AND(OR($CA6=$BX$62,$CA6=$BX$64),$BU6>=60,OR($BT6=2,$BT6=1,$BT6=\"\"),$CE6=TRUE),$BP6-$BO6,0)","v":0},{"$f":"IF($BO6>FH$9,0,FI6)","v":0},{"$f":"IF(ISNA(MATCH($CA6,$BX$61:$BX$64,0)),0,IF(AND(SUM(FJ$6:FJ6)=0,$BT6>2,$BT6<>\"\"),$BP6-$BO6,0))","v":0},{"$f":"IF(AND($B6<>\"\",$AQ6<>\"\",SUM(FK$6:FK6)>=6),TRUE,FALSE)","v":false},"Max Start Depth",{"$f":"IF(AND($B6<>\"\",$AQ6<>\"\",OR($CA6=$BX$62,$CA6=$BX$64),$BO6<=FM$7,$BU6>0,$BU6<=90),TRUE,FALSE)","v":false},"Min Cum. Thickness",{"$f":"IF(AND(OR($CA6=$BX$62,$CA6=$BX$64),$BS6<>\"\",$BS6<=3,OR($BT6=1,$BT6=\"\")),$BP6-$BO6,0)","v":0},{"$f":"IF($BO6>FO$9,0,FP6)","v":0},{"$f":"IF(AND(FP6>FO$7,BO6<=FO$9,$B6<>\"\",$AQ6<>\"\"),TRUE,FALSE)","v":false},null,{"$f":"IF(ISNA(MATCH($CA6,$BX$61:$BX$64,0)),0,IF(AND(SUM(FQ$6:FQ6)=0,$BT6>2,$BT6<>\"\"),$BP6-$BO6,0))","v":0},{"$f":"IF(AND($B6<>\"\",$AQ6<>\"\",SUM(FT$6:FT6)>=6),TRUE,FALSE)","v":false},"Dark Soil",{"$f":"IF(AND(OR($CA6=$BX$62,$CA6=$BX$64),$BO6<=FV$9,$BS6<>\"\",$BS6<=3,OR($BT6=1,$BT6=\"\")),TRUE,FALSE)","v":false},null,null,null,null,{"$f":"IF(ISNA(MATCH($CA6,$BX$61:$BX$64,0)),0,IF(ISNA(MATCH(TRUE,FW$6:FW6,0)),IF(AND($BT6>2,$BT6<>\"\"),$BP6-$BO6,0),0))","v":0},{"$f":"IF(AND($B6<>\"\",$AQ6<>\"\",SUM(GB$6:GB6)>=6),TRUE,FALSE)","v":false},"Min Cum. Thickness",{"$f":"IF(AND(OR($CA6=$BX$62,$CA6=$BX$64),$BS6<>\"\",$BS6<=3,OR($BT6=1,$BT6=\"\")),$BP6-$BO6,0)","v":0},{"$f":"IF($BO6>GD$9,0,GE6)","v":0},null,"Min Cum. Thickness",{"$f":"IF(AND($CA6=$BX$65,$BS6<>\"\",$BS6<=3,OR($BT6=2,$BT6=1,$BT6=\"\")),$BP6-$BO6,0)","v":0},{"$f":"IF($BO6>GH$9,0,GI6)","v":0},{"$f":"IF(ISNA(MATCH($CA6,$BX$61:$BX$64,0)),0,IF(AND(SUM(GJ$6:GJ6)=0,$BT6>2,$BT6<>\"\"),$BP6-$BO6,0))","v":0},{"$f":"IF(AND($B6<>\"\",$AQ6<>\"\",SUM(GK$6:GK6)>=6),TRUE,FALSE)","v":false},"Min Cum. Thickness",{"$f":"IF($CA6=$BX$63,$BP6-$BO6,0)","v":0},{"$f":"IF($BO6>GM$9,0,GN6)","v":0},{"$f":"IF(ISNA(MATCH($CA6,$BX$61:$BX$64,0)),0,IF(AND(SUM(GO$6:GO6)=0,$BT6>2,$BT6<>\"\"),$BP6-$BO6,0))","v":0},{"$f":"IF(AND($B6<>\"\",$AQ6<>\"\",SUM(GP$6:GP6)>=6),TRUE,FALSE)","v":false},"Max Start Depth",{"$f":"IFERROR(IF($BQ6=\"\",FALSE,IF(AND($B6<>\"\",$AQ6<>\"\",OR($CA6=$BX$61,$CA6=$BX$63),VLOOKUP($BQ6,$BO$62:$BR$497,4,FALSE),$BU6>=60,$BO6<=GR$7),TRUE,FALSE)),FALSE)","v":false},{"$f":"IF(ISNA(MATCH($CA6,$BX$61:$BX$64,0)),0,IF(ISNA(MATCH(TRUE,GS$6:GS6,0)),IF(AND($BT6>2,$BT6<>\"\"),$BP6-$BO6,0),0))","v":0},{"$f":"IF(AND($B6<>\"\",$AQ6<>\"\",SUM(GT$6:GT6)>=6),TRUE,FALSE)","v":false},"Min Cum. Thickness","Min Cum. Thickness",{"$f":"IFERROR(IF($BQ6=\"\",0,IF(AND(OR($CA6=$BX$61,$CA6=$BX$63),VLOOKUP($BQ6,$BO$62:$BR$497,2,FALSE),$BU6>=60),$BP6-$BO6,IF(AND(OR($CA6=$BX$61,$CA6=$BX$63),VLOOKUP($BQ6,$BO$62:$BR$497,3,FALSE),$CE6=TRUE,$BU6>=60),$BP6-$BO6,0))),0)","v":0},{"$f":"IF($BP6<=GV$9,GX6,IF(AND($BO6<GV$9,GX6>0),GX6-($BP6-GV$9),0))","v":0},{"$f":"IF($BO6>GW$9,0,GX6)","v":0},{"$f":"IF(ISNA(MATCH($CA6,$BX$61:$BX$64,0)),0,IF(AND(SUM(GZ$6:GZ6)=0,$BT6>2,$BT6<>\"\"),$BP6-$BO6,0))","v":0},{"$f":"IF(AND($B6<>\"\",$AQ6<>\"\",SUM(HA$6:HA6)>=6),TRUE,FALSE)","v":false},"Min Cum. Thickness",{"$f":"IF(OR($CA6=$BX$61,$CA6=$BX$63),IF(AND($BS6<>\"\",$BS6<=3,OR($BT6=1,$BT6=\"\"),$CE6=TRUE),$BP6-$BO6,IF(AND($BS6<>\"\",$BS6<=3,OR($BT6=2,BT6=1,$BT6=\"\"),$CI6=TRUE),$BP6-$BO6,0)),0)","v":0},{"$f":"IF($BP6<=HC$9,HD6,IF(AND($BO6<HC$9,HD6>0),HD6-($BP6-HC$9),0))","v":0},{"$f":"IF(ISNA(MATCH($CA6,$BX$61:$BX$64,0)),0,IF(AND(SUM(HE$6:HE6)=0,$BT6>2,$BT6<>\"\"),$BP6-$BO6,0))","v":0},{"$f":"IF(AND($B6<>\"\",$AQ6<>\"\",SUM(HF$6:HF6)>=6),TRUE,FALSE)","v":false},"Redox Depletions",{"$f":"IF(AND(IFERROR(IF(SEARCH(\"D\",AI6,1)>=1,TRUE,FALSE),FALSE),$AE6>=$HH$7,$BW6<>\"\",$BW6>=5,OR($BX6=2,$BX6=1,$BX6=\"\")),TRUE,IF(AND($BO6=$BO7,HI7=TRUE),TRUE,FALSE))","v":false},{"$f":"IFERROR(IF(AND($AE6>0,IFERROR(IF(SEARCH(\"D\",AI6,1)>=1,TRUE,FALSE),FALSE),$BW6<>\"\",$BW6>=5,OR($BX6=2,$BX6=1,$BX6=\"\")),$AE6,0),0)","v":0},{"$f":"IF(OR(HI6=TRUE,HJ6>=HH$7),TRUE,FALSE)","v":false},{"$f":"IF($BO6=$BO7,IF(OR(HK6=TRUE,HK7=TRUE,HL7=TRUE),TRUE,FALSE),IF(HK6=TRUE,TRUE,FALSE))","v":false},{"$f":"IF(AND(IFERROR(IF(SEARCH(\"D\",AI6,1)>=1,TRUE,FALSE),FALSE),$AE6>=$HH$8,$BW6<>\"\",$BW6>=5,OR($BX6=2,$BX6=1,$BX6=\"\")),TRUE,IF(AND($BO6=$BO7,HM7=TRUE),TRUE,FALSE))","v":false},{"$f":"IF(OR(HM6=TRUE,HJ6=HH$8),TRUE,FALSE)","v":false},{"$f":"IF($BO6=$BO7,IF(OR(HN6=TRUE,HN7=TRUE,HO7=TRUE),TRUE,FALSE),IF(HN6=TRUE,TRUE,FALSE))","v":false},{"$f":"IF(OR($CA6=$BX$61,$CA6=$BX$63),IF(OR(AND($BS6<>\"\",$BS6<=3,OR($BT6=1,$BT6=\"\"),$HL6=TRUE),AND($BS6<>\"\",$BS6<=3,OR($BT6=2,$BT6=1,$BT6=\"\"),$HO6=TRUE)),$BP6-$BO6,0),0)","v":0},{"$f":"IF($BP6<=HH$12,HP6,IF(AND($BO6<HH$12,HP6>0),HP6-($BP6-HH$12),0))","v":0},{"$f":"IF(ISNA(MATCH($CA6,$BX$61:$BX$64,0)),0,IF(AND(SUM(HQ$6:HQ6)=0,$BT6>2,$BT6<>\"\"),$BP6-$BO6,0))","v":0},{"$f":"IF(AND($B6<>\"\",$AQ6<>\"\",SUM(HR$6:HR6)>=6),TRUE,FALSE)","v":false},"Min Cum. Thickness",{"$f":"IF(OR($CA6=$BX$61,$CA6=$BX$63),IF($CI6=TRUE,$BP6-$BO6,0),0)","v":0},{"$f":"IF($BP6<=HT$9,HU6,IF(AND($BO6<HT$9,HU6>0),HU6-($BP6-HT$9),0))","v":0},"Max Start Depth",{"$f":"IF(AND($B6<>\"\",$AQ6<>\"\",OR($CA6=$BX$61,$CA6=$BX$63),$BS6<>\"\",$BS6>=5,OR($BT6=2,$BT6=1,$BT6=\"\"),$BO6<=HW$7),TRUE,FALSE)","v":false},"Min Cum. Thickness",{"$f":"IF(AND(OR($CA6=$BX$61,$CA6=$BX$63),$BU6>=60,$BS6<>\"\",$BS6>=4,OR($BT6=1,$BT6=\"\")),$BP6-$BO6,0)","v":0},{"$f":"IF($BP6<=HY$9,HZ6,IF(AND($BO6<HY$9,HZ6>0),HZ6-($BP6-HY$9),0))","v":0},{"$f":"IF(ISNA(MATCH($CA6,$BX$61:$BX$64,0)),0,IF(AND(SUM(IA$6:IA6)=0,$BT6>2,$BT6<>\"\"),$BP6-$BO6,0))","v":0},{"$f":"IF(AND($B6<>\"\",$AQ6<>\"\",SUM(IB$6:IB6)>=6),TRUE,FALSE)","v":false},"Redox",{"$f":"IF(AND(OR($BZ6=$BZ$62,$BZ6=$BZ$63),$AE6>=$ID$7,$BW6<>\"\",$BW6<=3,OR($BX6=3,$BX6=2,$BX6=1,$BX6=\"\")),TRUE,IF(AND($BO6=$BO7,IE7=TRUE),TRUE,FALSE))","v":false},{"$f":"IF(AND(($AE6>0),OR($BZ6=$BZ$62,$BZ6=$BZ$63),$BW6<>\"\",$BW6<=3,OR($BX6=3,$BX6=2,$BX6=1,$BX6=\"\")),$AE6,0)","v":0},{"$f":"IF(OR(IE6=TRUE,IF6>=ID$7),TRUE,FALSE)","v":false},{"$f":"IF($BO6=$BO7,IF(OR(IG6=TRUE,IG7=TRUE,IH7=TRUE),TRUE,FALSE),IF(IG6=TRUE,TRUE,FALSE))","v":false},{"$f":"IF(AND(OR($CA6=$BX$61,$CA6=$BX$63),OR($BT6=2,$BT6=1,$BT6=\"\"),$BU6>=40,IH6=TRUE),$BP6-$BO6,0)","v":0},{"$f":"IF($BP6<=ID$11,II6,IF(AND($BO6<ID$11,II6>0),II6-($BP6-ID$11),0))","v":0},{"$f":"IF(AND(OR($CA6=$BX$61,$CA6=$BX$63),OR($BT6=2,$BT6=1,$BT6=\"\"),$BU6>=40,IH6=TRUE),TRUE,FALSE)","v":false},"Upper Min Cum. Thickness",{"$f":"IF(AND(OR($CA6=$BX$61,$CA6=$BX$63),$BS6<>\"\",$BS6<=3,OR($BT6=1,$BT6=\"\")),$BP6-$BO6,0)","v":0},{"$f":"IF($BO6>IL$11,0,IM6)","v":0},{"$f":"IF(AND(OR($CA6=$BX$61,$CA6=$BX$63),IN6>0,OR($BT6=2,$BT6=1,$BT6=\"\")),$BP6-$BO6,0)","v":0},{"$f":"IO6","v":0},{"$f":"IF(ISNA(MATCH($CA6,$BX$61:$BX$64,0)),0,IF(AND(SUM(IN$6:IN6)=0,$BT6>2,$BT6<>\"\"),$BP6-$BO6,0))","v":0},{"$f":"IF(AND($B6<>\"\",$AQ6<>\"\",SUM(IQ$6:IQ6)>=6),TRUE,FALSE)","v":false},"Min Cum. Thickness",{"$f":"IF(AND(OR($CA6=$BX$61,$CA6=$BX$63),$BU6>=60,IFERROR(IF(SEARCH(\"C\",$AI6,1)>=1,FALSE,TRUE),TRUE),$BS6<>\"\",$BS6>=4,OR($BT6=2,$BT6=1,$BT6=\"\")),$BP6-$BO6,0)","v":0},{"$f":"IF($BP6<=IS$9,IT6,IF(AND($BO6<IS$9,IT6>0),IT6-($BP6-IS$9),0))","v":0},{"$f":"IF(ISNA(MATCH($CA6,$BX$61:$BX$64,0)),0,IF(AND(SUM(IU$6:IU6)=0,$BT6>2,$BT6<>\"\"),$BP6-$BO6,0))","v":0},{"$f":"IF(AND($B6<>\"\",$AQ6<>\"\",SUM(IV$6:IV6)>=6),TRUE,FALSE)","v":false},"Min Cum. Thickness","Min Cum. Thickness",{"$f":"IF(OR($CA6=$BX$61,$CA6=$BX$63),$BP6-$BO6,0)","v":0},{"$f":"IF($BP6<=IX$9,IZ6,IF(AND($BO6<IX$9,IZ6>0),IZ6-($BP6-IX$9),0))","v":0},{"$f":"IF($BP6<=IY$9,IZ6,IF(AND($BO6<IY$9,IZ6>0),IZ6-($BP6-IY$9),0))","v":0},{"$f":"IF(ISNA(MATCH($CA6,$BX$61:$BX$64,0)),0,IF(AND(SUM(JA$6:JA6)=0,$BT6>2,$BT6<>\"\"),$BP6-$BO6,0))","v":0},{"$f":"IF(AND($B6<>\"\",$AQ6<>\"\",SUM(JC$6:JC6)>=6),TRUE,FALSE)","v":false},"Redox",{"$f":"IF(AND(OR($BZ6=$BZ$62,$BZ6=$BZ$63),$AE6>=JE$7),TRUE,IF(AND($BO6=$BO7,JF7=TRUE),TRUE,FALSE))","v":false},{"$f":"IF(AND(($AE6>0),OR($BZ6=$BZ$62,$BZ6=$BZ$63)),$AE6,0)","v":0},{"$f":"IF(OR(JF6=TRUE,JG6>=JE$7),TRUE,FALSE)","v":false},{"$f":"IF($BO6=$BO7,IF(OR(JH6=TRUE,JH7=TRUE,JI7=TRUE),TRUE,FALSE),IF(JH6=TRUE,TRUE,FALSE))","v":false},{"$f":"IF(AND(OR($CA6=$BX$61,$CA6=$BX$63),OR($BT6=3,$BT6=2,$BT6=1,$BT6=\"\"),$BU6>=60,JI6=TRUE),$BP6-$BO6,0)","v":0},{"$f":"IF($BO6>JE$11,0,JJ6)","v":0},"Redox/Depletions",{"$f":"IF(OR(AND(OR($BZ6=$BZ$62,$BZ6=$BZ$63,IFERROR(IF(SEARCH(\"D\",$AI6,1)>=1,TRUE,FALSE),FALSE)),$AE6>=JL$7)),TRUE,IF(AND($BO6=$BO7,JM7=TRUE),TRUE,FALSE))","v":false},{"$f":"IF(AND(($AE6>0),OR($BZ6=$BZ$62,$BZ6=$BZ$63,IFERROR(IF(SEARCH(\"D\",$AI6,1)>=1,TRUE,FALSE),FALSE))),$AE6,0)","v":0},{"$f":"IF(OR(JM6=TRUE,JN6>=JL$7),TRUE,FALSE)","v":false},{"$f":"IF($BO6=$BO7,IF(OR(JO6=TRUE,JO7=TRUE,JP7=TRUE),TRUE,FALSE),IF(JO6=TRUE,TRUE,FALSE))","v":false},{"$f":"IF(AND(OR($CA6=$BX$61,$CA6=$BX$63),$BU6>=60,OR($BT6<=4,$BT6=\"\"),$JP6=TRUE),$BP6-$BO6,0)","v":0},{"$f":"IF($BO6>JL$11,0,JQ6)","v":0},"Redox/Depletions",{"$f":"IFERROR(IF(AND(OR($BZ6=$BZ$62,$BZ6=$BZ$63,AND(IFERROR(IF(SEARCH(\"D\",AI6,1)>=1,TRUE,FALSE),FALSE),OR(AND($BW6-$BS6>=1,IFERROR($BT6-$BX6>=1,IF(AND($BW6<>\"\",$BX6=\"\"),TRUE,FALSE))),AND($BW6>=4,OR($BX6=2,$BX6=1,$BX6=\"\"))))),$AE6>=JS$7),TRUE,IF(AND($BO6=$BO7,JT7=TRUE),TRUE,FALSE)),FALSE)","v":false},{"$f":"IFERROR(IF(AND($AE6>0,OR($BZ6=$BZ$62,$BZ6=$BZ$63,AND(IFERROR(IF(SEARCH(\"D\",AI6,1)>=1,TRUE,FALSE),FALSE),OR(AND($BW6-$BS6>=1,IFERROR($BT6-$BX6>=1,IF(AND($BW6<>\"\",$BX6=\"\"),TRUE,FALSE))),AND($BW6>=4,OR($BX6=2,$BX6=1,$BX6=\"\")))))),$AE6,0),0)","v":0},{"$f":"IF(OR(JT6=TRUE,JU6>=JS$7),TRUE,FALSE)","v":false},{"$f":"IF($BO6=$BO7,IF(OR(JV6=TRUE,JV7=TRUE,JW7=TRUE),TRUE,FALSE),IF(JV6=TRUE,TRUE,FALSE))","v":false},{"$f":"IF(ISNA(MATCH($BR6,$CC$62:$CC$67,0)),0,IF(AND(OR($CA6=$BX$61,$CA6=$BX$63),$BS6<>\"\",$BS6<=4,$BS6>2,$BT6<>\"\",$BT6<=4,$BT6>2,$JW6=TRUE),$BP6-$BO6,0))","v":0},{"$f":"IF($BO6>JS$11,0,JX6)","v":0},"Min Cum. Thickness if bedrock is between 6-10 inches down","Min Cum. Thickness if bedrock is <=6 inches down",{"$f":"IF(AND(OR($CA6=$BX$61,$CA6=$BX$63),IFERROR(IF(SEARCH(\"bedrock\",$G$37,1)>=1,TRUE,FALSE),FALSE),$K$38<=10,$BS6<>\"\",$BS6<=2.5,OR($BT6=1,$BT6=\"\")),$BP6-$BO6,0)","v":0},{"$f":"IF($BO6>JZ$9,0,KB6)","v":0},{"$f":"KB6","v":0},{"$f":"IF(KB6>0,TRUE,IF(AND(OR($CA6=$BX$61,$CA6=$BX$63),OR($BT6=2,$BT6=1,$BT6=\"\")),TRUE,FALSE))","v":false},"Min Cum. Thickness Upper",{"$f":"IF(AND(OR($CA6=$BX$62,$CA6=$BX$64),$BS6<>\"\",$BS6<=4,OR($BT6=2,$BT6=1,$BT6=\"\")),$BP6-$BO6,0)","v":0},{"$f":"IF($BO6>0,0,KG6)","v":0},null,null,"Max Start Depth",{"$f":"IF(AND(BO6<=KK$7,AI6=\"RM\"),TRUE,FALSE)","v":false}]
[null,null,null,null,null,null,null,null,null,null,null,null,null,null,null,null,null,null,null,null,null,null,null,null,null,null,null,null,null,null,null,null,null,null,null,null,null,null,null,null,null,null,null,null,null,null,null,null,null,null,{"$f":"IF(BZ7=\"\",\"\",BZ7)","v":""},null,null,null,null,null,null,null,null,null,null,null,null,null,null,null,{"$f":"IFERROR(IF(B7=\"\",BO6,IF(B7=\"\",\"\",VALUE(LEFT(B7,SEARCH(\"-\",B7)-1)))),\"\")","v":""},{"$f":"IFERROR(IF(B7=\"\",BP6,IF(B7=\"\",\"\",VALUE(RIGHT(B7,LEN(B7)-SEARCH(\"-\",B7))))),\"\")","v":""},{"$f":"IF(H7=\"\",BQ6,H7)","v":""},{"$f":"IFERROR(IF(H7=\"\",BR6,IF(H7=\"\",\"\",LEFT(TRIM(H7),SEARCH(\" \",(TRIM(H7)))-1))),\"\")","v":""},{"$f":"IFERROR(IF(H7=\"\",BS6,IF(H7=\"\",\"\",VALUE(MID(TRIM(H7),SEARCH(\" \",(TRIM(H7)))+1,(SEARCH(\"/\",(TRIM(H7)))-SEARCH(\" \",(TRIM(H7)))-1))))),\"\")","v":""},{"$f":"IFERROR(IF(H7=\"\",BT6,IF(AND(H7<>\"\",ISNUMBER(VALUE(RIGHT(TRIM(H7),1)))),VALUE(RIGHT(TRIM(H7),LEN(TRIM(H7))-SEARCH(\"/\",(TRIM(H7))))),\"\")),\"\")","v":""},{"$f":"IF(H7=\"\",BU6,VALUE(R7))","v":0},{"$f":"IFERROR(IF(V7=\"\",\"\",LEFT(TRIM(V7),SEARCH(\" \",(TRIM(V7)))-1)),\"\")","v":""},{"$f":"IFERROR(IF(V7=\"\",\"\",VALUE(MID(TRIM(V7),SEARCH(\" \",(TRIM(V7)))+1,(SEARCH(\"/\",(TRIM(V7)))-SEARCH(\" \",(TRIM(V7)))-1)))),\"\")","v":""},{"$f":"IFERROR(IF(AND(V7<>\"\",ISNUMBER(VALUE(RIGHT(TRIM(V7),1)))),VALUE(RIGHT(TRIM(V7),LEN(TRIM(V7))-SEARCH(\"/\",(TRIM(V7))))),\"\"),\"\")","v":""},{"$f":"IFERROR(IF($BV7=\"\",\"\",IF(AND($BR7=\"N\",$BV7=\"N\"),TEXT(0,\"0\")&\"-\"&TEXT(ABS($BW7-$BS7),\"0.0\")&\"-\"&TEXT(ABS(IF($BX7=\"\",0,$BX7)-IF($BT7=\"\",0,$BT7)),\"0\"),IF(OR($BR7=\"N\",$BV7=\"N\"),TEXT(1,\"0\")&\"-\"&TEXT(ABS($BW7-$BS7),\"0.0\")&\"-\"&TEXT(ABS(IF($BX7=\"\",0,$BX7)-IF($BT7=\"\",0,$BT7)),\"0\"),TEXT(ABS(VLOOKUP($BV7,$CC$62:$CD$81,2,FALSE)-VLOOKUP($BR7,$CC$62:$CD$81,2,FALSE)),\"0\")&\"-\"&TEXT(ABS($BW7-$BS7),\"0.0\")&\"-\"&TEXT(ABS(IF($BX7=\"\",0,$BX7)-IF($BT7=\"\",0,$BT7)),\"0\")))),\"\")","v":""},"",{"$f":"IF(AQ7=\"\",CA6,AQ7)","v":""},false,{"$f":"IF($BO7=$BO6,IF(OR($BZ7=$BZ$62,$BZ7=$BZ$63),$AE7+CC6,CC6),IF(OR($BZ7=$BZ$62,$BZ7=$BZ$63),$AE7,0))","v":0},false,false,false,{"$f":"IF($BO7=$BO6,IF(OR($BZ7=$BZ$62,$BZ7=$BZ$63),$AE7+CG6,CG6),IF(OR($BZ7=$BZ$62,$BZ7=$BZ$63),$AE7,0))","v":0},false,false,16,0,{"$f":"IF(OR($B7=\"\",$AQ7=\"\"),CL6,IF($BP7<=CJ$9,CL6+CK7,IF(AND($BO7<CJ$9,CK7>0),(CL6+CK7)-($BP7-CJ$9),CL6)))","v":0},{"$f":"IF(ISNA(MATCH(CA7,$BX$65:$BX$67,0)),FALSE,TRUE)","v":false},{"$f":"IF(ISNA(MATCH($CA7,$BX$61:$BX$64,0)),0,IF(AND(SUM(CL$6:CL7)=0,$BT7>2,$BT7<>\"\"),$BP7-$BO7,0))","v":0},{"$f":"IF(AND($B7<>\"\",$AQ7<>\"\",SUM(CN$6:CN7)>=6),TRUE,FALSE)","v":false},8,0,{"$f":"IF(OR($B7=\"\",$AQ7=\"\"),CR6,IF(ISNA(MATCH(0,CQ$6:CQ7,0)),CR6+CQ7,0))","v":0},{"$f":"IF(CR6>=CP$7,IF(ISNA(MATCH($CA7,$BX$61:$BX$64,0)),FALSE,IF(OR($BT7=2,$BT7=1,$BT7=\"\"),TRUE,FALSE)),FALSE)","v":false},8,0,{"$f":"IF(AND($BO7>CT$9,CV6=0),0,IF(OR($B7=\"\",$AQ7=\"\",$BO7>(CT$7+CT$9)),CV6,IF(AND(CU7=0,CV6<CT$7),0,CV6+CU7)))","v":0},{"$f":"IF(AND(CV6>=CT$7,CU6>0),IF(ISNA(MATCH($AQ7,$BX$61:$BX$64,0)),FALSE,IF(OR($BT7=2,$BT7=1,$BT7=\"\"),TRUE,FALSE)),FALSE)","v":false},{"$f":"IF(ISNA(MATCH($CA7,$BX$61:$BX$64,0)),0,IF(AND(SUM(CV$6:CV7)=0,$BT7>2,$BT7<>\"\"),$BP7-$BO7,0))","v":0},{"$f":"IF(AND($B7<>\"\",$AQ7<>\"\",SUM(CX$6:CX7)>=6),TRUE,FALSE)","v":false},"CZ8 will be checked X if B18 is checked X by Visual Basic subroutine",6,{"$f":"IF($B7=\"\",0,IF(AND($BS7<>\"\",$BS7<=3,OR($BT7=1,$BT7=\"\")),IF($AQ7<>\"\",TRUE,FALSE),IF(ISNA(MATCH($CA7,$BX$63:$BX$67,0)),FALSE,IF($AQ7<>\"\",TRUE,FALSE))))","v":0},{"$f":"IF(OR($B7=\"\",DB7=TRUE),0,IF(OR($BT7=2,$BT7=1,$BT7=\"\"),IF($AQ7<>\"\",TRUE,FALSE),FALSE))","v":0},{"$f":"IF($BO7<=$DA$7,COUNTIF(DC7,TRUE)+DD6,DD6)","v":0},{"$f":"IF(ISNA(MATCH(TRUE,$DB$6:$DB6,0)),IF(AND(DD6>=2,DB7=TRUE),TRUE,FALSE),IF(AND($BO7<=$DA$7,DC7=TRUE),TRUE,IF(AND($BO7<=$DA$7,DB7=TRUE),TRUE,FALSE)))","v":false},{"$f":"IF(ISNA(MATCH(TRUE,$DB8:$DB$12,0)),FALSE,IF(AND($BO7<=$DA$7,INDIRECT(ADDRESS(MATCH(TRUE,$DB8:$DB$12,0)+7,67))<=$DA$7,DC7=TRUE),TRUE,FALSE))","v":false},{"$f":"IF(ISNA(MATCH(TRUE,$DB$6:$DB6,0)),IF(ISNA(MATCH(TRUE,$DC$6:$DC6,0)),FALSE,TRUE),TRUE)","v":false},{"$f":"IF(AND($DB7=FALSE,$DC7=FALSE,$DG7=TRUE),TRUE,FALSE)","v":false},6,{"$f":"IF(ISNA(MATCH($AY7,$BZ$61:$BZ$63,0)),IF(AND($BO7<=DI$7,$B7<>\"\",$AQ7<>\"\",$AY7<>\"\"),TRUE,FALSE),FALSE)","v":false},{"$f":"IF(ISNA(MATCH($CA7,$BX$61:$BX$64,0)),0,IF(ISNA(MATCH(TRUE,DJ$6:DJ7,0)),IF(AND($BT7>2,$BT7<>\"\"),$BP7-$BO7,0),0))","v":0},{"$f":"IF(AND($B7<>\"\",$AQ7<>\"\",SUM(DK$6:DK7)>=6),TRUE,FALSE)","v":false},2,{"$f":"IF(OR($CA7=$BX$63,$CA7=$BX$64),$BP7-$BO7,0)","v":0},{"$f":"IF(AND($BO7>DM$9,DO6=0),0,IF(OR($B7=\"\",$AQ7=\"\",$BO7>(DM$7+DM$9)),DO6,IF(AND(DN7=0,DO6<DM$7),0,DO6+DN7)))","v":0},{"$f":"IF(ISNA(MATCH($CA7,$BX$61:$BX$64,0)),0,IF(AND(SUM(DO$6:DO7)=0,$BT7>2,$BT7<>\"\"),$BP7-$BO7,0))","v":0},{"$f":"IF(AND($B7<>\"\",$AQ7<>\"\",SUM(DP$6:DP7)>=6),TRUE,FALSE)","v":false},6,false,{"$f":"IF(ISNA(MATCH($CA7,$BX$61:$BX$64,0)),0,IF(ISNA(MATCH(TRUE,DS$6:DS7,0)),IF(AND($BT7>2,$BT7<>\"\"),$BP7-$BO7,0),0))","v":0},{"$f":"IF(AND($B7<>\"\",$AQ7<>\"\",SUM(DT$6:DT7)>=6),TRUE,FALSE)","v":false},0.5,0,{"$f":"IF(AND($BO7>DV$9,DX6=0),0,IF(OR($B7=\"\",$AQ7=\"\",$BO7>(DV$7+DV$9)),DX6,IF(AND(DW7=0,DX6<DV$7),0,DX6+DW7)))","v":0},{"$f":"IF(ISNA(MATCH($CA7,$BX$61:$BX$64,0)),0,IF(AND(SUM(DX$6:DX7)=0,$BT7>2,$BT7<>\"\"),$BP7-$BO7,0))","v":0},{"$f":"IF(AND($B7<>\"\",$AQ7<>\"\",SUM(DY$6:DY7)>=6),TRUE,FALSE)","v":false},0.75,0,{"$f":"IF(AND($BO7>EA$9,EC6=0),0,IF(OR($B7=\"\",$AQ7=\"\",$BO7>(EA$7+EA$9)),EC6,IF(AND(EB7=0,EC6<EA$7),0,EC6+EB7)))","v":0},{"$f":"IF(ISNA(MATCH($CA7,$BX$61:$BX$64,0)),0,IF(AND(SUM(EC$6:EC7)=0,$BT7>2,$BT7<>\"\"),$BP7-$BO7,0))","v":0},{"$f":"IF(AND($B7<>\"\",$AQ7<>\"\",SUM(ED$6:ED7)>=6),TRUE,FALSE)","v":false},6,2,{"$f":"IF(OR(BO7<=6,EH6=TRUE,EH6=\"SAND\"),IF(AND(OR($CA7=$BX$62,$CA7=$BX$64),$BS7<>\"\",$BS7<=3,OR($BT7=1,$BT7=\"\")),\"SAND\",IF(AND(OR($CA7=$BX$61,$CA7=$BX$63,$CA7=$BX$65,$CA7=$BX$66,$CA7=$BX$67),$BS7<>\"\",$BS7<=3,OR($BT7=2,$BT7=1,$BT7=\"\")),TRUE,FALSE)),FALSE)","v":false},{"$f":"IFERROR(IF(OR($EH6=TRUE,$EH6=\"SAND\"),IF(AND(OR(VLOOKUP($BQ7,$BO$62:$BR$497,2,FALSE),VLOOKUP($BQ7,$BO$62:$BR$497,4,FALSE)),$BU7>=60),$BP7-$BO7,IF(AND(VLOOKUP($BQ7,$BO$62:$BR$497,3,FALSE),$CE7=TRUE,$BU7>=60),$BP7-$BO7,0)),0),0)","v":0},{"$f":"IF($BO7>EF9,0,$EI7)","v":0},{"$f":"IF($BO7>EG9,0,$EI7)","v":0},{"$f":"IF(ISNA(MATCH($CA7,$BX$61:$BX$64,0)),0,IF(ISNA(MATCH(TRUE,EH$6:EH7,0)),IF(AND($BT7>2,$BT7<>\"\"),$BP7-$BO7,0),0))","v":0},{"$f":"IF(AND($B7<>\"\",$AQ7<>\"\",SUM(EL$6:EL7)>=6),TRUE,FALSE)","v":false},12,0,{"$f":"IF(AND($BO7>=EN$9,EP6=0),0,IF(OR($B7=\"\",$AQ7=\"\",$BO7>(EN$7+EN$9)),EP6,IF(AND(EO7=0,EP6<EN$7),0,EP6+EO7)))","v":0},{"$f":"IFERROR(IF($BQ7=\"\",0,IF(AND(OR(VLOOKUP($BQ7,$BO$62:$BR$497,2,FALSE),VLOOKUP($BQ7,$BO$62:$BR$497,4,FALSE)),$BU7>=60),$BP7-$BO7,IF(AND(VLOOKUP($BQ7,$BO$62:$BR$497,3,FALSE),CE7=TRUE,$BU7>=60),$BP7-$BO7,0))),0)","v":0},{"$f":"IF(OR($BO7<EN$13,AND($BO7>=EN$13,EQ7=0,ER6<EN$11)),0,IF(OR($B7=\"\",$AQ7=\"\"),ER6,ER6+EQ7))","v":0},"0",{"$f":"IF(ISNA(MATCH($CA7,$BX$61:$BX$64,0)),0,IF(AND(SUM(EP$6:EP7)=0,$BT7>2,$BT7<>\"\"),$BP7-$BO7,0))","v":0},{"$f":"IF(AND($B7<>\"\",$AQ7<>\"\",SUM(ET$6:ET7)>=6),TRUE,FALSE)","v":false},4,{"$f":"IF(AND(OR($BT7=3,$BT7=2,$BT7=1,$BT7=\"\"),CE7=TRUE),$BP7-$BO7,0)","v":0},{"$f":"IF(AND($BO7>EV$9,EX6=0),0,IF(OR($B7=\"\",$AQ7=\"\",$BO7>(EV$7+EV$9)),EX6,IF(AND(EW7=0,EX6<EV$7),0,EX6+EW7)))","v":0},2,0,{"$f":"IF(AND($BO7>EY$9,FA6=0),0,IF(OR($B7=\"\",$AQ7=\"\",$BO7>(EY$7+EY$9)),FA6,IF(AND(EZ7=0,FA6<EY$7),0,FA6+EZ7)))","v":0},{"$f":"IF(ISNA(MATCH($CA7,$BX$61:$BX$64,0)),0,IF(AND(SUM(FA$6:FA7)=0,$BT7>2,$BT7<>\"\"),$BP7-$BO7,0))","v":0},{"$f":"IF(AND($B7<>\"\",$AQ7<>\"\",SUM(FB$6:FB7)>=6),TRUE,FALSE)","v":false},6,{"$f":"IFERROR(IF($BQ7=\"\",FALSE,IF(AND($B7<>\"\",$AQ7<>\"\",OR($CA7=$BX$62,$CA7=$BX$64),VLOOKUP($BQ7,$BO$62:$BR$497,4,FALSE),$BU7>=60,$BO7<=FD$7),TRUE,FALSE)),FALSE)","v":false},{"$f":"IF(ISNA(MATCH($CA7,$BX$61:$BX$64,0)),0,IF(ISNA(MATCH(TRUE,FE$6:FE7,0)),IF(AND($BT7>2,$BT7<>\"\"),$BP7-$BO7,0),0))","v":0},{"$f":"IF(AND($B7<>\"\",$AQ7<>\"\",SUM(FF$6:FF7)>=6),TRUE,FALSE)","v":false},4,0,{"$f":"IF(AND($BO7>FH$9,FJ6=0),0,IF(OR($B7=\"\",$AQ7=\"\",$BO7>(FH$7+FH$9)),FJ6,IF(AND(FI7=0,FJ6<FH$7),0,FJ6+FI7)))","v":0},{"$f":"IF(ISNA(MATCH($CA7,$BX$61:$BX$64,0)),0,IF(AND(SUM(FJ$6:FJ7)=0,$BT7>2,$BT7<>\"\"),$BP7-$BO7,0))","v":0},{"$f":"IF(AND($B7<>\"\",$AQ7<>\"\",SUM(FK$6:FK7)>=6),TRUE,FALSE)","v":false},6,{"$f":"IF(AND($B7<>\"\",$AQ7<>\"\",OR($CA7=$BX$62,$CA7=$BX$64),$BO7<=FM$7,$BU7>0,$BU7<=90),TRUE,FALSE)","v":false},4,0,{"$f":"IF(AND($BO7>FO$9,FQ6=0),0,IF(OR($B7=\"\",$AQ7=\"\",$BO7>(FO$7+FO$9)),FQ6,IF(AND(FP7=0,FQ6<FO$7),0,FQ6+FP7)))","v":0},{"$f":"IF(AND(OR(AND(FP7>FO$7,BO7<=FO$9),AND(FQ7>FO$7,FP6>0),AND(FQ6>=FO$7,FP6>0)),$B7<>\"\",$AQ7<>\"\",OR($BT7=2,$BT7=1,$BT7=\"\")),TRUE,FALSE)","v":false},{"$f":"IF(AND(FP6>0,$B7<>\"\",$AQ7<>\"\",OR($BT7=2,$BT7=1,$BT7=\"\")),TRUE,FALSE)","v":false},{"$f":"IF(ISNA(MATCH($CA7,$BX$61:$BX$64,0)),0,IF(AND(SUM(FQ$6:FQ7)=0,$BT7>2,$BT7<>\"\"),$BP7-$BO7,0))","v":0},{"$f":"IF(AND($B7<>\"\",$AQ7<>\"\",SUM(FT$6:FT7)>=6),TRUE,FALSE)","v":false},5,false,{"$f":"IF(AND(FW6=TRUE,$B7<>\"\",$AQ7<>\"\",OR(AND($BU7>=5,$BS7<>\"\",$BS7<=3,OR($BT7=1,$BT7=\"\")),AND($AE7>=5,$BW7<=3,$BW7<>\"\",OR($BX7=1,$BX7=\"\"))),OR(AND($BS7<>\"\",$BS7>=4,OR($BT7=1,$BT7=\"\")),AND($BW7>=4,$BW7<>\"\",OR($BX7=1,$BX7=\"\")))),TRUE,FALSE)","v":false},{"$f":"IF(AND(FW6=TRUE,OR(AND($BW7<=3,$BW7<>\"\",OR($BX7=1,$BX7=\"\"))),OR(AND($BS7<>\"\",$BS7>=4,OR($BT7=1,$BT7=\"\")))),$AE7,0)","v":0},{"$f":"IF(OR(FX7=TRUE,FY7>=FV$7),TRUE,FALSE)","v":false},{"$f":"IF($BO7=$BO8,IF(OR(FZ7=TRUE,FZ8=TRUE,GA8=TRUE),TRUE,FALSE),IF(FZ7=TRUE,TRUE,FALSE))","v":false},{"$f":"IF(ISNA(MATCH($CA7,$BX$61:$BX$64,0)),0,IF(ISNA(MATCH(TRUE,FW$6:FW7,0)),IF(AND($BT7>2,$BT7<>\"\"),$BP7-$BO7,0),0))","v":0},{"$f":"IF(AND($B7<>\"\",$AQ7<>\"\",SUM(GB$6:GB7)>=6),TRUE,FALSE)","v":false},2,0,{"$f":"IF(AND($BO7>GD$9,GF6=0),0,IF(OR($B7=\"\",$AQ7=\"\",$BO7>(GD$7+GD$9)),GF6,IF(AND(GE7=0,GF6<GD$7),0,GF6+GE7)))","v":0},{"$f":"IF(AND(GF6>=GD$7,GE6>0,$B7<>\"\",$AQ7<>\"\",$BS7<>\"\",$BS7<=4,OR($BT7=1,$BT7=\"\")),TRUE,FALSE)","v":false},0.5,0,{"$f":"IF(AND($BO7>GH$9,GJ6=0),0,IF(OR($B7=\"\",$AQ7=\"\",$BO7>(GH$7+GH$9)),GJ6,IF(AND(GI7=0,GJ6<GH$7),0,GJ6+GI7)))","v":0},{"$f":"IF(ISNA(MATCH($CA7,$BX$61:$BX$64,0)),0,IF(AND(SUM(GJ$6:GJ7)=0,$BT7>2,$BT7<>\"\"),$BP7-$BO7,0))","v":0},{"$f":"IF(AND($B7<>\"\",$AQ7<>\"\",SUM(GK$6:GK7)>=6),TRUE,FALSE)","v":false},4,0,{"$f":"IF(AND($BO7>GM$9,GO6=0),0,IF(OR($B7=\"\",$AQ7=\"\",$BO7>(GM$7+GM$9)),GO6,IF(AND(GN7=0,GO6<GM$7),0,GO6+GN7)))","v":0},{"$f":"IF(ISNA(MATCH($CA7,$BX$61:$BX$64,0)),0,IF(AND(SUM(GO$6:GO7)=0,$BT7>2,$BT7<>\"\"),$BP7-$BO7,0))","v":0},{"$f":"IF(AND($B7<>\"\",$AQ7<>\"\",SUM(GP$6:GP7)>=6),TRUE,FALSE)","v":false},12,{"$f":"IFERROR(IF($BQ7=\"\",FALSE,IF(AND($B7<>\"\",$AQ7<>\"\",OR($CA7=$BX$61,$CA7=$BX$63),VLOOKUP($BQ7,$BO$62:$BR$497,4,FALSE),$BU7>=60,$BO7<=GR$7),TRUE,FALSE)),FALSE)","v":false},{"$f":"IF(ISNA(MATCH($CA7,$BX$61:$BX$64,0)),0,IF(ISNA(MATCH(TRUE,GS$6:GS7,0)),IF(AND($BT7>2,$BT7<>\"\"),$BP7-$BO7,0),0))","v":0},{"$f":"IF(AND($B7<>\"\",$AQ7<>\"\",SUM(GT$6:GT7)>=6),TRUE,FALSE)","v":false},2,6,{"$f":"IFERROR(IF($BQ7=\"\",0,IF(AND(OR($CA7=$BX$61,$CA7=$BX$63),VLOOKUP($BQ7,$BO$62:$BR$497,2,FALSE),$BU7>=60),$BP7-$BO7,IF(AND(OR($CA7=$BX$61,$CA7=$BX$63),VLOOKUP($BQ7,$BO$62:$BR$497,3,FALSE),$CE7=TRUE,$BU7>=60),$BP7-$BO7,0))),0)","v":0},{"$f":"IF(OR($B7=\"\",$AQ7=\"\"),GY6,IF(AND(GX7=0,GY6<GV$7),0,IF($BP7<=GV$9,GY6+GX7,IF(AND($BO7<GV$9,GX7>0),(GY6+GX7)-($BP7-GV$9),GY6))))","v":0},{"$f":"IF(AND($BO7>GW$9,GZ6=0),0,IF(OR($B7=\"\",$AQ7=\"\",$BO7>(GW$7+GW$9)),GZ6,IF(AND(GX7=0,GZ6<GW$7),0,GZ6+GX7)))","v":0},{"$f":"IF(ISNA(MATCH($CA7,$BX$61:$BX$64,0)),0,IF(AND(SUM(GZ$6:GZ7)=0,$BT7>2,$BT7<>\"\"),$BP7-$BO7,0))","v":0},{"$f":"IF(AND($B7<>\"\",$AQ7<>\"\",SUM(HA$6:HA7)>=6),TRUE,FALSE)","v":false},4,0,{"$f":"IF(OR($B7=\"\",$AQ7=\"\"),HE6,IF(AND(HD7=0,HE6<HC$7),0,IF($BP7<=HC$9,HE6+HD7,IF(AND($BO7<HC$9,HD7>0),(HE6+HD7)-($BP7-HC$9),HE6))))","v":0},{"$f":"IF(ISNA(MATCH($CA7,$BX$61:$BX$64,0)),0,IF(AND(SUM(HE$6:HE7)=0,$BT7>2,$BT7<>\"\"),$BP7-$BO7,0))","v":0},{"$f":"IF(AND($B7<>\"\",$AQ7<>\"\",SUM(HF$6:HF7)>=6),TRUE,FALSE)","v":false},10,false,{"$f":"IFERROR(IF($BO7=$BO6,IF(AND(IFERROR(IF(SEARCH(\"D\",AI7,1)>=1,TRUE,FALSE),FALSE),$BW7<>\"\",$BW7>=5,OR($BX7=2,$BX7=1,$BX7=\"\")),$AE7+HJ6,HJ6),IF(AND($AI7=\"D\",$BW7<>\"\",$BW7>=5,OR($BX7=2,$BX7=1,$BX7=\"\")),$AE7,0)),0)","v":0},{"$f":"IF(OR(HI7=TRUE,HJ7>=HH$7),TRUE,FALSE)","v":false},false,false,{"$f":"IF(OR(HM7=TRUE,HJ7=HH$8),TRUE,FALSE)","v":false},false,0,{"$f":"IF(OR($B7=\"\",$AQ7=\"\"),HQ6,IF(AND(HP7=0,HQ6<HH$10),0,IF($BP7<=HH$12,HQ6+HP7,IF(AND($BO7<HH$12,HP7>0),(HQ6+HP7)-($BP7-HH$12),HQ6))))","v":0},{"$f":"IF(ISNA(MATCH($CA7,$BX$61:$BX$64,0)),0,IF(AND(SUM(HQ$6:HQ7)=0,$BT7>2,$BT7<>\"\"),$BP7-$BO7,0))","v":0},{"$f":"IF(AND($B7<>\"\",$AQ7<>\"\",SUM(HR$6:HR7)>=6),TRUE,FALSE)","v":false},2,0,{"$f":"IF(OR($B7=\"\",$AQ7=\"\"),HV6,IF(AND(HU7=0,HV6<HT$7),0,IF($BP7<=HT$9,HV6+HU7,IF(AND($BO7<HT$9,HU7>0),(HV6+HU7)-($BP7-HT$9),HV6))))","v":0},4,false,4,0,{"$f":"IF(OR($B7=\"\",$AQ7=\"\"),IA6,IF(AND(HZ7=0,IA6<HY$7),0,IF($BP7<=HY$9,IA6+HZ7,IF(AND($BO7<HY$9,HZ7>0),(IA6+HZ7)-($BP7-HY$9),IA6))))","v":0},{"$f":"IF(ISNA(MATCH($CA7,$BX$61:$BX$64,0)),0,IF(AND(SUM(IA$6:IA7)=0,$BT7>2,$BT7<>\"\"),$BP7-$BO7,0))","v":0},{"$f":"IF(AND($B7<>\"\",$AQ7<>\"\",SUM(IB$6:IB7)>=6),TRUE,FALSE)","v":false},2,false,{"$f":"IF($BO7=$BO6,IF(AND(OR($BZ7=$BZ$62,$BZ7=$BZ$63),$BW7<>\"\",$BW7<=3,OR($BX7=3,$BX7=2,$BX7=1,$BX7=\"\")),$AE7+IF6,IF6),IF(AND(OR($BZ7=$BZ$62,$BZ7=$BZ$63),$BW7<>\"\",$BW7<=3,OR($BX7=3,$BX7=2,$BX7=1,$BX7=\"\")),$AE7,0))","v":0},{"$f":"IF(OR(IE7=TRUE,IF7>=ID$7),TRUE,FALSE)","v":false},{"$f":"IF($BO7=$BO8,IF(OR(IG7=TRUE,IG8=TRUE,IH8=TRUE),TRUE,FALSE),IF(IG7=TRUE,TRUE,FALSE))","v":false},0,{"$f":"IF(OR($B7=\"\",$AQ7=\"\"),IJ6,IF(AND(II7=0,IJ6<ID$9),0,IF($BP7<=ID$11,IJ6+II7,IF(AND($BO7<ID$11,II7>0),(IJ6+II7)-($BP7-ID$11),IJ6))))","v":0},null,6,0,{"$f":"IF(AND($BO7>IL$11,IN6=0),0,IF(OR($B7=\"\",$AQ7=\"\",$BO7>(IL$7+IL$11)),IN6,IF(AND(IM7=0,IN6<IL$7),0,IN6+IM7)))","v":0},0,{"$f":"IF(AND($BO7>IL$11,IP6=0),0,IF(OR($B7=\"\",$AQ7=\"\",$BO7>(IL$9+IL$11)),IP6,IF(AND(IO7=0,IP6<IL$9),0,IP6+IO7)))","v":0},{"$f":"IF(ISNA(MATCH($CA7,$BX$61:$BX$64,0)),0,IF(AND(SUM(IN$6:IN7)=0,$BT7>2,$BT7<>\"\"),$BP7-$BO7,0))","v":0},{"$f":"IF(AND($B7<>\"\",$AQ7<>\"\",SUM(IQ$6:IQ7)>=6),TRUE,FALSE)","v":false},4,0,{"$f":"IF(OR($B7=\"\",$AQ7=\"\"),IU6,IF(AND(IT7=0,IU6<IS$7),0,IF($BP7<=IS$9,IU6+IT7,IF(AND($BO7<IS$9,IT7>0),(IU6+IT7)-($BP7-IS$9),IU6))))","v":0},{"$f":"IF(ISNA(MATCH($CA7,$BX$61:$BX$64,0)),0,IF(AND(SUM(IU$6:IU7)=0,$BT7>2,$BT7<>\"\"),$BP7-$BO7,0))","v":0},{"$f":"IF(AND($B7<>\"\",$AQ7<>\"\",SUM(IV$6:IV7)>=6),TRUE,FALSE)","v":false},4,2,{"$f":"IF(OR($CA7=$BX$61,$CA7=$BX$63),$BP7-$BO7,0)","v":0},{"$f":"IF(OR($B7=\"\",$AQ7=\"\"),JA6,IF(AND(IZ7=0,JA6<IX$7),0,IF($BP7<=IX$9,JA6+IZ7,IF(AND($BO7<IX$9,IZ7>0),(JA6+IZ7)-($BP7-IX$9),JA6))))","v":0},{"$f":"IF(OR($B7=\"\",$AQ7=\"\"),JB6,IF(AND(IZ7=0,JB6<IY$7),0,IF($BP7<=IY$9,JB6+IZ7,IF(AND($BO7<IY$9,IZ7>0),(JB6+IZ7)-($BP7-IY$9),JB6))))","v":0},{"$f":"IF(ISNA(MATCH($CA7,$BX$61:$BX$64,0)),0,IF(AND(SUM(JA$6:JA7)=0,$BT7>2,$BT7<>\"\"),$BP7-$BO7,0))","v":0},{"$f":"IF(AND($B7<>\"\",$AQ7<>\"\",SUM(JC$6:JC7)>=6),TRUE,FALSE)","v":false},20,false,{"$f":"IF($BO7=$BO6,IF(OR($BZ7=$BZ$62,$BZ7=$BZ$63),$AE7+JG6,JG6),IF(OR($BZ7=$BZ$62,$BZ7=$BZ$63),$AE7,0))","v":0},{"$f":"IF(OR(JF7=TRUE,JG7>=JE$7),TRUE,FALSE)","v":false},false,0,{"$f":"IF(AND($BO7>JE$11,JK6=0),0,IF(OR($B7=\"\",$AQ7=\"\",$BO7>(JE$9+JE$11)),JK6,IF(AND(JJ7=0,JK6<JE$9),0,JK6+JJ7)))","v":0},10,false,{"$f":"IF($BO7=$BO6,IF(OR($BZ7=$BZ$62,$BZ7=$BZ$63,IFERROR(IF(SEARCH(\"D\",$AI7,1)>=1,TRUE,FALSE),FALSE)),$AE7+JN6,JN6),IF(OR($BZ7=$BZ$62,$BZ7=$BZ$63,IFERROR(IF(SEARCH(\"D\",$AI7,1)>=1,TRUE,FALSE),FALSE)),$AE7,0))","v":0},{"$f":"IF(OR(JM7=TRUE,JN7>=JL$7),TRUE,FALSE)","v":false},{"$f":"IF($BO7=$BO8,IF(OR(JO7=TRUE,JO8=TRUE,JP8=TRUE),TRUE,FALSE),IF(JO7=TRUE,TRUE,FALSE))","v":false},0,{"$f":"IF(AND($BO7>JL$11,JR6=0),0,IF(OR($B7=\"\",$AQ7=\"\",$BO7>(JL$9+JL$11)),JR6,IF(AND(JQ7=0,JR6<JL$9),0,JR6+JQ7)))","v":0},10,false,{"$f":"IFERROR(IF($BO7=$BO6,IF(OR($BZ7=$BZ$62,$BZ7=$BZ$63,AND(IFERROR(IF(SEARCH(\"D\",AI7,1)>=1,TRUE,FALSE),FALSE),OR(AND($BW7-$BS7>=1,IFERROR($BT7-$BX7>=1,IF(AND($BW7<>\"\",$BX7=\"\"),TRUE,FALSE))),AND($BW7>=4,OR($BX7=2,$BX7=1,$BX7=\"\"))))),$AE7+JU6,JU6),IF(OR($BZ7=$BZ$62,$BZ7=$BZ$63,AND(IFERROR(IF(SEARCH(\"D\",AI7,1)>=1,TRUE,FALSE),FALSE),OR(AND($BW7-$BS7>=1,IFERROR($BT7-$BX7>=1,IF(AND($BW7<>\"\",$BX7=\"\"),TRUE,FALSE))),AND($BW7>=4,OR($BX7=2,$BX7=1,$BX7=\"\"))))),$AE7,0)),0)","v":0},{"$f":"IF(OR(JT7=TRUE,JU7>=JS$7),TRUE,FALSE)","v":false},{"$f":"IF($BO7=$BO8,IF(OR(JV7=TRUE,JV8=TRUE,JW8=TRUE),TRUE,FALSE),IF(JV7=TRUE,TRUE,FALSE))","v":false},0,{"$f":"IF(AND($BO7>JS$11,JY6=0),0,IF(OR($B7=\"\",$AQ7=\"\",$BO7>(JS$9+JS$11)),JY6,IF(AND(JX7=0,JY6<JS$9),0,JY6+JX7)))","v":0},6,{"$f":"IF(K38<>\"\",K38/2,FALSE)","v":false},0,{"$f":"IF(AND($BO7>JZ$9,KC6=0),0,IF(OR($B7=\"\",$AQ7=\"\",$BO7>(JZ$7+JZ$9)),KC6,IF(AND(KB7=0,KC6<JZ$7),0,KC6+KB7)))","v":0},{"$f":"IF(OR($B7=\"\",$AQ7=\"\"),KD6,IF(AND(KB7=0,KD6<KA$7),0,KD6+KB7))","v":0},false,0.5,0,{"$f":"IF(AND($BO7>0,KH6=0),0,IF(OR($B7=\"\",$AQ7=\"\",$BO7>KF$7),KH6,IF(AND(KG7=0,KH6<KF$7),0,KH6+KG7)))","v":0},{"$f":"IF(ISNA(MATCH($BR7,$CC$69:$CC$70,0)),0,IF(AND(OR($CA7=$BX$62,$CA7=$BX$64),$BS7<>\"\",$BS7>=4,OR($BT7=1,$BT7=\"\")),$BP7-$BO7,0))","v":0},{"$f":"IF($BO7>KF$11,0,KI7)","v":0},12,false]
[null,null,null,null,null,null,null,null,null,null,null,null,null,null,null,null,null,null,null,null,null,null,null,null,null,null,null,null,null,null,null,null,null,null,null,null,null,null,null,null,null,null,null,null,null,null,null,null,null,null,{"$f":"IF(BZ8=\"\",\"\",BZ8)","v":""},null,null,null,null,null,null,null,null,null,null,null,null,null,null,null,{"$f":"IFERROR(IF(B8=\"\",BO7,IF(B8=\"\",\"\",VALUE(LEFT(B8,SEARCH(\"-\",B8)-1)))),\"\")","v":""},{"$f":"IFERROR(IF(B8=\"\",BP7,IF(B8=\"\",\"\",VALUE(RIGHT(B8,LEN(B8)-SEARCH(\"-\",B8))))),\"\")","v":""},{"$f":"IF(H8=\"\",BQ7,H8)","v":""},{"$f":"IFERROR(IF(H8=\"\",BR7,IF(H8=\"\",\"\",LEFT(TRIM(H8),SEARCH(\" \",(TRIM(H8)))-1))),\"\")","v":""},{"$f":"IFERROR(IF(H8=\"\",BS7,IF(H8=\"\",\"\",VALUE(MID(TRIM(H8),SEARCH(\" \",(TRIM(H8)))+1,(SEARCH(\"/\",(TRIM(H8)))-SEARCH(\" \",(TRIM(H8)))-1))))),\"\")","v":""},{"$f":"IFERROR(IF(H8=\"\",BT7,IF(AND(H8<>\"\",ISNUMBER(VALUE(RIGHT(TRIM(H8),1)))),VALUE(RIGHT(TRIM(H8),LEN(TRIM(H8))-SEARCH(\"/\",(TRIM(H8))))),\"\")),\"\")","v":""},{"$f":"IF(H8=\"\",BU7,VALUE(R8))","v":0},"","","","","","",false,0,false,false,false,0,false,false,"Max Comp Depth",0,{"$f":"IF(OR($B8=\"\",$AQ8=\"\"),CL7,IF($BP8<=CJ$9,CL7+CK8,IF(AND($BO8<CJ$9,CK8>0),(CL7+CK8)-($BP8-CJ$9),CL7)))","v":0},false,{"$f":"IF(ISNA(MATCH($CA8,$BX$61:$BX$64,0)),0,IF(AND(SUM(CL$6:CL8)=0,$BT8>2,$BT8<>\"\"),$BP8-$BO8,0))","v":0},{"$f":"IF(AND($B8<>\"\",$AQ8<>\"\",SUM(CN$6:CN8)>=6),TRUE,FALSE)","v":false},null,0,{"$f":"IF(OR($B8=\"\",$AQ8=\"\"),CR7,IF(ISNA(MATCH(0,CQ$6:CQ8,0)),CR7+CQ8,0))","v":0},false,"Max Start Depth",0,{"$f":"IF(AND($BO8>CT$9,CV7=0),0,IF(OR($B8=\"\",$AQ8=\"\",$BO8>(CT$7+CT$9)),CV7,IF(AND(CU8=0,CV7<CT$7),0,CV7+CU8)))","v":0},false,{"$f":"IF(ISNA(MATCH($CA8,$BX$61:$BX$64,0)),0,IF(AND(SUM(CV$6:CV8)=0,$BT8>2,$BT8<>\"\"),$BP8-$BO8,0))","v":0},{"$f":"IF(AND($B8<>\"\",$AQ8<>\"\",SUM(CX$6:CX8)>=6),TRUE,FALSE)","v":false},null,null,0,0,{"$f":"IF($BO8<=$DA$7,COUNTIF(DC8,TRUE)+DD7,DD7)","v":0},{"$f":"IF(ISNA(MATCH(TRUE,$DB$6:$DB7,0)),IF(AND(DD7>=2,DB8=TRUE),TRUE,FALSE),IF(AND($BO8<=$DA$7,DC8=TRUE),TRUE,IF(AND($BO8<=$DA$7,DB8=TRUE),TRUE,FALSE)))","v":false},{"$f":"IF(ISNA(MATCH(TRUE,$DB9:$DB$12,0)),FALSE,IF(AND($BO8<=$DA$7,INDIRECT(ADDRESS(MATCH(TRUE,$DB9:$DB$12,0)+8,67))<=$DA$7,DC8=TRUE),TRUE,FALSE))","v":false},{"$f":"IF(ISNA(MATCH(TRUE,$DB$6:$DB7,0)),IF(ISNA(MATCH(TRUE,$DC$6:$DC7,0)),FALSE,TRUE),TRUE)","v":false},{"$f":"IF(AND($DB8=FALSE,$DC8=FALSE,$DG8=TRUE),TRUE,FALSE)","v":false},null,{"$f":"IF(ISNA(MATCH($AY8,$BZ$61:$BZ$63,0)),IF(AND($BO8<=DI$7,$B8<>\"\",$AQ8<>\"\",$AY8<>\"\"),TRUE,FALSE),FALSE)","v":false},{"$f":"IF(ISNA(MATCH($CA8,$BX$61:$BX$64,0)),0,IF(ISNA(MATCH(TRUE,DJ$6:DJ8,0)),IF(AND($BT8>2,$BT8<>\"\"),$BP8-$BO8,0),0))","v":0},{"$f":"IF(AND($B8<>\"\",$AQ8<>\"\",SUM(DK$6:DK8)>=6),TRUE,FALSE)","v":false},"Max Start Depth",0,{"$f":"IF(AND($BO8>DM$9,DO7=0),0,IF(OR($B8=\"\",$AQ8=\"\",$BO8>(DM$7+DM$9)),DO7,IF(AND(DN8=0,DO7<DM$7),0,DO7+DN8)))","v":0},{"$f":"IF(ISNA(MATCH($CA8,$BX$61:$BX$64,0)),0,IF(AND(SUM(DO$6:DO8)=0,$BT8>2,$BT8<>\"\"),$BP8-$BO8,0))","v":0},{"$f":"IF(AND($B8<>\"\",$AQ8<>\"\",SUM(DP$6:DP8)>=6),TRUE,FALSE)","v":false},null,false,{"$f":"IF(ISNA(MATCH($CA8,$BX$61:$BX$64,0)),0,IF(ISNA(MATCH(TRUE,DS$6:DS8,0)),IF(AND($BT8>2,$BT8<>\"\"),$BP8-$BO8,0),0))","v":0},{"$f":"IF(AND($B8<>\"\",$AQ8<>\"\",SUM(DT$6:DT8)>=6),TRUE,FALSE)","v":false},"Max Start Depth",0,{"$f":"IF(AND($BO8>DV$9,DX7=0),0,IF(OR($B8=\"\",$AQ8=\"\",$BO8>(DV$7+DV$9)),DX7,IF(AND(DW8=0,DX7<DV$7),0,DX7+DW8)))","v":0},{"$f":"IF(ISNA(MATCH($CA8,$BX$61:$BX$64,0)),0,IF(AND(SUM(DX$6:DX8)=0,$BT8>2,$BT8<>\"\"),$BP8-$BO8,0))","v":0},{"$f":"IF(AND($B8<>\"\",$AQ8<>\"\",SUM(DY$6:DY8)>=6),TRUE,FALSE)","v":false},"Max Start Depth",0,{"$f":"IF(AND($BO8>EA$9,EC7=0),0,IF(OR($B8=\"\",$AQ8=\"\",$BO8>(EA$7+EA$9)),EC7,IF(AND(EB8=0,EC7<EA$7),0,EC7+EB8)))","v":0},{"$f":"IF(ISNA(MATCH($CA8,$BX$61:$BX$64,0)),0,IF(AND(SUM(EC$6:EC8)=0,$BT8>2,$BT8<>\"\"),$BP8-$BO8,0))","v":0},{"$f":"IF(AND($B8<>\"\",$AQ8<>\"\",SUM(ED$6:ED8)>=6),TRUE,FALSE)","v":false},"Max Start Depth","Max Start Depth",{"$f":"IF(OR(BO8<=6,EH7=TRUE,EH7=\"SAND\"),IF(AND(OR($CA8=$BX$62,$CA8=$BX$64),$BS8<>\"\",$BS8<=3,OR($BT8=1,$BT8=\"\")),\"SAND\",IF(AND(OR($CA8=$BX$61,$CA8=$BX$63,$CA8=$BX$65,$CA8=$BX$66,$CA8=$BX$67),$BS8<>\"\",$BS8<=3,OR($BT8=2,$BT8=1,$BT8=\"\")),TRUE,FALSE)),FALSE)","v":false},{"$f":"IFERROR(IF(OR($EH7=TRUE,$EH7=\"SAND\",EI7>0),IF(AND(OR(VLOOKUP($BQ8,$BO$62:$BR$497,2,FALSE),VLOOKUP($BQ8,$BO$62:$BR$497,4,FALSE)),$BU8>=60),$BP8-$BO8,IF(AND(VLOOKUP($BQ8,$BO$62:$BR$497,3,FALSE),$CE8=TRUE,$BU8>=60),$BP8-$BO8,0)),0),0)","v":0},{"$f":"IF(AND($BO8>EF$9,EJ7=0),0,IF(OR($B8=\"\",$AQ8=\"\",$BO8>(EF$7+EF$9)),EJ7,IF(AND(EI8=0,EJ7<EF$7),0,EJ7+EI8)))","v":0},{"$f":"IF(AND($BO8>EG$9,EK7=0),0,IF(OR($B8=\"\",$AQ8=\"\",$BO8>(EG$7+EG$9)),EK7,IF(AND(EI8=0,EK7<EG$7),0,EK7+EI8)))","v":0},{"$f":"IF(ISNA(MATCH($CA8,$BX$61:$BX$64,0)),0,IF(ISNA(MATCH(TRUE,EH$6:EH8,0)),IF(AND($BT8>2,$BT8<>\"\"),$BP8-$BO8,0),0))","v":0},{"$f":"IF(AND($B8<>\"\",$AQ8<>\"\",SUM(EL$6:EL8)>=6),TRUE,FALSE)","v":false},"Upper Max Start Depth",0,{"$f":"IF(AND($BO8>=EN$9,EP7=0),0,IF(OR($B8=\"\",$AQ8=\"\",$BO8>(EN$7+EN$9)),EP7,IF(AND(EO8=0,EP7<EN$7),0,EP7+EO8)))","v":0},0,{"$f":"IF(OR($BO8<EN$13,AND($BO8>=EN$13,EQ8=0,ER7<EN$11)),0,IF(OR($B8=\"\",$AQ8=\"\"),ER7,ER7+EQ8))","v":0},"0",{"$f":"IF(ISNA(MATCH($CA8,$BX$61:$BX$64,0)),0,IF(AND(SUM(EP$6:EP8)=0,$BT8>2,$BT8<>\"\"),$BP8-$BO8,0))","v":0},{"$f":"IF(AND($B8<>\"\",$AQ8<>\"\",SUM(ET$6:ET8)>=6),TRUE,FALSE)","v":false},"Max Start Depth",0,{"$f":"IF(AND($BO8>EV$9,EX7=0),0,IF(OR($B8=\"\",$AQ8=\"\",$BO8>(EV$7+EV$9)),EX7,IF(AND(EW8=0,EX7<EV$7),0,EX7+EW8)))","v":0},"Max Start Depth",0,{"$f":"IF(AND($BO8>EY$9,FA7=0),0,IF(OR($B8=\"\",$AQ8=\"\",$BO8>(EY$7+EY$9)),FA7,IF(AND(EZ8=0,FA7<EY$7),0,FA7+EZ8)))","v":0},{"$f":"IF(ISNA(MATCH($CA8,$BX$61:$BX$64,0)),0,IF(AND(SUM(FA$6:FA8)=0,$BT8>2,$BT8<>\"\"),$BP8-$BO8,0))","v":0},{"$f":"IF(AND($B8<>\"\",$AQ8<>\"\",SUM(FB$6:FB8)>=6),TRUE,FALSE)","v":false},null,false,{"$f":"IF(ISNA(MATCH($CA8,$BX$61:$BX$64,0)),0,IF(ISNA(MATCH(TRUE,FE$6:FE8,0)),IF(AND($BT8>2,$BT8<>\"\"),$BP8-$BO8,0),0))","v":0},{"$f":"IF(AND($B8<>\"\",$AQ8<>\"\",SUM(FF$6:FF8)>=6),TRUE,FALSE)","v":false},"Max Start Depth",0,{"$f":"IF(AND($BO8>FH$9,FJ7=0),0,IF(OR($B8=\"\",$AQ8=\"\",$BO8>(FH$7+FH$9)),FJ7,IF(AND(FI8=0,FJ7<FH$7),0,FJ7+FI8)))","v":0},{"$f":"IF(ISNA(MATCH($CA8,$BX$61:$BX$64,0)),0,IF(AND(SUM(FJ$6:FJ8)=0,$BT8>2,$BT8<>\"\"),$BP8-$BO8,0))","v":0},{"$f":"IF(AND($B8<>\"\",$AQ8<>\"\",SUM(FK$6:FK8)>=6),TRUE,FALSE)","v":false},null,false,"Max Start Depth",0,{"$f":"IF(AND($BO8>FO$9,FQ7=0),0,IF(OR($B8=\"\",$AQ8=\"\",$BO8>(FO$7+FO$9)),FQ7,IF(AND(FP8=0,FQ7<FO$7),0,FQ7+FP8)))","v":0},false,{"$f":"IF(AND(FP7>0,$B8<>\"\",$AQ8<>\"\",OR($BT8=2,$BT8=1,$BT8=\"\")),TRUE,FALSE)","v":false},{"$f":"IF(ISNA(MATCH($CA8,$BX$61:$BX$64,0)),0,IF(AND(SUM(FQ$6:FQ8)=0,$BT8>2,$BT8<>\"\"),$BP8-$BO8,0))","v":0},{"$f":"IF(AND($B8<>\"\",$AQ8<>\"\",SUM(FT$6:FT8)>=6),TRUE,FALSE)","v":false},"Max Start Depth Upper",false,{"$f":"IF(AND(OR(AND(FW7=TRUE,$B8<>\"\",$AQ8<>\"\"),$BO7=$BO8),OR(AND($BU8>=5,$BS8<>\"\",$BS8<=3,OR($BT8=1,$BT8=\"\")),AND($AE8>=5,$BW8<=3,$BW8<>\"\",OR($BX8=1,$BX8=\"\"))),OR(AND($BS8<>\"\",$BS8>=4,OR($BT8=1,$BT8=\"\")),AND($BW8>=4,$BW8<>\"\",OR($BX8=1,$BX8=\"\")))),TRUE,FALSE)","v":false},{"$f":"IF($BO8=$BO7,IF(AND(FY7<>0,OR(AND($BW8<=3,$BW8<>\"\",OR($BX8=1,$BX8=\"\"))),OR(AND($BS8<>\"\",$BS8>=4,OR($BT8=1,$BT8=\"\")))),$AE8+FY7,FY7),IF(AND(FY7<>0,OR(AND($BW8<=3,$BW8<>\"\",OR($BX8=1,$BX8=\"\"))),OR(AND($BS8<>\"\",$BS8>=4,OR($BT8=1,$BT8=\"\")))),$AE8,0))","v":0},{"$f":"IF(OR(FX8=TRUE,FY8>=FV$7),TRUE,FALSE)","v":false},{"$f":"IF($BO8=$BO9,IF(OR(FZ8=TRUE,FZ9=TRUE,GA9=TRUE),TRUE,FALSE),IF(FZ8=TRUE,TRUE,FALSE))","v":false},{"$f":"IF(ISNA(MATCH($CA8,$BX$61:$BX$64,0)),0,IF(ISNA(MATCH(TRUE,FW$6:FW8,0)),IF(AND($BT8>2,$BT8<>\"\"),$BP8-$BO8,0),0))","v":0},{"$f":"IF(AND($B8<>\"\",$AQ8<>\"\",SUM(GB$6:GB8)>=6),TRUE,FALSE)","v":false},"Max Start Depth",0,{"$f":"IF(AND($BO8>GD$9,GF7=0),0,IF(OR($B8=\"\",$AQ8=\"\",$BO8>(GD$7+GD$9)),GF7,IF(AND(GE8=0,GF7<GD$7),0,GF7+GE8)))","v":0},false,"Max Start Depth",0,{"$f":"IF(AND($BO8>GH$9,GJ7=0),0,IF(OR($B8=\"\",$AQ8=\"\",$BO8>(GH$7+GH$9)),GJ7,IF(AND(GI8=0,GJ7<GH$7),0,GJ7+GI8)))","v":0},{"$f":"IF(ISNA(MATCH($CA8,$BX$61:$BX$64,0)),0,IF(AND(SUM(GJ$6:GJ8)=0,$BT8>2,$BT8<>\"\"),$BP8-$BO8,0))","v":0},{"$f":"IF(AND($B8<>\"\",$AQ8<>\"\",SUM(GK$6:GK8)>=6),TRUE,FALSE)","v":false},"Max Start Depth",0,{"$f":"IF(AND($BO8>GM$9,GO7=0),0,IF(OR($B8=\"\",$AQ8=\"\",$BO8>(GM$7+GM$9)),GO7,IF(AND(GN8=0,GO7<GM$7),0,GO7+GN8)))","v":0},{"$f":"IF(ISNA(MATCH($CA8,$BX$61:$BX$64,0)),0,IF(AND(SUM(GO$6:GO8)=0,$BT8>2,$BT8<>\"\"),$BP8-$BO8,0))","v":0},{"$f":"IF(AND($B8<>\"\",$AQ8<>\"\",SUM(GP$6:GP8)>=6),TRUE,FALSE)","v":false},null,false,{"$f":"IF(ISNA(MATCH($CA8,$BX$61:$BX$64,0)),0,IF(ISNA(MATCH(TRUE,GS$6:GS8,0)),IF(AND($BT8>2,$BT8<>\"\"),$BP8-$BO8,0),0))","v":0},{"$f":"IF(AND($B8<>\"\",$AQ8<>\"\",SUM(GT$6:GT8)>=6),TRUE,FALSE)","v":false},"Max Comp. Depth","Max Start Depth",{"$f":"IFERROR(IF($BQ8=\"\",0,IF(AND(OR($CA8=$BX$61,$CA8=$BX$63),VLOOKUP($BQ8,$BO$62:$BR$497,2,FALSE),$BU8>=60),$BP8-$BO8,IF(AND(OR($CA8=$BX$61,$CA8=$BX$63),VLOOKUP($BQ8,$BO$62:$BR$497,3,FALSE),$CE8=TRUE,$BU8>=60),$BP8-$BO8,0))),0)","v":0},{"$f":"IF(OR($B8=\"\",$AQ8=\"\"),GY7,IF(AND(GX8=0,GY7<GV$7),0,IF($BP8<=GV$9,GY7+GX8,IF(AND($BO8<GV$9,GX8>0),(GY7+GX8)-($BP8-GV$9),GY7))))","v":0},{"$f":"IF(AND($BO8>GW$9,GZ7=0),0,IF(OR($B8=\"\",$AQ8=\"\",$BO8>(GW$7+GW$9)),GZ7,IF(AND(GX8=0,GZ7<GW$7),0,GZ7+GX8)))","v":0},{"$f":"IF(ISNA(MATCH($CA8,$BX$61:$BX$64,0)),0,IF(AND(SUM(GZ$6:GZ8)=0,$BT8>2,$BT8<>\"\"),$BP8-$BO8,0))","v":0},{"$f":"IF(AND($B8<>\"\",$AQ8<>\"\",SUM(HA$6:HA8)>=6),TRUE,FALSE)","v":false},"Max Comp. Depth",0,{"$f":"IF(OR($B8=\"\",$AQ8=\"\"),HE7,IF(AND(HD8=0,HE7<HC$7),0,IF($BP8<=HC$9,HE7+HD8,IF(AND($BO8<HC$9,HD8>0),(HE7+HD8)-($BP8-HC$9),HE7))))","v":0},{"$f":"IF(ISNA(MATCH($CA8,$BX$61:$BX$64,0)),0,IF(AND(SUM(HE$6:HE8)=0,$BT8>2,$BT8<>\"\"),$BP8-$BO8,0))","v":0},{"$f":"IF(AND($B8<>\"\",$AQ8<>\"\",SUM(HF$6:HF8)>=6),TRUE,FALSE)","v":false},20,false,0,false,false,false,false,false,0,{"$f":"IF(OR($B8=\"\",$AQ8=\"\"),HQ7,IF(AND(HP8=0,HQ7<HH$10),0,IF($BP8<=HH$12,HQ7+HP8,IF(AND($BO8<HH$12,HP8>0),(HQ7+HP8)-($BP8-HH$12),HQ7))))","v":0},{"$f":"IF(ISNA(MATCH($CA8,$BX$61:$BX$64,0)),0,IF(AND(SUM(HQ$6:HQ8)=0,$BT8>2,$BT8<>\"\"),$BP8-$BO8,0))","v":0},{"$f":"IF(AND($B8<>\"\",$AQ8<>\"\",SUM(HR$6:HR8)>=6),TRUE,FALSE)","v":false},"Max Comp. Depth",0,{"$f":"IF(OR($B8=\"\",$AQ8=\"\"),HV7,IF(AND(HU8=0,HV7<HT$7),0,IF($BP8<=HT$9,HV7+HU8,IF(AND($BO8<HT$9,HU8>0),(HV7+HU8)-($BP8-HT$9),HV7))))","v":0},null,false,"Max Comp. Depth",0,{"$f":"IF(OR($B8=\"\",$AQ8=\"\"),IA7,IF(AND(HZ8=0,IA7<HY$7),0,IF($BP8<=HY$9,IA7+HZ8,IF(AND($BO8<HY$9,HZ8>0),(IA7+HZ8)-($BP8-HY$9),IA7))))","v":0},{"$f":"IF(ISNA(MATCH($CA8,$BX$61:$BX$64,0)),0,IF(AND(SUM(IA$6:IA8)=0,$BT8>2,$BT8<>\"\"),$BP8-$BO8,0))","v":0},{"$f":"IF(AND($B8<>\"\",$AQ8<>\"\",SUM(IB$6:IB8)>=6),TRUE,FALSE)","v":false},"Min Cum. Thickness",false,0,false,{"$f":"IF($BO8=$BO9,IF(OR(IG8=TRUE,IG9=TRUE,IH9=TRUE),TRUE,FALSE),IF(IG8=TRUE,TRUE,FALSE))","v":false},0,0,null,"Total",0,{"$f":"IF(AND($BO8>IL$11,IN7=0),0,IF(OR($B8=\"\",$AQ8=\"\",$BO8>(IL$7+IL$11)),IN7,IF(AND(IM8=0,IN7<IL$7),0,IN7+IM8)))","v":0},0,{"$f":"IF(AND($BO8>IL$11,IP7=0),0,IF(OR($B8=\"\",$AQ8=\"\",$BO8>(IL$9+IL$11)),IP7,IF(AND(IO8=0,IP7<IL$9),0,IP7+IO8)))","v":0},{"$f":"IF(ISNA(MATCH($CA8,$BX$61:$BX$64,0)),0,IF(AND(SUM(IN$6:IN8)=0,$BT8>2,$BT8<>\"\"),$BP8-$BO8,0))","v":0},{"$f":"IF(AND($B8<>\"\",$AQ8<>\"\",SUM(IQ$6:IQ8)>=6),TRUE,FALSE)","v":false},"Max Comp. Depth",0,{"$f":"IF(OR($B8=\"\",$AQ8=\"\"),IU7,IF(AND(IT8=0,IU7<IS$7),0,IF($BP8<=IS$9,IU7+IT8,IF(AND($BO8<IS$9,IT8>0),(IU7+IT8)-($BP8-IS$9),IU7))))","v":0},{"$f":"IF(ISNA(MATCH($CA8,$BX$61:$BX$64,0)),0,IF(AND(SUM(IU$6:IU8)=0,$BT8>2,$BT8<>\"\"),$BP8-$BO8,0))","v":0},{"$f":"IF(AND($B8<>\"\",$AQ8<>\"\",SUM(IV$6:IV8)>=6),TRUE,FALSE)","v":false},"Max Comp. Depth","Max Comp. Depth",0,{"$f":"IF(OR($B8=\"\",$AQ8=\"\"),JA7,IF(AND(IZ8=0,JA7<IX$7),0,IF($BP8<=IX$9,JA7+IZ8,IF(AND($BO8<IX$9,IZ8>0),(JA7+IZ8)-($BP8-IX$9),JA7))))","v":0},0,{"$f":"IF(ISNA(MATCH($CA8,$BX$61:$BX$64,0)),0,IF(AND(SUM(JA$6:JA8)=0,$BT8>2,$BT8<>\"\"),$BP8-$BO8,0))","v":0},{"$f":"IF(AND($B8<>\"\",$AQ8<>\"\",SUM(JC$6:JC8)>=6),TRUE,FALSE)","v":false},"Min Cum. Thickness",false,0,{"$f":"IF(OR(JF8=TRUE,JG8>=JE$7),TRUE,FALSE)","v":false},false,0,{"$f":"IF(AND($BO8>JE$11,JK7=0),0,IF(OR($B8=\"\",$AQ8=\"\",$BO8>(JE$9+JE$11)),JK7,IF(AND(JJ8=0,JK7<JE$9),0,JK7+JJ8)))","v":0},"Min Cum. Thickness",false,0,{"$f":"IF(OR(JM8=TRUE,JN8>=JL$7),TRUE,FALSE)","v":false},false,0,{"$f":"IF(AND($BO8>JL$11,JR7=0),0,IF(OR($B8=\"\",$AQ8=\"\",$BO8>(JL$9+JL$11)),JR7,IF(AND(JQ8=0,JR7<JL$9),0,JR7+JQ8)))","v":0},"Min Cum. Thickness",false,0,{"$f":"IF(OR(JT8=TRUE,JU8>=JS$7),TRUE,FALSE)","v":false},false,0,{"$f":"IF(AND($BO8>JS$11,JY7=0),0,IF(OR($B8=\"\",$AQ8=\"\",$BO8>(JS$9+JS$11)),JY7,IF(AND(JX8=0,JY7<JS$9),0,JY7+JX8)))","v":0},"Max Start Depth if bedrock is 6-10 inches down"," ",0,{"$f":"IF(AND($BO8>JZ$9,KC7=0),0,IF(OR($B8=\"\",$AQ8=\"\",$BO8>(JZ$7+JZ$9)),KC7,IF(AND(KB8=0,KC7<JZ$7),0,KC7+KB8)))","v":0},{"$f":"IF(OR($B8=\"\",$AQ8=\"\"),KD7,IF(AND(KB8=0,KD7<KA$7),0,KD7+KB8))","v":0},false,"Min Cum. Thickness Lower",0,{"$f":"IF(AND($BO8>0,KH7=0),0,IF(OR($B8=\"\",$AQ8=\"\",$BO8>KF$7),KH7,IF(AND(KG8=0,KH7<KF$7),0,KH7+KG8)))","v":0},0,{"$f":"IF(AND($BO8>KF$11,KJ7=0),0,IF(OR($B8=\"\",$AQ8=\"\",$BO8>(KF$9+KF$11)),KJ7,IF(AND(KI8=0,KJ7<KF$9),0,KJ7+KI8)))","v":0},null,false]
[null,null,null,null,null,null,null,null,null,null,null,null,null,null,null,null,null,null,null,null,null,null,null,null,null,null,null,null,null,null,null,null,null,null,null,null,null,null,null,null,null,null,null,null,null,null,null,null,null,null,"",null,null,null,null,null,null,null,null,null,null,null,null,null,null,null,{"$f":"IFERROR(IF(B9=\"\",BO8,IF(B9=\"\",\"\",VALUE(LEFT(B9,SEARCH(\"-\",B9)-1)))),\"\")","v":""},{"$f":"IFERROR(IF(B9=\"\",BP8,IF(B9=\"\",\"\",VALUE(RIGHT(B9,LEN(B9)-SEARCH(\"-\",B9))))),\"\")","v":""},{"$f":"IF(H9=\"\",BQ8,H9)","v":""},"","","",{"$f":"IF(H9=\"\",BU8,VALUE(R9))","v":0},"","","","","","",false,0,false,false,false,0,false,false,32,0,0,false,{"$f":"IF(ISNA(MATCH($CA9,$BX$61:$BX$64,0)),0,IF(AND(SUM(CL$6:CL9)=0,$BT9>2,$BT9<>\"\"),$BP9-$BO9,0))","v":0},{"$f":"IF(AND($B9<>\"\",$AQ9<>\"\",SUM(CN$6:CN9)>=6),TRUE,FALSE)","v":false},null,0,{"$f":"IF(OR($B9=\"\",$AQ9=\"\"),CR8,IF(ISNA(MATCH(0,CQ$6:CQ9,0)),CR8+CQ9,0))","v":0},false,6,0,{"$f":"IF(AND($BO9>CT$9,CV8=0),0,IF(OR($B9=\"\",$AQ9=\"\",$BO9>(CT$7+CT$9)),CV8,IF(AND(CU9=0,CV8<CT$7),0,CV8+CU9)))","v":0},false,{"$f":"IF(ISNA(MATCH($CA9,$BX$61:$BX$64,0)),0,IF(AND(SUM(CV$6:CV9)=0,$BT9>2,$BT9<>\"\"),$BP9-$BO9,0))","v":0},{"$f":"IF(AND($B9<>\"\",$AQ9<>\"\",SUM(CX$6:CX9)>=6),TRUE,FALSE)","v":false},null,null,0,0,0,{"$f":"IF(ISNA(MATCH(TRUE,$DB$6:$DB8,0)),IF(AND(DD8>=2,DB9=TRUE),TRUE,FALSE),IF(AND($BO9<=$DA$7,DC9=TRUE),TRUE,IF(AND($BO9<=$DA$7,DB9=TRUE),TRUE,FALSE)))","v":false},{"$f":"IF(ISNA(MATCH(TRUE,$DB10:$DB$12,0)),FALSE,IF(AND($BO9<=$DA$7,INDIRECT(ADDRESS(MATCH(TRUE,$DB10:$DB$12,0)+9,67))<=$DA$7,DC9=TRUE),TRUE,FALSE))","v":false},{"$f":"IF(ISNA(MATCH(TRUE,$DB$6:$DB8,0)),IF(ISNA(MATCH(TRUE,$DC$6:$DC8,0)),FALSE,TRUE),TRUE)","v":false},false,null,{"$f":"IF(ISNA(MATCH($AY9,$BZ$61:$BZ$63,0)),IF(AND($BO9<=DI$7,$B9<>\"\",$AQ9<>\"\",$AY9<>\"\"),TRUE,FALSE),FALSE)","v":false},{"$f":"IF(ISNA(MATCH($CA9,$BX$61:$BX$64,0)),0,IF(ISNA(MATCH(TRUE,DJ$6:DJ9,0)),IF(AND($BT9>2,$BT9<>\"\"),$BP9-$BO9,0),0))","v":0},{"$f":"IF(AND($B9<>\"\",$AQ9<>\"\",SUM(DK$6:DK9)>=6),TRUE,FALSE)","v":false},6,0,{"$f":"IF(AND($BO9>DM$9,DO8=0),0,IF(OR($B9=\"\",$AQ9=\"\",$BO9>(DM$7+DM$9)),DO8,IF(AND(DN9=0,DO8<DM$7),0,DO8+DN9)))","v":0},{"$f":"IF(ISNA(MATCH($CA9,$BX$61:$BX$64,0)),0,IF(AND(SUM(DO$6:DO9)=0,$BT9>2,$BT9<>\"\"),$BP9-$BO9,0))","v":0},{"$f":"IF(AND($B9<>\"\",$AQ9<>\"\",SUM(DP$6:DP9)>=6),TRUE,FALSE)","v":false},null,false,{"$f":"IF(ISNA(MATCH($CA9,$BX$61:$BX$64,0)),0,IF(ISNA(MATCH(TRUE,DS$6:DS9,0)),IF(AND($BT9>2,$BT9<>\"\"),$BP9-$BO9,0),0))","v":0},{"$f":"IF(AND($B9<>\"\",$AQ9<>\"\",SUM(DT$6:DT9)>=6),TRUE,FALSE)","v":false},6,0,{"$f":"IF(AND($BO9>DV$9,DX8=0),0,IF(OR($B9=\"\",$AQ9=\"\",$BO9>(DV$7+DV$9)),DX8,IF(AND(DW9=0,DX8<DV$7),0,DX8+DW9)))","v":0},{"$f":"IF(ISNA(MATCH($CA9,$BX$61:$BX$64,0)),0,IF(AND(SUM(DX$6:DX9)=0,$BT9>2,$BT9<>\"\"),$BP9-$BO9,0))","v":0},{"$f":"IF(AND($B9<>\"\",$AQ9<>\"\",SUM(DY$6:DY9)>=6),TRUE,FALSE)","v":false},6,0,{"$f":"IF(AND($BO9>EA$9,EC8=0),0,IF(OR($B9=\"\",$AQ9=\"\",$BO9>(EA$7+EA$9)),EC8,IF(AND(EB9=0,EC8<EA$7),0,EC8+EB9)))","v":0},{"$f":"IF(ISNA(MATCH($CA9,$BX$61:$BX$64,0)),0,IF(AND(SUM(EC$6:EC9)=0,$BT9>2,$BT9<>\"\"),$BP9-$BO9,0))","v":0},{"$f":"IF(AND($B9<>\"\",$AQ9<>\"\",SUM(ED$6:ED9)>=6),TRUE,FALSE)","v":false},12,12,{"$f":"IF(OR(BO9<=6,EH8=TRUE,EH8=\"SAND\"),IF(AND(OR($CA9=$BX$62,$CA9=$BX$64),$BS9<>\"\",$BS9<=3,OR($BT9=1,$BT9=\"\")),\"SAND\",IF(AND(OR($CA9=$BX$61,$CA9=$BX$63,$CA9=$BX$65,$CA9=$BX$66,$CA9=$BX$67),$BS9<>\"\",$BS9<=3,OR($BT9=2,$BT9=1,$BT9=\"\")),TRUE,FALSE)),FALSE)","v":false},{"$f":"IFERROR(IF(OR($EH8=TRUE,$EH8=\"SAND\",EI8>0),IF(AND(OR(VLOOKUP($BQ9,$BO$62:$BR$497,2,FALSE),VLOOKUP($BQ9,$BO$62:$BR$497,4,FALSE)),$BU9>=60),$BP9-$BO9,IF(AND(VLOOKUP($BQ9,$BO$62:$BR$497,3,FALSE),$CE9=TRUE,$BU9>=60),$BP9-$BO9,0)),0),0)","v":0},{"$f":"IF(AND($BO9>EF$9,EJ8=0),0,IF(OR($B9=\"\",$AQ9=\"\",$BO9>(EF$7+EF$9)),EJ8,IF(AND(EI9=0,EJ8<EF$7),0,EJ8+EI9)))","v":0},{"$f":"IF(AND($BO9>EG$9,EK8=0),0,IF(OR($B9=\"\",$AQ9=\"\",$BO9>(EG$7+EG$9)),EK8,IF(AND(EI9=0,EK8<EG$7),0,EK8+EI9)))","v":0},{"$f":"IF(ISNA(MATCH($CA9,$BX$61:$BX$64,0)),0,IF(ISNA(MATCH(TRUE,EH$6:EH9,0)),IF(AND($BT9>2,$BT9<>\"\"),$BP9-$BO9,0),0))","v":0},{"$f":"IF(AND($B9<>\"\",$AQ9<>\"\",SUM(EL$6:EL9)>=6),TRUE,FALSE)","v":false},6,0,0,0,0,"0",{"$f":"IF(ISNA(MATCH($CA9,$BX$61:$BX$64,0)),0,IF(AND(SUM(EP$6:EP9)=0,$BT9>2,$BT9<>\"\"),$BP9-$BO9,0))","v":0},{"$f":"IF(AND($B9<>\"\",$AQ9<>\"\",SUM(ET$6:ET9)>=6),TRUE,FALSE)","v":false},6,0,{"$f":"IF(AND($BO9>EV$9,EX8=0),0,IF(OR($B9=\"\",$AQ9=\"\",$BO9>(EV$7+EV$9)),EX8,IF(AND(EW9=0,EX8<EV$7),0,EX8+EW9)))","v":0},6,0,{"$f":"IF(AND($BO9>EY$9,FA8=0),0,IF(OR($B9=\"\",$AQ9=\"\",$BO9>(EY$7+EY$9)),FA8,IF(AND(EZ9=0,FA8<EY$7),0,FA8+EZ9)))","v":0},{"$f":"IF(ISNA(MATCH($CA9,$BX$61:$BX$64,0)),0,IF(AND(SUM(FA$6:FA9)=0,$BT9>2,$BT9<>\"\"),$BP9-$BO9,0))","v":0},{"$f":"IF(AND($B9<>\"\",$AQ9<>\"\",SUM(FB$6:FB9)>=6),TRUE,FALSE)","v":false},null,false,{"$f":"IF(ISNA(MATCH($CA9,$BX$61:$BX$64,0)),0,IF(ISNA(MATCH(TRUE,FE$6:FE9,0)),IF(AND($BT9>2,$BT9<>\"\"),$BP9-$BO9,0),0))","v":0},{"$f":"IF(AND($B9<>\"\",$AQ9<>\"\",SUM(FF$6:FF9)>=6),TRUE,FALSE)","v":false},6,0,{"$f":"IF(AND($BO9>FH$9,FJ8=0),0,IF(OR($B9=\"\",$AQ9=\"\",$BO9>(FH$7+FH$9)),FJ8,IF(AND(FI9=0,FJ8<FH$7),0,FJ8+FI9)))","v":0},{"$f":"IF(ISNA(MATCH($CA9,$BX$61:$BX$64,0)),0,IF(AND(SUM(FJ$6:FJ9)=0,$BT9>2,$BT9<>\"\"),$BP9-$BO9,0))","v":0},{"$f":"IF(AND($B9<>\"\",$AQ9<>\"\",SUM(FK$6:FK9)>=6),TRUE,FALSE)","v":false},null,false,6,0,{"$f":"IF(AND($BO9>FO$9,FQ8=0),0,IF(OR($B9=\"\",$AQ9=\"\",$BO9>(FO$7+FO$9)),FQ8,IF(AND(FP9=0,FQ8<FO$7),0,FQ8+FP9)))","v":0},false,false,{"$f":"IF(ISNA(MATCH($CA9,$BX$61:$BX$64,0)),0,IF(AND(SUM(FQ$6:FQ9)=0,$BT9>2,$BT9<>\"\"),$BP9-$BO9,0))","v":0},{"$f":"IF(AND($B9<>\"\",$AQ9<>\"\",SUM(FT$6:FT9)>=6),TRUE,FALSE)","v":false},6,false,{"$f":"IF(AND(OR(AND(FW8=TRUE,$B9<>\"\",$AQ9<>\"\"),$BO8=$BO9),OR(AND($BU9>=5,$BS9<>\"\",$BS9<=3,OR($BT9=1,$BT9=\"\")),AND($AE9>=5,$BW9<=3,$BW9<>\"\",OR($BX9=1,$BX9=\"\"))),OR(AND($BS9<>\"\",$BS9>=4,OR($BT9=1,$BT9=\"\")),AND($BW9>=4,$BW9<>\"\",OR($BX9=1,$BX9=\"\")))),TRUE,FALSE)","v":false},{"$f":"IF($BO9=$BO8,IF(AND(FY8<>0,OR(AND($BW9<=3,$BW9<>\"\",OR($BX9=1,$BX9=\"\"))),OR(AND($BS9<>\"\",$BS9>=4,OR($BT9=1,$BT9=\"\")))),$AE9+FY8,FY8),IF(AND(FY8<>0,OR(AND($BW9<=3,$BW9<>\"\",OR($BX9=1,$BX9=\"\"))),OR(AND($BS9<>\"\",$BS9>=4,OR($BT9=1,$BT9=\"\")))),$AE9,0))","v":0},false,false,{"$f":"IF(ISNA(MATCH($CA9,$BX$61:$BX$64,0)),0,IF(ISNA(MATCH(TRUE,FW$6:FW9,0)),IF(AND($BT9>2,$BT9<>\"\"),$BP9-$BO9,0),0))","v":0},{"$f":"IF(AND($B9<>\"\",$AQ9<>\"\",SUM(GB$6:GB9)>=6),TRUE,FALSE)","v":false},6,0,{"$f":"IF(AND($BO9>GD$9,GF8=0),0,IF(OR($B9=\"\",$AQ9=\"\",$BO9>(GD$7+GD$9)),GF8,IF(AND(GE9=0,GF8<GD$7),0,GF8+GE9)))","v":0},false,6,0,{"$f":"IF(AND($BO9>GH$9,GJ8=0),0,IF(OR($B9=\"\",$AQ9=\"\",$BO9>(GH$7+GH$9)),GJ8,IF(AND(GI9=0,GJ8<GH$7),0,GJ8+GI9)))","v":0},{"$f":"IF(ISNA(MATCH($CA9,$BX$61:$BX$64,0)),0,IF(AND(SUM(GJ$6:GJ9)=0,$BT9>2,$BT9<>\"\"),$BP9-$BO9,0))","v":0},{"$f":"IF(AND($B9<>\"\",$AQ9<>\"\",SUM(GK$6:GK9)>=6),TRUE,FALSE)","v":false},6,0,{"$f":"IF(AND($BO9>GM$9,GO8=0),0,IF(OR($B9=\"\",$AQ9=\"\",$BO9>(GM$7+GM$9)),GO8,IF(AND(GN9=0,GO8<GM$7),0,GO8+GN9)))","v":0},{"$f":"IF(ISNA(MATCH($CA9,$BX$61:$BX$64,0)),0,IF(AND(SUM(GO$6:GO9)=0,$BT9>2,$BT9<>\"\"),$BP9-$BO9,0))","v":0},{"$f":"IF(AND($B9<>\"\",$AQ9<>\"\",SUM(GP$6:GP9)>=6),TRUE,FALSE)","v":false},null,false,{"$f":"IF(ISNA(MATCH($CA9,$BX$61:$BX$64,0)),0,IF(ISNA(MATCH(TRUE,GS$6:GS9,0)),IF(AND($BT9>2,$BT9<>\"\"),$BP9-$BO9,0),0))","v":0},{"$f":"IF(AND($B9<>\"\",$AQ9<>\"\",SUM(GT$6:GT9)>=6),TRUE,FALSE)","v":false},6,10,0,0,{"$f":"IF(AND($BO9>GW$9,GZ8=0),0,IF(OR($B9=\"\",$AQ9=\"\",$BO9>(GW$7+GW$9)),GZ8,IF(AND(GX9=0,GZ8<GW$7),0,GZ8+GX9)))","v":0},{"$f":"IF(ISNA(MATCH($CA9,$BX$61:$BX$64,0)),0,IF(AND(SUM(GZ$6:GZ9)=0,$BT9>2,$BT9<>\"\"),$BP9-$BO9,0))","v":0},{"$f":"IF(AND($B9<>\"\",$AQ9<>\"\",SUM(HA$6:HA9)>=6),TRUE,FALSE)","v":false},12,0,0,{"$f":"IF(ISNA(MATCH($CA9,$BX$61:$BX$64,0)),0,IF(AND(SUM(HE$6:HE9)=0,$BT9>2,$BT9<>\"\"),$BP9-$BO9,0))","v":0},{"$f":"IF(AND($B9<>\"\",$AQ9<>\"\",SUM(HF$6:HF9)>=6),TRUE,FALSE)","v":false},"Min Cum. Thickness",false,0,false,false,false,false,false,0,0,{"$f":"IF(ISNA(MATCH($CA9,$BX$61:$BX$64,0)),0,IF(AND(SUM(HQ$6:HQ9)=0,$BT9>2,$BT9<>\"\"),$BP9-$BO9,0))","v":0},{"$f":"IF(AND($B9<>\"\",$AQ9<>\"\",SUM(HR$6:HR9)>=6),TRUE,FALSE)","v":false},6,0,{"$f":"IF(OR($B9=\"\",$AQ9=\"\"),HV8,IF(AND(HU9=0,HV8<HT$7),0,IF($BP9<=HT$9,HV8+HU9,IF(AND($BO9<HT$9,HU9>0),(HV8+HU9)-($BP9-HT$9),HV8))))","v":0},null,false,10,0,{"$f":"IF(OR($B9=\"\",$AQ9=\"\"),IA8,IF(AND(HZ9=0,IA8<HY$7),0,IF($BP9<=HY$9,IA8+HZ9,IF(AND($BO9<HY$9,HZ9>0),(IA8+HZ9)-($BP9-HY$9),IA8))))","v":0},{"$f":"IF(ISNA(MATCH($CA9,$BX$61:$BX$64,0)),0,IF(AND(SUM(IA$6:IA9)=0,$BT9>2,$BT9<>\"\"),$BP9-$BO9,0))","v":0},{"$f":"IF(AND($B9<>\"\",$AQ9<>\"\",SUM(IB$6:IB9)>=6),TRUE,FALSE)","v":false},4,false,0,false,false,0,0,null,10,0,{"$f":"IF(AND($BO9>IL$11,IN8=0),0,IF(OR($B9=\"\",$AQ9=\"\",$BO9>(IL$7+IL$11)),IN8,IF(AND(IM9=0,IN8<IL$7),0,IN8+IM9)))","v":0},0,{"$f":"IF(AND($BO9>IL$11,IP8=0),0,IF(OR($B9=\"\",$AQ9=\"\",$BO9>(IL$9+IL$11)),IP8,IF(AND(IO9=0,IP8<IL$9),0,IP8+IO9)))","v":0},{"$f":"IF(ISNA(MATCH($CA9,$BX$61:$BX$64,0)),0,IF(AND(SUM(IN$6:IN9)=0,$BT9>2,$BT9<>\"\"),$BP9-$BO9,0))","v":0},{"$f":"IF(AND($B9<>\"\",$AQ9<>\"\",SUM(IQ$6:IQ9)>=6),TRUE,FALSE)","v":false},12,0,{"$f":"IF(OR($B9=\"\",$AQ9=\"\"),IU8,IF(AND(IT9=0,IU8<IS$7),0,IF($BP9<=IS$9,IU8+IT9,IF(AND($BO9<IS$9,IT9>0),(IU8+IT9)-($BP9-IS$9),IU8))))","v":0},{"$f":"IF(ISNA(MATCH($CA9,$BX$61:$BX$64,0)),0,IF(AND(SUM(IU$6:IU9)=0,$BT9>2,$BT9<>\"\"),$BP9-$BO9,0))","v":0},{"$f":"IF(AND($B9<>\"\",$AQ9<>\"\",SUM(IV$6:IV9)>=6),TRUE,FALSE)","v":false},16,8,0,0,0,{"$f":"IF(ISNA(MATCH($CA9,$BX$61:$BX$64,0)),0,IF(AND(SUM(JA$6:JA9)=0,$BT9>2,$BT9<>\"\"),$BP9-$BO9,0))","v":0},{"$f":"IF(AND($B9<>\"\",$AQ9<>\"\",SUM(JC$6:JC9)>=6),TRUE,FALSE)","v":false},6,false,0,false,false,0,{"$f":"IF(AND($BO9>JE$11,JK8=0),0,IF(OR($B9=\"\",$AQ9=\"\",$BO9>(JE$9+JE$11)),JK8,IF(AND(JJ9=0,JK8<JE$9),0,JK8+JJ9)))","v":0},4,false,0,false,false,0,{"$f":"IF(AND($BO9>JL$11,JR8=0),0,IF(OR($B9=\"\",$AQ9=\"\",$BO9>(JL$9+JL$11)),JR8,IF(AND(JQ9=0,JR8<JL$9),0,JR8+JQ9)))","v":0},4,false,0,false,false,0,{"$f":"IF(AND($BO9>JS$11,JY8=0),0,IF(OR($B9=\"\",$AQ9=\"\",$BO9>(JS$9+JS$11)),JY8,IF(AND(JX9=0,JY8<JS$9),0,JY8+JX9)))","v":0},4,null,0,{"$f":"IF(AND($BO9>JZ$9,KC8=0),0,IF(OR($B9=\"\",$AQ9=\"\",$BO9>(JZ$7+JZ$9)),KC8,IF(AND(KB9=0,KC8<JZ$7),0,KC8+KB9)))","v":0},{"$f":"IF(OR($B9=\"\",$AQ9=\"\"),KD8,IF(AND(KB9=0,KD8<KA$7),0,KD8+KB9))","v":0},false,4,0,{"$f":"IF(AND($BO9>0,KH8=0),0,IF(OR($B9=\"\",$AQ9=\"\",$BO9>KF$7),KH8,IF(AND(KG9=0,KH8<KF$7),0,KH8+KG9)))","v":0},0,{"$f":"IF(AND($BO9>KF$11,KJ8=0),0,IF(OR($B9=\"\",$AQ9=\"\",$BO9>(KF$9+KF$11)),KJ8,IF(AND(KI9=0,KJ8<KF$9),0,KJ8+KI9)))","v":0},null,false]
[null,null,null,null,null,null,null,null,null,null,null,null,null,null,null,null,null,null,null,null,null,null,null,null,null,null,null,null,null,null,null,null,null,null,null,null,null,null,null,null,null,null,null,null,null,null,null,null,null,null,"",null,null,null,null,null,null,null,null,null,null,null,null,null,null,null,"","","","","","",0,"","","","","","",false,0,false,{"$f":"IF($BO10=$BO11,IF(OR(CD10=TRUE,CD11=TRUE,CE11=TRUE),TRUE,FALSE),IF(CD10=TRUE,TRUE,FALSE))","v":false},false,0,false,false,null,0,0,false,{"$f":"IF(ISNA(MATCH($CA10,$BX$61:$BX$64,0)),0,IF(AND(SUM(CL$6:CL10)=0,$BT10>2,$BT10<>\"\"),$BP10-$BO10,0))","v":0},{"$f":"IF(AND($B10<>\"\",$AQ10<>\"\",SUM(CN$6:CN10)>=6),TRUE,FALSE)","v":false},null,0,{"$f":"IF(OR($B10=\"\",$AQ10=\"\"),CR9,IF(ISNA(MATCH(0,CQ$6:CQ10,0)),CR9+CQ10,0))","v":0},false,null,0,0,false,{"$f":"IF(ISNA(MATCH($CA10,$BX$61:$BX$64,0)),0,IF(AND(SUM(CV$6:CV10)=0,$BT10>2,$BT10<>\"\"),$BP10-$BO10,0))","v":0},{"$f":"IF(AND($B10<>\"\",$AQ10<>\"\",SUM(CX$6:CX10)>=6),TRUE,FALSE)","v":false},null,null,0,0,0,{"$f":"IF(ISNA(MATCH(TRUE,$DB$6:$DB9,0)),IF(AND(DD9>=2,DB10=TRUE),TRUE,FALSE),IF(AND($BO10<=$DA$7,DC10=TRUE),TRUE,IF(AND($BO10<=$DA$7,DB10=TRUE),TRUE,FALSE)))","v":false},{"$f":"IF(ISNA(MATCH(TRUE,$DB11:$DB$12,0)),FALSE,IF(AND($BO10<=$DA$7,INDIRECT(ADDRESS(MATCH(TRUE,$DB11:$DB$12,0)+10,67))<=$DA$7,DC10=TRUE),TRUE,FALSE))","v":false},{"$f":"IF(ISNA(MATCH(TRUE,$DB$6:$DB9,0)),IF(ISNA(MATCH(TRUE,$DC$6:$DC9,0)),FALSE,TRUE),TRUE)","v":false},false,null,false,{"$f":"IF(ISNA(MATCH($CA10,$BX$61:$BX$64,0)),0,IF(ISNA(MATCH(TRUE,DJ$6:DJ10,0)),IF(AND($BT10>2,$BT10<>\"\"),$BP10-$BO10,0),0))","v":0},{"$f":"IF(AND($B10<>\"\",$AQ10<>\"\",SUM(DK$6:DK10)>=6),TRUE,FALSE)","v":false},null,0,0,{"$f":"IF(ISNA(MATCH($CA10,$BX$61:$BX$64,0)),0,IF(AND(SUM(DO$6:DO10)=0,$BT10>2,$BT10<>\"\"),$BP10-$BO10,0))","v":0},{"$f":"IF(AND($B10<>\"\",$AQ10<>\"\",SUM(DP$6:DP10)>=6),TRUE,FALSE)","v":false},null,false,{"$f":"IF(ISNA(MATCH($CA10,$BX$61:$BX$64,0)),0,IF(ISNA(MATCH(TRUE,DS$6:DS10,0)),IF(AND($BT10>2,$BT10<>\"\"),$BP10-$BO10,0),0))","v":0},{"$f":"IF(AND($B10<>\"\",$AQ10<>\"\",SUM(DT$6:DT10)>=6),TRUE,FALSE)","v":false},null,0,0,{"$f":"IF(ISNA(MATCH($CA10,$BX$61:$BX$64,0)),0,IF(AND(SUM(DX$6:DX10)=0,$BT10>2,$BT10<>\"\"),$BP10-$BO10,0))","v":0},{"$f":"IF(AND($B10<>\"\",$AQ10<>\"\",SUM(DY$6:DY10)>=6),TRUE,FALSE)","v":false},null,0,0,{"$f":"IF(ISNA(MATCH($CA10,$BX$61:$BX$64,0)),0,IF(AND(SUM(EC$6:EC10)=0,$BT10>2,$BT10<>\"\"),$BP10-$BO10,0))","v":0},{"$f":"IF(AND($B10<>\"\",$AQ10<>\"\",SUM(ED$6:ED10)>=6),TRUE,FALSE)","v":false},null,null,{"$f":"IF(OR(BO10<=6,EH9=TRUE,EH9=\"SAND\"),IF(AND(OR($CA10=$BX$62,$CA10=$BX$64),$BS10<>\"\",$BS10<=3,OR($BT10=1,$BT10=\"\")),\"SAND\",IF(AND(OR($CA10=$BX$61,$CA10=$BX$63,$CA10=$BX$65,$CA10=$BX$66,$CA10=$BX$67),$BS10<>\"\",$BS10<=3,OR($BT10=2,$BT10=1,$BT10=\"\")),TRUE,FALSE)),FALSE)","v":false},{"$f":"IFERROR(IF(OR($EH9=TRUE,$EH9=\"SAND\",EI9>0),IF(AND(OR(VLOOKUP($BQ10,$BO$62:$BR$497,2,FALSE),VLOOKUP($BQ10,$BO$62:$BR$497,4,FALSE)),$BU10>=60),$BP10-$BO10,IF(AND(VLOOKUP($BQ10,$BO$62:$BR$497,3,FALSE),$CE10=TRUE,$BU10>=60),$BP10-$BO10,0)),0),0)","v":0},0,0,{"$f":"IF(ISNA(MATCH($CA10,$BX$61:$BX$64,0)),0,IF(ISNA(MATCH(TRUE,EH$6:EH10,0)),IF(AND($BT10>2,$BT10<>\"\"),$BP10-$BO10,0),0))","v":0},{"$f":"IF(AND($B10<>\"\",$AQ10<>\"\",SUM(EL$6:EL10)>=6),TRUE,FALSE)","v":false},"Lower Min Cum. Thickness",0,0,0,0,"0",{"$f":"IF(ISNA(MATCH($CA10,$BX$61:$BX$64,0)),0,IF(AND(SUM(EP$6:EP10)=0,$BT10>2,$BT10<>\"\"),$BP10-$BO10,0))","v":0},{"$f":"IF(AND($B10<>\"\",$AQ10<>\"\",SUM(ET$6:ET10)>=6),TRUE,FALSE)","v":false},null,0,0,null,0,0,{"$f":"IF(ISNA(MATCH($CA10,$BX$61:$BX$64,0)),0,IF(AND(SUM(FA$6:FA10)=0,$BT10>2,$BT10<>\"\"),$BP10-$BO10,0))","v":0},{"$f":"IF(AND($B10<>\"\",$AQ10<>\"\",SUM(FB$6:FB10)>=6),TRUE,FALSE)","v":false},null,false,{"$f":"IF(ISNA(MATCH($CA10,$BX$61:$BX$64,0)),0,IF(ISNA(MATCH(TRUE,FE$6:FE10,0)),IF(AND($BT10>2,$BT10<>\"\"),$BP10-$BO10,0),0))","v":0},{"$f":"IF(AND($B10<>\"\",$AQ10<>\"\",SUM(FF$6:FF10)>=6),TRUE,FALSE)","v":false},null,0,0,{"$f":"IF(ISNA(MATCH($CA10,$BX$61:$BX$64,0)),0,IF(AND(SUM(FJ$6:FJ10)=0,$BT10>2,$BT10<>\"\"),$BP10-$BO10,0))","v":0},{"$f":"IF(AND($B10<>\"\",$AQ10<>\"\",SUM(FK$6:FK10)>=6),TRUE,FALSE)","v":false},null,false,null,0,0,false,false,{"$f":"IF(ISNA(MATCH($CA10,$BX$61:$BX$64,0)),0,IF(AND(SUM(FQ$6:FQ10)=0,$BT10>2,$BT10<>\"\"),$BP10-$BO10,0))","v":0},{"$f":"IF(AND($B10<>\"\",$AQ10<>\"\",SUM(FT$6:FT10)>=6),TRUE,FALSE)","v":false},null,false,{"$f":"IF(AND(OR(AND(FW9=TRUE,$B10<>\"\",$AQ10<>\"\"),$BO9=$BO10),OR(AND($BU10>=5,$BS10<>\"\",$BS10<=3,OR($BT10=1,$BT10=\"\")),AND($AE10>=5,$BW10<=3,$BW10<>\"\",OR($BX10=1,$BX10=\"\"))),OR(AND($BS10<>\"\",$BS10>=4,OR($BT10=1,$BT10=\"\")),AND($BW10>=4,$BW10<>\"\",OR($BX10=1,$BX10=\"\")))),TRUE,FALSE)","v":false},{"$f":"IF($BO10=$BO9,IF(AND(FY9<>0,OR(AND($BW10<=3,$BW10<>\"\",OR($BX10=1,$BX10=\"\"))),OR(AND($BS10<>\"\",$BS10>=4,OR($BT10=1,$BT10=\"\")))),$AE10+FY9,FY9),IF(AND(FY9<>0,OR(AND($BW10<=3,$BW10<>\"\",OR($BX10=1,$BX10=\"\"))),OR(AND($BS10<>\"\",$BS10>=4,OR($BT10=1,$BT10=\"\")))),$AE10,0))","v":0},false,false,{"$f":"IF(ISNA(MATCH($CA10,$BX$61:$BX$64,0)),0,IF(ISNA(MATCH(TRUE,FW$6:FW10,0)),IF(AND($BT10>2,$BT10<>\"\"),$BP10-$BO10,0),0))","v":0},{"$f":"IF(AND($B10<>\"\",$AQ10<>\"\",SUM(GB$6:GB10)>=6),TRUE,FALSE)","v":false},null,0,0,false,null,0,0,{"$f":"IF(ISNA(MATCH($CA10,$BX$61:$BX$64,0)),0,IF(AND(SUM(GJ$6:GJ10)=0,$BT10>2,$BT10<>\"\"),$BP10-$BO10,0))","v":0},{"$f":"IF(AND($B10<>\"\",$AQ10<>\"\",SUM(GK$6:GK10)>=6),TRUE,FALSE)","v":false},null,0,0,{"$f":"IF(ISNA(MATCH($CA10,$BX$61:$BX$64,0)),0,IF(AND(SUM(GO$6:GO10)=0,$BT10>2,$BT10<>\"\"),$BP10-$BO10,0))","v":0},{"$f":"IF(AND($B10<>\"\",$AQ10<>\"\",SUM(GP$6:GP10)>=6),TRUE,FALSE)","v":false},null,false,{"$f":"IF(ISNA(MATCH($CA10,$BX$61:$BX$64,0)),0,IF(ISNA(MATCH(TRUE,GS$6:GS10,0)),IF(AND($BT10>2,$BT10<>\"\"),$BP10-$BO10,0),0))","v":0},{"$f":"IF(AND($B10<>\"\",$AQ10<>\"\",SUM(GT$6:GT10)>=6),TRUE,FALSE)","v":false},null,null,0,0,{"$f":"IF(AND($BO10>GW$9,GZ9=0),0,IF(OR($B10=\"\",$AQ10=\"\",$BO10>(GW$7+GW$9)),GZ9,IF(AND(GX10=0,GZ9<GW$7),0,GZ9+GX10)))","v":0},{"$f":"IF(ISNA(MATCH($CA10,$BX$61:$BX$64,0)),0,IF(AND(SUM(GZ$6:GZ10)=0,$BT10>2,$BT10<>\"\"),$BP10-$BO10,0))","v":0},{"$f":"IF(AND($B10<>\"\",$AQ10<>\"\",SUM(HA$6:HA10)>=6),TRUE,FALSE)","v":false},null,0,0,{"$f":"IF(ISNA(MATCH($CA10,$BX$61:$BX$64,0)),0,IF(AND(SUM(HE$6:HE10)=0,$BT10>2,$BT10<>\"\"),$BP10-$BO10,0))","v":0},{"$f":"IF(AND($B10<>\"\",$AQ10<>\"\",SUM(HF$6:HF10)>=6),TRUE,FALSE)","v":false},4,false,0,false,false,false,false,false,0,0,{"$f":"IF(ISNA(MATCH($CA10,$BX$61:$BX$64,0)),0,IF(AND(SUM(HQ$6:HQ10)=0,$BT10>2,$BT10<>\"\"),$BP10-$BO10,0))","v":0},{"$f":"IF(AND($B10<>\"\",$AQ10<>\"\",SUM(HR$6:HR10)>=6),TRUE,FALSE)","v":false},null,0,0,null,false,null,0,0,{"$f":"IF(ISNA(MATCH($CA10,$BX$61:$BX$64,0)),0,IF(AND(SUM(IA$6:IA10)=0,$BT10>2,$BT10<>\"\"),$BP10-$BO10,0))","v":0},{"$f":"IF(AND($B10<>\"\",$AQ10<>\"\",SUM(IB$6:IB10)>=6),TRUE,FALSE)","v":false},"Max Comp. Depth",false,0,false,false,0,0,null,"Max Start Depth",0,0,0,0,{"$f":"IF(ISNA(MATCH($CA10,$BX$61:$BX$64,0)),0,IF(AND(SUM(IN$6:IN10)=0,$BT10>2,$BT10<>\"\"),$BP10-$BO10,0))","v":0},{"$f":"IF(AND($B10<>\"\",$AQ10<>\"\",SUM(IQ$6:IQ10)>=6),TRUE,FALSE)","v":false},null,0,0,{"$f":"IF(ISNA(MATCH($CA10,$BX$61:$BX$64,0)),0,IF(AND(SUM(IU$6:IU10)=0,$BT10>2,$BT10<>\"\"),$BP10-$BO10,0))","v":0},{"$f":"IF(AND($B10<>\"\",$AQ10<>\"\",SUM(IV$6:IV10)>=6),TRUE,FALSE)","v":false},null,null,0,0,0,{"$f":"IF(ISNA(MATCH($CA10,$BX$61:$BX$64,0)),0,IF(AND(SUM(JA$6:JA10)=0,$BT10>2,$BT10<>\"\"),$BP10-$BO10,0))","v":0},{"$f":"IF(AND($B10<>\"\",$AQ10<>\"\",SUM(JC$6:JC10)>=6),TRUE,FALSE)","v":false},"Max Start Depth",false,0,false,false,0,0,"Max Start Depth",false,0,false,false,0,0,"Max Start Depth",false,0,false,false,0,0,null,null,0,0,0,false,"Max Start Depth",0,0,0,0,null,false]
[null,null,null,null,null,null,null,null,null,null,null,null,null,null,null,null,null,null,null,null,null,null,null,null,null,null,null,null,null,null,null,null,null,null,null,null,null,null,null,null,null,null,null,null,null,null,null,null,null,null,"",null,null,null,null,null,null,null,null,null,null,null,null,null,null,null,"","","","","","",0,"","","","","","",false,0,false,false,false,0,false,false,null,0,0,false,{"$f":"IF(ISNA(MATCH($CA11,$BX$61:$BX$64,0)),0,IF(AND(SUM(CL$6:CL11)=0,$BT11>2,$BT11<>\"\"),$BP11-$BO11,0))","v":0},{"$f":"IF(AND($B11<>\"\",$AQ11<>\"\",SUM(CN$6:CN11)>=6),TRUE,FALSE)","v":false},null,0,{"$f":"IF(OR($B11=\"\",$AQ11=\"\"),CR10,IF(ISNA(MATCH(0,CQ$6:CQ11,0)),CR10+CQ11,0))","v":0},false,null,0,0,false,{"$f":"IF(ISNA(MATCH($CA11,$BX$61:$BX$64,0)),0,IF(AND(SUM(CV$6:CV11)=0,$BT11>2,$BT11<>\"\"),$BP11-$BO11,0))","v":0},{"$f":"IF(AND($B11<>\"\",$AQ11<>\"\",SUM(CX$6:CX11)>=6),TRUE,FALSE)","v":false},null,null,0,0,0,{"$f":"IF(ISNA(MATCH(TRUE,$DB$6:$DB10,0)),IF(AND(DD10>=2,DB11=TRUE),TRUE,FALSE),IF(AND($BO11<=$DA$7,DC11=TRUE),TRUE,IF(AND($BO11<=$DA$7,DB11=TRUE),TRUE,FALSE)))","v":false},{"$f":"IF(ISNA(MATCH(TRUE,$DB12:$DB$12,0)),FALSE,IF(AND($BO11<=$DA$7,INDIRECT(ADDRESS(MATCH(TRUE,$DB12:$DB$12,0)+11,67))<=$DA$7,DC11=TRUE),TRUE,FALSE))","v":false},{"$f":"IF(ISNA(MATCH(TRUE,$DB$6:$DB10,0)),IF(ISNA(MATCH(TRUE,$DC$6:$DC10,0)),FALSE,TRUE),TRUE)","v":false},false,null,false,{"$f":"IF(ISNA(MATCH($CA11,$BX$61:$BX$64,0)),0,IF(ISNA(MATCH(TRUE,DJ$6:DJ11,0)),IF(AND($BT11>2,$BT11<>\"\"),$BP11-$BO11,0),0))","v":0},{"$f":"IF(AND($B11<>\"\",$AQ11<>\"\",SUM(DK$6:DK11)>=6),TRUE,FALSE)","v":false},null,0,0,{"$f":"IF(ISNA(MATCH($CA11,$BX$61:$BX$64,0)),0,IF(AND(SUM(DO$6:DO11)=0,$BT11>2,$BT11<>\"\"),$BP11-$BO11,0))","v":0},{"$f":"IF(AND($B11<>\"\",$AQ11<>\"\",SUM(DP$6:DP11)>=6),TRUE,FALSE)","v":false},null,false,{"$f":"IF(ISNA(MATCH($CA11,$BX$61:$BX$64,0)),0,IF(ISNA(MATCH(TRUE,DS$6:DS11,0)),IF(AND($BT11>2,$BT11<>\"\"),$BP11-$BO11,0),0))","v":0},{"$f":"IF(AND($B11<>\"\",$AQ11<>\"\",SUM(DT$6:DT11)>=6),TRUE,FALSE)","v":false},null,0,0,{"$f":"IF(ISNA(MATCH($CA11,$BX$61:$BX$64,0)),0,IF(AND(SUM(DX$6:DX11)=0,$BT11>2,$BT11<>\"\"),$BP11-$BO11,0))","v":0},{"$f":"IF(AND($B11<>\"\",$AQ11<>\"\",SUM(DY$6:DY11)>=6),TRUE,FALSE)","v":false},null,0,0,{"$f":"IF(ISNA(MATCH($CA11,$BX$61:$BX$64,0)),0,IF(AND(SUM(EC$6:EC11)=0,$BT11>2,$BT11<>\"\"),$BP11-$BO11,0))","v":0},{"$f":"IF(AND($B11<>\"\",$AQ11<>\"\",SUM(ED$6:ED11)>=6),TRUE,FALSE)","v":false},null,null,{"$f":"IF(OR(BO11<=6,EH10=TRUE,EH10=\"SAND\"),IF(AND(OR($CA11=$BX$62,$CA11=$BX$64),$BS11<>\"\",$BS11<=3,OR($BT11=1,$BT11=\"\")),\"SAND\",IF(AND(OR($CA11=$BX$61,$CA11=$BX$63,$CA11=$BX$65,$CA11=$BX$66,$CA11=$BX$67),$BS11<>\"\",$BS11<=3,OR($BT11=2,$BT11=1,$BT11=\"\")),TRUE,FALSE)),FALSE)","v":false},0,0,0,{"$f":"IF(ISNA(MATCH($CA11,$BX$61:$BX$64,0)),0,IF(ISNA(MATCH(TRUE,EH$6:EH11,0)),IF(AND($BT11>2,$BT11<>\"\"),$BP11-$BO11,0),0))","v":0},{"$f":"IF(AND($B11<>\"\",$AQ11<>\"\",SUM(EL$6:EL11)>=6),TRUE,FALSE)","v":false},6,0,0,0,0,"0",{"$f":"IF(ISNA(MATCH($CA11,$BX$61:$BX$64,0)),0,IF(AND(SUM(EP$6:EP11)=0,$BT11>2,$BT11<>\"\"),$BP11-$BO11,0))","v":0},{"$f":"IF(AND($B11<>\"\",$AQ11<>\"\",SUM(ET$6:ET11)>=6),TRUE,FALSE)","v":false},null,{"$f":"IF(AND(OR($BT11=3,$BT11=2,$BT11=1,$BT11=\"\"),CE11=TRUE),$BP11-$BO11,0)","v":0},0,null,0,0,{"$f":"IF(ISNA(MATCH($CA11,$BX$61:$BX$64,0)),0,IF(AND(SUM(FA$6:FA11)=0,$BT11>2,$BT11<>\"\"),$BP11-$BO11,0))","v":0},{"$f":"IF(AND($B11<>\"\",$AQ11<>\"\",SUM(FB$6:FB11)>=6),TRUE,FALSE)","v":false},null,false,{"$f":"IF(ISNA(MATCH($CA11,$BX$61:$BX$64,0)),0,IF(ISNA(MATCH(TRUE,FE$6:FE11,0)),IF(AND($BT11>2,$BT11<>\"\"),$BP11-$BO11,0),0))","v":0},{"$f":"IF(AND($B11<>\"\",$AQ11<>\"\",SUM(FF$6:FF11)>=6),TRUE,FALSE)","v":false},null,0,0,{"$f":"IF(ISNA(MATCH($CA11,$BX$61:$BX$64,0)),0,IF(AND(SUM(FJ$6:FJ11)=0,$BT11>2,$BT11<>\"\"),$BP11-$BO11,0))","v":0},{"$f":"IF(AND($B11<>\"\",$AQ11<>\"\",SUM(FK$6:FK11)>=6),TRUE,FALSE)","v":false},null,false,null,0,0,false,false,{"$f":"IF(ISNA(MATCH($CA11,$BX$61:$BX$64,0)),0,IF(AND(SUM(FQ$6:FQ11)=0,$BT11>2,$BT11<>\"\"),$BP11-$BO11,0))","v":0},{"$f":"IF(AND($B11<>\"\",$AQ11<>\"\",SUM(FT$6:FT11)>=6),TRUE,FALSE)","v":false},null,false,{"$f":"IF(AND(OR(AND(FW10=TRUE,$B11<>\"\",$AQ11<>\"\"),$BO10=$BO11),OR(AND($BU11>=5,$BS11<>\"\",$BS11<=3,OR($BT11=1,$BT11=\"\")),AND($AE11>=5,$BW11<=3,$BW11<>\"\",OR($BX11=1,$BX11=\"\"))),OR(AND($BS11<>\"\",$BS11>=4,OR($BT11=1,$BT11=\"\")),AND($BW11>=4,$BW11<>\"\",OR($BX11=1,$BX11=\"\")))),TRUE,FALSE)","v":false},{"$f":"IF($BO11=$BO10,IF(AND(FY10<>0,OR(AND($BW11<=3,$BW11<>\"\",OR($BX11=1,$BX11=\"\"))),OR(AND($BS11<>\"\",$BS11>=4,OR($BT11=1,$BT11=\"\")))),$AE11+FY10,FY10),IF(AND(FY10<>0,OR(AND($BW11<=3,$BW11<>\"\",OR($BX11=1,$BX11=\"\"))),OR(AND($BS11<>\"\",$BS11>=4,OR($BT11=1,$BT11=\"\")))),$AE11,0))","v":0},false,false,{"$f":"IF(ISNA(MATCH($CA11,$BX$61:$BX$64,0)),0,IF(ISNA(MATCH(TRUE,FW$6:FW11,0)),IF(AND($BT11>2,$BT11<>\"\"),$BP11-$BO11,0),0))","v":0},{"$f":"IF(AND($B11<>\"\",$AQ11<>\"\",SUM(GB$6:GB11)>=6),TRUE,FALSE)","v":false},null,0,0,false,null,0,0,{"$f":"IF(ISNA(MATCH($CA11,$BX$61:$BX$64,0)),0,IF(AND(SUM(GJ$6:GJ11)=0,$BT11>2,$BT11<>\"\"),$BP11-$BO11,0))","v":0},{"$f":"IF(AND($B11<>\"\",$AQ11<>\"\",SUM(GK$6:GK11)>=6),TRUE,FALSE)","v":false},null,0,0,{"$f":"IF(ISNA(MATCH($CA11,$BX$61:$BX$64,0)),0,IF(AND(SUM(GO$6:GO11)=0,$BT11>2,$BT11<>\"\"),$BP11-$BO11,0))","v":0},{"$f":"IF(AND($B11<>\"\",$AQ11<>\"\",SUM(GP$6:GP11)>=6),TRUE,FALSE)","v":false},null,false,{"$f":"IF(ISNA(MATCH($CA11,$BX$61:$BX$64,0)),0,IF(ISNA(MATCH(TRUE,GS$6:GS11,0)),IF(AND($BT11>2,$BT11<>\"\"),$BP11-$BO11,0),0))","v":0},{"$f":"IF(AND($B11<>\"\",$AQ11<>\"\",SUM(GT$6:GT11)>=6),TRUE,FALSE)","v":false},null,null,0,0,0,{"$f":"IF(ISNA(MATCH($CA11,$BX$61:$BX$64,0)),0,IF(AND(SUM(GZ$6:GZ11)=0,$BT11>2,$BT11<>\"\"),$BP11-$BO11,0))","v":0},{"$f":"IF(AND($B11<>\"\",$AQ11<>\"\",SUM(HA$6:HA11)>=6),TRUE,FALSE)","v":false},null,0,0,{"$f":"IF(ISNA(MATCH($CA11,$BX$61:$BX$64,0)),0,IF(AND(SUM(HE$6:HE11)=0,$BT11>2,$BT11<>\"\"),$BP11-$BO11,0))","v":0},{"$f":"IF(AND($B11<>\"\",$AQ11<>\"\",SUM(HF$6:HF11)>=6),TRUE,FALSE)","v":false},"Max Comp. Depth",false,0,false,false,false,false,false,0,0,{"$f":"IF(ISNA(MATCH($CA11,$BX$61:$BX$64,0)),0,IF(AND(SUM(HQ$6:HQ11)=0,$BT11>2,$BT11<>\"\"),$BP11-$BO11,0))","v":0},{"$f":"IF(AND($B11<>\"\",$AQ11<>\"\",SUM(HR$6:HR11)>=6),TRUE,FALSE)","v":false},null,0,0,null,false,null,0,0,{"$f":"IF(ISNA(MATCH($CA11,$BX$61:$BX$64,0)),0,IF(AND(SUM(IA$6:IA11)=0,$BT11>2,$BT11<>\"\"),$BP11-$BO11,0))","v":0},{"$f":"IF(AND($B11<>\"\",$AQ11<>\"\",SUM(IB$6:IB11)>=6),TRUE,FALSE)","v":false},12,false,0,false,false,0,0,null,6,0,0,0,0,{"$f":"IF(ISNA(MATCH($CA11,$BX$61:$BX$64,0)),0,IF(AND(SUM(IN$6:IN11)=0,$BT11>2,$BT11<>\"\"),$BP11-$BO11,0))","v":0},{"$f":"IF(AND($B11<>\"\",$AQ11<>\"\",SUM(IQ$6:IQ11)>=6),TRUE,FALSE)","v":false},null,0,0,{"$f":"IF(ISNA(MATCH($CA11,$BX$61:$BX$64,0)),0,IF(AND(SUM(IU$6:IU11)=0,$BT11>2,$BT11<>\"\"),$BP11-$BO11,0))","v":0},{"$f":"IF(AND($B11<>\"\",$AQ11<>\"\",SUM(IV$6:IV11)>=6),TRUE,FALSE)","v":false},null,null,0,0,0,{"$f":"IF(ISNA(MATCH($CA11,$BX$61:$BX$64,0)),0,IF(AND(SUM(JA$6:JA11)=0,$BT11>2,$BT11<>\"\"),$BP11-$BO11,0))","v":0},{"$f":"IF(AND($B11<>\"\",$AQ11<>\"\",SUM(JC$6:JC11)>=6),TRUE,FALSE)","v":false},10,false,0,false,false,0,0,8,false,0,false,false,0,0,10,false,0,false,false,0,0,null,null,0,0,0,false,6,0,0,0,0,null,false]
[null,null,null,null,null,null,null,null,null,null,null,null,null,null,null,null,null,null,null,null,null,null,null,null,null,null,null,null,null,null,null,null,null,null,null,null,null,null,null,null,null,null,null,null,null,null,null,null,null,null,"",null,null,null,null,null,null,null,null,null,null,null,null,null,null,null,"","","","","","",0,"","","","","","",{"$f":"IF(AND(OR($BZ12=$BZ$62,$BZ12=$BZ$63),$AE12>=CB$13),TRUE,FALSE)","v":false},0,false,{"$f":"IF(CD12=TRUE,TRUE,FALSE)","v":false},{"$f":"IF(AND(OR($BZ12=$BZ$62,$BZ12=$BZ$63),$AE12>=CF$13),TRUE,FALSE)","v":false},0,false,{"$f":"IF(CH12=TRUE,TRUE,FALSE)","v":false},null,0,0,false,null,null,null,0,{"$f":"IF(OR($B12=\"\",$AQ12=\"\"),CR11,IF(ISNA(MATCH(0,CQ$6:CQ12,0)),CR11+CQ12,0))","v":0},false,null,0,0,false,null,null,null,null,0,{"$f":"IF(OR($B12=\"\",DB12=TRUE),0,IF(OR($BT12=2,$BT12=1,$BT12=\"\"),IF($AQ12<>\"\",TRUE,FALSE),FALSE))","v":0},0,{"$f":"IF(ISNA(MATCH(TRUE,$DB$6:$DB11,0)),IF(AND(DD11>=2,DB12=TRUE),TRUE,FALSE),IF(AND($BO12<=$DA$7,DC12=TRUE),TRUE,IF(AND($BO12<=$DA$7,DB12=TRUE),TRUE,FALSE)))","v":false},null,{"$f":"IF(ISNA(MATCH(TRUE,$DB$6:$DB11,0)),IF(ISNA(MATCH(TRUE,$DC$6:$DC11,0)),FALSE,TRUE),TRUE)","v":false},{"$f":"IF(AND($DB12=FALSE,$DC12=FALSE,$DG12=TRUE),TRUE,FALSE)","v":false},null,false,null,null,null,0,0,null,null,null,false,null,null,null,0,0,null,null,null,0,0,null,null,null,null,null,{"$f":"IFERROR(IF(OR($EH11=TRUE,$EH11=\"SAND\",EI11>0),IF(AND(OR(VLOOKUP($BQ12,$BO$62:$BR$497,2,FALSE),VLOOKUP($BQ12,$BO$62:$BR$497,4,FALSE)),$BU12>=60),$BP12-$BO12,IF(AND(VLOOKUP($BQ12,$BO$62:$BR$497,3,FALSE),$CE12=TRUE,$BU12>=60),$BP12-$BO12,0)),0),0)","v":0},{"$f":"IF(AND($BO12>EF$9,EJ11=0),0,IF(OR($B12=\"\",$AQ12=\"\",$BO12>(EF$7+EF$9)),EJ11,IF(AND(EI12=0,EJ11<EF$7),0,EJ11+EI12)))","v":0},0,null,null,"Lower Min Start Depth"," ",null,0,{"$f":"IF(OR($BO12<EN$13,AND($BO12>=EN$13,EQ12=0,ER11<EN$11)),0,IF(OR($B12=\"\",$AQ12=\"\"),ER11,ER11+EQ12))","v":0},null,null,null,null,{"$f":"IF(AND(OR($BT12=3,$BT12=2,$BT12=1,$BT12=\"\"),CE12=TRUE),$BP12-$BO12,0)","v":0},0,null,0,0,null,null,null,false,null,null,null,0,0,null,null,null,false,null,0,{"$f":"IF(AND($BO12>FO$9,FQ11=0),0,IF(OR($B12=\"\",$AQ12=\"\",$BO12>(FO$7+FO$9)),FQ11,IF(AND(FP12=0,FQ11<FO$7),0,FQ11+FP12)))","v":0},false,false,null,null,null,false,{"$f":"IF(AND(OR(AND(FW11=TRUE,$B12<>\"\",$AQ12<>\"\"),$BO11=$BO12),OR(AND($BU12>=5,$BS12<>\"\",$BS12<=3,OR($BT12=1,$BT12=\"\")),AND($AE12>=5,$BW12<=3,$BW12<>\"\",OR($BX12=1,$BX12=\"\"))),OR(AND($BS12<>\"\",$BS12>=4,OR($BT12=1,$BT12=\"\")),AND($BW12>=4,$BW12<>\"\",OR($BX12=1,$BX12=\"\")))),TRUE,FALSE)","v":false},{"$f":"IF($BO12=$BO11,IF(AND(FY11<>0,OR(AND($BW12<=3,$BW12<>\"\",OR($BX12=1,$BX12=\"\"))),OR(AND($BS12<>\"\",$BS12>=4,OR($BT12=1,$BT12=\"\")))),$AE12+FY11,FY11),IF(AND(FY11<>0,OR(AND($BW12<=3,$BW12<>\"\",OR($BX12=1,$BX12=\"\"))),OR(AND($BS12<>\"\",$BS12>=4,OR($BT12=1,$BT12=\"\")))),$AE12,0))","v":0},false,{"$f":"IF(FZ12=TRUE,TRUE,FALSE)","v":false},null,null,null,0,0,false,null,0,0,null,null,null,0,0,null,null,null,false,null,null,null,null,0,0,0,null,null,null,0,0,null,null,12,{"$f":"IF(AND(IFERROR(IF(SEARCH(\"D\",AI12,1)>=1,TRUE,FALSE),FALSE),$AE12>=$HH$7,$BW12<>\"\",$BW12>=5,OR($BX12=2,$BX12=1,$BX12=\"\")),TRUE,FALSE)","v":false},0,false,{"$f":"IF(HK12=TRUE,TRUE,FALSE)","v":false},{"$f":"IF(AND(IFERROR(IF(SEARCH(\"D\",AI12,1)>=1,TRUE,FALSE),FALSE),$AE12>=$HH$8,$BW12<>\"\",$BW12>=5,OR($BX12=2,$BX12=1,$BX12=\"\")),TRUE,FALSE)","v":false},false,{"$f":"IF(HN12=TRUE,TRUE,FALSE)","v":false},0,0,null,null,null,0,0,null,false,null,0,0,null,null,null,{"$f":"IF(AND(OR($BZ12=$BZ$62,$BZ12=$BZ$63),$AE12>=$ID$7,$BW12<>\"\",$BW12<=3,OR($BX12=3,$BX12=2,$BX12=1,$BX12=\"\")),TRUE,FALSE)","v":false},0,false,{"$f":"IF(IG12=TRUE,TRUE,FALSE)","v":false},0,0,null,null,0,0,0,0,null,null,null,0,0,null,null,null,null,0,0,0,null,null,null,{"$f":"IF(AND(OR($BZ12=$BZ$62,$BZ12=$BZ$63),$AE12>=JE$7),TRUE,FALSE)","v":false},0,false,{"$f":"IF(JH12=TRUE,TRUE,FALSE)","v":false},0,0,null,{"$f":"IF(OR(AND(OR($BZ12=$BZ$62,$BZ12=$BZ$63,IFERROR(IF(SEARCH(\"D\",$AI12,1)>=1,TRUE,FALSE),FALSE)),$AE12>=JL$7)),TRUE,IF(AND($BO12=$BO13,JM13=TRUE),TRUE,FALSE))","v":false},0,false,{"$f":"IF(JO12=TRUE,TRUE,FALSE)","v":false},0,0,null,{"$f":"IFERROR(IF(AND(OR($BZ12=$BZ$62,$BZ12=$BZ$63,AND(IFERROR(IF(SEARCH(\"D\",AI12,1)>=1,TRUE,FALSE),FALSE),OR(AND($BW12-$BS12>=1,IFERROR($BT12-$BX12>=1,IF(AND($BW12<>\"\",$BX12=\"\"),TRUE,FALSE))),AND($BW12>=4,OR($BX12=2,$BX12=1,$BX12=\"\"))))),$AE12>=JS$7),TRUE,FALSE),FALSE)","v":false},0,false,{"$f":"IF(JV12=TRUE,TRUE,FALSE)","v":false},0,0,null,null,0,0,0,false,null,null,null,0,0,null,false]
[null,"1Type:  C=Concentration, D=Depletion, RM=Reduced Matrix, MS=Masked Sand Grains.",null,null,null,null,null,null,null,null,null,null,null,null,null,null,null,null,null,null,null,null,null,null,null,null,null,null,null,null,null,null,null,null,null,null,null,null,null,null,null,null,null,null,null,null,"2Location:  PL=Pore Lining, M=Matrix.",null,null,null,null,null,null,null,null,null,null,null,null,null,null,null,null,null,null,null,null,null,null,null,null,null,null,null,null,null,null,null,null,2,null,null,null,5,null,null,null,{"$f":"IF(ISNA(MATCH(TRUE,CO6:CO11,0)),IF(OR(AND(ISNA(MATCH(FALSE,CM6:CM12,0)),K38=BP12),CL12>=CJ7),\"?\",\"\"),\"\")","v":""},null,null,null,null,null,{"$f":"IF(ISNA(MATCH(TRUE,CS7:CS12,0)),\"\",\"X\")","v":""},null,null,null,{"$f":"IF(ISNA(MATCH(TRUE,CY6:CY11,0)),IF(ISNA(MATCH(TRUE,CW7:CW12,0)),\"\",\"X\"),\"\")","v":""},null,null,null,null,null,null,{"$f":"IF(ISNA(MATCH(TRUE,$DH$7:$DH$12,0)),IF(DF14=TRUE,\"?\",\"\"),\"\")","v":""},null,null,null," ","DF14 checks for TRUE in either DE or DF."," ",null,{"$f":"IF(ISNA(MATCH(TRUE,DL6:DL11,0)),IF(ISNA(MATCH(TRUE,DJ6:DJ12,0)),\"\",\"?\"),\"\")","v":""},null,null,null,{"$f":"IF(ISNA(MATCH(TRUE,DQ6:DQ11,0)),IF(DO12>=DM7,\"X\",\"\"),\"\")","v":""},null,null,null,null,{"$f":"IF(ISNA(MATCH(TRUE,DU6:DU11,0)),IF(ISNA(MATCH(TRUE,DS6:DS12,0)),\"\",\"X\"),\"\")","v":""},null,null,null,{"$f":"IF(ISNA(MATCH(TRUE,EE6:EE11,0)),IF(DX12>=DV7,\"X\",\"\"),\"\")","v":""},null,null,null,null,{"$f":"IF(ISNA(MATCH(TRUE,EE6:EE11,0)),IF(EC12>=EA7,\"X\",\"\"),\"\")","v":""},null,null,null,null,{"$f":"IF(ISNA(MATCH(TRUE,EM6:EM11,0)),IF(ISNA(MATCH(\"SAND\",EH6:EH11,0)),IF(ISNA(MATCH(TRUE,EH6:EH11,0)),\"\",IF(EJ12>=EF7,\"X\",IF(EK12>=EG7,\"?\",\"\"))),IF(OR(EJ12>=EF7,EK12>=EG7),\"?\",\"\")),\"\")","v":""},null,null,null,null,null,null,null,12,{"$f":"IF(ISNA(MATCH(TRUE,EU6:EU11,0)),IF(ISNA(MATCH(FALSE,ES6:ES11,0)),IF(ISNA(MATCH(\"SAND\",ES6:ES11,0)),IF(ISNA(MATCH(TRUE,ES6:ES11,0)),\"\",\"X\"),\"?\"),\"\"),\"\")","v":""},null,null,null,null,null,null,{"$f":"IF(EX12>=EV7,\"?\",\"\")","v":""},null,null,{"$f":"IF(ISNA(MATCH(TRUE,FC6:FC11,0)),IF(FA12>=$EY$7,\"X\",\"\"),\"\")","v":""},null,null,null,null,{"$f":"IF(ISNA(MATCH(TRUE,FG6:FG11,0)),IF(ISNA(MATCH(TRUE,FE6:FE12,0)),\"\",\"X\"),\"\")","v":""},null,null,null,{"$f":"IF(ISNA(MATCH(TRUE,FL6:FL11,0)),IF(FJ12>=FH7,\"X\",\"\"),\"\")","v":""},{"$f":"IF(ISNA(MATCH(TRUE,FL6:FL11,0)),IF(FH13=\"X\",\"X\",IF(OR(AND(FH13=\"\",FO13=\"\",BX25=\"?C\"),AND(FH13=\"\",GM13=\"\",CE25=\"?C\"),AND(FH13=\"\",GV13=\"\",OR(CL25=\"?C\",CS25=\"?C\")),AND(FH13=\"\",HC13=\"\",CZ25=\"?C\"),AND(FH13=\"\",HH13=\"\",DG25=\"?C\")),\"?C\",\"\")),IF(ISNA(MATCH(TRUE,$GQ6:$GQ11,0)),IF(AND(FH13=\"\",GM13=\"\",CE25=\"?C\"),\"?C\",\"\"),\"\"))","v":""},null,null,null,{"$f":"IF(ISNA(MATCH(TRUE,FN6:FN12,0)),\"\",\"?\")","v":""},null,{"$f":"IF(ISNA(MATCH(TRUE,FU6:FU11,0)),IF(ISNA(MATCH(TRUE,$FR$6:$FR$12,0)),\"\",\"?\"),\"\")","v":""},{"$f":"IF(ISNA(MATCH(TRUE,FU6:FU11,0)),IF(FO13=\"?\",\"?\",IF(OR(AND(FO13=\"\",FH13=\"\",BX25=\"?C\"),AND(FO13=\"\",GV13=\"\",OR(DN25=\"?C\",DU25=\"?C\")),AND(FO13=\"\",HC13=\"\",EB25=\"?C\"),AND(FO13=\"\",HH13=\"\",EI25=\"?C\")),\"?C\",\"\")),\"\")","v":""},null,null,null,null,null,{"$f":"IF(ISNA(MATCH(TRUE,GC6:GC11,0)),IF(ISNA(MATCH(TRUE,GA7:GA12,0)),\"\",\"?\"),\"\")","v":""},null,null,null,null,null,null,null,{"$f":"IF(ISNA(MATCH(TRUE,GG7:GG12,0)),\"\",\"?\")","v":""},null,null,null,{"$f":"IF(ISNA(MATCH(TRUE,GQ6:GQ11,0)),IF(GJ12>=GH7,\"?\",\"\"),\"\")","v":""},null,null,null,null,{"$f":"IF(ISNA(MATCH(TRUE,GQ6:GQ11,0)),IF(GO12>=GM$7,\"X\",\"\"),\"\")","v":""},{"$f":"IF(ISNA(MATCH(TRUE,GQ6:GQ11,0)),IF(GM13=\"X\",\"X\",IF(OR(AND(GM13=\"\",FH13=\"\",CE25=\"?C\"),AND(GM13=\"\",GV13=\"\",OR(EP25=\"?C\",EW25=\"?C\")),AND(GM13=\"\",HC13=\"\",FD25=\"?C\"),AND(GM13=\"\",HH13=\"\",FK25=\"?C\")),\"?C\",\"\")),\"\")","v":""},null,null,null,{"$f":"IF(ISNA(MATCH(TRUE,GU6:GU11,0)),IF(ISNA(MATCH(TRUE,GS6:GS12,0)),\"\",\"X\"),\"\")","v":""},null,null,null,{"$f":"IF(ISNA(MATCH(TRUE,HB6:HB11,0)),IF(OR(GY12>=GV7,GZ12>=GW7),\"X\",\"\"),\"\")","v":""},{"$f":"IF(ISNA(MATCH(TRUE,HB6:HB11,0)),IF(GV13=\"X\",\"X\",IF(OR(AND(GV13=\"\",FH13=\"\",OR(CL25=\"?C\",CS25=\"?C\")),AND(GV13=\"\",FO13=\"\",OR(DN25=\"?C\",DU25=\"?C\")),AND(GV13=\"\",GM13=\"\",OR(EP25=\"?C\",EW25=\"?C\")),AND(GV13=\"\",HC13=\"\",OR(FR25=\"?C\",FY25=\"?C\")),AND(GV13=\"\",HH13=\"\",OR(GF25=\"?C\",GM25=\"?C\"))),\"?C\",\"\")),IF(ISNA(MATCH(TRUE,$GQ6:$GQ11,0)),IF(AND(GV13=\"\",GM13=\"\",OR(EP25=\"?C\",EW25=\"?C\")),\"?C\",\"\"),\"\"))","v":""},null,null,null,null,null,{"$f":"IF(ISNA(MATCH(TRUE,HG6:HG11,0)),IF(HE12>=HC7,\"X\",\"\"),\"\")","v":""},{"$f":"IF(ISNA(MATCH(TRUE,HG6:HG11,0)),IF(HC13=\"X\",\"X\",IF(OR(AND(HC13=\"\",FH13=\"\",CZ25=\"?C\"),AND(HC13=\"\",FO13=\"\",EB25=\"?C\"),AND(HC13=\"\",GM13=\"\",FD25=\"?C\"),AND(HC13=\"\",GV13=\"\",OR(FR25=\"?C\",FY25=\"?C\")),AND(HC13=\"\",HH13=\"\",GT25=\"?C\")),\"?C\",\"\")),IF(ISNA(MATCH(TRUE,$GQ6:$GQ11,0)),IF(AND(HC13=\"\",GM13=\"\",FD25=\"?C\"),\"?C\",\"\"),\"\"))","v":""},null,null,null,{"$f":"IF(ISNA(MATCH(TRUE,HS6:HS11,0)),IF(HQ12>=HH10,\"X\",\"\"),\"\")","v":""},{"$f":"IF(ISNA(MATCH(TRUE,HS6:HS12,0)),IF(HH13=\"X\",\"X\",IF(OR(AND(HH13=\"\",FH13=\"\",DG25=\"?C\"),AND(HH13=\"\",FO13=\"\",EI25=\"?C\"),AND(HH13=\"\",GM13=\"\",FK25=\"?C\"),AND(HH13=\"\",GV13=\"\",OR(GF25=\"?C\",GM25=\"?C\")),AND(HH13=\"\",HC13=\"\",GT25=\"?C\")),\"?C\",\"\")),IF(ISNA(MATCH(TRUE,$GQ6:$GQ11,0)),IF(AND(HH13=\"\",GM13=\"\",FK25=\"?C\"),\"?C\",\"\"),\"\"))","v":""},null,null,null,null,null,null,null,null,null,null,{"$f":"IF(HV12>=HT7,\"?\",\"\")","v":""},null,null,{"$f":"IF(ISNA(MATCH(TRUE,HX6:HX12,0)),\"\",IF(AND('Page 1 (Hydrology)'!P26=\"X\",HX6=TRUE),\"X\",\"?\"))","v":""},null,{"$f":"IF(ISNA(MATCH(TRUE,IC6:IC11,0)),IF(IA12>=HY7,\"X\",\"\"),\"\")","v":""},null,null,null,null,{"$f":"IF(IK$6=TRUE,\"?\",IF(IJ12>=ID9,\"?\",\"\"))","v":""},null,null,null,null,null,null,null,null,{"$f":"IF(ISNA(MATCH(TRUE,IR6:IR11,0)),IF(AND(IN12>=IL7,IP12>=IL9),\"X\",\"\"),\"\")","v":""},null,null,null,null,null,{"$f":"IF(ISNA(MATCH(TRUE,IW6:IW11,0)),IF(IU12>=IS7,\"X\",\"\"),\"\")","v":""},null,null,null,null,{"$f":"IF(ISNA(MATCH(TRUE,JD6:JD11,0)),IF(OR(JA12>=IX7,JB12>=IY7),\"?\",\"\"),\"\")","v":""},null,null,null,null,null,null,{"$f":"IF(JK12>=JE9,\"?\",\"\")","v":""},null,null,null,null,null,null,{"$f":"IF(JR12>=JL9,\"?\",\"\")","v":""},null,null,null,null,null,null,{"$f":"IF(JY12>=JS9,\"X\",\"\")","v":""},null,null,null,null,null,null,{"$f":"IF(ISNA(MATCH(FALSE,KE6:KE12,0)),IF(AND(K38>6,KC12>=JZ7),\"?\",IF(AND(K38<=6,KD12>KA7),\"?\",\"\")),\"\")","v":""},null,null,null,null,null,{"$f":"IF(AND(KH11>=KF7,KJ12>=KF9),\"?\",\"\")","v":""},null,null,null,null,{"$f":"IF(ISNA(MATCH(TRUE,KL6:KL12,0)),\"\",\"X\")","v":""}]
[null,"Hydric Soil Indicators: (Applicable to all LRRs, unless otherwise noted.)",null,null,null,null,null,null,null,null,null,null,null,null,null,null,null,null,null,null,null,null,null,null,null,null,null,null,null,null,null,null,null,null,null,null,null,null,null,null,null,null,null,null,null,null,"Indicators for Problematic Hydric Soils3:",null,null,null,null,null,null,null,null,null,null,null,null,null,null,null,null,null,null,null,"Hydric Soil Indicators",null,null,null,"Hydro/Veg",null,"Warning Depths","Warning Textures","Warning Matrix",null,null,null,null,null,null,null,null,null,null,null,null,"CJ13 checks for TRUE in CO, then checks if the organic soil end depth = the restrictive layer depth or for total of CL to meet conditions."," ",null,null,null,null,"CP13 checks if any CS (mineral soil below qualifying organic thickness) is TRUE"," ",null,null,"CT13 checks for TRUE in CY, then checks if any CW (mineral soil below qualifying organic thickness) is TRUE."," ",null,null,null,null,null,"DA13 checks for TRUE in DH, then checks if there is a qualifying layer in DB and total layers >=2 at <=6\" depth."," ",null,null," ",{"$f":"IF(ISNA(MATCH(TRUE,$DE$7:$DE$12,0)),IF(ISNA(MATCH(TRUE,$DF$6:$DF$11,0)),FALSE,TRUE),TRUE)","v":false},null,null,"DI13 checks if there is a TRUE in DL, else a TRUE in DJ."," ",null,null,"DM13 checks for TRUE in DQ, then checks for qualifying thickness."," ",null,null,null,"DR13 checks if there is a TRUE in DU, else a TRUE in DS."," ",null,null,"DV13 checks for TRUE in DZ, then checks for total of DX to meet conditions"," ",null,null,null,"EA13 checks for TRUE in EE, then checks for total of EC to meet conditions"," ",null,null,null,"EF13 checks for FALSE in EM, then SAND in EH, and then TRUE in EH, if TRUE or SAND it checks if the minimum cumulative thickness is 6 inches for option a (\"X\"), then 2 inches for option b (\"?\")."," ",null," ",null,null,null,null,null,"EO13 checks for TRUE in EU, then checks for FALSE in ES, else \"SAND\" in ES, else TRUE in ES.  \"?\" for SAND in ES, \"X\" for TRUE in ES."," "," ",null,null,null,null,"EV13 checks for qualifying thickness."," ",null,"EY13 checks for TRUE in FC, then checks for qualifying thickness."," ",null,null,null,"FD13 checks for TRUE in FG, then checks for TRUE in FE."," ",null,null,"FH13 checks for TRUE in FL, then checks for minimum total thickness.","FI13 checks for TRUE in FL, if TRUE then checks if TRUE in Loamy Mucky Mineral's mineral surface if combination is with Loamy Mucky Mineral, else checks if there is a possible combinations of indicators if FH13 is blank."," ",null,null,"FM13 checks if there is a TRUE in FN."," ","FO13 checks if there is a TRUE in FU, then checks for a TRUE in FR.","FP13 checks for TRUE in FU, then checks if there is a possible combinations of indicators if FO13 is blank."," ",null,null,null,null,"FV13 checks if there is a TRUE in GC, then checks for a TRUE in GA."," ",null,null,null,null,null,null,"GD13 checks if TRUE in GG."," ",null,null,"GH13 checks for TRUE in GL, then checks for total of GJ to meet conditions."," ",null,null,null,"GM13 checks for TRUE in GQ, then checks for qualifying thickness.","GN13 checks for TRUE in GQ, then checks if there is a possible combinations of indicators if GM13 is blank."," ",null,null,"GR13 checks for TRUE in GU then checks for TRUE in GS."," ",null,null,"GV13 checks for TRUE in HB, then checks for qualifying thicknesses of either set of conditions.","GW13 checks for TRUE in HB, if TRUE then checks if TRUE in Loamy Mucky Mineral's mineral surface if combination is with Loamy Mucky Mineral, else checks if there is a possible combinations of indicators if GV13 is blank."," ",null,null,null,null,"HC13 checks for TRUE in HG, then checks for qualifying thickness.","HD13 checks if there is a TRUE in HG, if TRUE then checks if TRUE in Loamy Mucky Mineral's mineral surface if combination is with Loamy Mucky Mineral, else checks if there is a possible combinations of indicators if HC13 is blank. "," ",null,null,"HH13 checks for TRUE in HS, then checks for qualifying thickness.","HI13 checks for TRUE in HS, if TRUE then checks if TRUE in Loamy Mucky Mineral's mineral surface if combination is with Loamy Mucky Mineral, else checks if there is a possible combinations of indicators if HH13 is blank. "," ",null,null," ",null,null,null,null,null,null,"HT13 checks if thickness meets conditions"," ",null,"HW13 checks for Marl color in HX for \"?\", then checks for Marl Deposits (B15) hydrology indicator from page 1 and Marl color at the surface layer for \"X\"."," ","HY13 checks for TRUE in IC, then checks for qualifying thickness."," ",null,null,null,"ID13 checks IK6 if the surface mineral layer (waives thickness requirement), then checks if the thickness qualifies for the conditions."," ",null,null,null,null,null,null,null,"IM13 checks for TRUE in IR, then checks for qualifying thickness for total and upper thicknesses."," "," "," ",null,null,"IS13 checks for TRUE in IW, then checks for qualifying thickness."," ",null,null,null,"IX13 checks for TRUE in JD, then checks for qualifying thickness"," "," ",null,null,null,null,"JE13 checks for qualifying thickness."," ",null,null,null,null,null,"JL13 checks if the thickness qualifies for the conditions."," ",null,null,null,null,null,"JS13 checks if the thickness qualifies for the conditions."," ",null,null,null,null,null,"JZ13 checks for FALSE in KE, then checks for thickness >=6 for bedrock >6 inches, then for thickness >=1/2 the bedrock depth for bedrock<=6 inches."," "," ",null,null,null,"KF13 checks for thickness requirements of the surface dark layer and of the low chroma yellow layer."," ",null,null,null,"KK13 checks for TRUE in KL"," "]
[null,{"$f":"BO15","v":""},"Histosol (A1)",null,null,null,null,null,null,null,null,null,null,null,null,null,null,null,null,null,null,null,{"$f":"BP15","v":""},"Thin Dark Surface (S9) (LRR S, T, U)",null,null,null,null,null,null,null,null,null,null,null,null,null,null,null,null,null,null,null,null,null,null,{"$f":"BQ15","v":""},"1 cm Muck (A9) (LRR O)",null,null,null,null,null,null,null,null,null,null,null,null,null,null,null,null,null,null,{"$f":"IFERROR(CJ13,\"\")","v":""},{"$f":"IFERROR(IF(ISNA(MATCH('Page 1 (Hydrology)'!$L$6,$CO$74:$CO$89,0)),\"\",GD13),\"\")","v":""},{"$f":"IFERROR(IF(DV13=\"X\",IF(ISNA(MATCH('Page 1 (Hydrology)'!$L$6,$CO$61:$CO$65,0)),\"\",IF($BS$19=TRUE,\"?\",\"\")),\"\"),\"\")","v":""},null,{"$f":"IF(OR('Page 1 (Hydrology)'!Q9=\"X\",'Page 1 (Hydrology)'!Q9=\"Yes\",'Page 1 (Hydrology)'!Q9=\"Y\",'Page 1 (Hydrology)'!Q10=\"X\",'Page 1 (Hydrology)'!Q10=\"Yes\",'Page 1 (Hydrology)'!Q10=\"Y\"),TRUE,FALSE)","v":false},null,{"$f":"IF(ISBLANK(B6),FALSE,IF(OR(AND(B6<>\"\",OR(BO6=\"\",BP6=\"\")),ISERR(BO6),ISERR(BP6),BO6>=BP6),TRUE,FALSE))","v":false},{"$f":"IF(AND($B6=\"\",$AQ6<>\"\"),TRUE,FALSE)","v":false},{"$f":"IF(AND($B6=\"\",$H6<>\"\"),TRUE,FALSE)","v":false},"Indicator Combinations",null,null,null,null,null,null,null,null,null,null,null,null,null,null,null,null,null,null,null,null,null,null,null,null,null,null,null,null,null,null,null,null,null,null,null,null,null,null,null,null,null,null,null,null,null,null,null,null,null,null,null,null,null,null,null,null,null,null,null,null,null,null,null,null,null,null,null,null,null,null,null,null,null,null,null,null,null,null,null,null,null,null,null,null,null,null,null,null,null,null,null,null,null,null,null,null,null,null,null,null,null,null,null,null,null,null,null,null,null,null,null,null,null,null,null,null,null," "]
[null,{"$f":"BO16","v":""},"Histic Epipedon (A2)",null,null,null,null,null,null,null,null,null,null,null,null,null,null,null,null,null,null,null,{"$f":"BP16","v":""},"Barrier Islands 1 cm Muck (S12)",null,null,null,null,null,null,null,null,null,null,null,null,null,null,null,null,null,null,null,null,null,null,{"$f":"BQ16","v":""},"2 cm Muck (A10) (LRR S)",null,null,null,null,null,null,null,null,null,null,null,null,null,null,null,null,null,null,{"$f":"IFERROR(IF(CP13=\"X\",IF($BS$19=TRUE,\"X\",\"\"),\"\"),\"\")","v":""},{"$f":"IFERROR(IF(ISNA(MATCH('Page 1 (Hydrology)'!$L$6,$CO$122:$CO$123,0)),\"\",GH13),\"\")","v":""},{"$f":"IFERROR(IF(EA13=\"X\",IF(ISNA(MATCH('Page 1 (Hydrology)'!$L$6,$CO$74,0)),\"\",IF($BS$19=TRUE,\"?\",\"\")),\"\"),\"\")","v":""},null,{"$f":"IF(OR('Page 1 (Hydrology)'!AO39=\"X\",'Page 1 (Hydrology)'!Q14=\"X\"),TRUE,FALSE)","v":false},null,{"$f":"IF(ISBLANK(B7),FALSE,IF(OR(AND(B7<>\"\",OR(BO7=\"\",BP7=\"\")),ISERR(BO7),ISERR(BP7),BO7<>BP6,BO7>=BP7),TRUE,FALSE))","v":false},{"$f":"IF(AND($B7=\"\",$AQ7<>\"\"),TRUE,FALSE)","v":false},{"$f":"IF(AND($B7=\"\",$H7<>\"\"),TRUE,FALSE)","v":false},"Sandy Redox (S5) & Dark Surface (S7)",null,null,null,null,null,null,"Sandy Redox (S5) & Loamy Mucky Mineral (F1)",null,null,null,null,null,null,"Sandy Redox (S5) & Depleted Matrix (F3) (a)",null,null,null,null,null,null,"Sandy Redox (S5) & Depleted Matrix (F3) (b)",null,null,null,null,null,null,"Sandy Redox (S5) & Redox Dark Surface (F6)",null,null,null,null,null,null,"Sandy Redox (S5) & Depleted Dark Surface (F7)",null,null,null,null,null,null,"Dark Surface (S7) & Depleted Matrix (F3) (a)",null,null,null,null,null,null,"Dark Surface (S7) & Depleted Matrix (F3) (b)",null,null,null,null,null,"Dark Surface (S7) & Redox Dark Surface (F6)",null,null,null,null,null,null,null,"Dark Surface (S7) & Depleted Dark Surface (F7)",null,null,null,null,null,null,"Loamy Mucky Mineral (F1) & Depleted Matrix (F3) (a)",null,null,null,null,null,null,"Loamy Mucky Mineral (F1) & Depleted Matrix (F3) (b)",null,null,null,null,null,null,"Loamy Mucky Mineral (F1) & Redox Dark Surface (F6)",null,null,null,null,null,null,"Loamy Mucky Mineral (F1) & Depleted Dark Surface (F7)",null,null,null,null,null,null,"Depleted Matrix (F3) (a) & Redox Dark Surface (F6)",null,null,null,null,null,null,"Depleted Matrix (F3) (b) & Redox Dark Surface (F6)",null,null,null,null,null,null,"Depleted Matrix (F3) (a) & Depleted Dark Surface (F7)",null,null,null,null,null,null,"Depleted Matrix (F3) (b) & Depleted Dark Surface (F7)",null,null,null,null,null,null,"Redox Dark Surface (F6) & Depleted Dark Surface (F7)",null,null,null,null,null,null,null,null,null,null,null,null,null,null,null,null,null,null,null,null,null,null,null,null,null,null,null,null,null,null,null,null,null,null,null,null,null,null,null,null,null,null,null,null,null,null,null,null,null,null,null,null,null,null,null,null," ",null,null,null,null," ",null,null,null,null,null,null,null,null,null,null,null,null,null,null,null,null,null,null,null," "]
[null,{"$f":"BO17","v":""},"Black Histic (A3)",null,null,null,null,null,null,null,null,null,null,null,null,null,null,null,null,null,null,null,null,null,"(MLRA 153B, 153D)",null,null,null,null,null,null,null,null,null,null,null,null,null,null,null,null,null,null,null,null,null,{"$f":"BQ17","v":""},"Coast Prairie Redox (A16)",null,null,null,null,null,null,null,null,null,null,null,null,null,null,null,null,null,null,{"$f":"IFERROR(CT13,\"\")","v":""},null,{"$f":"IFERROR(IF(EV13=\"?\",IF(ISNA(MATCH('Page 1 (Hydrology)'!$L$6,$CO$76,0)),IF($BS$19=TRUE,EV13,\"\"),\"\"),\"\"),\"\")","v":""},null,{"$f":"IF(OR('Page 1 (Hydrology)'!H9=\"X\",'Page 1 (Hydrology)'!H9=\"Yes\",'Page 1 (Hydrology)'!H9=\"Y\",'Page 1 (Hydrology)'!H10=\"X\",'Page 1 (Hydrology)'!H10=\"Yes\",'Page 1 (Hydrology)'!H10=\"Y\",IFERROR(AND('Page 2 (Vegetation, 5 Strata)'!BM1=1,ISTEXT('Page 2 (Vegetation, 5 Strata)'!AS25)),FALSE),IFERROR(AND('Page 2 (Vegetation, 5 Strata)'!BM1=2,ISTEXT('Page 2 (Vegetation, 4 Strata)'!AS25)),ISTEXT('Page 2 (Vegetation, 4 Strata)'!AS25))),TRUE,FALSE)","v":false},null,{"$f":"IF(ISBLANK(B8),FALSE,IF(OR(AND(B8<>\"\",OR(BO8=\"\",BP8=\"\")),ISERR(BO8),ISERR(BP8),BO8<>BP7,BO8>=BP8),TRUE,FALSE))","v":false},{"$f":"IF(AND($B8=\"\",$AQ8<>\"\"),TRUE,FALSE)","v":false},false,"Conditions","Calculation of layers from Sandy Redox","Running total from Sandy Redox","Calculation of layers from Dark Surface","Running total from Dark Surface","Largest value from previous calculation columns (can only count a layer once for an indicator)","Running total of previous column that matches conditions","Conditions","Calculation of layers from Sandy Redox","Running total from Sandy Redox","Calculation of layers from Loamy Mucky Mineral","Running total from Loamy Mucky Mineral","Largest value from previous calculation columns (can only count a layer once for an indicator)","Running total of previous column that matches conditions","Conditions","Calculation of layers from Sandy Redox","Running total from Sandy Redox","Calculation of layers from Depleted Matrix","Running total from Depleted Matrix","Largest value from previous calculation columns (can only count a layer once for an indicator)","Running total of previous column that matches conditions","Conditions","Calculation of layers from Sandy Redox","Running total from Sandy Redox","Calculation of layers from Depleted Matrix","Running total from Depleted Matrix","Largest value from previous calculation columns (can only count a layer once for an indicator)","Running total of previous column that matches conditions","Conditions","Calculation of layers from Sandy Redox","Running total from Sandy Redox","Calculation of layers from Redox Dark Surface","Running total from Redox Dark Surface","Largest value from previous calculation columns (can only count a layer once for an indicator)","Running total of previous column that matches conditions","Conditions","Calculation of layers from Sandy Redox","Running total from Sandy Redox","Calculation of layers from Depleted Dark Surface","Running total from Depleted Dark Surface","Largest value from previous calculation columns (can only count a layer once for an indicator)","Running total of previous column that matches conditions","Conditions","Calculation of layers from Dark Surface","Running total from Dark Surface","Calculation of layers from Depleted Matrix","Running total from Depleted Matrix","Largest value from previous calculation columns (can only count a layer once for an indicator)","Running total of previous column that matches conditions","Conditions","Calculation of layers from Dark Surface","Running total from Dark Surface","Calculation of layers from Depleted Matrix","Running total from Depleted Matrix","Largest value from previous calculation columns (can only count a layer once for an indicator)","Running total of previous column that matches conditions","Conditions","Calculation of layers from Dark Surface","Running total from Dark Surface","Calculation of layers from Redox Dark Surface","Running total from Redox Dark Surface","Largest value from previous calculation columns (can only count a layer once for an indicator)","Running total of previous column that matches conditions","Conditions","Calculation of layers from Dark Surface","Running total from Dark Surface","Calculation of layers from Depleted Dark Surface","Running total from Depleted Dark Surface","Largest value from previous calculation columns (can only count a layer once for an indicator)","Running total of previous column that matches conditions","Conditions","Calculation of layers from Loamy Mucky Mineral","Running total from Loamy Mucky Mineral","Calculation of layers from Depleted Matrix","Running total from Depleted Matrix","Largest value from previous calculation columns (can only count a layer once for an indicator)","Running total of previous column that matches conditions","Conditions","Calculation of layers from Loamy Mucky Mineral","Running total from Loamy Mucky Mineral","Calculation of layers from Depleted Matrix","Running total from Depleted Matrix","Largest value from previous calculation columns (can only count a layer once for an indicator)","Running total of previous column that matches conditions","Conditions","Calculation of layers from Loamy Mucky Mineral","Running total from Loamy Mucky Mineral","Calculation of layers from Redox Dark Surface","Running total from Redox Dark Surface","Largest value from previous calculation columns (can only count a layer once for an indicator)","Running total of previous column that matches conditions","Conditions","Calculation of layers from Loamy Mucky Mineral","Running total from Loamy Mucky Mineral","Calculation of layers from Depleted Dark Surface","Running total from Depleted Dark Surface","Largest value from previous calculation columns (can only count a layer once for an indicator)","Running total of previous column that matches conditions","Conditions","Calculation of layers from Depleted Matrix","Running total from Depleted Matrix","Calculation of layers from Redox Dark Surface","Running total from Redox Dark Surface","Largest value from previous calculation columns (can only count a layer once for an indicator)","Running total of previous column that matches conditions","Conditions","Calculation of layers from Depleted Matrix","Running total from Depleted Matrix","Calculation of layers from Redox Dark Surface","Running total from Redox Dark Surface","Largest value from previous calculation columns (can only count a layer once for an indicator)","Running total of previous column that matches conditions","Conditions","Calculation of layers from Depleted Matrix","Running total from Depleted Matrix","Calculation of layers from Depleted Dark Surface","Running total from Depleted Dark Surface","Largest value from previous calculation columns (can only count a layer once for an indicator)","Running total of previous column that matches conditions","Conditions","Calculation of layers from Depleted Matrix","Running total from Depleted Matrix","Calculation of layers from Depleted Dark Surface","Running total from Depleted Dark Surface","Largest value from previous calculation columns (can only count a layer once for an indicator)","Running total of previous column that matches conditions","Conditions","Calculation of layers from GS","Running total from GT","Calculation of layers from HE","Running total from HF","Largest value from FU and FW (can only count a layer once for an indicator)","Running total of previous column that matches conditions"," "]
[null,{"$f":"BO18","v":""},"Hydrogen Sulfide (A4)",null,null,null,null,null,null,null,null,null,null,null,null,null,null,null,null,null,null,null,{"$f":"BP18","v":""},"Loamy Mucky Mineral (F1) (LRR O)",null,null,null,null,null,null,null,null,null,null,null,null,null,null,null,null,null,null,null,null,null,null,null,"   (outside MLRA 150A)",null,null,null,null,null,null,null,null,null,null,null,null,null,null,null,null,null,null,{"$f":"IFERROR(CZ6,\"\")","v":""},{"$f":"IFERROR(IF(ISNA(MATCH('Page 1 (Hydrology)'!$L$6,$CO$61:$CO$65,0)),\"\",GN13),\"\")","v":""},null,null,{"$f":"IF('Page 1 (Hydrology)'!Q12=\"X\",TRUE,IFERROR(IF(OR(IFERROR(AND('Page 2 (Vegetation, 5 Strata)'!BM1=1,'Page 2 (Vegetation, 5 Strata)'!BB53=\"X\"),FALSE),IFERROR(AND('Page 2 (Vegetation, 5 Strata)'!BM1=2,'Page 2 (Vegetation, 4 Strata)'!BB49=\"X\"),'Page 2 (Vegetation, 4 Strata)'!BB49=\"X\")),TRUE,FALSE),IF('Page 2 (Vegetation, 5 Strata)'!BB53=\"X\",TRUE,FALSE)))","v":false},null,{"$f":"IF(ISBLANK(B9),FALSE,IF(OR(AND(B9<>\"\",OR(BO9=\"\",BP9=\"\")),ISERR(BO9),ISERR(BP9),BO9<>BP8,BO9>=BP9),TRUE,FALSE))","v":false},{"$f":"IF(AND($B9=\"\",$AQ9<>\"\"),TRUE,FALSE)","v":false},false,"Min Cum. Thickness",{"$f":"$FI6","v":0},{"$f":"$FJ6","v":0},{"$f":"$FP6","v":0},{"$f":"$FQ6","v":0},{"$f":"LARGE((BY18,CA18),1)","v":0},{"$f":"IF($BO6>BX$21,0,CC18)","v":0},"Min Cum. Thickness",{"$f":"$FI6","v":0},{"$f":"$FJ6","v":0},{"$f":"$GN6","v":0},{"$f":"$GO6","v":0},{"$f":"LARGE((CF18,CH18),1)","v":0},{"$f":"IF($BO6>CE$21,0,CJ18)","v":0},"Min Cum. Thickness",{"$f":"$FI6","v":0},{"$f":"$FJ6","v":0},{"$f":"$GX6","v":0},{"$f":"$GY6","v":0},{"$f":"LARGE((CM18,CO18),1)","v":0},{"$f":"IF($BO6>CL$21,0,CQ18)","v":0},"Min Cum. Thickness",{"$f":"$FI6","v":0},{"$f":"$FJ6","v":0},{"$f":"$GX6","v":0},{"$f":"$GZ6","v":0},{"$f":"LARGE((CT18,CV18),1)","v":0},{"$f":"IF($BO6>CS$21,0,CX18)","v":0},"Min Cum. Thickness",{"$f":"$FI6","v":0},{"$f":"$FJ6","v":0},{"$f":"$HD6","v":0},{"$f":"$HE6","v":0},{"$f":"LARGE((DA18,DC18),1)","v":0},{"$f":"IF($BO6>CZ$21,0,DE18)","v":0},"Min Cum. Thickness",{"$f":"$FI6","v":0},{"$f":"$FJ6","v":0},{"$f":"$HP6","v":0},{"$f":"$HQ6","v":0},{"$f":"LARGE((DH18,DJ18),1)","v":0},{"$f":"IF($BO6>DG$21,0,DL18)","v":0},"Min Cum. Thickness",{"$f":"$FP6","v":0},{"$f":"$FQ6","v":0},{"$f":"$GX6","v":0},{"$f":"$GY6","v":0},{"$f":"LARGE((DO18,DQ18),1)","v":0},{"$f":"IF($BO6>DN$21,0,DS18)","v":0},"Min Cum. Thickness",{"$f":"$FP6","v":0},{"$f":"$FQ6","v":0},{"$f":"$GX6","v":0},{"$f":"$GZ6","v":0},{"$f":"LARGE((DV18,DX18),1)","v":0},{"$f":"IF($BO6>DU$21,0,DZ18)","v":0},"Min Cum. Thickness",{"$f":"$FP6","v":0},{"$f":"$FQ6","v":0},{"$f":"$HD6","v":0},{"$f":"$HE6","v":0},{"$f":"LARGE((EC18,EE18),1)","v":0},{"$f":"IF($BO6>EB$21,0,EG18)","v":0},"Min Cum. Thickness",{"$f":"$FP6","v":0},{"$f":"$FQ6","v":0},{"$f":"$HP6","v":0},{"$f":"$HQ6","v":0},{"$f":"LARGE((EJ18,EL18),1)","v":0},{"$f":"IF($BO6>EI$21,0,EN18)","v":0},"Min Cum. Thickness",{"$f":"$GN6","v":0},{"$f":"$GO6","v":0},{"$f":"$GX6","v":0},{"$f":"$GY6","v":0},{"$f":"LARGE((EQ18,ES18),1)","v":0},{"$f":"IF($BO6>EP$21,0,EU18)","v":0},"Min Cum. Thickness",{"$f":"$GN6","v":0},{"$f":"$GO6","v":0},{"$f":"$GX6","v":0},{"$f":"$GZ6","v":0},{"$f":"LARGE((EX18,EZ18),1)","v":0},{"$f":"IF($BO6>EW$21,0,FB18)","v":0},"Min Cum. Thickness",{"$f":"$GN6","v":0},{"$f":"$GO6","v":0},{"$f":"$HD6","v":0},{"$f":"$HE6","v":0},{"$f":"LARGE((FE18,FG18),1)","v":0},{"$f":"IF($BO6>FD$21,0,FI18)","v":0},"Min Cum. Thickness",{"$f":"$GN6","v":0},{"$f":"$GO6","v":0},{"$f":"$HP6","v":0},{"$f":"$HQ6","v":0},{"$f":"LARGE((FL18,FN18),1)","v":0},{"$f":"IF($BO6>FK$21,0,FP18)","v":0},"Min Cum. Thickness",{"$f":"$GX6","v":0},{"$f":"$GY6","v":0},{"$f":"$HD6","v":0},{"$f":"$HE6","v":0},{"$f":"LARGE((FS18,FU18),1)","v":0},{"$f":"IF($BP6<=FR$21,FW18,IF(AND($BO6<FR$21,FW18>0),FW18-($BP6-FR$21),0))","v":0},"Min Cum. Thickness",{"$f":"$GX6","v":0},{"$f":"$GZ6","v":0},{"$f":"$HD6","v":0},{"$f":"$HE6","v":0},{"$f":"LARGE((FZ18,GB18),1)","v":0},{"$f":"IF($BO6>FY$21,0,GD18)","v":0},"Min Cum. Thickness",{"$f":"$GX6","v":0},{"$f":"$GY6","v":0},{"$f":"$HP6","v":0},{"$f":"$HQ6","v":0},{"$f":"LARGE((GG18,GI18),1)","v":0},{"$f":"IF($BP6<=GF$21,GK18,IF(AND($BO6<GF$21,GK18>0),GK18-($BP6-GF$21),0))","v":0},"Min Cum. Thickness",{"$f":"$GX6","v":0},{"$f":"$GZ6","v":0},{"$f":"$HP6","v":0},{"$f":"$HQ6","v":0},{"$f":"LARGE((GN18,GP18),1)","v":0},{"$f":"IF($BO6>GM$21,0,GR18)","v":0},"Min Cum. Thickness",{"$f":"$HD6","v":0},{"$f":"$HE6","v":0},{"$f":"$HP6","v":0},{"$f":"$HQ6","v":0},{"$f":"LARGE((GU18,GW18),1)","v":0},{"$f":"IF($BP6<=GT$21,GY18,IF(AND($BO6<GT$21,GY18>0),GY18-($BP6-GT$21),0))","v":0}]
[null,"","Stratified Layers (A5)",null,null,null,null,null,null,null,null,null,null,null,null,null,null,null,null,null,null,null,"","Loamy Gleyed Matrix (F2)",null,null,null,null,null,null,null,null,null,null,null,null,null,null,null,null,null,null,null,null,null,null,{"$f":"BQ19","v":""},"Reduced Vertic (F18)",null,null,null,null,null,null,null,null,null,null,null,null,null,null,null,null,null,null,{"$f":"IFERROR(DA13,\"\")","v":""},{"$f":"IFERROR(GR13,\"\")","v":""},{"$f":"IFERROR(IF(IX13=\"?\",IF(ISNA(MATCH('Page 1 (Hydrology)'!$L$6,$CO$76:$CO$77,0)),IF($BS$19=TRUE,\"?\",\"\"),\"\"),\"\"),\"\")","v":""},null,{"$f":"IF(AND(OR(BS15=TRUE,BS16=TRUE),OR(BS17=TRUE,BS18=TRUE)),TRUE,FALSE)","v":false},null,false,false,false,4,0,0,0,0,{"$f":"LARGE((BY19,CA19),1)","v":0},{"$f":"IF(AND($BO7>BX$21,CD18=0),0,IF(OR($B7=\"\",$AQ7=\"\",$BO7>(BX$19+BX$21)),CD18,IF(AND(CC19=0,CD18<BX$19),0,CD18+CC19)))","v":0},4,{"$f":"$FI7","v":0},0,0,0,{"$f":"LARGE((CF19,CH19),1)","v":0},{"$f":"IF(AND($BO7>CE$21,CK18=0),0,IF(OR($B7=\"\",$AQ7=\"\",$BO7>(CE$19+CE$21)),CK18,IF(AND(CJ19=0,CK18<CE$19),0,CK18+CJ19)))","v":0},4,0,0,0,0,{"$f":"LARGE((CM19,CO19),1)","v":0},{"$f":"IF(AND($BO7>CL$21,CR18=0),0,IF(OR($B7=\"\",$AQ7=\"\",$BO7>(CL$19+CL$21)),CR18,IF(AND(CQ19=0,CR18<CL$19),0,CR18+CQ19)))","v":0},6,0,0,0,0,{"$f":"LARGE((CT19,CV19),1)","v":0},{"$f":"IF(AND($BO7>CS$21,CY18=0),0,IF(OR($B7=\"\",$AQ7=\"\",$BO7>(CS$19+CS$21)),CY18,IF(AND(CX19=0,CY18<CS$19),0,CY18+CX19)))","v":0},4,0,0,0,0,{"$f":"LARGE((DA19,DC19),1)","v":0},{"$f":"IF(AND($BO7>CZ$21,DF18=0),0,IF(OR($B7=\"\",$AQ7=\"\",$BO7>(CZ$19+CZ$21)),DF18,IF(AND(DE19=0,DF18<CZ$19),0,DF18+DE19)))","v":0},4,0,0,0,0,{"$f":"LARGE((DH19,DJ19),1)","v":0},{"$f":"IF(AND($BO7>DG$21,DM18=0),0,IF(OR($B7=\"\",$AQ7=\"\",$BO7>(DG$19+DG$21)),DM18,IF(AND(DL19=0,DM18<DG$19),0,DM18+DL19)))","v":0},4,0,0,0,0,{"$f":"LARGE((DO19,DQ19),1)","v":0},{"$f":"IF(AND($BO7>DN$21,DT18=0),0,IF(OR($B7=\"\",$AQ7=\"\",$BO7>(DN$19+DN$21)),DT18,IF(AND(DS19=0,DT18<DN$19),0,DT18+DS19)))","v":0},6,0,0,0,0,{"$f":"LARGE((DV19,DX19),1)","v":0},{"$f":"IF(AND($BO7>DU$21,EA18=0),0,IF(OR($B7=\"\",$AQ7=\"\",$BO7>(DU$19+DU$21)),EA18,IF(AND(DZ19=0,EA18<DU$19),0,EA18+DZ19)))","v":0},4,0,0,0,0,{"$f":"LARGE((EC19,EE19),1)","v":0},{"$f":"IF(AND($BO7>EB$21,EH18=0),0,IF(OR($B7=\"\",$AQ7=\"\",$BO7>(EB$19+EB$21)),EH18,IF(AND(EG19=0,EH18<EB$19),0,EH18+EG19)))","v":0},4,0,0,0,0,{"$f":"LARGE((EJ19,EL19),1)","v":0},{"$f":"IF(AND($BO7>EI$21,EO18=0),0,IF(OR($B7=\"\",$AQ7=\"\",$BO7>(EI$19+EI$21)),EO18,IF(AND(EN19=0,EO18<EI$19),0,EO18+EN19)))","v":0},4,0,0,0,0,{"$f":"LARGE((EQ19,ES19),1)","v":0},{"$f":"IF(AND($BO7>EP$21,EV18=0),0,IF(OR($B7=\"\",$AQ7=\"\",$BO7>(EP$19+EP$21)),EV18,IF(AND(EU19=0,EV18<EP$19),0,EV18+EU19)))","v":0},6,0,0,0,0,{"$f":"LARGE((EX19,EZ19),1)","v":0},{"$f":"IF(AND($BO7>EW$21,FC18=0),0,IF(OR($B7=\"\",$AQ7=\"\",$BO7>(EW$19+EW$21)),FC18,IF(AND(FB19=0,FC18<EW$19),0,FC18+FB19)))","v":0},4,0,0,0,0,{"$f":"LARGE((FE19,FG19),1)","v":0},{"$f":"IF(AND($BO7>FD$21,FJ18=0),0,IF(OR($B7=\"\",$AQ7=\"\",$BO7>(FD$19+FD$21)),FJ18,IF(AND(FI19=0,FJ18<FD$19),0,FJ18+FI19)))","v":0},4,0,0,0,0,{"$f":"LARGE((FL19,FN19),1)","v":0},{"$f":"IF(AND($BO7>FK$21,FQ18=0),0,IF(OR($B7=\"\",$AQ7=\"\",$BO7>(FK$19+FK$21)),FQ18,IF(AND(FP19=0,FQ18<FK$19),0,FQ18+FP19)))","v":0},4,0,0,0,0,{"$f":"LARGE((FS19,FU19),1)","v":0},{"$f":"IF(OR($B7=\"\",$AQ7=\"\"),FX18,IF(AND(FW19=0,FX18<FR$19),0,IF($BP7<=FR$21,FX18+FW19,IF(AND($BO7<FR$21,FW19>0),(FX18+FW19)-($BP7-FR$21),FX18))))","v":0},6,0,0,0,0,{"$f":"LARGE((FZ19,GB19),1)","v":0},{"$f":"IF(AND($BO7>FY$21,GE18=0),0,IF(OR($B7=\"\",$AQ7=\"\",$BO7>(FY$19+FY$21)),GE18,IF(AND(GD19=0,GE18<FY$19),0,GE18+GD19)))","v":0},4,0,0,0,0,{"$f":"LARGE((GG19,GI19),1)","v":0},{"$f":"IF(OR($B7=\"\",$AQ7=\"\"),GL18,IF(AND(GK19=0,GL18<GF$19),0,IF($BP7<=GF$21,GL18+GK19,IF(AND($BO7<GF$21,GK19>0),(GL18+GK19)-($BP7-GF$21),GL18))))","v":0},6,0,0,0,0,{"$f":"LARGE((GN19,GP19),1)","v":0},{"$f":"IF(AND($BO7>GM$21,GS18=0),0,IF(OR($B7=\"\",$AQ7=\"\",$BO7>(GM$19+GM$21)),GS18,IF(AND(GR19=0,GS18<GM$19),0,GS18+GR19)))","v":0},4,0,0,0,0,{"$f":"LARGE((GU19,GW19),1)","v":0},{"$f":"IF(OR($B7=\"\",$AQ7=\"\"),GZ18,IF(AND(GY19=0,GZ18<GT$19),0,IF($BP7<=GT$21,GZ18+GY19,IF(AND($BO7<GT$21,GY19>0),(GZ18+GY19)-($BP7-GT$21),GZ18))))","v":0}]
[null,"","Organic Bodies (A6) (LRR P, T, U)",null,null,null,null,null,null,null,null,null,null,null,null,null,null,null,null,null,null,null,"","Depleted Matrix (F3)",null,null,null,null,null,null,null,null,null,null,null,null,null,null,null,null,null,null,null,null,null,null,null,"   (outside MLRA 150A, 150B)",null,null,null,null,null,null,null,null,null,null,null,null,null,null,null,null,null,null,{"$f":"IFERROR(IF(ISNA(MATCH('Page 1 (Hydrology)'!$L$6,$CO$91:$CO$113,0)),\"\",DI13),\"\")","v":""},{"$f":"IFERROR(GW13,\"\")","v":""},null,null,null,null,false,false,false,"Max Start Depth",0,0,0,0,{"$f":"LARGE((BY20,CA20),1)","v":0},0,"Max Start Depth",0,0,0,0,{"$f":"LARGE((CF20,CH20),1)","v":0},{"$f":"IF(AND($BO8>CE$21,CK19=0),0,IF(OR($B8=\"\",$AQ8=\"\",$BO8>(CE$19+CE$21)),CK19,IF(AND(CJ20=0,CK19<CE$19),0,CK19+CJ20)))","v":0},"Max Start Depth",0,0,0,0,{"$f":"LARGE((CM20,CO20),1)","v":0},{"$f":"IF(AND($BO8>CL$21,CR19=0),0,IF(OR($B8=\"\",$AQ8=\"\",$BO8>(CL$19+CL$21)),CR19,IF(AND(CQ20=0,CR19<CL$19),0,CR19+CQ20)))","v":0},"Max Start Depth",0,0,0,0,{"$f":"LARGE((CT20,CV20),1)","v":0},{"$f":"IF(AND($BO8>CS$21,CY19=0),0,IF(OR($B8=\"\",$AQ8=\"\",$BO8>(CS$19+CS$21)),CY19,IF(AND(CX20=0,CY19<CS$19),0,CY19+CX20)))","v":0},"Max Start Depth",0,0,0,0,{"$f":"LARGE((DA20,DC20),1)","v":0},{"$f":"IF(AND($BO8>CZ$21,DF19=0),0,IF(OR($B8=\"\",$AQ8=\"\",$BO8>(CZ$19+CZ$21)),DF19,IF(AND(DE20=0,DF19<CZ$19),0,DF19+DE20)))","v":0},"Max Start Depth",0,0,0,0,{"$f":"LARGE((DH20,DJ20),1)","v":0},{"$f":"IF(AND($BO8>DG$21,DM19=0),0,IF(OR($B8=\"\",$AQ8=\"\",$BO8>(DG$19+DG$21)),DM19,IF(AND(DL20=0,DM19<DG$19),0,DM19+DL20)))","v":0},"Max Start Depth",0,0,0,0,{"$f":"LARGE((DO20,DQ20),1)","v":0},0,"Max Start Depth",0,0,0,0,{"$f":"LARGE((DV20,DX20),1)","v":0},0,"Max Start Depth",0,0,0,0,{"$f":"LARGE((EC20,EE20),1)","v":0},0,"Max Start Depth",0,0,0,0,{"$f":"LARGE((EJ20,EL20),1)","v":0},0,"Max Start Depth",0,0,0,0,{"$f":"LARGE((EQ20,ES20),1)","v":0},{"$f":"IF(AND($BO8>EP$21,EV19=0),0,IF(OR($B8=\"\",$AQ8=\"\",$BO8>(EP$19+EP$21)),EV19,IF(AND(EU20=0,EV19<EP$19),0,EV19+EU20)))","v":0},"Max Start Depth",0,0,0,0,{"$f":"LARGE((EX20,EZ20),1)","v":0},{"$f":"IF(AND($BO8>EW$21,FC19=0),0,IF(OR($B8=\"\",$AQ8=\"\",$BO8>(EW$19+EW$21)),FC19,IF(AND(FB20=0,FC19<EW$19),0,FC19+FB20)))","v":0},"Max Start Depth",0,0,0,0,{"$f":"LARGE((FE20,FG20),1)","v":0},{"$f":"IF(AND($BO8>FD$21,FJ19=0),0,IF(OR($B8=\"\",$AQ8=\"\",$BO8>(FD$19+FD$21)),FJ19,IF(AND(FI20=0,FJ19<FD$19),0,FJ19+FI20)))","v":0},"Max Start Depth",0,0,0,0,{"$f":"LARGE((FL20,FN20),1)","v":0},{"$f":"IF(AND($BO8>FK$21,FQ19=0),0,IF(OR($B8=\"\",$AQ8=\"\",$BO8>(FK$19+FK$21)),FQ19,IF(AND(FP20=0,FQ19<FK$19),0,FQ19+FP20)))","v":0},"Max Comp. Depth",0,0,0,0,{"$f":"LARGE((FS20,FU20),1)","v":0},{"$f":"IF(OR($B8=\"\",$AQ8=\"\"),FX19,IF(AND(FW20=0,FX19<FR$19),0,IF($BP8<=FR$21,FX19+FW20,IF(AND($BO8<FR$21,FW20>0),(FX19+FW20)-($BP8-FR$21),FX19))))","v":0},"Max Start Depth",0,0,0,0,{"$f":"LARGE((FZ20,GB20),1)","v":0},{"$f":"IF(AND($BO8>FY$21,GE19=0),0,IF(OR($B8=\"\",$AQ8=\"\",$BO8>(FY$19+FY$21)),GE19,IF(AND(GD20=0,GE19<FY$19),0,GE19+GD20)))","v":0},"Max Comp. Depth",0,0,0,0,{"$f":"LARGE((GG20,GI20),1)","v":0},{"$f":"IF(OR($B8=\"\",$AQ8=\"\"),GL19,IF(AND(GK20=0,GL19<GF$19),0,IF($BP8<=GF$21,GL19+GK20,IF(AND($BO8<GF$21,GK20>0),(GL19+GK20)-($BP8-GF$21),GL19))))","v":0},"Max Start Depth",0,0,0,0,{"$f":"LARGE((GN20,GP20),1)","v":0},{"$f":"IF(AND($BO8>GM$21,GS19=0),0,IF(OR($B8=\"\",$AQ8=\"\",$BO8>(GM$19+GM$21)),GS19,IF(AND(GR20=0,GS19<GM$19),0,GS19+GR20)))","v":0},"Max Comp. Depth",0,0,0,0,{"$f":"LARGE((GU20,GW20),1)","v":0},{"$f":"IF(OR($B8=\"\",$AQ8=\"\"),GZ19,IF(AND(GY20=0,GZ19<GT$19),0,IF($BP8<=GT$21,GZ19+GY20,IF(AND($BO8<GT$21,GY20>0),(GZ19+GY20)-($BP8-GT$21),GZ19))))","v":0}]
[null,"","5 cm Mucky Mineral (A7) (LRR P, T, U)",null,null,null,null,null,null,null,null,null,null,null,null,null,null,null,null,null,null,null,"","Redox Dark Surface (F6)",null,null,null,null,null,null,null,null,null,null,null,null,null,null,null,null,null,null,null,null,null,null,{"$f":"BQ21","v":""},"Piedmont Floodplain Soils (F19) (LRR P, T)",null,null,null,null,null,null,null,null,null,null,null,null,null,null,null,null,null,null,{"$f":"IFERROR(IF(ISNA(MATCH('Page 1 (Hydrology)'!$L$6,$CO$91:$CO$113,0)),\"\",DM13),\"\")","v":""},{"$f":"IFERROR(HD13,\"\")","v":""},{"$f":"IFERROR(IF(JE13=\"?\",IF(ISNA(MATCH('Page 1 (Hydrology)'!$L$6,$CO$153:$CO$170,0)),\"\",IF($BS$19=TRUE,\"?\",\"\")),\"\"),\"\")","v":""},null,null,null,false,false,false,6,0,0,0,0,{"$f":"LARGE((BY21,CA21),1)","v":0},0,6,0,0,0,0,{"$f":"LARGE((CF21,CH21),1)","v":0},{"$f":"IF(AND($BO9>CE$21,CK20=0),0,IF(OR($B9=\"\",$AQ9=\"\",$BO9>(CE$19+CE$21)),CK20,IF(AND(CJ21=0,CK20<CE$19),0,CK20+CJ21)))","v":0},6,0,0,0,0,{"$f":"LARGE((CM21,CO21),1)","v":0},{"$f":"IF(AND($BO9>CL$21,CR20=0),0,IF(OR($B9=\"\",$AQ9=\"\",$BO9>(CL$19+CL$21)),CR20,IF(AND(CQ21=0,CR20<CL$19),0,CR20+CQ21)))","v":0},10,0,0,0,0,{"$f":"LARGE((CT21,CV21),1)","v":0},{"$f":"IF(AND($BO9>CS$21,CY20=0),0,IF(OR($B9=\"\",$AQ9=\"\",$BO9>(CS$19+CS$21)),CY20,IF(AND(CX21=0,CY20<CS$19),0,CY20+CX21)))","v":0},6,0,0,0,0,{"$f":"LARGE((DA21,DC21),1)","v":0},{"$f":"IF(AND($BO9>CZ$21,DF20=0),0,IF(OR($B9=\"\",$AQ9=\"\",$BO9>(CZ$19+CZ$21)),DF20,IF(AND(DE21=0,DF20<CZ$19),0,DF20+DE21)))","v":0},6,0,0,0,0,{"$f":"LARGE((DH21,DJ21),1)","v":0},{"$f":"IF(AND($BO9>DG$21,DM20=0),0,IF(OR($B9=\"\",$AQ9=\"\",$BO9>(DG$19+DG$21)),DM20,IF(AND(DL21=0,DM20<DG$19),0,DM20+DL21)))","v":0},6,0,0,0,0,{"$f":"LARGE((DO21,DQ21),1)","v":0},0,10,0,0,0,0,{"$f":"LARGE((DV21,DX21),1)","v":0},0,6,0,0,0,0,{"$f":"LARGE((EC21,EE21),1)","v":0},0,6,0,0,0,0,{"$f":"LARGE((EJ21,EL21),1)","v":0},0,6,0,0,0,0,{"$f":"LARGE((EQ21,ES21),1)","v":0},{"$f":"IF(AND($BO9>EP$21,EV20=0),0,IF(OR($B9=\"\",$AQ9=\"\",$BO9>(EP$19+EP$21)),EV20,IF(AND(EU21=0,EV20<EP$19),0,EV20+EU21)))","v":0},10,0,0,0,0,{"$f":"LARGE((EX21,EZ21),1)","v":0},{"$f":"IF(AND($BO9>EW$21,FC20=0),0,IF(OR($B9=\"\",$AQ9=\"\",$BO9>(EW$19+EW$21)),FC20,IF(AND(FB21=0,FC20<EW$19),0,FC20+FB21)))","v":0},6,0,0,0,0,{"$f":"LARGE((FE21,FG21),1)","v":0},{"$f":"IF(AND($BO9>FD$21,FJ20=0),0,IF(OR($B9=\"\",$AQ9=\"\",$BO9>(FD$19+FD$21)),FJ20,IF(AND(FI21=0,FJ20<FD$19),0,FJ20+FI21)))","v":0},6,0,0,0,0,{"$f":"LARGE((FL21,FN21),1)","v":0},{"$f":"IF(AND($BO9>FK$21,FQ20=0),0,IF(OR($B9=\"\",$AQ9=\"\",$BO9>(FK$19+FK$21)),FQ20,IF(AND(FP21=0,FQ20<FK$19),0,FQ20+FP21)))","v":0},12,0,0,0,0,{"$f":"LARGE((FS21,FU21),1)","v":0},0,10,0,0,0,0,{"$f":"LARGE((FZ21,GB21),1)","v":0},{"$f":"IF(AND($BO9>FY$21,GE20=0),0,IF(OR($B9=\"\",$AQ9=\"\",$BO9>(FY$19+FY$21)),GE20,IF(AND(GD21=0,GE20<FY$19),0,GE20+GD21)))","v":0},12,0,0,0,0,{"$f":"LARGE((GG21,GI21),1)","v":0},0,10,0,0,0,0,{"$f":"LARGE((GN21,GP21),1)","v":0},{"$f":"IF(AND($BO9>GM$21,GS20=0),0,IF(OR($B9=\"\",$AQ9=\"\",$BO9>(GM$19+GM$21)),GS20,IF(AND(GR21=0,GS20<GM$19),0,GS20+GR21)))","v":0},12,0,0,0,0,{"$f":"LARGE((GU21,GW21),1)","v":0},{"$f":"IF(OR($B9=\"\",$AQ9=\"\"),GZ20,IF(AND(GY21=0,GZ20<GT$19),0,IF($BP9<=GT$21,GZ20+GY21,IF(AND($BO9<GT$21,GY21>0),(GZ20+GY21)-($BP9-GT$21),GZ20))))","v":0}]
[null,"","Muck Presence (A8) (LRR U)",null,null,null,null,null,null,null,null,null,null,null,null,null,null,null,null,null,null,null,"","Depleted Dark Surface (F7)",null,null,null,null,null,null,null,null,null,null,null,null,null,null,null,null,null,null,null,null,null,null,{"$f":"BQ22","v":""},"Anomalous Bright Floodplain Soils (F20)",null,null,null,null,null,null,null,null,null,null,null,null,null,null,null,null,null,null,{"$f":"IFERROR(IF(ISNA(MATCH('Page 1 (Hydrology)'!$L$6,$CO$85:$CO$89,0)),\"\",DR13),\"\")","v":""},{"$f":"IFERROR(HI13,\"\")","v":""},{"$f":"IFERROR(IF(JL13=\"?\",IF(ISNA(MATCH('Page 1 (Hydrology)'!$L$6,$CO$82,0)),\"\",IF($BS$19=TRUE,\"?\",\"\")),\"\"),\"\")","v":""},null,null,null,{"$f":"IF(ISNA(MATCH(TRUE,BU15:BU21,0)),FALSE,TRUE)","v":false},{"$f":"IF(ISNA(MATCH(TRUE,BV15:BV21,0)),FALSE,TRUE)","v":false},{"$f":"IF(ISNA(MATCH(TRUE,BW15:BW21,0)),FALSE,TRUE)","v":false},null,0,0,0,0,{"$f":"LARGE((BY22,CA22),1)","v":0},0,null,0,0,0,0,{"$f":"LARGE((CF22,CH22),1)","v":0},0,null,0,0,0,0,{"$f":"LARGE((CM22,CO22),1)","v":0},0,null,0,0,0,0,{"$f":"LARGE((CT22,CV22),1)","v":0},0,null,0,0,0,0,{"$f":"LARGE((DA22,DC22),1)","v":0},0,null,0,0,0,0,{"$f":"LARGE((DH22,DJ22),1)","v":0},0,null,0,0,0,0,{"$f":"LARGE((DO22,DQ22),1)","v":0},0,null,0,0,0,0,{"$f":"LARGE((DV22,DX22),1)","v":0},0,null,0,0,0,0,{"$f":"LARGE((EC22,EE22),1)","v":0},0,null,0,0,0,0,{"$f":"LARGE((EJ22,EL22),1)","v":0},0,null,0,0,0,0,{"$f":"LARGE((EQ22,ES22),1)","v":0},0,null,0,0,0,0,{"$f":"LARGE((EX22,EZ22),1)","v":0},0,null,0,0,0,0,{"$f":"LARGE((FE22,FG22),1)","v":0},0,null,0,0,0,0,{"$f":"LARGE((FL22,FN22),1)","v":0},0,null,0,0,0,0,{"$f":"LARGE((FS22,FU22),1)","v":0},0,null,0,0,0,0,{"$f":"LARGE((FZ22,GB22),1)","v":0},0,null,0,0,0,0,{"$f":"LARGE((GG22,GI22),1)","v":0},0,null,0,0,0,0,{"$f":"LARGE((GN22,GP22),1)","v":0},0,null,0,0,0,0,{"$f":"LARGE((GU22,GW22),1)","v":0},0]
[null,"","1 cm Muck (A9) (LRR P, T)",null,null,null,null,null,null,null,null,null,null,null,null,null,null,null,null,null,null,null,"","Redox Depressions (F8)",null,null,null,null,null,null,null,null,null,null,null,null,null,null,null,null,null,null,null,null,null,null,null,"   (MLRA 153B)",null,null,null,null,null,null,null,null,null,null,null,null,null,null,null,null,null,null,{"$f":"IFERROR(IF(ISNA(MATCH('Page 1 (Hydrology)'!$L$6,$CO$91:$CO$108,0)),\"\",DV13),\"\")","v":""},{"$f":"IFERROR(HT13,\"\")","v":""},null,null,null,null,null,null,null,null,0,0,0,0,{"$f":"LARGE((BY23,CA23),1)","v":0},0,null,0,0,0,0,{"$f":"LARGE((CF23,CH23),1)","v":0},0,null,0,0,0,0,{"$f":"LARGE((CM23,CO23),1)","v":0},0,null,0,0,0,0,{"$f":"LARGE((CT23,CV23),1)","v":0},0,null,0,0,0,0,{"$f":"LARGE((DA23,DC23),1)","v":0},0,null,0,0,0,0,{"$f":"LARGE((DH23,DJ23),1)","v":0},0,null,0,0,0,0,{"$f":"LARGE((DO23,DQ23),1)","v":0},0,null,0,0,0,0,{"$f":"LARGE((DV23,DX23),1)","v":0},0,null,0,0,0,0,{"$f":"LARGE((EC23,EE23),1)","v":0},0,null,0,0,0,0,{"$f":"LARGE((EJ23,EL23),1)","v":0},0,null,0,0,0,0,{"$f":"LARGE((EQ23,ES23),1)","v":0},0,null,0,0,0,0,{"$f":"LARGE((EX23,EZ23),1)","v":0},0,null,0,0,0,0,{"$f":"LARGE((FE23,FG23),1)","v":0},0,null,0,0,0,0,{"$f":"LARGE((FL23,FN23),1)","v":0},0,null,0,0,0,0,{"$f":"LARGE((FS23,FU23),1)","v":0},0,null,0,0,0,0,{"$f":"LARGE((FZ23,GB23),1)","v":0},0,null,0,0,0,0,{"$f":"LARGE((GG23,GI23),1)","v":0},0,null,0,0,0,0,{"$f":"LARGE((GN23,GP23),1)","v":0},0,null,0,0,0,0,{"$f":"LARGE((GU23,GW23),1)","v":0},0]
[null,"","Depleted Below Dark Surface (A11)",null,null,null,null,null,null,null,null,null,null,null,null,null,null,null,null,null,null,null,{"$f":"BP24","v":""},"Marl (F10) (LRR U)",null,null,null,null,null,null,null,null,null,null,null,null,null,null,null,null,null,null,null,null,null,null,{"$f":"BQ24","v":""},"Red Parent Material (F21)",null,null,null,null,null,null,null,null,null,null,null,null,null,null,null,null,null,null,{"$f":"IFERROR(EF13,\"\")","v":""},{"$f":"IFERROR(IF(ISNA(MATCH('Page 1 (Hydrology)'!$L$6,$CO$85:$CO$89,0)),\"\",HW13),\"\")","v":""},{"$f":"IFERROR(IF(JS13=\"X\",IF($BS$19=TRUE,\"?\",\"\"),\"\"),\"\")","v":""},null,null,null,null,null,null,null,0,0,0,0,{"$f":"LARGE((BY24,CA24),1)","v":0},0,null,0,0,0,0,{"$f":"LARGE((CF24,CH24),1)","v":0},0,null,0,0,0,0,{"$f":"LARGE((CM24,CO24),1)","v":0},0,null,0,0,0,0,{"$f":"LARGE((CT24,CV24),1)","v":0},0,null,0,0,0,0,{"$f":"LARGE((DA24,DC24),1)","v":0},0,null,0,0,0,0,{"$f":"LARGE((DH24,DJ24),1)","v":0},0,null,0,0,0,0,{"$f":"LARGE((DO24,DQ24),1)","v":0},0,null,0,0,0,0,{"$f":"LARGE((DV24,DX24),1)","v":0},0,null,0,0,0,0,{"$f":"LARGE((EC24,EE24),1)","v":0},0,null,0,0,0,0,{"$f":"LARGE((EJ24,EL24),1)","v":0},0,null,0,0,0,0,{"$f":"LARGE((EQ24,ES24),1)","v":0},0,null,0,0,0,0,{"$f":"LARGE((EX24,EZ24),1)","v":0},0,null,0,0,0,0,{"$f":"LARGE((FE24,FG24),1)","v":0},0,null,0,0,0,0,{"$f":"LARGE((FL24,FN24),1)","v":0},0,null,0,0,0,0,{"$f":"LARGE((FS24,FU24),1)","v":0},0,null,0,0,0,0,{"$f":"LARGE((FZ24,GB24),1)","v":0},0,null,0,0,0,0,{"$f":"LARGE((GG24,GI24),1)","v":0},0,null,0,0,0,0,{"$f":"LARGE((GN24,GP24),1)","v":0},0,null,0,0,0,0,{"$f":"LARGE((GU24,GW24),1)","v":0},0]
[null,"","Thick Dark Surface (A12)",null,null,null,null,null,null,null,null,null,null,null,null,null,null,null,null,null,null,null,"","Depleted Ochric (F11) (MLRA 151)",null,null,null,null,null,null,null,null,null,null,null,null,null,null,null,null,null,null,null,null,null,null,{"$f":"BQ25","v":""},"Very Shallow Dark Surface (F22)",null,null,null,null,null,null,null,null,null,null,null,null,null,null,null,null,null,null,{"$f":"IFERROR(EO13,\"\")","v":""},{"$f":"IFERROR(IF(ISNA(MATCH('Page 1 (Hydrology)'!$L$6,$CO$78,0)),\"\",HY13),\"\")","v":""},{"$f":"IFERROR(IF(JZ13=\"?\",IF(ISNA(MATCH('Page 1 (Hydrology)'!$L$6,$CO$172:$CO$173,0)),IF(AND('Page 1 (Hydrology)'!$L$6=$CO$79,'Page 1 (Hydrology)'!$AI$3='Page 1 (Hydrology)'!$AV$41),\"\",IF($BS$19=TRUE,\"?\",\"\")),\"\"),\"\"),\"\")","v":""},null,null,null,null,null,null,{"$f":"IF(ISNA(MATCH('Page 1 (Hydrology)'!$L$6,$CO$66:$CO$89,0)),\"\",IF(ISNA(MATCH(TRUE,$FS7:$FS12,0)),IF(AND(CD24>BX19,SUM(BY18:BY24)>0,SUM(CA18:CA24)>0),\"?C\",\"\"),IF(AND(CD24>=BX19,SUM(BY18:BY24)>0,SUM(CA18:CA24)>0),\"?C\",\"\")))","v":""},null,null,null,null,null,null,{"$f":"IF(AND(CK24>=CE19,SUM(CF18:CF24)>0,SUM(CH18:CH24)>0),IF(ISNA(MATCH('Page 1 (Hydrology)'!$L$6,$CO$61:$CO$65,0)),\"\",\"?C\"),\"\")","v":""},null,null,null,null,null,null,{"$f":"IF(AND(CR24>=CL19,SUM(CM18:CM24)>0,SUM(CO18:CO24)>0),\"?C\",\"\")","v":""},null,null,null,null,null,null,{"$f":"IF(AND(CY24>=CS19,SUM(CT18:CT24)>0,SUM(CV18:CV24)>0),\"?C\",\"\")","v":""},null,null,null,null,null,null,{"$f":"IF(AND(DF24>=CZ19,SUM(DA18:DA24)>0,SUM(DC18:DC24)>0),\"?C\",\"\")","v":""},null,null,null,null,null,null,{"$f":"IF(AND(DM24>=DG19,SUM(DH18:DH24)>0,SUM(DJ18:DJ24)>0),\"?C\",\"\")","v":""},null,null,null,null,null,null,{"$f":"IF(ISNA(MATCH('Page 1 (Hydrology)'!$L$6,$CO$66:$CO$89,0)),\"\",IF(ISNA(MATCH(TRUE,$FS7:$FS12,0)),IF(AND(DT24>DN19,SUM(DO18:DO24)>0,SUM(DQ18:DQ24)>0),\"?C\",\"\"),IF(AND(DT24>=DN19,SUM(DO18:DO24)>0,SUM(DQ18:DQ24)>0),\"?C\",\"\")))","v":""},null,null,null,null,null,null,{"$f":"IF(ISNA(MATCH('Page 1 (Hydrology)'!$L$6,$CO$66:$CO$89,0)),\"\",IF(ISNA(MATCH(TRUE,$FS7:$FS12,0)),IF(AND(EA24>DU19,SUM(DV18:DV24)>0,SUM(DX18:DX24)>0),\"?C\",\"\"),IF(AND(EA24>=DU19,SUM(DV18:DV24)>0,SUM(DX18:DX24)>0),\"?C\",\"\")))","v":""},null,null,null,null,null,null,{"$f":"IF(ISNA(MATCH('Page 1 (Hydrology)'!$L$6,$CO$66:$CO$89,0)),\"\",IF(ISNA(MATCH(TRUE,$FS7:$FS12,0)),IF(AND(EH24>EB19,SUM(EC18:EC24)>0,SUM(EE18:EE24)>0),\"?C\",\"\"),IF(AND(EH24>=EB19,SUM(EC18:EC24)>0,SUM(EE18:EE24)>0),\"?C\",\"\")))","v":""},null,null,null,null,null,null,{"$f":"IF(ISNA(MATCH('Page 1 (Hydrology)'!$L$6,$CO$66:$CO$89,0)),\"\",IF(ISNA(MATCH(TRUE,$FS7:$FS12,0)),IF(AND(EO24>EI19,SUM(EJ18:EJ24)>0,SUM(EL18:EL24)>0),\"?C\",\"\"),IF(AND(EO24>=EI19,SUM(EJ18:EJ24)>0,SUM(EL18:EL24)>0),\"?C\",\"\")))","v":""},null,null,null,null,null,null,{"$f":"IF(AND(EV24>=EP19,SUM(EQ18:EQ24)>0,SUM(ES18:ES24)>0),IF(ISNA(MATCH('Page 1 (Hydrology)'!$L$6,$CO$61:$CO$65,0)),\"\",\"?C\"),\"\")","v":""},null,null,null,null,null,null,{"$f":"IF(AND(FC24>=EW19,SUM(EX18:EX24)>0,SUM(EZ18:EZ24)>0),IF(ISNA(MATCH('Page 1 (Hydrology)'!$L$6,$CO$61:$CO$65,0)),\"\",\"?C\"),\"\")","v":""},null,null,null,null,null,null,{"$f":"IF(AND(FJ24>=FD19,SUM(FE18:FE24)>0,SUM(FG18:FG24)>0),IF(ISNA(MATCH('Page 1 (Hydrology)'!$L$6,$CO$61:$CO$65,0)),\"\",\"?C\"),\"\")","v":""},null,null,null,null,null,null,{"$f":"IF(AND(FQ24>=FK19,SUM(FL18:FL24)>0,SUM(FN18:FN24)>0),IF(ISNA(MATCH('Page 1 (Hydrology)'!$L$6,$CO$61:$CO$65,0)),\"\",\"?C\"),\"\")","v":""},null,null,null,null,null,null,{"$f":"IF(AND(FX24>=FR19,SUM(FS18:FS24)>0,SUM(FU18:FU24)>0),\"?C\",\"\")","v":""},null,null,null,null,null,null,{"$f":"IF(AND(GE24>=FY19,SUM(FZ18:FZ24)>0,SUM(GB18:GB24)>0),\"?C\",\"\")","v":""},null,null,null,null,null,null,{"$f":"IF(AND(GL24>=GF19,SUM(GG18:GG24)>0,SUM(GI18:GI24)>0),\"?C\",\"\")","v":""},null,null,null,null,null,null,{"$f":"IF(AND(GS24>=GM19,SUM(GN18:GN24)>0,SUM(GP18:GP24)>0),\"?C\",\"\")","v":""},null,null,null,null,null,null,{"$f":"IF(AND(GZ24>=GT19,SUM(GU18:GU24)>0,SUM(GW18:GW24)>0),\"?C\",\"\")","v":""}]
[null,"","Coast Prairie Redox (A16) (MLRA 150A)",null,null,null,null,null,null,null,null,null,null,null,null,null,null,null,null,null,null,null,"","Iron-Manganese Masses (F12) (LRR O, P, T)",null,null,null,null,null,null,null,null,null,null,null,null,null,null,null,null,null,null,null,null,null,null,null,"   (outside MLRA 138, 152A in FL, 154)",null,null,null,null,null,null,null,null,null,null,null,null,null,null,null,null,null,null,{"$f":"IFERROR(IF(ISNA(MATCH('Page 1 (Hydrology)'!$L$6,$CO$76,0)),\"\",EV13),\"\")","v":""},{"$f":"IFERROR(IF(ISNA(MATCH('Page 1 (Hydrology)'!$L$6,$CO$125:$CO$147,0)),\"\",ID13),\"\")","v":""},null,null,null,null,null,null,null,"BX25 checks if Dark Surface conditions exist without thickness, then checks if Dark Surface in combination exceeds the minimum cumulative thickness without underlying chroma <=2, then checks if both indicators have started, but checks if the combination thickness meets the conditions."," ",null,null,null,null,null,"CE25 checks if both indicators have started and then checks if the combination thickness meets the conditions."," ",null,null,null,null,null,"CL25 checks if both indicators have started and then checks if the combination thickness meets the conditions."," ",null,null,null,null,null,"CS25 checks if both indicators have started and then checks if the combination thickness meets the conditions."," ",null,null,null,null,null,"CZ25 checks if both indicators have started and then checks if the combination thickness meets the conditions."," ",null,null,null,null,null,"DG25 checks if both indicators have started and then checks if the combination thickness meets the conditions."," ",null,null,null,null,null,"DN25 checks if Dark Surface conditions exist without thickness, then checks if Dark Surface in combination exceeds the minimum cumulative thickness without underlying chroma <=2, then checks if both indicators have started, but checks if the combination thickness meets the conditions."," ",null,null,null,null,null,"DU25 checks if Dark Surface conditions exist without thickness, then checks if Dark Surface in combination exceeds the minimum cumulative thickness without underlying chroma <=2, then checks if both indicators have started, but checks if the combination thickness meets the conditions."," ",null,null,null,null,null,"EB25 checks if Dark Surface conditions exist without thickness, then checks if Dark Surface in combination exceeds the minimum cumulative thickness without underlying chroma <=2, then checks if both indicators have started, but checks if the combination thickness meets the conditions."," ",null,null,null,null,null,"EI25 checks if Dark Surface conditions exist without thickness, then checks if Dark Surface in combination exceeds the minimum cumulative thickness without underlying chroma <=2, then checks if both indicators have started, but checks if the combination thickness meets the conditions."," ",null,null,null,null,null,"EP25 checks if both indicators have started and then checks if the combination thickness meets the conditions."," ",null,null,null,null,null,"EW25 checks if both indicators have started and then checks if the combination thickness meets the conditions."," ",null,null,null,null,null,"FD25 checks if both indicators have started and then checks if the combination thickness meets the conditions."," ",null,null,null,null,null,"FK25 checks if both indicators have started and then checks if the combination thickness meets the conditions."," ",null,null,null,null,null,"FR25 checks if both indicators have started and then checks if the combination thickness meets the conditions."," ",null,null,null,null,null,"FY25 checks if both indicators have started and then checks if the combination thickness meets the conditions."," ",null,null,null,null,null,"GF25 checks if both indicators have started and then checks if the combination thickness meets the conditions."," ",null,null,null,null,null,"GM25 checks if both indicators have started and then checks if the combination thickness meets the conditions."," ",null,null,null,null,null,"GT25 checks if both indicators have started and then checks if the combination thickness meets the conditions."," "]
[null,"","Sandy Mucky Mineral (S1) (LRR O, S)",null,null,null,null,null,null,null,null,null,null,null,null,null,null,null,null,null,null,null,"","Umbric Surface (F13) (LRR P, T, U)",null,null,null,null,null,null,null,null,null,null,null,null,null,null,null,null,null,null,null,null,null,null,{"$f":"BQ27","v":""},"Barrier Islands Low Chroma Matrix (TS7)",null,null,null,null,null,null,null,null,null,null,null,null,null,null,null,null,null,null,{"$f":"IFERROR(IF(ISNA(MATCH('Page 1 (Hydrology)'!$L$6,$CO$115:$CO$120,0)),\"\",EY13),\"\")","v":""},{"$f":"IFERROR(IF(ISNA(MATCH('Page 1 (Hydrology)'!$L$6,$CO$91:$CO$113,0)),\"\",IM13),\"\")","v":""},{"$f":"IFERROR(IF(KF13=\"?\",IF(ISNA(MATCH('Page 1 (Hydrology)'!$L$6,$CO$122:$CO$123,0)),\"\",IF($BS$19=TRUE,\"?\",\"\")),\"\"),\"\")","v":""}]
[null,"","Sandy Gleyed Matrix (S4)",null,null,null,null,null,null,null,null,null,null,null,null,null,null,null,null,null,null,null,"","Delta Ochric (F17) (MLRA 151)",null,null,null,null,null,null,null,null,null,null,null,null,null,null,null,null,null,null,null,null,null,null,null,"   (MLRA 153B, 153D)",null,null,null,null,null,null,null,null,null,null,null,null,null,null,null,null,null,null,{"$f":"IFERROR(FD13,\"\")","v":""},{"$f":"IFERROR(IF(ISNA(MATCH('Page 1 (Hydrology)'!$L$6,$CO$78,0)),\"\",IS13),\"\")","v":""}]
[null,"","Sandy Redox (S5)",null,null,null,null,null,null,null,null,null,null,null,null,null,null,null,null,null,null,null,"","Reduced Vertic (F18) (MLRA 150A, 150B)",null,null,null,null,null,null,null,null,null,null,null,null,null,null,null,null,null,null,null,null,null,null,null,"Other (Explain in Remarks)",null,null,null,null,null,null,null,null,null,null,null,null,null,null,null,null,null,null,{"$f":"IFERROR(FI13,\"\")","v":""},{"$f":"IFERROR(IF(ISNA(MATCH('Page 1 (Hydrology)'!$L$6,$CO$76:$CO$77,0)),\"\",IX13),\"\")","v":""}]
[null,"","Stripped Matrix (S6)",null,null,null,null,null,null,null,null,null,null,null,null,null,null,null,null,null,null,null,"","Piedmont Floodplain Soils (F19) (MLRA 149A)",null,null,null,null,null,null,null,null,null,null,null,null,null,null,null,null,null,null,null,null,null,null,null,null,null,null,null,null,null,null,null,null,null,null,null,null,null,null,null,null,null,null,{"$f":"IFERROR(FM13,\"\")","v":""},{"$f":"IFERROR(IF(ISNA(MATCH('Page 1 (Hydrology)'!$L$6,$CO$74,0)),\"\",JE13),\"\")","v":""}]
[null,"","Dark Surface (S7) (LRR P, S, T, U)",null,null,null,null,null,null,null,null,null,null,null,null,null,null,null,null,null,null,null,"","Anomalous Bright Floodplain Soils (F20)",null,null,null,null,null,null,null,null,null,null,null,null,null,null,null,null,null,null,null,null,null,null,null,null,null,null,null,null,null,null,null,null,null,null,null,null,null,null,null,null,null,null,{"$f":"IFERROR(IF(ISNA(MATCH('Page 1 (Hydrology)'!$L$6,$CO$66:$CO$89,0)),\"\",FP13),\"\")","v":""},{"$f":"IFERROR(IF(ISNA(MATCH('Page 1 (Hydrology)'!$L$6,$CO$149:$CO$151,0)),\"\",JL13),\"\")","v":""}]
[null,"","Polyvalue Below Surface (S8)",null,null,null,null,null,null,null,null,null,null,null,null,null,null,null,null,null,null,null,null,null,"(MLRA 149A, 153C, 153D)",null,null,null,null,null,null,null,null,null,null,null,null,null,null,null,null,null,null,null,null,null,null,"3Indicators of hydrophytic vegetation and",null,null,null,null,null,null,null,null,null,null,null,null,null,null,null,null,null,null,{"$f":"IFERROR(IF(ISNA(MATCH('Page 1 (Hydrology)'!$L$6,$CO$74:$CO$89,0)),\"\",FV13),\"\")","v":""}]
[null,null,null,"(LRR S, T, U)",null,null,null,null,null,null,null,null,null,null,null,null,null,null,null,null,null,null,{"$f":"BP33","v":""},"Very Shallow Dark Surface (F22)",null,null,null,null,null,null,null,null,null,null,null,null,null,null,null,null,null,null,null,null,null,null,null,"    wetland hydrology must be present,",null,null,null,null,null,null,null,null,null,null,null,null,null,null,null,null,null,null,null,{"$f":"IFERROR(IF(JZ13=\"?\",IF(ISNA(MATCH('Page 1 (Hydrology)'!$L$6,$CO$172:$CO$173,0)),IF(AND('Page 1 (Hydrology)'!$L$6=$CO$79,'Page 1 (Hydrology)'!$AI$3='Page 1 (Hydrology)'!$AV$41),\"X\",\"\"),\"X\"),\"\"),\"\")","v":""}]
[null,null,null,null,null,null,null,null,null,null,null,null,null,null,null,null,null,null,null,null,null,null,null,null,"(MLRA 138, 152A in FL, 154)",null,null,null,null,null,null,null,null,null,null,null,null,null,null,null,null,null,null,null,null,null,null,"    unless disturbed or problematic."]
[]
[null,"Restrictive Layer (if observed):"]
[null,null,"Type:",null,null,null,null,null,null,null,null,null,null,null,null,null,null,null,null,null,null,null,null,null,null,null,null,null,null,null,null,null,null,null,null,null,null,null,null,null,null,null,null,null,null,null,null,null,null,null,null,null,null,null,null,null,null,null,null,null,null,null,null,null,null,null,"Hydric Soil Present"]
[null,null,"Depth (inches):",null,null,null,null,null,null,null,null,null,null,null,null,null,null,null,null,null,null,null,null,null,null,null,null,null,null,null,null,null,null,null,null,null,null,null,null,null,null,null,null,"Hydric Soil Present?",null,null,null,null,null,null,null,null,"Yes",null,null,null,{"$f":"BO38","v":""},"No",null,null,{"$f":"BP38","v":"X"},null,null,null,null,null,{"$f":"IF(SUM(BO41,BO43:BO59,BP41:BP59)>0,\"X\",\"\")","v":""},{"$f":"IF(OR('Page 1 (Hydrology)'!L9=\"X\",'Page 1 (Hydrology)'!L9=\"Yes\",'Page 1 (Hydrology)'!L9=\"Y\",'Page 1 (Hydrology)'!L10=\"X\",'Page 1 (Hydrology)'!L10=\"Yes\",'Page 1 (Hydrology)'!L10=\"Y\"),\"\",IF(AND(BE38=\"\",'Page 1 (Hydrology)'!Q13=\"\"),\"X\",\"\"))","v":"X"}]
[]
[null,"Remarks:",null,null,null,null,null,null,null,null,null,null,null,null,null,null,null,null,null,null,null,null,null,null,null,null,null,null,null,null,null,null,null,null,null,null,null,null,null,null,null,null,null,null,null,null,null,null,null,null,null,null,null,null,null,null,null,null,null,null,null,null,null,null,null,null,"Boxes checked X"]
[null,{"$f":"IF(BO59=1,BQ59,\"\")","v":""},null,null,null,null,null,null,null,null,null,null,null,null,null,null,null,null,null,null,null,null,null,null,null,null,null,null,null,null,null,null,null,null,null,null,null,null,null,null,null,null,null,null,null,null,null,null,null,null,null,null,null,null,null,null,null,null,null,null,null,null,null,null,null,null,{"$f":"IF(B15=\"X\",1,0)","v":0},{"$f":"IF(W15=\"X\",1,0)","v":0},{"$f":"IF(AU15=\"X\",1,0)","v":0}]
[null,null,null,null,null,null,null,null,null,null,null,null,null,null,null,null,null,null,null,null,null,null,null,null,null,null,null,null,null,null,null,null,null,null,null,null,null,null,null,null,null,null,null,null,null,null,null,null,null,null,null,null,null,null,null,null,null,null,null,null,null,null,null,null,null,null,0,{"$f":"IF(W16=\"X\",1,0)","v":0},{"$f":"IF(AU16=\"X\",1,0)","v":0}]
[null,null,null,null,null,null,null,null,null,null,null,null,null,null,null,null,null,null,null,null,null,null,null,null,null,null,null,null,null,null,null,null,null,null,null,null,null,null,null,null,null,null,null,null,null,null,null,null,null,null,null,null,null,null,null,null,null,null,null,null,null,null,null,null,null,null,0,null,{"$f":"IF(AU17=\"X\",1,0)","v":0}]
[null,null,null,null,null,null,null,null,null,null,null,null,null,null,null,null,null,null,null,null,null,null,null,null,null,null,null,null,null,null,null,null,null,null,null,null,null,null,null,null,null,null,null,null,null,null,null,null,null,null,null,null,null,null,null,null,null,null,null,null,null,null,null,null,null,null,0,{"$f":"IF(W18=\"X\",1,0)","v":0}]
[null,null,null,null,null,null,null,null,null,null,null,null,null,null,null,null,null,null,null,null,null,null,null,null,null,null,null,null,null,null,null,null,null,null,null,null,null,null,null,null,null,null,null,null,null,null,null,null,null,null,null,null,null,null,null,null,null,null,null,null,null,null,null,null,null,null,0,0,{"$f":"IF(AU19=\"X\",1,0)","v":0},null,null,null,null,null,null,null,null,null,null,null,null,null,null,null,null,null,null,null,null,null,null,null,null,null,null,null,null,null,null,null,null,null,null,null,null,null,null,null,null,null,null,null,null,null,null,null,null,null,null,null,null,null,null,null,null,null,null,null,null,null,null,null,null,null,null,null,null,null,null,null,null,null,null,null,null,null,null,null,null,null,null,null,null,null,null,null,null,null,null,null,null,null,null,null,null,null,null,null,null,null,null,null,null,null,null,null,null,null,null,null,null,null,null,null,null,null,null,null,null,null,null,null,null,null,null,null,null,null,null,null,null,null,null,null,null,null,null,null,null,null,null,null,null,null,null,null,null,null,null,null,null,null,null,null,null,null,null,null,null,null,null,null,null,null,null,null,null,null,null,null,null,null,null,null,null,null,null,null,null,null,null,null,null,null,null,null,null,null,null,null,null,null,null,null,null,null,null,null,null,null,null,null,null,null,null,null,null,null,null,null,null,null,null,null,null,null,null,null,null,null,null,null,null,null,null,null,null,"To Robert Schulz - In loving memory."]
[null,null,null,null,null,null,null,null,null,null,null,null,null,null,null,null,null,null,null,null,null,null,null,null,null,null,null,null,null,null,null,null,null,null,null,null,null,null,null,null,null,null,null,null,null,null,null,null,null,null,null,null,null,null,null,null,null,null,null,null,null,null,null,null,null,null,0,0]
[null,null,null,null,null,null,null,null,null,null,null,null,null,null,null,null,null,null,null,null,null,null,null,null,null,null,null,null,null,null,null,null,null,null,null,null,null,null,null,null,null,null,null,null,null,null,null,null,null,null,null,null,null,null,null,null,null,null,null,null,null,null,null,null,null,null,0,0,{"$f":"IF(AU21=\"X\",1,0)","v":0}]
[null,null,null,null,null,null,null,null,null,null,null,null,null,null,null,null,null,null,null,null,null,null,null,null,null,null,null,null,null,null,null,null,null,null,null,null,null,null,null,null,null,null,null,null,null,null,null,null,null,null,null,null,null,null,null,null,null,null,null,null,null,null,null,null,null,null,0,0,{"$f":"IF(AU22=\"X\",1,0)","v":0}]
[null,null,null,null,null,null,null,null,null,null,null,null,null,null,null,null,null,null,null,null,null,null,null,null,null,null,null,null,null,null,null,null,null,null,null,null,null,null,null,null,null,null,null,null,null,null,null,null,null,null,null,null,null,null,null,null,null,null,null,null,null,null,null,null,null,null,0,0]
[null,null,null,null,null,null,null,null,null,null,null,null,null,null,null,null,null,null,null,null,null,null,null,null,null,null,null,null,null,null,null,null,null,null,null,null,null,null,null,null,null,null,null,null,null,null,null,null,null,null,null,null,null,null,null,null,null,null,null,null,null,null,null,null,null,null,0,0,{"$f":"IF(AU24=\"X\",1,0)","v":0}]
[null,null,null,null,null,null,null,null,null,null,null,null,null,null,null,null,null,null,null,null,null,null,null,null,null,null,null,null,null,null,null,null,null,null,null,null,null,null,null,null,null,null,null,null,null,null,null,null,null,null,null,null,null,null,null,null,null,null,null,null,null,null,null,null,null,null,0,0,{"$f":"IF(AU25=\"X\",1,0)","v":0}]
[null,null,null,null,null,null,null,null,null,null,null,null,null,null,null,null,null,null,null,null,null,null,null,null,null,null,null,null,null,null,null,null,null,null,null,null,null,null,null,null,null,null,null,null,null,null,null,null,null,null,null,null,null,null,null,null,null,null,null,null,null,null,null,null,null,null,0,0]
[null,null,null,null,null,null,null,null,null,null,null,null,null,null,null,null,null,null,null,null,null,null,null,null,null,null,null,null,null,null,null,null,null,null,null,null,null,null,null,null,null,null,null,null,null,null,null,null,null,null,null,null,null,null,null,null,null,null,null,null,null,null,null,null,null,null,0,0,{"$f":"IF(AU27=\"X\",1,0)","v":0}]
[null,null,null,null,null,null,null,null,null,null,null,null,null,null,null,null,null,null,null,null,null,null,null,null,null,null,null,null,null,null,null,null,null,null,null,null,null,null,null,null,null,null,null,null,null,null,null,null,null,null,null,null,null,null,null,null,null,null,null,null,null,null,null,null,null,null,0,0]
[null,null,null,null,null,null,null,null,null,null,null,null,null,null,null,null,null,null,null,null,null,null,null,null,null,null,null,null,null,null,null,null,null,null,null,null,null,null,null,null,null,null,null,null,null,null,null,null,null,null,null,null,null,null,null,null,null,null,null,null,null,null,null,null,null,null,0,0,{"$f":"IF(AU29=\"X\",1,0)","v":0}]
[null,null,null,null,null,null,null,null,null,null,null,null,null,null,null,null,null,null,null,null,null,null,null,null,null,null,null,null,null,null,null,null,null,null,null,null,null,null,null,null,null,null,null,null,null,null,null,null,null,null,null,null,null,null,null,null,null,null,null,null,null,null,null,null,null,null,0,0]
[null,null,null,null,null,null,null,null,null,null,null,null,null,null,null,null,null,null,null,null,null,null,null,null,null,null,null,null,null,null,null,null,null,null,null,null,null,null,null,null,null,null,null,null,null,null,null,null,null,null,null,null,null,null,null,null,null,null,null,null,null,null,null,null,null,null,0,0,{"$f":"SUM(BO42,BQ41:BQ55)","v":0}]
[null,null,null,null,null,null,null,null,null,null,null,null,null,null,null,null,null,null,null,null,null,null,null,null,null,null,null,null,null,null,null,null,null,null,null,null,null,null,null,null,null,null,null,null,null,null,null,null,null,null,null,null,null,null,null,null,null,null,null,null,null,null,null,null,null,null,0]
["ENG FORM 6116-2, JUL 2018",null,null,null,null,null,null,null,null,null,null,null,null,null,null,null,null,null,null,null,null,null,null,null,null,null,null,null,null,null,null,null,null,null,null,null,null,null,null,null,null,null,null,null,null,null,null,"Atlantic and Gulf Coastal Plain – Version 2.0",null,null,null,null,null,null,null,null,null,null,null,null,null,null,null,null,null,null,{"$f":"IF(OR(KK13=\"X\",'Page 1 (Hydrology)'!P29=\"X\"),1,0)","v":0},{"$f":"IF(W33=\"X\",1,0)","v":0},"The presence of a reduced matrix within 12” of the soil surface indicates that this soil is hydric based on the hydric soil definition: ”a soil that formed under conditions of saturation, flooding or ponding long enough during the growing season to develop anaerobic conditions in the upper part”."," "]
[null,null,null,null,null,null,null,null,null,null,null,null,null,null,null,null,null,null,null,null,null,null,null,null,null,null,null,null,null,null,null,null,null,null,null,null,null,null,null,null,null,null,null,null,null,null,null,null,null,null,null,null,null,null,null,null,null,null,null,null,null,null,null,null,null,null,"Master Soil List",null,null,null,null,"Redox Type"," ","Redox Location",null,"Texture List",null,"Redox",null,null,"Hue Differential",null,null,"Contrast Determination Table",null,null,null,"If both values <=3 and chromas <=2, contrast = Faint",null,null,null,null,"LRR/MLRA"]
[null,null,null,null,null,null,null,null,null,null,null,null,null,null,null,null,null,null,null,null,null,null,null,null,null,null,null,null,null,null,null,null,null,null,null,null,null,null,null,null,null,null,null,null,null,null,null,null,null,null,null,null,null,null,null,null,null,null,null,null,null,null,null,null,null,null,"Soil Color List","Depleted Matrix","Redox Concentrations","Gleyed Matrix",null,"C",null,"PL",null,"Loamy/Clayey",null,"Faint redox concentrations",null,null,"Color #",null,null,"Hue","Value","Chroma","Combo","Contrast",null,null,null,null,"LRR O"]
[null,null,null,null,null,null,null,null,null,null,null,null,null,null,null,null,null,null,null,null,null,null,null,null,null,null,null,null,null,null,null,null,null,null,null,null,null,null,null,null,null,null,null,null,null,null,null,null,null,null,null,null,null,null,null,null,null,null,null,null,null,null,null,null,null,null,"5R 8/1",true,true,false,null,"D",null,"M",null,"Sandy",null,"Distinct redox concentrations",null,null,"5R",1,null,0,0,0,{"$f":"TEXT(CF62,\"0\")&\"-\"&TEXT(CG62,\"0.0\")&\"-\"&TEXT(CH62,\"0\")","v":"0-0.0-0"},{"$f":"$BZ$61","v":"Faint redox concentrations"},null,null,null,null,"LRR O, MLRA 131A"]
[null,null,null,null,null,null,null,null,null,null,null,null,null,null,null,null,null,null,null,null,null,null,null,null,null,null,null,null,null,null,null,null,null,null,null,null,null,null,null,null,null,null,null,null,null,null,null,null,null,null,null,null,null,null,null,null,null,null,null,null,null,null,null,null,null,null,"5R 7/1",true,true,false,null,"RM",null,"PL/M",null,"Mucky Loam/Clay",null,"Prominent redox concentrations",null,null,"7.5R",2,null,0,0,1,"0-0.0-1",{"$f":"$BZ$61","v":"Faint redox concentrations"},null,null,null,null,"LRR O, MLRA 131B"]
[null,null,null,null,null,null,null,null,null,null,null,null,null,null,null,null,null,null,null,null,null,null,null,null,null,null,null,null,null,null,null,null,null,null,null,null,null,null,null,null,null,null,null,null,null,null,null,null,null,null,null,null,null,null,null,null,null,null,null,null,null,null,null,null,null,null,"5R 6/1",true,true,false,null,"MS",null,null,null,"Mucky Sand",null,null,null,null,"10R",3,null,0,0,2,"0-0.0-2",{"$f":"$BZ$62","v":"Distinct redox concentrations"},null,null,null,null,"LRR O, MLRA 131C"]
[null,null,null,null,null,null,null,null,null,null,null,null,null,null,null,null,null,null,null,null,null,null,null,null,null,null,null,null,null,null,null,null,null,null,null,null,null,null,null,null,null,null,null,null,null,null,null,null,null,null,null,null,null,null,null,null,null,null,null,null,null,null,null,null,null,null,"5R 5/1",true,true,false,null,null,null,null,null,"Muck",null,null,null,null,"2.5YR",4,null,0,0,3,"0-0.0-3",{"$f":"$BZ$62","v":"Distinct redox concentrations"},null,null,null,null,"LRR O, MLRA 131D"]
[null,null,null,null,null,null,null,null,null,null,null,null,null,null,null,null,null,null,null,null,null,null,null,null,null,null,null,null,null,null,null,null,null,null,null,null,null,null,null,null,null,null,null,null,null,null,null,null,null,null,null,null,null,null,null,null,null,null,null,null,null,null,null,null,null,null,"5R 4/1",false,true,false,null,null,null,null,null,"Mucky Peat",null,null,null,null,"5YR",5,null,0,0,4,"0-0.0-4",{"$f":"$BZ$63","v":"Prominent redox concentrations"},null,null,null,null,"LRR P"]
[null,null,null,null,null,null,null,null,null,null,null,null,null,null,null,null,null,null,null,null,null,null,null,null,null,null,null,null,null,null,null,null,null,null,null,null,null,null,null,null,null,null,null,null,null,null,null,null,null,null,null,null,null,null,null,null,null,null,null,null,null,null,null,null,null,null,"5R 3/1",false,false,false,null,null,null,null,null,"Peat",null,null,null,null,"7.5YR",6,null,0,0,5,"0-0.0-5",{"$f":"$BZ$63","v":"Prominent redox concentrations"},null,null,null,null,"LRR P, MLRA 133A"]
[null,null,null,null,null,null,null,null,null,null,null,null,null,null,null,null,null,null,null,null,null,null,null,null,null,null,null,null,null,null,null,null,null,null,null,null,null,null,null,null,null,null,null,null,null,null,null,null,null,null,null,null,null,null,null,null,null,null,null,null,null,null,null,null,null,null,"5R 2.5/1",false,false,false,null,null,null,null,null,null,null,null,null,null,"10YR",7,null,0,0,6,"0-0.0-6",{"$f":"$BZ$63","v":"Prominent redox concentrations"},null,null,null,null,"LRR P, MLRA 133B"]
[null,null,null,null,null,null,null,null,null,null,null,null,null,null,null,null,null,null,null,null,null,null,null,null,null,null,null,null,null,null,null,null,null,null,null,null,null,null,null,null,null,null,null,null,null,null,null,null,null,null,null,null,null,null,null,null,null,null,null,null,null,null,null,null,null,null,"5R 8/2",true,true,false,null,null,null,null,null,null,null,null,null,null,"2.5Y",8,null,0,0,7,"0-0.0-7",{"$f":"$BZ$63","v":"Prominent redox concentrations"},null,null,null,null,"LRR P, MLRA 134"]
[null,null,null,null,null,null,null,null,null,null,null,null,null,null,null,null,null,null,null,null,null,null,null,null,null,null,null,null,null,null,null,null,null,null,null,null,null,null,null,null,null,null,null,null,null,null,null,null,null,null,null,null,null,null,null,null,null,null,null,null,null,null,null,null,null,null,"5R 7/2",true,true,false,null,null,null,null,null,null,null,null,null,null,"5Y",9,null,0,0.5,0,"0-0.5-0",{"$f":"$BZ$61","v":"Faint redox concentrations"},null,null,null,null,"LRR P, MLRA 135A"]
[null,null,null,null,null,null,null,null,null,null,null,null,null,null,null,null,null,null,null,null,null,null,null,null,null,null,null,null,null,null,null,null,null,null,null,null,null,null,null,null,null,null,null,null,null,null,null,null,null,null,null,null,null,null,null,null,null,null,null,null,null,null,null,null,null,null,"5R 6/2",true,true,false,null,null,null,null,null,null,null,null,null,null,"N",null,null,0,0.5,1,"0-0.5-1",{"$f":"$BZ$61","v":"Faint redox concentrations"},null,null,null,null,"LRR P, MLRA 135B"]
[null,null,null,null,null,null,null,null,null,null,null,null,null,null,null,null,null,null,null,null,null,null,null,null,null,null,null,null,null,null,null,null,null,null,null,null,null,null,null,null,null,null,null,null,null,null,null,null,null,null,null,null,null,null,null,null,null,null,null,null,null,null,null,null,null,null,"5R 5/2",false,true,false,null,null,null,null,null,null,null,null,null,null,"10Y",11,null,0,0.5,2,"0-0.5-2",{"$f":"$BZ$62","v":"Distinct redox concentrations"},null,null,null,null,"LRR P, MLRA 137"]
[null,null,null,null,null,null,null,null,null,null,null,null,null,null,null,null,null,null,null,null,null,null,null,null,null,null,null,null,null,null,null,null,null,null,null,null,null,null,null,null,null,null,null,null,null,null,null,null,null,null,null,null,null,null,null,null,null,null,null,null,null,null,null,null,null,null,"5R 4/2",false,true,false,null,null,null,null,null,null,null,null,null,null,"5GY",13,null,0,0.5,3,"0-0.5-3",{"$f":"$BZ$62","v":"Distinct redox concentrations"},null,null,null,null,"LRR P, MLRA 138"]
[null,null,null,null,null,null,null,null,null,null,null,null,null,null,null,null,null,null,null,null,null,null,null,null,null,null,null,null,null,null,null,null,null,null,null,null,null,null,null,null,null,null,null,null,null,null,null,null,null,null,null,null,null,null,null,null,null,null,null,null,null,null,null,null,null,null,"5R 3/2",false,false,false,null,null,null,null,null,null,null,null,null,null,"10GY",15,null,0,0.5,4,"0-0.5-4",{"$f":"$BZ$63","v":"Prominent redox concentrations"},null,null,null,null,"LRR S, MLRA 149A"]
[null,null,null,null,null,null,null,null,null,null,null,null,null,null,null,null,null,null,null,null,null,null,null,null,null,null,null,null,null,null,null,null,null,null,null,null,null,null,null,null,null,null,null,null,null,null,null,null,null,null,null,null,null,null,null,null,null,null,null,null,null,null,null,null,null,null,"5R 2.5/2",false,false,false,null,null,null,null,null,null,null,null,null,null,"5G",17,null,0,0.5,5,"0-0.5-5",{"$f":"$BZ$63","v":"Prominent redox concentrations"},null,null,null,null,"LRR T"]
[null,null,null,null,null,null,null,null,null,null,null,null,null,null,null,null,null,null,null,null,null,null,null,null,null,null,null,null,null,null,null,null,null,null,null,null,null,null,null,null,null,null,null,null,null,null,null,null,null,null,null,null,null,null,null,null,null,null,null,null,null,null,null,null,null,null,"5R 8/3",false,false,false,null,null,null,null,null,null,null,null,null,null,"10G",19,null,0,0.5,6,"0-0.5-6",{"$f":"$BZ$63","v":"Prominent redox concentrations"},null,null,null,null,"LRR T, MLRA 150A"]
[null,null,null,null,null,null,null,null,null,null,null,null,null,null,null,null,null,null,null,null,null,null,null,null,null,null,null,null,null,null,null,null,null,null,null,null,null,null,null,null,null,null,null,null,null,null,null,null,null,null,null,null,null,null,null,null,null,null,null,null,null,null,null,null,null,null,"5R 7/3",false,false,false,null,null,null,null,null,null,null,null,null,null,"5BG",21,null,0,0.5,7,"0-0.5-7",{"$f":"$BZ$63","v":"Prominent redox concentrations"},null,null,null,null,"LRR T, MLRA 150B"]
[null,null,null,null,null,null,null,null,null,null,null,null,null,null,null,null,null,null,null,null,null,null,null,null,null,null,null,null,null,null,null,null,null,null,null,null,null,null,null,null,null,null,null,null,null,null,null,null,null,null,null,null,null,null,null,null,null,null,null,null,null,null,null,null,null,null,"5R 6/3",false,false,false,null,null,null,null,null,null,null,null,null,null,"10BG",23,null,0,1,0,"0-1.0-0",{"$f":"$BZ$61","v":"Faint redox concentrations"},null,null,null,null,"LRR T, MLRA 151"]
[null,null,null,null,null,null,null,null,null,null,null,null,null,null,null,null,null,null,null,null,null,null,null,null,null,null,null,null,null,null,null,null,null,null,null,null,null,null,null,null,null,null,null,null,null,null,null,null,null,null,null,null,null,null,null,null,null,null,null,null,null,null,null,null,null,null,"5R 5/3",false,false,false,null,null,null,null,null,null,null,null,null,null,"5B",25,null,0,1,1,"0-1.0-1",{"$f":"$BZ$61","v":"Faint redox concentrations"},null,null,null,null,"LRR T, MLRA 152A"]
[null,null,null,null,null,null,null,null,null,null,null,null,null,null,null,null,null,null,null,null,null,null,null,null,null,null,null,null,null,null,null,null,null,null,null,null,null,null,null,null,null,null,null,null,null,null,null,null,null,null,null,null,null,null,null,null,null,null,null,null,null,null,null,null,null,null,"5R 4/3",false,false,false,null,null,null,null,null,null,null,null,null,null,"10B",27,null,0,1,2,"0-1.0-2",{"$f":"$BZ$62","v":"Distinct redox concentrations"},null,null,null,null,"LRR T, MLRA 152B"]
[null,null,null,null,null,null,null,null,null,null,null,null,null,null,null,null,null,null,null,null,null,null,null,null,null,null,null,null,null,null,null,null,null,null,null,null,null,null,null,null,null,null,null,null,null,null,null,null,null,null,null,null,null,null,null,null,null,null,null,null,null,null,null,null,null,null,"5R 3/3",false,false,false,null,null,null,null,null,null,null,null,null,null,"5PB",29,null,0,1,3,"0-1.0-3",{"$f":"$BZ$62","v":"Distinct redox concentrations"},null,null,null,null,"LRR T, MLRA 153A"]
[null,null,null,null,null,null,null,null,null,null,null,null,null,null,null,null,null,null,null,null,null,null,null,null,null,null,null,null,null,null,null,null,null,null,null,null,null,null,null,null,null,null,null,null,null,null,null,null,null,null,null,null,null,null,null,null,null,null,null,null,null,null,null,null,null,null,"5R 2.5/3",false,false,false,null,null,null,null,null,null,null,null,null,null,null,null,null,0,1,4,"0-1.0-4",{"$f":"$BZ$63","v":"Prominent redox concentrations"},null,null,null,null,"LRR T, MLRA 153B"]
[null,null,null,null,null,null,null,null,null,null,null,null,null,null,null,null,null,null,null,null,null,null,null,null,null,null,null,null,null,null,null,null,null,null,null,null,null,null,null,null,null,null,null,null,null,null,null,null,null,null,null,null,null,null,null,null,null,null,null,null,null,null,null,null,null,null,"5R 8/4",false,false,false,null,null,null,null,null,null,null,null,null,null,null,null,null,0,1,5,"0-1.0-5",{"$f":"$BZ$63","v":"Prominent redox concentrations"},null,null,null,null,"LRR T, MLRA 153C"]
[null,null,null,null,null,null,null,null,null,null,null,null,null,null,null,null,null,null,null,null,null,null,null,null,null,null,null,null,null,null,null,null,null,null,null,null,null,null,null,null,null,null,null,null,null,null,null,null,null,null,null,null,null,null,null,null,null,null,null,null,null,null,null,null,null,null,"5R 7/4",false,false,false,null,null,null,null,null,null,null,null,null,null,null,null,null,0,1,6,"0-1.0-6",{"$f":"$BZ$63","v":"Prominent redox concentrations"},null,null,null,null,"LRR T, MLRA 153D"]
[null,null,null,null,null,null,null,null,null,null,null,null,null,null,null,null,null,null,null,null,null,null,null,null,null,null,null,null,null,null,null,null,null,null,null,null,null,null,null,null,null,null,null,null,null,null,null,null,null,null,null,null,null,null,null,null,null,null,null,null,null,null,null,null,null,null,"5R 6/4",false,false,false,null,null,null,null,null,null,null,null,null,null,null,null,null,0,1,7,"0-1.0-7",{"$f":"$BZ$63","v":"Prominent redox concentrations"},null,null,null,null,"LRR U"]
[null,null,null,null,null,null,null,null,null,null,null,null,null,null,null,null,null,null,null,null,null,null,null,null,null,null,null,null,null,null,null,null,null,null,null,null,null,null,null,null,null,null,null,null,null,null,null,null,null,null,null,null,null,null,null,null,null,null,null,null,null,null,null,null,null,null,"5R 5/4",false,false,false,null,null,null,null,null,null,null,null,null,null,null,null,null,0,1.5,0,"0-1.5-0",{"$f":"$BZ$61","v":"Faint redox concentrations"},null,null,null,null,"LRR U, MLRA 154"]
[null,null,null,null,null,null,null,null,null,null,null,null,null,null,null,null,null,null,null,null,null,null,null,null,null,null,null,null,null,null,null,null,null,null,null,null,null,null,null,null,null,null,null,null,null,null,null,null,null,null,null,null,null,null,null,null,null,null,null,null,null,null,null,null,null,null,"5R 4/4",false,false,false,null,null,null,null,null,null,null,null,null,null,null,null,null,0,1.5,1,"0-1.5-1",{"$f":"$BZ$61","v":"Faint redox concentrations"},null,null,null,null,"LRR U, MLRA 155"]
[null,null,null,null,null,null,null,null,null,null,null,null,null,null,null,null,null,null,null,null,null,null,null,null,null,null,null,null,null,null,null,null,null,null,null,null,null,null,null,null,null,null,null,null,null,null,null,null,null,null,null,null,null,null,null,null,null,null,null,null,null,null,null,null,null,null,"5R 3/4",false,false,false,null,null,null,null,null,null,null,null,null,null,null,null,null,0,1.5,2,"0-1.5-2",{"$f":"$BZ$62","v":"Distinct redox concentrations"},null,null,null,null,"LRR U, MLRA 156A"]
[null,null,null,null,null,null,null,null,null,null,null,null,null,null,null,null,null,null,null,null,null,null,null,null,null,null,null,null,null,null,null,null,null,null,null,null,null,null,null,null,null,null,null,null,null,null,null,null,null,null,null,null,null,null,null,null,null,null,null,null,null,null,null,null,null,null,"5R 2.5/4",false,false,false,null,null,null,null,null,null,null,null,null,null,null,null,null,0,1.5,3,"0-1.5-3",{"$f":"$BZ$62","v":"Distinct redox concentrations"},null,null,null,null,"LRR U, MLRA 156B"]
[null,null,null,null,null,null,null,null,null,null,null,null,null,null,null,null,null,null,null,null,null,null,null,null,null,null,null,null,null,null,null,null,null,null,null,null,null,null,null,null,null,null,null,null,null,null,null,null,null,null,null,null,null,null,null,null,null,null,null,null,null,null,null,null,null,null,"5R 7/6",false,false,false,null,null,null,null,null,null,null,null,null,null,null,null,null,0,1.5,4,"0-1.5-4",{"$f":"$BZ$63","v":"Prominent redox concentrations"}]
[null,null,null,null,null,null,null,null,null,null,null,null,null,null,null,null,null,null,null,null,null,null,null,null,null,null,null,null,null,null,null,null,null,null,null,null,null,null,null,null,null,null,null,null,null,null,null,null,null,null,null,null,null,null,null,null,null,null,null,null,null,null,null,null,null,null,"5R 6/6",false,false,false,null,null,null,null,null,null,null,null,null,null,null,null,null,0,1.5,5,"0-1.5-5",{"$f":"$BZ$63","v":"Prominent redox concentrations"},null,null,null,null,"LRR P"]
[null,null,null,null,null,null,null,null,null,null,null,null,null,null,null,null,null,null,null,null,null,null,null,null,null,null,null,null,null,null,null,null,null,null,null,null,null,null,null,null,null,null,null,null,null,null,null,null,null,null,null,null,null,null,null,null,null,null,null,null,null,null,null,null,null,null,"5R 5/6",false,false,false,null,null,null,null,null,null,null,null,null,null,null,null,null,0,1.5,6,"0-1.5-6",{"$f":"$BZ$63","v":"Prominent redox concentrations"},null,null,null,null,"LRR P, MLRA 133A"]
[null,null,null,null,null,null,null,null,null,null,null,null,null,null,null,null,null,null,null,null,null,null,null,null,null,null,null,null,null,null,null,null,null,null,null,null,null,null,null,null,null,null,null,null,null,null,null,null,null,null,null,null,null,null,null,null,null,null,null,null,null,null,null,null,null,null,"5R 4/6",false,false,false,null,null,null,null,null,null,null,null,null,null,null,null,null,0,1.5,7,"0-1.5-7",{"$f":"$BZ$63","v":"Prominent redox concentrations"},null,null,null,null,"LRR P, MLRA 133B"]
[null,null,null,null,null,null,null,null,null,null,null,null,null,null,null,null,null,null,null,null,null,null,null,null,null,null,null,null,null,null,null,null,null,null,null,null,null,null,null,null,null,null,null,null,null,null,null,null,null,null,null,null,null,null,null,null,null,null,null,null,null,null,null,null,null,null,"5R 3/6",false,false,false,null,null,null,null,null,null,null,null,null,null,null,null,null,0,2,0,"0-2.0-0",{"$f":"$BZ$61","v":"Faint redox concentrations"},null,null,null,null,"LRR P, MLRA 134"]
[null,null,null,null,null,null,null,null,null,null,null,null,null,null,null,null,null,null,null,null,null,null,null,null,null,null,null,null,null,null,null,null,null,null,null,null,null,null,null,null,null,null,null,null,null,null,null,null,null,null,null,null,null,null,null,null,null,null,null,null,null,null,null,null,null,null,"5R 2.5/6",false,false,false,null,null,null,null,null,null,null,null,null,null,null,null,null,0,2,1,"0-2.0-1",{"$f":"$BZ$61","v":"Faint redox concentrations"},null,null,null,null,"LRR P, MLRA 135A"]
[null,null,null,null,null,null,null,null,null,null,null,null,null,null,null,null,null,null,null,null,null,null,null,null,null,null,null,null,null,null,null,null,null,null,null,null,null,null,null,null,null,null,null,null,null,null,null,null,null,null,null,null,null,null,null,null,null,null,null,null,null,null,null,null,null,null,"5R 7/8",false,false,false,null,null,null,null,null,null,null,null,null,null,null,null,null,0,2,2,"0-2.0-2",{"$f":"$BZ$62","v":"Distinct redox concentrations"},null,null,null,null,"LRR P, MLRA 135B"]
[null,null,null,null,null,null,null,null,null,null,null,null,null,null,null,null,null,null,null,null,null,null,null,null,null,null,null,null,null,null,null,null,null,null,null,null,null,null,null,null,null,null,null,null,null,null,null,null,null,null,null,null,null,null,null,null,null,null,null,null,null,null,null,null,null,null,"5R 6/8",false,false,false,null,null,null,null,null,null,null,null,null,null,null,null,null,0,2,3,"0-2.0-3",{"$f":"$BZ$62","v":"Distinct redox concentrations"},null,null,null,null,"LRR P, MLRA 137"]
[null,null,null,null,null,null,null,null,null,null,null,null,null,null,null,null,null,null,null,null,null,null,null,null,null,null,null,null,null,null,null,null,null,null,null,null,null,null,null,null,null,null,null,null,null,null,null,null,null,null,null,null,null,null,null,null,null,null,null,null,null,null,null,null,null,null,"5R 5/8",false,false,false,null,null,null,null,null,null,null,null,null,null,null,null,null,0,2,4,"0-2.0-4",{"$f":"$BZ$63","v":"Prominent redox concentrations"},null,null,null,null,"LRR P, MLRA 138"]
[null,null,null,null,null,null,null,null,null,null,null,null,null,null,null,null,null,null,null,null,null,null,null,null,null,null,null,null,null,null,null,null,null,null,null,null,null,null,null,null,null,null,null,null,null,null,null,null,null,null,null,null,null,null,null,null,null,null,null,null,null,null,null,null,null,null,"5R 4/8",false,false,false,null,null,null,null,null,null,null,null,null,null,null,null,null,0,2,5,"0-2.0-5",{"$f":"$BZ$63","v":"Prominent redox concentrations"},null,null,null,null,"LRR T"]
[null,null,null,null,null,null,null,null,null,null,null,null,null,null,null,null,null,null,null,null,null,null,null,null,null,null,null,null,null,null,null,null,null,null,null,null,null,null,null,null,null,null,null,null,null,null,null,null,null,null,null,null,null,null,null,null,null,null,null,null,null,null,null,null,null,null,"5R 3/8",false,false,false,null,null,null,null,null,null,null,null,null,null,null,null,null,0,2,6,"0-2.0-6",{"$f":"$BZ$63","v":"Prominent redox concentrations"},null,null,null,null,"LRR T, MLRA 150A"]
[null,null,null,null,null,null,null,null,null,null,null,null,null,null,null,null,null,null,null,null,null,null,null,null,null,null,null,null,null,null,null,null,null,null,null,null,null,null,null,null,null,null,null,null,null,null,null,null,null,null,null,null,null,null,null,null,null,null,null,null,null,null,null,null,null,null,"7.5R 8/1",true,true,false,null,null,null,null,null,null,null,null,null,null,null,null,null,0,2,7,"0-2.0-7",{"$f":"$BZ$63","v":"Prominent redox concentrations"},null,null,null,null,"LRR T, MLRA 150B"]
[null,null,null,null,null,null,null,null,null,null,null,null,null,null,null,null,null,null,null,null,null,null,null,null,null,null,null,null,null,null,null,null,null,null,null,null,null,null,null,null,null,null,null,null,null,null,null,null,null,null,null,null,null,null,null,null,null,null,null,null,null,null,null,null,null,null,"7.5R 7/1",true,true,false,null,null,null,null,null,null,null,null,null,null,null,null,null,0,2.5,0,"0-2.5-0",{"$f":"$BZ$62","v":"Distinct redox concentrations"},null,null,null,null,"LRR T, MLRA 151"]
[null,null,null,null,null,null,null,null,null,null,null,null,null,null,null,null,null,null,null,null,null,null,null,null,null,null,null,null,null,null,null,null,null,null,null,null,null,null,null,null,null,null,null,null,null,null,null,null,null,null,null,null,null,null,null,null,null,null,null,null,null,null,null,null,null,null,"7.5R 6/1",true,true,false,null,null,null,null,null,null,null,null,null,null,null,null,null,0,2.5,1,"0-2.5-1",{"$f":"$BZ$62","v":"Distinct redox concentrations"},null,null,null,null,"LRR T, MLRA 152A"]
[null,null,null,null,null,null,null,null,null,null,null,null,null,null,null,null,null,null,null,null,null,null,null,null,null,null,null,null,null,null,null,null,null,null,null,null,null,null,null,null,null,null,null,null,null,null,null,null,null,null,null,null,null,null,null,null,null,null,null,null,null,null,null,null,null,null,"7.5R 5/1",true,true,false,null,null,null,null,null,null,null,null,null,null,null,null,null,0,2.5,2,"0-2.5-2",{"$f":"$BZ$62","v":"Distinct redox concentrations"},null,null,null,null,"LRR T, MLRA 152B"]
[null,null,null,null,null,null,null,null,null,null,null,null,null,null,null,null,null,null,null,null,null,null,null,null,null,null,null,null,null,null,null,null,null,null,null,null,null,null,null,null,null,null,null,null,null,null,null,null,null,null,null,null,null,null,null,null,null,null,null,null,null,null,null,null,null,null,"7.5R 4/1",false,true,false,null,null,null,null,null,null,null,null,null,null,null,null,null,0,2.5,3,"0-2.5-3",{"$f":"$BZ$62","v":"Distinct redox concentrations"},null,null,null,null,"LRR T, MLRA 153A"]
[null,null,null,null,null,null,null,null,null,null,null,null,null,null,null,null,null,null,null,null,null,null,null,null,null,null,null,null,null,null,null,null,null,null,null,null,null,null,null,null,null,null,null,null,null,null,null,null,null,null,null,null,null,null,null,null,null,null,null,null,null,null,null,null,null,null,"7.5R 3/1",false,false,false,null,null,null,null,null,null,null,null,null,null,null,null,null,0,2.5,4,"0-2.5-4",{"$f":"$BZ$63","v":"Prominent redox concentrations"},null,null,null,null,"LRR T, MLRA 153B"]
[null,null,null,null,null,null,null,null,null,null,null,null,null,null,null,null,null,null,null,null,null,null,null,null,null,null,null,null,null,null,null,null,null,null,null,null,null,null,null,null,null,null,null,null,null,null,null,null,null,null,null,null,null,null,null,null,null,null,null,null,null,null,null,null,null,null,"7.5R 2.5/1",false,false,false,null,null,null,null,null,null,null,null,null,null,null,null,null,0,2.5,5,"0-2.5-5",{"$f":"$BZ$63","v":"Prominent redox concentrations"},null,null,null,null,"LRR T, MLRA 153C"]
[null,null,null,null,null,null,null,null,null,null,null,null,null,null,null,null,null,null,null,null,null,null,null,null,null,null,null,null,null,null,null,null,null,null,null,null,null,null,null,null,null,null,null,null,null,null,null,null,null,null,null,null,null,null,null,null,null,null,null,null,null,null,null,null,null,null,"7.5R 8/2",true,true,false,null,null,null,null,null,null,null,null,null,null,null,null,null,0,2.5,6,"0-2.5-6",{"$f":"$BZ$63","v":"Prominent redox concentrations"},null,null,null,null,"LRR T, MLRA 153D"]
[null,null,null,null,null,null,null,null,null,null,null,null,null,null,null,null,null,null,null,null,null,null,null,null,null,null,null,null,null,null,null,null,null,null,null,null,null,null,null,null,null,null,null,null,null,null,null,null,null,null,null,null,null,null,null,null,null,null,null,null,null,null,null,null,null,null,"7.5R 7/2",true,true,false,null,null,null,null,null,null,null,null,null,null,null,null,null,0,2.5,7,"0-2.5-7",{"$f":"$BZ$63","v":"Prominent redox concentrations"},null,null,null,null,"LRR U"]
[null,null,null,null,null,null,null,null,null,null,null,null,null,null,null,null,null,null,null,null,null,null,null,null,null,null,null,null,null,null,null,null,null,null,null,null,null,null,null,null,null,null,null,null,null,null,null,null,null,null,null,null,null,null,null,null,null,null,null,null,null,null,null,null,null,null,"7.5R 6/2",true,true,false,null,null,null,null,null,null,null,null,null,null,null,null,null,0,3,0,"0-3.0-0",{"$f":"$BZ$62","v":"Distinct redox concentrations"},null,null,null,null,"LRR U, MLRA 154"]
[null,null,null,null,null,null,null,null,null,null,null,null,null,null,null,null,null,null,null,null,null,null,null,null,null,null,null,null,null,null,null,null,null,null,null,null,null,null,null,null,null,null,null,null,null,null,null,null,null,null,null,null,null,null,null,null,null,null,null,null,null,null,null,null,null,null,"7.5R 5/2",false,true,false,null,null,null,null,null,null,null,null,null,null,null,null,null,0,3,1,"0-3.0-1",{"$f":"$BZ$62","v":"Distinct redox concentrations"},null,null,null,null,"LRR U, MLRA 155"]
[null,null,null,null,null,null,null,null,null,null,null,null,null,null,null,null,null,null,null,null,null,null,null,null,null,null,null,null,null,null,null,null,null,null,null,null,null,null,null,null,null,null,null,null,null,null,null,null,null,null,null,null,null,null,null,null,null,null,null,null,null,null,null,null,null,null,"7.5R 4/2",false,true,false,null,null,null,null,null,null,null,null,null,null,null,null,null,0,3,2,"0-3.0-2",{"$f":"$BZ$62","v":"Distinct redox concentrations"},null,null,null,null,"LRR U, MLRA 156A"]
[null,null,null,null,null,null,null,null,null,null,null,null,null,null,null,null,null,null,null,null,null,null,null,null,null,null,null,null,null,null,null,null,null,null,null,null,null,null,null,null,null,null,null,null,null,null,null,null,null,null,null,null,null,null,null,null,null,null,null,null,null,null,null,null,null,null,"7.5R 3/2",false,false,false,null,null,null,null,null,null,null,null,null,null,null,null,null,0,3,3,"0-3.0-3",{"$f":"$BZ$62","v":"Distinct redox concentrations"},null,null,null,null,"LRR U, MLRA 156B"]
[null,null,null,null,null,null,null,null,null,null,null,null,null,null,null,null,null,null,null,null,null,null,null,null,null,null,null,null,null,null,null,null,null,null,null,null,null,null,null,null,null,null,null,null,null,null,null,null,null,null,null,null,null,null,null,null,null,null,null,null,null,null,null,null,null,null,"7.5R 2.5/2",false,false,false,null,null,null,null,null,null,null,null,null,null,null,null,null,0,3,4,"0-3.0-4",{"$f":"$BZ$63","v":"Prominent redox concentrations"}]
[null,null,null,null,null,null,null,null,null,null,null,null,null,null,null,null,null,null,null,null,null,null,null,null,null,null,null,null,null,null,null,null,null,null,null,null,null,null,null,null,null,null,null,null,null,null,null,null,null,null,null,null,null,null,null,null,null,null,null,null,null,null,null,null,null,null,"7.5R 8/3",false,false,false,null,null,null,null,null,null,null,null,null,null,null,null,null,0,3,5,"0-3.0-5",{"$f":"$BZ$63","v":"Prominent redox concentrations"},null,null,null,null,"LRR O"]
[null,null,null,null,null,null,null,null,null,null,null,null,null,null,null,null,null,null,null,null,null,null,null,null,null,null,null,null,null,null,null,null,null,null,null,null,null,null,null,null,null,null,null,null,null,null,null,null,null,null,null,null,null,null,null,null,null,null,null,null,null,null,null,null,null,null,"7.5R 7/3",false,false,false,null,null,null,null,null,null,null,null,null,null,null,null,null,0,3,6,"0-3.0-6",{"$f":"$BZ$63","v":"Prominent redox concentrations"},null,null,null,null,"LRR O, MLRA 131A"]
[null,null,null,null,null,null,null,null,null,null,null,null,null,null,null,null,null,null,null,null,null,null,null,null,null,null,null,null,null,null,null,null,null,null,null,null,null,null,null,null,null,null,null,null,null,null,null,null,null,null,null,null,null,null,null,null,null,null,null,null,null,null,null,null,null,null,"7.5R 6/3",false,false,false,null,null,null,null,null,null,null,null,null,null,null,null,null,0,3,7,"0-3.0-7",{"$f":"$BZ$63","v":"Prominent redox concentrations"},null,null,null,null,"LRR O, MLRA 131B"]
[null,null,null,null,null,null,null,null,null,null,null,null,null,null,null,null,null,null,null,null,null,null,null,null,null,null,null,null,null,null,null,null,null,null,null,null,null,null,null,null,null,null,null,null,null,null,null,null,null,null,null,null,null,null,null,null,null,null,null,null,null,null,null,null,null,null,"7.5R 5/3",false,false,false,null,null,null,null,null,null,null,null,null,null,null,null,null,0,3.5,0,"0-3.5-0",{"$f":"$BZ$62","v":"Distinct redox concentrations"},null,null,null,null,"LRR O, MLRA 131C"]
[null,null,null,null,null,null,null,null,null,null,null,null,null,null,null,null,null,null,null,null,null,null,null,null,null,null,null,null,null,null,null,null,null,null,null,null,null,null,null,null,null,null,null,null,null,null,null,null,null,null,null,null,null,null,null,null,null,null,null,null,null,null,null,null,null,null,"7.5R 4/3",false,false,false,null,null,null,null,null,null,null,null,null,null,null,null,null,0,3.5,1,"0-3.5-1",{"$f":"$BZ$62","v":"Distinct redox concentrations"},null,null,null,null,"LRR O, MLRA 131D"]
[null,null,null,null,null,null,null,null,null,null,null,null,null,null,null,null,null,null,null,null,null,null,null,null,null,null,null,null,null,null,null,null,null,null,null,null,null,null,null,null,null,null,null,null,null,null,null,null,null,null,null,null,null,null,null,null,null,null,null,null,null,null,null,null,null,null,"7.5R 3/3",false,false,false,null,null,null,null,null,null,null,null,null,null,null,null,null,0,3.5,2,"0-3.5-2",{"$f":"$BZ$62","v":"Distinct redox concentrations"},null,null,null,null,"LRR S, MLRA 149A"]
[null,null,null,null,null,null,null,null,null,null,null,null,null,null,null,null,null,null,null,null,null,null,null,null,null,null,null,null,null,null,null,null,null,null,null,null,null,null,null,null,null,null,null,null,null,null,null,null,null,null,null,null,null,null,null,null,null,null,null,null,null,null,null,null,null,null,"7.5R 2.5/3",false,false,false,null,null,null,null,null,null,null,null,null,null,null,null,null,0,3.5,3,"0-3.5-3",{"$f":"$BZ$62","v":"Distinct redox concentrations"}]
[null,null,null,null,null,null,null,null,null,null,null,null,null,null,null,null,null,null,null,null,null,null,null,null,null,null,null,null,null,null,null,null,null,null,null,null,null,null,null,null,null,null,null,null,null,null,null,null,null,null,null,null,null,null,null,null,null,null,null,null,null,null,null,null,null,null,"7.5R 8/4",false,false,false,null,null,null,null,null,null,null,null,null,null,null,null,null,0,3.5,4,"0-3.5-4",{"$f":"$BZ$63","v":"Prominent redox concentrations"},null,null,null,null,"LRR T, MLRA 153B"]
[null,null,null,null,null,null,null,null,null,null,null,null,null,null,null,null,null,null,null,null,null,null,null,null,null,null,null,null,null,null,null,null,null,null,null,null,null,null,null,null,null,null,null,null,null,null,null,null,null,null,null,null,null,null,null,null,null,null,null,null,null,null,null,null,null,null,"7.5R 7/4",false,false,false,null,null,null,null,null,null,null,null,null,null,null,null,null,0,3.5,5,"0-3.5-5","Prominent redox concentrations",null,null,null,null,"LRR T, MLRA 153D"]
[null,null,null,null,null,null,null,null,null,null,null,null,null,null,null,null,null,null,null,null,null,null,null,null,null,null,null,null,null,null,null,null,null,null,null,null,null,null,null,null,null,null,null,null,null,null,null,null,null,null,null,null,null,null,null,null,null,null,null,null,null,null,null,null,null,null,"7.5R 6/4",false,false,false,null,null,null,null,null,null,null,null,null,null,null,null,null,0,3.5,6,"0-3.5-6","Prominent redox concentrations"]
[null,null,null,null,null,null,null,null,null,null,null,null,null,null,null,null,null,null,null,null,null,null,null,null,null,null,null,null,null,null,null,null,null,null,null,null,null,null,null,null,null,null,null,null,null,null,null,null,null,null,null,null,null,null,null,null,null,null,null,null,null,null,null,null,null,null,"7.5R 5/4",false,false,false,null,null,null,null,null,null,null,null,null,null,null,null,null,0,3.5,7,"0-3.5-7","Prominent redox concentrations",null,null,null,null,"LRR O"]
[null,null,null,null,null,null,null,null,null,null,null,null,null,null,null,null,null,null,null,null,null,null,null,null,null,null,null,null,null,null,null,null,null,null,null,null,null,null,null,null,null,null,null,null,null,null,null,null,null,null,null,null,null,null,null,null,null,null,null,null,null,null,null,null,null,null,"7.5R 4/4",false,false,false,null,null,null,null,null,null,null,null,null,null,null,null,null,0,4,0,{"$f":"TEXT(CF126,\"0\")&\"-\"&TEXT(CG126,\"0.0\")&\"-\"&TEXT(CH126,\"0\")","v":"0-4.0-0"},"Prominent redox concentrations",null,null,null,null,"LRR O, MLRA 131A"]
[null,null,null,null,null,null,null,null,null,null,null,null,null,null,null,null,null,null,null,null,null,null,null,null,null,null,null,null,null,null,null,null,null,null,null,null,null,null,null,null,null,null,null,null,null,null,null,null,null,null,null,null,null,null,null,null,null,null,null,null,null,null,null,null,null,null,"7.5R 3/4",false,false,false,null,null,null,null,null,null,null,null,null,null,null,null,null,0,4,1,"0-4.0-1","Prominent redox concentrations",null,null,null,null,"LRR O, MLRA 131B"]
[null,null,null,null,null,null,null,null,null,null,null,null,null,null,null,null,null,null,null,null,null,null,null,null,null,null,null,null,null,null,null,null,null,null,null,null,null,null,null,null,null,null,null,null,null,null,null,null,null,null,null,null,null,null,null,null,null,null,null,null,null,null,null,null,null,null,"7.5R 2.5/4",false,false,false,null,null,null,null,null,null,null,null,null,null,null,null,null,0,4,2,"0-4.0-2","Prominent redox concentrations",null,null,null,null,"LRR O, MLRA 131C"]
[null,null,null,null,null,null,null,null,null,null,null,null,null,null,null,null,null,null,null,null,null,null,null,null,null,null,null,null,null,null,null,null,null,null,null,null,null,null,null,null,null,null,null,null,null,null,null,null,null,null,null,null,null,null,null,null,null,null,null,null,null,null,null,null,null,null,"7.5R 7/6",false,false,false,null,null,null,null,null,null,null,null,null,null,null,null,null,0,4,3,"0-4.0-3","Prominent redox concentrations",null,null,null,null,"LRR O, MLRA 131D"]
[null,null,null,null,null,null,null,null,null,null,null,null,null,null,null,null,null,null,null,null,null,null,null,null,null,null,null,null,null,null,null,null,null,null,null,null,null,null,null,null,null,null,null,null,null,null,null,null,null,null,null,null,null,null,null,null,null,null,null,null,null,null,null,null,null,null,"7.5R 6/6",false,false,false,null,null,null,null,null,null,null,null,null,null,null,null,null,0,4,4,"0-4.0-4","Prominent redox concentrations",null,null,null,null,"LRR P"]
[null,null,null,null,null,null,null,null,null,null,null,null,null,null,null,null,null,null,null,null,null,null,null,null,null,null,null,null,null,null,null,null,null,null,null,null,null,null,null,null,null,null,null,null,null,null,null,null,null,null,null,null,null,null,null,null,null,null,null,null,null,null,null,null,null,null,"7.5R 5/6",false,false,false,null,null,null,null,null,null,null,null,null,null,null,null,null,0,4,5,"0-4.0-5","Prominent redox concentrations",null,null,null,null,"LRR P, MLRA 133A"]
[null,null,null,null,null,null,null,null,null,null,null,null,null,null,null,null,null,null,null,null,null,null,null,null,null,null,null,null,null,null,null,null,null,null,null,null,null,null,null,null,null,null,null,null,null,null,null,null,null,null,null,null,null,null,null,null,null,null,null,null,null,null,null,null,null,null,"7.5R 4/6",false,false,false,null,null,null,null,null,null,null,null,null,null,null,null,null,0,4,6,"0-4.0-6","Prominent redox concentrations",null,null,null,null,"LRR P, MLRA 133B"]
[null,null,null,null,null,null,null,null,null,null,null,null,null,null,null,null,null,null,null,null,null,null,null,null,null,null,null,null,null,null,null,null,null,null,null,null,null,null,null,null,null,null,null,null,null,null,null,null,null,null,null,null,null,null,null,null,null,null,null,null,null,null,null,null,null,null,"7.5R 3/6",false,false,false,null,null,null,null,null,null,null,null,null,null,null,null,null,0,4,7,"0-4.0-7","Prominent redox concentrations",null,null,null,null,"LRR P, MLRA 134"]
[null,null,null,null,null,null,null,null,null,null,null,null,null,null,null,null,null,null,null,null,null,null,null,null,null,null,null,null,null,null,null,null,null,null,null,null,null,null,null,null,null,null,null,null,null,null,null,null,null,null,null,null,null,null,null,null,null,null,null,null,null,null,null,null,null,null,"7.5R 7/8",false,false,false,null,null,null,null,null,null,null,null,null,null,null,null,null,0,4.5,0,"0-4.5-0","Prominent redox concentrations",null,null,null,null,"LRR P, MLRA 135A"]
[null,null,null,null,null,null,null,null,null,null,null,null,null,null,null,null,null,null,null,null,null,null,null,null,null,null,null,null,null,null,null,null,null,null,null,null,null,null,null,null,null,null,null,null,null,null,null,null,null,null,null,null,null,null,null,null,null,null,null,null,null,null,null,null,null,null,"7.5R 6/8",false,false,false,null,null,null,null,null,null,null,null,null,null,null,null,null,0,4.5,1,"0-4.5-1","Prominent redox concentrations",null,null,null,null,"LRR P, MLRA 135B"]
[null,null,null,null,null,null,null,null,null,null,null,null,null,null,null,null,null,null,null,null,null,null,null,null,null,null,null,null,null,null,null,null,null,null,null,null,null,null,null,null,null,null,null,null,null,null,null,null,null,null,null,null,null,null,null,null,null,null,null,null,null,null,null,null,null,null,"7.5R 5/8",false,false,false,null,null,null,null,null,null,null,null,null,null,null,null,null,0,4.5,2,"0-4.5-2","Prominent redox concentrations",null,null,null,null,"LRR P, MLRA 137"]
[null,null,null,null,null,null,null,null,null,null,null,null,null,null,null,null,null,null,null,null,null,null,null,null,null,null,null,null,null,null,null,null,null,null,null,null,null,null,null,null,null,null,null,null,null,null,null,null,null,null,null,null,null,null,null,null,null,null,null,null,null,null,null,null,null,null,"7.5R 4/8",false,false,false,null,null,null,null,null,null,null,null,null,null,null,null,null,0,4.5,3,"0-4.5-3","Prominent redox concentrations",null,null,null,null,"LRR P, MLRA 138"]
[null,null,null,null,null,null,null,null,null,null,null,null,null,null,null,null,null,null,null,null,null,null,null,null,null,null,null,null,null,null,null,null,null,null,null,null,null,null,null,null,null,null,null,null,null,null,null,null,null,null,null,null,null,null,null,null,null,null,null,null,null,null,null,null,null,null,"7.5R 3/8",false,false,false,null,null,null,null,null,null,null,null,null,null,null,null,null,0,4.5,4,"0-4.5-4","Prominent redox concentrations",null,null,null,null,"LRR T"]
[null,null,null,null,null,null,null,null,null,null,null,null,null,null,null,null,null,null,null,null,null,null,null,null,null,null,null,null,null,null,null,null,null,null,null,null,null,null,null,null,null,null,null,null,null,null,null,null,null,null,null,null,null,null,null,null,null,null,null,null,null,null,null,null,null,null,"10R 8/1",true,true,false,null,null,null,null,null,null,null,null,null,null,null,null,null,0,4.5,5,"0-4.5-5","Prominent redox concentrations",null,null,null,null,"LRR T, MLRA 150A"]
[null,null,null,null,null,null,null,null,null,null,null,null,null,null,null,null,null,null,null,null,null,null,null,null,null,null,null,null,null,null,null,null,null,null,null,null,null,null,null,null,null,null,null,null,null,null,null,null,null,null,null,null,null,null,null,null,null,null,null,null,null,null,null,null,null,null,"10R 7/1",true,true,false,null,null,null,null,null,null,null,null,null,null,null,null,null,0,4.5,6,"0-4.5-6","Prominent redox concentrations",null,null,null,null,"LRR T, MLRA 150B"]
[null,null,null,null,null,null,null,null,null,null,null,null,null,null,null,null,null,null,null,null,null,null,null,null,null,null,null,null,null,null,null,null,null,null,null,null,null,null,null,null,null,null,null,null,null,null,null,null,null,null,null,null,null,null,null,null,null,null,null,null,null,null,null,null,null,null,"10R 6/1",true,true,false,null,null,null,null,null,null,null,null,null,null,null,null,null,0,4.5,7,"0-4.5-7","Prominent redox concentrations",null,null,null,null,"LRR T, MLRA 151"]
[null,null,null,null,null,null,null,null,null,null,null,null,null,null,null,null,null,null,null,null,null,null,null,null,null,null,null,null,null,null,null,null,null,null,null,null,null,null,null,null,null,null,null,null,null,null,null,null,null,null,null,null,null,null,null,null,null,null,null,null,null,null,null,null,null,null,"10R 5/1",true,true,false,null,null,null,null,null,null,null,null,null,null,null,null,null,0,5,0,"0-5.0-0","Prominent redox concentrations",null,null,null,null,"LRR T, MLRA 152A"]
[null,null,null,null,null,null,null,null,null,null,null,null,null,null,null,null,null,null,null,null,null,null,null,null,null,null,null,null,null,null,null,null,null,null,null,null,null,null,null,null,null,null,null,null,null,null,null,null,null,null,null,null,null,null,null,null,null,null,null,null,null,null,null,null,null,null,"10R 4/1",false,true,false,null,null,null,null,null,null,null,null,null,null,null,null,null,0,5,1,"0-5.0-1","Prominent redox concentrations",null,null,null,null,"LRR T, MLRA 152B"]
[null,null,null,null,null,null,null,null,null,null,null,null,null,null,null,null,null,null,null,null,null,null,null,null,null,null,null,null,null,null,null,null,null,null,null,null,null,null,null,null,null,null,null,null,null,null,null,null,null,null,null,null,null,null,null,null,null,null,null,null,null,null,null,null,null,null,"10R 3/1",false,false,false,null,null,null,null,null,null,null,null,null,null,null,null,null,0,5,2,"0-5.0-2","Prominent redox concentrations",null,null,null,null,"LRR T, MLRA 153A"]
[null,null,null,null,null,null,null,null,null,null,null,null,null,null,null,null,null,null,null,null,null,null,null,null,null,null,null,null,null,null,null,null,null,null,null,null,null,null,null,null,null,null,null,null,null,null,null,null,null,null,null,null,null,null,null,null,null,null,null,null,null,null,null,null,null,null,"10R 2.5/1",false,false,false,null,null,null,null,null,null,null,null,null,null,null,null,null,0,5,3,"0-5.0-3","Prominent redox concentrations",null,null,null,null,"LRR T, MLRA 153B"]
[null,null,null,null,null,null,null,null,null,null,null,null,null,null,null,null,null,null,null,null,null,null,null,null,null,null,null,null,null,null,null,null,null,null,null,null,null,null,null,null,null,null,null,null,null,null,null,null,null,null,null,null,null,null,null,null,null,null,null,null,null,null,null,null,null,null,"10R 8/2",true,true,false,null,null,null,null,null,null,null,null,null,null,null,null,null,0,5,4,"0-5.0-4","Prominent redox concentrations",null,null,null,null,"LRR T, MLRA 153C"]
[null,null,null,null,null,null,null,null,null,null,null,null,null,null,null,null,null,null,null,null,null,null,null,null,null,null,null,null,null,null,null,null,null,null,null,null,null,null,null,null,null,null,null,null,null,null,null,null,null,null,null,null,null,null,null,null,null,null,null,null,null,null,null,null,null,null,"10R 7/2",true,true,false,null,null,null,null,null,null,null,null,null,null,null,null,null,0,5,5,"0-5.0-5","Prominent redox concentrations",null,null,null,null,"LRR T, MLRA 153D"]
[null,null,null,null,null,null,null,null,null,null,null,null,null,null,null,null,null,null,null,null,null,null,null,null,null,null,null,null,null,null,null,null,null,null,null,null,null,null,null,null,null,null,null,null,null,null,null,null,null,null,null,null,null,null,null,null,null,null,null,null,null,null,null,null,null,null,"10R 6/2",true,true,false,null,null,null,null,null,null,null,null,null,null,null,null,null,0,5,6,"0-5.0-6","Prominent redox concentrations"]
[null,null,null,null,null,null,null,null,null,null,null,null,null,null,null,null,null,null,null,null,null,null,null,null,null,null,null,null,null,null,null,null,null,null,null,null,null,null,null,null,null,null,null,null,null,null,null,null,null,null,null,null,null,null,null,null,null,null,null,null,null,null,null,null,null,null,"10R 5/2",false,true,false,null,null,null,null,null,null,null,null,null,null,null,null,null,0,5,7,"0-5.0-7","Prominent redox concentrations",null,null,null,null,"LRR S, MLRA 149A"]
[null,null,null,null,null,null,null,null,null,null,null,null,null,null,null,null,null,null,null,null,null,null,null,null,null,null,null,null,null,null,null,null,null,null,null,null,null,null,null,null,null,null,null,null,null,null,null,null,null,null,null,null,null,null,null,null,null,null,null,null,null,null,null,null,null,null,"10R 4/2",false,true,false,null,null,null,null,null,null,null,null,null,null,null,null,null,0,5.5,0,"0-5.5-0","Prominent redox concentrations",null,null,null,null,"LRR T, MLRA 153C"]
[null,null,null,null,null,null,null,null,null,null,null,null,null,null,null,null,null,null,null,null,null,null,null,null,null,null,null,null,null,null,null,null,null,null,null,null,null,null,null,null,null,null,null,null,null,null,null,null,null,null,null,null,null,null,null,null,null,null,null,null,null,null,null,null,null,null,"10R 3/2",false,false,false,null,null,null,null,null,null,null,null,null,null,null,null,null,0,5.5,1,"0-5.5-1","Prominent redox concentrations",null,null,null,null,"LRR T, MLRA 153D"]
[null,null,null,null,null,null,null,null,null,null,null,null,null,null,null,null,null,null,null,null,null,null,null,null,null,null,null,null,null,null,null,null,null,null,null,null,null,null,null,null,null,null,null,null,null,null,null,null,null,null,null,null,null,null,null,null,null,null,null,null,null,null,null,null,null,null,"10R 2.5/2",false,false,false,null,null,null,null,null,null,null,null,null,null,null,null,null,0,5.5,2,"0-5.5-2","Prominent redox concentrations"]
[null,null,null,null,null,null,null,null,null,null,null,null,null,null,null,null,null,null,null,null,null,null,null,null,null,null,null,null,null,null,null,null,null,null,null,null,null,null,null,null,null,null,null,null,null,null,null,null,null,null,null,null,null,null,null,null,null,null,null,null,null,null,null,null,null,null,"10R 8/3",false,false,false,null,null,null,null,null,null,null,null,null,null,null,null,null,0,5.5,3,"0-5.5-3","Prominent redox concentrations",null,null,null,null,"LRR P"]
[null,null,null,null,null,null,null,null,null,null,null,null,null,null,null,null,null,null,null,null,null,null,null,null,null,null,null,null,null,null,null,null,null,null,null,null,null,null,null,null,null,null,null,null,null,null,null,null,null,null,null,null,null,null,null,null,null,null,null,null,null,null,null,null,null,null,"10R 7/3",false,false,false,null,null,null,null,null,null,null,null,null,null,null,null,null,0,5.5,4,"0-5.5-4","Prominent redox concentrations",null,null,null,null,"LRR P, MLRA 133A"]
[null,null,null,null,null,null,null,null,null,null,null,null,null,null,null,null,null,null,null,null,null,null,null,null,null,null,null,null,null,null,null,null,null,null,null,null,null,null,null,null,null,null,null,null,null,null,null,null,null,null,null,null,null,null,null,null,null,null,null,null,null,null,null,null,null,null,"10R 6/3",false,false,false,null,null,null,null,null,null,null,null,null,null,null,null,null,0,5.5,5,"0-5.5-5","Prominent redox concentrations",null,null,null,null,"LRR P, MLRA 133B"]
[null,null,null,null,null,null,null,null,null,null,null,null,null,null,null,null,null,null,null,null,null,null,null,null,null,null,null,null,null,null,null,null,null,null,null,null,null,null,null,null,null,null,null,null,null,null,null,null,null,null,null,null,null,null,null,null,null,null,null,null,null,null,null,null,null,null,"10R 5/3",false,false,false,null,null,null,null,null,null,null,null,null,null,null,null,null,0,5.5,6,"0-5.5-6","Prominent redox concentrations",null,null,null,null,"LRR P, MLRA 134"]
[null,null,null,null,null,null,null,null,null,null,null,null,null,null,null,null,null,null,null,null,null,null,null,null,null,null,null,null,null,null,null,null,null,null,null,null,null,null,null,null,null,null,null,null,null,null,null,null,null,null,null,null,null,null,null,null,null,null,null,null,null,null,null,null,null,null,"10R 4/3",false,false,false,null,null,null,null,null,null,null,null,null,null,null,null,null,0,5.5,7,"0-5.5-7","Prominent redox concentrations",null,null,null,null,"LRR P, MLRA 135A"]
[null,null,null,null,null,null,null,null,null,null,null,null,null,null,null,null,null,null,null,null,null,null,null,null,null,null,null,null,null,null,null,null,null,null,null,null,null,null,null,null,null,null,null,null,null,null,null,null,null,null,null,null,null,null,null,null,null,null,null,null,null,null,null,null,null,null,"10R 3/3",false,false,false,null,null,null,null,null,null,null,null,null,null,null,null,null,0,6,0,"0-6.0-0","Prominent redox concentrations",null,null,null,null,"LRR P, MLRA 135B"]
[null,null,null,null,null,null,null,null,null,null,null,null,null,null,null,null,null,null,null,null,null,null,null,null,null,null,null,null,null,null,null,null,null,null,null,null,null,null,null,null,null,null,null,null,null,null,null,null,null,null,null,null,null,null,null,null,null,null,null,null,null,null,null,null,null,null,"10R 8/4",false,false,false,null,null,null,null,null,null,null,null,null,null,null,null,null,0,6,1,"0-6.0-1","Prominent redox concentrations",null,null,null,null,"LRR P, MLRA 137"]
[null,null,null,null,null,null,null,null,null,null,null,null,null,null,null,null,null,null,null,null,null,null,null,null,null,null,null,null,null,null,null,null,null,null,null,null,null,null,null,null,null,null,null,null,null,null,null,null,null,null,null,null,null,null,null,null,null,null,null,null,null,null,null,null,null,null,"10R 7/4",false,false,false,null,null,null,null,null,null,null,null,null,null,null,null,null,0,6,2,"0-6.0-2","Prominent redox concentrations",null,null,null,null,"LRR P, MLRA 138"]
[null,null,null,null,null,null,null,null,null,null,null,null,null,null,null,null,null,null,null,null,null,null,null,null,null,null,null,null,null,null,null,null,null,null,null,null,null,null,null,null,null,null,null,null,null,null,null,null,null,null,null,null,null,null,null,null,null,null,null,null,null,null,null,null,null,null,"10R 6/4",false,false,false,null,null,null,null,null,null,null,null,null,null,null,null,null,0,6,3,"0-6.0-3","Prominent redox concentrations",null,null,null,null,"LRR T"]
[null,null,null,null,null,null,null,null,null,null,null,null,null,null,null,null,null,null,null,null,null,null,null,null,null,null,null,null,null,null,null,null,null,null,null,null,null,null,null,null,null,null,null,null,null,null,null,null,null,null,null,null,null,null,null,null,null,null,null,null,null,null,null,null,null,null,"10R 5/4",false,false,false,null,null,null,null,null,null,null,null,null,null,null,null,null,0,6,4,"0-6.0-4","Prominent redox concentrations",null,null,null,null,"LRR T, MLRA 150A"]
[null,null,null,null,null,null,null,null,null,null,null,null,null,null,null,null,null,null,null,null,null,null,null,null,null,null,null,null,null,null,null,null,null,null,null,null,null,null,null,null,null,null,null,null,null,null,null,null,null,null,null,null,null,null,null,null,null,null,null,null,null,null,null,null,null,null,"10R 4/4",false,false,false,null,null,null,null,null,null,null,null,null,null,null,null,null,0,6,5,"0-6.0-5","Prominent redox concentrations",null,null,null,null,"LRR T, MLRA 150B"]
[null,null,null,null,null,null,null,null,null,null,null,null,null,null,null,null,null,null,null,null,null,null,null,null,null,null,null,null,null,null,null,null,null,null,null,null,null,null,null,null,null,null,null,null,null,null,null,null,null,null,null,null,null,null,null,null,null,null,null,null,null,null,null,null,null,null,"10R 3/4",false,false,false,null,null,null,null,null,null,null,null,null,null,null,null,null,0,6,6,"0-6.0-6","Prominent redox concentrations",null,null,null,null,"LRR T, MLRA 151"]
[null,null,null,null,null,null,null,null,null,null,null,null,null,null,null,null,null,null,null,null,null,null,null,null,null,null,null,null,null,null,null,null,null,null,null,null,null,null,null,null,null,null,null,null,null,null,null,null,null,null,null,null,null,null,null,null,null,null,null,null,null,null,null,null,null,null,"10R 7/6",false,false,false,null,null,null,null,null,null,null,null,null,null,null,null,null,0,6,7,"0-6.0-7","Prominent redox concentrations",null,null,null,null,"LRR T, MLRA 152A"]
[null,null,null,null,null,null,null,null,null,null,null,null,null,null,null,null,null,null,null,null,null,null,null,null,null,null,null,null,null,null,null,null,null,null,null,null,null,null,null,null,null,null,null,null,null,null,null,null,null,null,null,null,null,null,null,null,null,null,null,null,null,null,null,null,null,null,"10R 6/6",false,false,false,null,null,null,null,null,null,null,null,null,null,null,null,null,0,6.5,0,{"$f":"TEXT(CF166,\"0\")&\"-\"&TEXT(CG166,\"0.0\")&\"-\"&TEXT(CH166,\"0\")","v":"0-6.5-0"},"Prominent redox concentrations",null,null,null,null,"LRR T, MLRA 152B"]
[null,null,null,null,null,null,null,null,null,null,null,null,null,null,null,null,null,null,null,null,null,null,null,null,null,null,null,null,null,null,null,null,null,null,null,null,null,null,null,null,null,null,null,null,null,null,null,null,null,null,null,null,null,null,null,null,null,null,null,null,null,null,null,null,null,null,"10R 5/6",false,false,false,null,null,null,null,null,null,null,null,null,null,null,null,null,0,6.5,1,"0-6.5-1","Prominent redox concentrations",null,null,null,null,"LRR T, MLRA 153A"]
[null,null,null,null,null,null,null,null,null,null,null,null,null,null,null,null,null,null,null,null,null,null,null,null,null,null,null,null,null,null,null,null,null,null,null,null,null,null,null,null,null,null,null,null,null,null,null,null,null,null,null,null,null,null,null,null,null,null,null,null,null,null,null,null,null,null,"10R 4/6",false,false,false,null,null,null,null,null,null,null,null,null,null,null,null,null,0,6.5,2,"0-6.5-2","Prominent redox concentrations",null,null,null,null,"LRR T, MLRA 153B"]
[null,null,null,null,null,null,null,null,null,null,null,null,null,null,null,null,null,null,null,null,null,null,null,null,null,null,null,null,null,null,null,null,null,null,null,null,null,null,null,null,null,null,null,null,null,null,null,null,null,null,null,null,null,null,null,null,null,null,null,null,null,null,null,null,null,null,"10R 3/6",false,false,false,null,null,null,null,null,null,null,null,null,null,null,null,null,0,6.5,3,"0-6.5-3","Prominent redox concentrations",null,null,null,null,"LRR T, MLRA 153C"]
[null,null,null,null,null,null,null,null,null,null,null,null,null,null,null,null,null,null,null,null,null,null,null,null,null,null,null,null,null,null,null,null,null,null,null,null,null,null,null,null,null,null,null,null,null,null,null,null,null,null,null,null,null,null,null,null,null,null,null,null,null,null,null,null,null,null,"10R 7/8",false,false,false,null,null,null,null,null,null,null,null,null,null,null,null,null,0,6.5,4,"0-6.5-4","Prominent redox concentrations",null,null,null,null,"LRR T, MLRA 153D"]
[null,null,null,null,null,null,null,null,null,null,null,null,null,null,null,null,null,null,null,null,null,null,null,null,null,null,null,null,null,null,null,null,null,null,null,null,null,null,null,null,null,null,null,null,null,null,null,null,null,null,null,null,null,null,null,null,null,null,null,null,null,null,null,null,null,null,"10R 6/8",false,false,false,null,null,null,null,null,null,null,null,null,null,null,null,null,0,6.5,5,"0-6.5-5","Prominent redox concentrations"]
[null,null,null,null,null,null,null,null,null,null,null,null,null,null,null,null,null,null,null,null,null,null,null,null,null,null,null,null,null,null,null,null,null,null,null,null,null,null,null,null,null,null,null,null,null,null,null,null,null,null,null,null,null,null,null,null,null,null,null,null,null,null,null,null,null,null,"10R 5/8",false,false,false,null,null,null,null,null,null,null,null,null,null,null,null,null,0,6.5,6,"0-6.5-6","Prominent redox concentrations",null,null,null,null,"LRR P, MLRA 138"]
[null,null,null,null,null,null,null,null,null,null,null,null,null,null,null,null,null,null,null,null,null,null,null,null,null,null,null,null,null,null,null,null,null,null,null,null,null,null,null,null,null,null,null,null,null,null,null,null,null,null,null,null,null,null,null,null,null,null,null,null,null,null,null,null,null,null,"10R 4/8",false,false,false,null,null,null,null,null,null,null,null,null,null,null,null,null,0,6.5,7,"0-6.5-7","Prominent redox concentrations",null,null,null,null,"LRR U, MLRA 154"]
[null,null,null,null,null,null,null,null,null,null,null,null,null,null,null,null,null,null,null,null,null,null,null,null,null,null,null,null,null,null,null,null,null,null,null,null,null,null,null,null,null,null,null,null,null,null,null,null,null,null,null,null,null,null,null,null,null,null,null,null,null,null,null,null,null,null,"2.5YR 8/1",true,true,false,null,null,null,null,null,null,null,null,null,null,null,null,null,0,7,0,"0-7.0-0","Prominent redox concentrations"]
[null,null,null,null,null,null,null,null,null,null,null,null,null,null,null,null,null,null,null,null,null,null,null,null,null,null,null,null,null,null,null,null,null,null,null,null,null,null,null,null,null,null,null,null,null,null,null,null,null,null,null,null,null,null,null,null,null,null,null,null,null,null,null,null,null,null,"2.5YR 7/1",true,true,false,null,null,null,null,null,null,null,null,null,null,null,null,null,0,7,1,"0-7.0-1","Prominent redox concentrations"]
[null,null,null,null,null,null,null,null,null,null,null,null,null,null,null,null,null,null,null,null,null,null,null,null,null,null,null,null,null,null,null,null,null,null,null,null,null,null,null,null,null,null,null,null,null,null,null,null,null,null,null,null,null,null,null,null,null,null,null,null,null,null,null,null,null,null,"2.5YR 6/1",true,true,false,null,null,null,null,null,null,null,null,null,null,null,null,null,0,7,2,"0-7.0-2","Prominent redox concentrations"]
[null,null,null,null,null,null,null,null,null,null,null,null,null,null,null,null,null,null,null,null,null,null,null,null,null,null,null,null,null,null,null,null,null,null,null,null,null,null,null,null,null,null,null,null,null,null,null,null,null,null,null,null,null,null,null,null,null,null,null,null,null,null,null,null,null,null,"2.5YR 5/1",true,true,false,null,null,null,null,null,null,null,null,null,null,null,null,null,0,7,3,"0-7.0-3","Prominent redox concentrations"]
[null,null,null,null,null,null,null,null,null,null,null,null,null,null,null,null,null,null,null,null,null,null,null,null,null,null,null,null,null,null,null,null,null,null,null,null,null,null,null,null,null,null,null,null,null,null,null,null,null,null,null,null,null,null,null,null,null,null,null,null,null,null,null,null,null,null,"2.5YR 4/1",false,true,false,null,null,null,null,null,null,null,null,null,null,null,null,null,0,7,4,"0-7.0-4","Prominent redox concentrations"]
[null,null,null,null,null,null,null,null,null,null,null,null,null,null,null,null,null,null,null,null,null,null,null,null,null,null,null,null,null,null,null,null,null,null,null,null,null,null,null,null,null,null,null,null,null,null,null,null,null,null,null,null,null,null,null,null,null,null,null,null,null,null,null,null,null,null,"2.5YR 3/1",false,false,false,null,null,null,null,null,null,null,null,null,null,null,null,null,0,7,5,"0-7.0-5","Prominent redox concentrations"]
[null,null,null,null,null,null,null,null,null,null,null,null,null,null,null,null,null,null,null,null,null,null,null,null,null,null,null,null,null,null,null,null,null,null,null,null,null,null,null,null,null,null,null,null,null,null,null,null,null,null,null,null,null,null,null,null,null,null,null,null,null,null,null,null,null,null,"2.5YR 2.5/1",false,false,false,null,null,null,null,null,null,null,null,null,null,null,null,null,0,7,6,"0-7.0-6","Prominent redox concentrations"]
[null,null,null,null,null,null,null,null,null,null,null,null,null,null,null,null,null,null,null,null,null,null,null,null,null,null,null,null,null,null,null,null,null,null,null,null,null,null,null,null,null,null,null,null,null,null,null,null,null,null,null,null,null,null,null,null,null,null,null,null,null,null,null,null,null,null,"2.5YR 8/2",true,true,false,null,null,null,null,null,null,null,null,null,null,null,null,null,0,7,7,"0-7.0-7","Prominent redox concentrations"]
[null,null,null,null,null,null,null,null,null,null,null,null,null,null,null,null,null,null,null,null,null,null,null,null,null,null,null,null,null,null,null,null,null,null,null,null,null,null,null,null,null,null,null,null,null,null,null,null,null,null,null,null,null,null,null,null,null,null,null,null,null,null,null,null,null,null,"2.5YR 7/2",true,true,false,null,null,null,null,null,null,null,null,null,null,null,null,null,0,7.5,0,{"$f":"TEXT(CF182,\"0\")&\"-\"&TEXT(CG182,\"0.0\")&\"-\"&TEXT(CH182,\"0\")","v":"0-7.5-0"},"Prominent redox concentrations"]
[null,null,null,null,null,null,null,null,null,null,null,null,null,null,null,null,null,null,null,null,null,null,null,null,null,null,null,null,null,null,null,null,null,null,null,null,null,null,null,null,null,null,null,null,null,null,null,null,null,null,null,null,null,null,null,null,null,null,null,null,null,null,null,null,null,null,"2.5YR 6/2",true,true,false,null,null,null,null,null,null,null,null,null,null,null,null,null,0,7.5,1,"0-7.5-1","Prominent redox concentrations"]
[null,null,null,null,null,null,null,null,null,null,null,null,null,null,null,null,null,null,null,null,null,null,null,null,null,null,null,null,null,null,null,null,null,null,null,null,null,null,null,null,null,null,null,null,null,null,null,null,null,null,null,null,null,null,null,null,null,null,null,null,null,null,null,null,null,null,"2.5YR 5/2",false,true,false,null,null,null,null,null,null,null,null,null,null,null,null,null,0,7.5,2,"0-7.5-2","Prominent redox concentrations"]
[null,null,null,null,null,null,null,null,null,null,null,null,null,null,null,null,null,null,null,null,null,null,null,null,null,null,null,null,null,null,null,null,null,null,null,null,null,null,null,null,null,null,null,null,null,null,null,null,null,null,null,null,null,null,null,null,null,null,null,null,null,null,null,null,null,null,"2.5YR 4/2",false,true,false,null,null,null,null,null,null,null,null,null,null,null,null,null,0,7.5,3,"0-7.5-3","Prominent redox concentrations"]
[null,null,null,null,null,null,null,null,null,null,null,null,null,null,null,null,null,null,null,null,null,null,null,null,null,null,null,null,null,null,null,null,null,null,null,null,null,null,null,null,null,null,null,null,null,null,null,null,null,null,null,null,null,null,null,null,null,null,null,null,null,null,null,null,null,null,"2.5YR 3/2",false,false,false,null,null,null,null,null,null,null,null,null,null,null,null,null,0,7.5,4,"0-7.5-4",{"$f":"$BZ$63","v":"Prominent redox concentrations"}]
[null,null,null,null,null,null,null,null,null,null,null,null,null,null,null,null,null,null,null,null,null,null,null,null,null,null,null,null,null,null,null,null,null,null,null,null,null,null,null,null,null,null,null,null,null,null,null,null,null,null,null,null,null,null,null,null,null,null,null,null,null,null,null,null,null,null,"2.5YR 2.5/2",false,false,false,null,null,null,null,null,null,null,null,null,null,null,null,null,0,7.5,5,"0-7.5-5","Prominent redox concentrations"]
[null,null,null,null,null,null,null,null,null,null,null,null,null,null,null,null,null,null,null,null,null,null,null,null,null,null,null,null,null,null,null,null,null,null,null,null,null,null,null,null,null,null,null,null,null,null,null,null,null,null,null,null,null,null,null,null,null,null,null,null,null,null,null,null,null,null,"2.5YR 8/3",false,false,false,null,null,null,null,null,null,null,null,null,null,null,null,null,0,7.5,6,"0-7.5-6","Prominent redox concentrations"]
[null,null,null,null,null,null,null,null,null,null,null,null,null,null,null,null,null,null,null,null,null,null,null,null,null,null,null,null,null,null,null,null,null,null,null,null,null,null,null,null,null,null,null,null,null,null,null,null,null,null,null,null,null,null,null,null,null,null,null,null,null,null,null,null,null,null,"2.5YR 7/3",false,false,false,null,null,null,null,null,null,null,null,null,null,null,null,null,0,7.5,7,"0-7.5-7","Prominent redox concentrations"]
[null,null,null,null,null,null,null,null,null,null,null,null,null,null,null,null,null,null,null,null,null,null,null,null,null,null,null,null,null,null,null,null,null,null,null,null,null,null,null,null,null,null,null,null,null,null,null,null,null,null,null,null,null,null,null,null,null,null,null,null,null,null,null,null,null,null,"2.5YR 6/3",false,false,false,null,null,null,null,null,null,null,null,null,null,null,null,null,1,0,0,"1-0.0-0",{"$f":"$BZ$61","v":"Faint redox concentrations"}]
[null,null,null,null,null,null,null,null,null,null,null,null,null,null,null,null,null,null,null,null,null,null,null,null,null,null,null,null,null,null,null,null,null,null,null,null,null,null,null,null,null,null,null,null,null,null,null,null,null,null,null,null,null,null,null,null,null,null,null,null,null,null,null,null,null,null,"2.5YR 5/3",false,false,false,null,null,null,null,null,null,null,null,null,null,null,null,null,1,0,1,"1-0.0-1",{"$f":"$BZ$61","v":"Faint redox concentrations"}]
[null,null,null,null,null,null,null,null,null,null,null,null,null,null,null,null,null,null,null,null,null,null,null,null,null,null,null,null,null,null,null,null,null,null,null,null,null,null,null,null,null,null,null,null,null,null,null,null,null,null,null,null,null,null,null,null,null,null,null,null,null,null,null,null,null,null,"2.5YR 4/3",false,false,false,null,null,null,null,null,null,null,null,null,null,null,null,null,1,0,2,"1-0.0-2",{"$f":"$BZ$62","v":"Distinct redox concentrations"}]
[null,null,null,null,null,null,null,null,null,null,null,null,null,null,null,null,null,null,null,null,null,null,null,null,null,null,null,null,null,null,null,null,null,null,null,null,null,null,null,null,null,null,null,null,null,null,null,null,null,null,null,null,null,null,null,null,null,null,null,null,null,null,null,null,null,null,"2.5YR 3/3",false,false,false,null,null,null,null,null,null,null,null,null,null,null,null,null,1,0,3,"1-0.0-3",{"$f":"$BZ$63","v":"Prominent redox concentrations"}]
[null,null,null,null,null,null,null,null,null,null,null,null,null,null,null,null,null,null,null,null,null,null,null,null,null,null,null,null,null,null,null,null,null,null,null,null,null,null,null,null,null,null,null,null,null,null,null,null,null,null,null,null,null,null,null,null,null,null,null,null,null,null,null,null,null,null,"2.5YR 2.5/3",false,false,false,null,null,null,null,null,null,null,null,null,null,null,null,null,1,0,4,"1-0.0-4",{"$f":"$BZ$63","v":"Prominent redox concentrations"}]
[null,null,null,null,null,null,null,null,null,null,null,null,null,null,null,null,null,null,null,null,null,null,null,null,null,null,null,null,null,null,null,null,null,null,null,null,null,null,null,null,null,null,null,null,null,null,null,null,null,null,null,null,null,null,null,null,null,null,null,null,null,null,null,null,null,null,"2.5YR 8/4",false,false,false,null,null,null,null,null,null,null,null,null,null,null,null,null,1,0,5,"1-0.0-5",{"$f":"$BZ$63","v":"Prominent redox concentrations"}]
[null,null,null,null,null,null,null,null,null,null,null,null,null,null,null,null,null,null,null,null,null,null,null,null,null,null,null,null,null,null,null,null,null,null,null,null,null,null,null,null,null,null,null,null,null,null,null,null,null,null,null,null,null,null,null,null,null,null,null,null,null,null,null,null,null,null,"2.5YR 7/4",false,false,false,null,null,null,null,null,null,null,null,null,null,null,null,null,1,0,6,"1-0.0-6",{"$f":"$BZ$63","v":"Prominent redox concentrations"}]
[null,null,null,null,null,null,null,null,null,null,null,null,null,null,null,null,null,null,null,null,null,null,null,null,null,null,null,null,null,null,null,null,null,null,null,null,null,null,null,null,null,null,null,null,null,null,null,null,null,null,null,null,null,null,null,null,null,null,null,null,null,null,null,null,null,null,"2.5YR 6/4",false,false,false,null,null,null,null,null,null,null,null,null,null,null,null,null,1,0,7,"1-0.0-7",{"$f":"$BZ$63","v":"Prominent redox concentrations"}]
[null,null,null,null,null,null,null,null,null,null,null,null,null,null,null,null,null,null,null,null,null,null,null,null,null,null,null,null,null,null,null,null,null,null,null,null,null,null,null,null,null,null,null,null,null,null,null,null,null,null,null,null,null,null,null,null,null,null,null,null,null,null,null,null,null,null,"2.5YR 5/4",false,false,false,null,null,null,null,null,null,null,null,null,null,null,null,null,1,0.5,0,"1-0.5-0",{"$f":"$BZ$61","v":"Faint redox concentrations"}]
[null,null,null,null,null,null,null,null,null,null,null,null,null,null,null,null,null,null,null,null,null,null,null,null,null,null,null,null,null,null,null,null,null,null,null,null,null,null,null,null,null,null,null,null,null,null,null,null,null,null,null,null,null,null,null,null,null,null,null,null,null,null,null,null,null,null,"2.5YR 4/4",false,false,false,null,null,null,null,null,null,null,null,null,null,null,null,null,1,0.5,1,"1-0.5-1",{"$f":"$BZ$61","v":"Faint redox concentrations"}]
[null,null,null,null,null,null,null,null,null,null,null,null,null,null,null,null,null,null,null,null,null,null,null,null,null,null,null,null,null,null,null,null,null,null,null,null,null,null,null,null,null,null,null,null,null,null,null,null,null,null,null,null,null,null,null,null,null,null,null,null,null,null,null,null,null,null,"2.5YR 3/4",false,false,false,null,null,null,null,null,null,null,null,null,null,null,null,null,1,0.5,2,"1-0.5-2",{"$f":"$BZ$62","v":"Distinct redox concentrations"}]
[null,null,null,null,null,null,null,null,null,null,null,null,null,null,null,null,null,null,null,null,null,null,null,null,null,null,null,null,null,null,null,null,null,null,null,null,null,null,null,null,null,null,null,null,null,null,null,null,null,null,null,null,null,null,null,null,null,null,null,null,null,null,null,null,null,null,"2.5YR 2.5/4",false,false,false,null,null,null,null,null,null,null,null,null,null,null,null,null,1,0.5,3,"1-0.5-3",{"$f":"$BZ$63","v":"Prominent redox concentrations"}]
[null,null,null,null,null,null,null,null,null,null,null,null,null,null,null,null,null,null,null,null,null,null,null,null,null,null,null,null,null,null,null,null,null,null,null,null,null,null,null,null,null,null,null,null,null,null,null,null,null,null,null,null,null,null,null,null,null,null,null,null,null,null,null,null,null,null,"2.5YR 7/6",false,false,false,null,null,null,null,null,null,null,null,null,null,null,null,null,1,0.5,4,"1-0.5-4",{"$f":"$BZ$63","v":"Prominent redox concentrations"}]
[null,null,null,null,null,null,null,null,null,null,null,null,null,null,null,null,null,null,null,null,null,null,null,null,null,null,null,null,null,null,null,null,null,null,null,null,null,null,null,null,null,null,null,null,null,null,null,null,null,null,null,null,null,null,null,null,null,null,null,null,null,null,null,null,null,null,"2.5YR 6/6",false,false,false,null,null,null,null,null,null,null,null,null,null,null,null,null,1,0.5,5,"1-0.5-5",{"$f":"$BZ$63","v":"Prominent redox concentrations"}]
[null,null,null,null,null,null,null,null,null,null,null,null,null,null,null,null,null,null,null,null,null,null,null,null,null,null,null,null,null,null,null,null,null,null,null,null,null,null,null,null,null,null,null,null,null,null,null,null,null,null,null,null,null,null,null,null,null,null,null,null,null,null,null,null,null,null,"2.5YR 5/6",false,false,false,null,null,null,null,null,null,null,null,null,null,null,null,null,1,0.5,6,"1-0.5-6",{"$f":"$BZ$63","v":"Prominent redox concentrations"}]
[null,null,null,null,null,null,null,null,null,null,null,null,null,null,null,null,null,null,null,null,null,null,null,null,null,null,null,null,null,null,null,null,null,null,null,null,null,null,null,null,null,null,null,null,null,null,null,null,null,null,null,null,null,null,null,null,null,null,null,null,null,null,null,null,null,null,"2.5YR 4/6",false,false,false,null,null,null,null,null,null,null,null,null,null,null,null,null,1,0.5,7,"1-0.5-7",{"$f":"$BZ$63","v":"Prominent redox concentrations"}]
[null,null,null,null,null,null,null,null,null,null,null,null,null,null,null,null,null,null,null,null,null,null,null,null,null,null,null,null,null,null,null,null,null,null,null,null,null,null,null,null,null,null,null,null,null,null,null,null,null,null,null,null,null,null,null,null,null,null,null,null,null,null,null,null,null,null,"2.5YR 3/6",false,false,false,null,null,null,null,null,null,null,null,null,null,null,null,null,1,1,0,"1-1.0-0",{"$f":"$BZ$61","v":"Faint redox concentrations"}]
[null,null,null,null,null,null,null,null,null,null,null,null,null,null,null,null,null,null,null,null,null,null,null,null,null,null,null,null,null,null,null,null,null,null,null,null,null,null,null,null,null,null,null,null,null,null,null,null,null,null,null,null,null,null,null,null,null,null,null,null,null,null,null,null,null,null,"2.5YR 7/8",false,false,false,null,null,null,null,null,null,null,null,null,null,null,null,null,1,1,1,"1-1.0-1",{"$f":"$BZ$61","v":"Faint redox concentrations"}]
[null,null,null,null,null,null,null,null,null,null,null,null,null,null,null,null,null,null,null,null,null,null,null,null,null,null,null,null,null,null,null,null,null,null,null,null,null,null,null,null,null,null,null,null,null,null,null,null,null,null,null,null,null,null,null,null,null,null,null,null,null,null,null,null,null,null,"2.5YR 6/8",false,false,false,null,null,null,null,null,null,null,null,null,null,null,null,null,1,1,2,"1-1.0-2",{"$f":"$BZ$62","v":"Distinct redox concentrations"}]
[null,null,null,null,null,null,null,null,null,null,null,null,null,null,null,null,null,null,null,null,null,null,null,null,null,null,null,null,null,null,null,null,null,null,null,null,null,null,null,null,null,null,null,null,null,null,null,null,null,null,null,null,null,null,null,null,null,null,null,null,null,null,null,null,null,null,"2.5YR 5/8",false,false,false,null,null,null,null,null,null,null,null,null,null,null,null,null,1,1,3,"1-1.0-3",{"$f":"$BZ$63","v":"Prominent redox concentrations"}]
[null,null,null,null,null,null,null,null,null,null,null,null,null,null,null,null,null,null,null,null,null,null,null,null,null,null,null,null,null,null,null,null,null,null,null,null,null,null,null,null,null,null,null,null,null,null,null,null,null,null,null,null,null,null,null,null,null,null,null,null,null,null,null,null,null,null,"2.5YR 4/8",false,false,false,null,null,null,null,null,null,null,null,null,null,null,null,null,1,1,4,"1-1.0-4",{"$f":"$BZ$63","v":"Prominent redox concentrations"}]
[null,null,null,null,null,null,null,null,null,null,null,null,null,null,null,null,null,null,null,null,null,null,null,null,null,null,null,null,null,null,null,null,null,null,null,null,null,null,null,null,null,null,null,null,null,null,null,null,null,null,null,null,null,null,null,null,null,null,null,null,null,null,null,null,null,null,"5YR 8/1",true,true,false,null,null,null,null,null,null,null,null,null,null,null,null,null,1,1,5,"1-1.0-5",{"$f":"$BZ$63","v":"Prominent redox concentrations"}]
[null,null,null,null,null,null,null,null,null,null,null,null,null,null,null,null,null,null,null,null,null,null,null,null,null,null,null,null,null,null,null,null,null,null,null,null,null,null,null,null,null,null,null,null,null,null,null,null,null,null,null,null,null,null,null,null,null,null,null,null,null,null,null,null,null,null,"5YR 7/1",true,true,false,null,null,null,null,null,null,null,null,null,null,null,null,null,1,1,6,"1-1.0-6",{"$f":"$BZ$63","v":"Prominent redox concentrations"}]
[null,null,null,null,null,null,null,null,null,null,null,null,null,null,null,null,null,null,null,null,null,null,null,null,null,null,null,null,null,null,null,null,null,null,null,null,null,null,null,null,null,null,null,null,null,null,null,null,null,null,null,null,null,null,null,null,null,null,null,null,null,null,null,null,null,null,"5YR 6/1",true,true,false,null,null,null,null,null,null,null,null,null,null,null,null,null,1,1,7,"1-1.0-7",{"$f":"$BZ$63","v":"Prominent redox concentrations"}]
[null,null,null,null,null,null,null,null,null,null,null,null,null,null,null,null,null,null,null,null,null,null,null,null,null,null,null,null,null,null,null,null,null,null,null,null,null,null,null,null,null,null,null,null,null,null,null,null,null,null,null,null,null,null,null,null,null,null,null,null,null,null,null,null,null,null,"5YR 5/1",true,true,false,null,null,null,null,null,null,null,null,null,null,null,null,null,1,1.5,0,{"$f":"TEXT(CF214,\"0\")&\"-\"&TEXT(CG214,\"0.0\")&\"-\"&TEXT(CH214,\"0\")","v":"1-1.5-0"},{"$f":"$BZ$62","v":"Distinct redox concentrations"}]
[null,null,null,null,null,null,null,null,null,null,null,null,null,null,null,null,null,null,null,null,null,null,null,null,null,null,null,null,null,null,null,null,null,null,null,null,null,null,null,null,null,null,null,null,null,null,null,null,null,null,null,null,null,null,null,null,null,null,null,null,null,null,null,null,null,null,"5YR 4/1",false,true,false,null,null,null,null,null,null,null,null,null,null,null,null,null,1,1.5,1,"1-1.5-1",{"$f":"$BZ$62","v":"Distinct redox concentrations"}]
[null,null,null,null,null,null,null,null,null,null,null,null,null,null,null,null,null,null,null,null,null,null,null,null,null,null,null,null,null,null,null,null,null,null,null,null,null,null,null,null,null,null,null,null,null,null,null,null,null,null,null,null,null,null,null,null,null,null,null,null,null,null,null,null,null,null,"5YR 3/1",false,false,false,null,null,null,null,null,null,null,null,null,null,null,null,null,1,1.5,2,"1-1.5-2",{"$f":"$BZ$62","v":"Distinct redox concentrations"}]
[null,null,null,null,null,null,null,null,null,null,null,null,null,null,null,null,null,null,null,null,null,null,null,null,null,null,null,null,null,null,null,null,null,null,null,null,null,null,null,null,null,null,null,null,null,null,null,null,null,null,null,null,null,null,null,null,null,null,null,null,null,null,null,null,null,null,"5YR 2.5/1",false,false,false,null,null,null,null,null,null,null,null,null,null,null,null,null,1,1.5,3,"1-1.5-3",{"$f":"$BZ$63","v":"Prominent redox concentrations"}]
[null,null,null,null,null,null,null,null,null,null,null,null,null,null,null,null,null,null,null,null,null,null,null,null,null,null,null,null,null,null,null,null,null,null,null,null,null,null,null,null,null,null,null,null,null,null,null,null,null,null,null,null,null,null,null,null,null,null,null,null,null,null,null,null,null,null,"5YR 8/2",true,true,false,null,null,null,null,null,null,null,null,null,null,null,null,null,1,1.5,4,"1-1.5-4",{"$f":"$BZ$63","v":"Prominent redox concentrations"}]
[null,null,null,null,null,null,null,null,null,null,null,null,null,null,null,null,null,null,null,null,null,null,null,null,null,null,null,null,null,null,null,null,null,null,null,null,null,null,null,null,null,null,null,null,null,null,null,null,null,null,null,null,null,null,null,null,null,null,null,null,null,null,null,null,null,null,"5YR 7/2",true,true,false,null,null,null,null,null,null,null,null,null,null,null,null,null,1,1.5,5,"1-1.5-5",{"$f":"$BZ$63","v":"Prominent redox concentrations"}]
[null,null,null,null,null,null,null,null,null,null,null,null,null,null,null,null,null,null,null,null,null,null,null,null,null,null,null,null,null,null,null,null,null,null,null,null,null,null,null,null,null,null,null,null,null,null,null,null,null,null,null,null,null,null,null,null,null,null,null,null,null,null,null,null,null,null,"5YR 6/2",true,true,false,null,null,null,null,null,null,null,null,null,null,null,null,null,1,1.5,6,"1-1.5-6",{"$f":"$BZ$63","v":"Prominent redox concentrations"}]
[null,null,null,null,null,null,null,null,null,null,null,null,null,null,null,null,null,null,null,null,null,null,null,null,null,null,null,null,null,null,null,null,null,null,null,null,null,null,null,null,null,null,null,null,null,null,null,null,null,null,null,null,null,null,null,null,null,null,null,null,null,null,null,null,null,null,"5YR 5/2",false,true,false,null,null,null,null,null,null,null,null,null,null,null,null,null,1,1.5,7,"1-1.5-7",{"$f":"$BZ$63","v":"Prominent redox concentrations"}]
[null,null,null,null,null,null,null,null,null,null,null,null,null,null,null,null,null,null,null,null,null,null,null,null,null,null,null,null,null,null,null,null,null,null,null,null,null,null,null,null,null,null,null,null,null,null,null,null,null,null,null,null,null,null,null,null,null,null,null,null,null,null,null,null,null,null,"5YR 4/2",false,true,false,null,null,null,null,null,null,null,null,null,null,null,null,null,1,2,0,"1-2.0-0",{"$f":"$BZ$62","v":"Distinct redox concentrations"}]
[null,null,null,null,null,null,null,null,null,null,null,null,null,null,null,null,null,null,null,null,null,null,null,null,null,null,null,null,null,null,null,null,null,null,null,null,null,null,null,null,null,null,null,null,null,null,null,null,null,null,null,null,null,null,null,null,null,null,null,null,null,null,null,null,null,null,"5YR 3/2",false,false,false,null,null,null,null,null,null,null,null,null,null,null,null,null,1,2,1,"1-2.0-1",{"$f":"$BZ$62","v":"Distinct redox concentrations"}]
[null,null,null,null,null,null,null,null,null,null,null,null,null,null,null,null,null,null,null,null,null,null,null,null,null,null,null,null,null,null,null,null,null,null,null,null,null,null,null,null,null,null,null,null,null,null,null,null,null,null,null,null,null,null,null,null,null,null,null,null,null,null,null,null,null,null,"5YR 2.5/2",false,false,false,null,null,null,null,null,null,null,null,null,null,null,null,null,1,2,2,"1-2.0-2",{"$f":"$BZ$62","v":"Distinct redox concentrations"}]
[null,null,null,null,null,null,null,null,null,null,null,null,null,null,null,null,null,null,null,null,null,null,null,null,null,null,null,null,null,null,null,null,null,null,null,null,null,null,null,null,null,null,null,null,null,null,null,null,null,null,null,null,null,null,null,null,null,null,null,null,null,null,null,null,null,null,"5YR 8/3",false,false,false,null,null,null,null,null,null,null,null,null,null,null,null,null,1,2,3,"1-2.0-3",{"$f":"$BZ$63","v":"Prominent redox concentrations"}]
[null,null,null,null,null,null,null,null,null,null,null,null,null,null,null,null,null,null,null,null,null,null,null,null,null,null,null,null,null,null,null,null,null,null,null,null,null,null,null,null,null,null,null,null,null,null,null,null,null,null,null,null,null,null,null,null,null,null,null,null,null,null,null,null,null,null,"5YR 7/3",false,false,false,null,null,null,null,null,null,null,null,null,null,null,null,null,1,2,4,"1-2.0-4",{"$f":"$BZ$63","v":"Prominent redox concentrations"}]
[null,null,null,null,null,null,null,null,null,null,null,null,null,null,null,null,null,null,null,null,null,null,null,null,null,null,null,null,null,null,null,null,null,null,null,null,null,null,null,null,null,null,null,null,null,null,null,null,null,null,null,null,null,null,null,null,null,null,null,null,null,null,null,null,null,null,"5YR 6/3",false,false,false,null,null,null,null,null,null,null,null,null,null,null,null,null,1,2,5,"1-2.0-5",{"$f":"$BZ$63","v":"Prominent redox concentrations"}]
[null,null,null,null,null,null,null,null,null,null,null,null,null,null,null,null,null,null,null,null,null,null,null,null,null,null,null,null,null,null,null,null,null,null,null,null,null,null,null,null,null,null,null,null,null,null,null,null,null,null,null,null,null,null,null,null,null,null,null,null,null,null,null,null,null,null,"5YR 5/3",false,false,false,null,null,null,null,null,null,null,null,null,null,null,null,null,1,2,6,"1-2.0-6",{"$f":"$BZ$63","v":"Prominent redox concentrations"}]
[null,null,null,null,null,null,null,null,null,null,null,null,null,null,null,null,null,null,null,null,null,null,null,null,null,null,null,null,null,null,null,null,null,null,null,null,null,null,null,null,null,null,null,null,null,null,null,null,null,null,null,null,null,null,null,null,null,null,null,null,null,null,null,null,null,null,"5YR 4/3",false,false,false,null,null,null,null,null,null,null,null,null,null,null,null,null,1,2,7,"1-2.0-7",{"$f":"$BZ$63","v":"Prominent redox concentrations"}]
[null,null,null,null,null,null,null,null,null,null,null,null,null,null,null,null,null,null,null,null,null,null,null,null,null,null,null,null,null,null,null,null,null,null,null,null,null,null,null,null,null,null,null,null,null,null,null,null,null,null,null,null,null,null,null,null,null,null,null,null,null,null,null,null,null,null,"5YR 3/3",false,false,false,null,null,null,null,null,null,null,null,null,null,null,null,null,1,2.5,0,"1-2.5-0",{"$f":"$BZ$62","v":"Distinct redox concentrations"}]
[null,null,null,null,null,null,null,null,null,null,null,null,null,null,null,null,null,null,null,null,null,null,null,null,null,null,null,null,null,null,null,null,null,null,null,null,null,null,null,null,null,null,null,null,null,null,null,null,null,null,null,null,null,null,null,null,null,null,null,null,null,null,null,null,null,null,"5YR 8/4",false,false,false,null,null,null,null,null,null,null,null,null,null,null,null,null,1,2.5,1,"1-2.5-1",{"$f":"$BZ$62","v":"Distinct redox concentrations"}]
[null,null,null,null,null,null,null,null,null,null,null,null,null,null,null,null,null,null,null,null,null,null,null,null,null,null,null,null,null,null,null,null,null,null,null,null,null,null,null,null,null,null,null,null,null,null,null,null,null,null,null,null,null,null,null,null,null,null,null,null,null,null,null,null,null,null,"5YR 7/4",false,false,false,null,null,null,null,null,null,null,null,null,null,null,null,null,1,2.5,2,"1-2.5-2",{"$f":"$BZ$62","v":"Distinct redox concentrations"}]
[null,null,null,null,null,null,null,null,null,null,null,null,null,null,null,null,null,null,null,null,null,null,null,null,null,null,null,null,null,null,null,null,null,null,null,null,null,null,null,null,null,null,null,null,null,null,null,null,null,null,null,null,null,null,null,null,null,null,null,null,null,null,null,null,null,null,"5YR 6/4",false,false,false,null,null,null,null,null,null,null,null,null,null,null,null,null,1,2.5,3,"1-2.5-3",{"$f":"$BZ$63","v":"Prominent redox concentrations"}]
[null,null,null,null,null,null,null,null,null,null,null,null,null,null,null,null,null,null,null,null,null,null,null,null,null,null,null,null,null,null,null,null,null,null,null,null,null,null,null,null,null,null,null,null,null,null,null,null,null,null,null,null,null,null,null,null,null,null,null,null,null,null,null,null,null,null,"5YR 5/4",false,false,false,null,null,null,null,null,null,null,null,null,null,null,null,null,1,2.5,4,"1-2.5-4","Prominent redox concentrations"]
[null,null,null,null,null,null,null,null,null,null,null,null,null,null,null,null,null,null,null,null,null,null,null,null,null,null,null,null,null,null,null,null,null,null,null,null,null,null,null,null,null,null,null,null,null,null,null,null,null,null,null,null,null,null,null,null,null,null,null,null,null,null,null,null,null,null,"5YR 4/4",false,false,false,null,null,null,null,null,null,null,null,null,null,null,null,null,1,2.5,5,"1-2.5-5","Prominent redox concentrations"]
[null,null,null,null,null,null,null,null,null,null,null,null,null,null,null,null,null,null,null,null,null,null,null,null,null,null,null,null,null,null,null,null,null,null,null,null,null,null,null,null,null,null,null,null,null,null,null,null,null,null,null,null,null,null,null,null,null,null,null,null,null,null,null,null,null,null,"5YR 3/4",false,false,false,null,null,null,null,null,null,null,null,null,null,null,null,null,1,2.5,6,"1-2.5-6","Prominent redox concentrations"]
[null,null,null,null,null,null,null,null,null,null,null,null,null,null,null,null,null,null,null,null,null,null,null,null,null,null,null,null,null,null,null,null,null,null,null,null,null,null,null,null,null,null,null,null,null,null,null,null,null,null,null,null,null,null,null,null,null,null,null,null,null,null,null,null,null,null,"5YR 7/6",false,false,false,null,null,null,null,null,null,null,null,null,null,null,null,null,1,2.5,7,"1-2.5-7","Prominent redox concentrations"]
[null,null,null,null,null,null,null,null,null,null,null,null,null,null,null,null,null,null,null,null,null,null,null,null,null,null,null,null,null,null,null,null,null,null,null,null,null,null,null,null,null,null,null,null,null,null,null,null,null,null,null,null,null,null,null,null,null,null,null,null,null,null,null,null,null,null,"5YR 6/6",false,false,false,null,null,null,null,null,null,null,null,null,null,null,null,null,1,3,0,"1-3.0-0","Prominent redox concentrations"]
[null,null,null,null,null,null,null,null,null,null,null,null,null,null,null,null,null,null,null,null,null,null,null,null,null,null,null,null,null,null,null,null,null,null,null,null,null,null,null,null,null,null,null,null,null,null,null,null,null,null,null,null,null,null,null,null,null,null,null,null,null,null,null,null,null,null,"5YR 5/6",false,false,false,null,null,null,null,null,null,null,null,null,null,null,null,null,1,3,1,"1-3.0-1","Prominent redox concentrations"]
[null,null,null,null,null,null,null,null,null,null,null,null,null,null,null,null,null,null,null,null,null,null,null,null,null,null,null,null,null,null,null,null,null,null,null,null,null,null,null,null,null,null,null,null,null,null,null,null,null,null,null,null,null,null,null,null,null,null,null,null,null,null,null,null,null,null,"5YR 4/6",false,false,false,null,null,null,null,null,null,null,null,null,null,null,null,null,1,3,2,"1-3.0-2","Prominent redox concentrations"]
[null,null,null,null,null,null,null,null,null,null,null,null,null,null,null,null,null,null,null,null,null,null,null,null,null,null,null,null,null,null,null,null,null,null,null,null,null,null,null,null,null,null,null,null,null,null,null,null,null,null,null,null,null,null,null,null,null,null,null,null,null,null,null,null,null,null,"5YR 7/8",false,false,false,null,null,null,null,null,null,null,null,null,null,null,null,null,1,3,3,"1-3.0-3","Prominent redox concentrations"]
[null,null,null,null,null,null,null,null,null,null,null,null,null,null,null,null,null,null,null,null,null,null,null,null,null,null,null,null,null,null,null,null,null,null,null,null,null,null,null,null,null,null,null,null,null,null,null,null,null,null,null,null,null,null,null,null,null,null,null,null,null,null,null,null,null,null,"5YR 6/8",false,false,false,null,null,null,null,null,null,null,null,null,null,null,null,null,1,3,4,"1-3.0-4","Prominent redox concentrations"]
[null,null,null,null,null,null,null,null,null,null,null,null,null,null,null,null,null,null,null,null,null,null,null,null,null,null,null,null,null,null,null,null,null,null,null,null,null,null,null,null,null,null,null,null,null,null,null,null,null,null,null,null,null,null,null,null,null,null,null,null,null,null,null,null,null,null,"5YR 5/8",false,false,false,null,null,null,null,null,null,null,null,null,null,null,null,null,1,3,5,"1-3.0-5","Prominent redox concentrations"]
[null,null,null,null,null,null,null,null,null,null,null,null,null,null,null,null,null,null,null,null,null,null,null,null,null,null,null,null,null,null,null,null,null,null,null,null,null,null,null,null,null,null,null,null,null,null,null,null,null,null,null,null,null,null,null,null,null,null,null,null,null,null,null,null,null,null,"7.5YR 9.5/1",true,true,false,null,null,null,null,null,null,null,null,null,null,null,null,null,1,3,6,"1-3.0-6","Prominent redox concentrations"]
[null,null,null,null,null,null,null,null,null,null,null,null,null,null,null,null,null,null,null,null,null,null,null,null,null,null,null,null,null,null,null,null,null,null,null,null,null,null,null,null,null,null,null,null,null,null,null,null,null,null,null,null,null,null,null,null,null,null,null,null,null,null,null,null,null,null,"7.5YR 9/1",true,true,false,null,null,null,null,null,null,null,null,null,null,null,null,null,1,3,7,"1-3.0-7","Prominent redox concentrations"]
[null,null,null,null,null,null,null,null,null,null,null,null,null,null,null,null,null,null,null,null,null,null,null,null,null,null,null,null,null,null,null,null,null,null,null,null,null,null,null,null,null,null,null,null,null,null,null,null,null,null,null,null,null,null,null,null,null,null,null,null,null,null,null,null,null,null,"7.5YR 8.5/1",true,true,false,null,null,null,null,null,null,null,null,null,null,null,null,null,1,3.5,0,"1-3.5-0","Prominent redox concentrations"]
[null,null,null,null,null,null,null,null,null,null,null,null,null,null,null,null,null,null,null,null,null,null,null,null,null,null,null,null,null,null,null,null,null,null,null,null,null,null,null,null,null,null,null,null,null,null,null,null,null,null,null,null,null,null,null,null,null,null,null,null,null,null,null,null,null,null,"7.5YR 8/1",true,true,false,null,null,null,null,null,null,null,null,null,null,null,null,null,1,3.5,1,"1-3.5-1","Prominent redox concentrations"]
[null,null,null,null,null,null,null,null,null,null,null,null,null,null,null,null,null,null,null,null,null,null,null,null,null,null,null,null,null,null,null,null,null,null,null,null,null,null,null,null,null,null,null,null,null,null,null,null,null,null,null,null,null,null,null,null,null,null,null,null,null,null,null,null,null,null,"7.5YR 7/1",true,true,false,null,null,null,null,null,null,null,null,null,null,null,null,null,1,3.5,2,"1-3.5-2","Prominent redox concentrations"]
[null,null,null,null,null,null,null,null,null,null,null,null,null,null,null,null,null,null,null,null,null,null,null,null,null,null,null,null,null,null,null,null,null,null,null,null,null,null,null,null,null,null,null,null,null,null,null,null,null,null,null,null,null,null,null,null,null,null,null,null,null,null,null,null,null,null,"7.5YR 6/1",true,true,false,null,null,null,null,null,null,null,null,null,null,null,null,null,1,3.5,3,"1-3.5-3","Prominent redox concentrations"]
[null,null,null,null,null,null,null,null,null,null,null,null,null,null,null,null,null,null,null,null,null,null,null,null,null,null,null,null,null,null,null,null,null,null,null,null,null,null,null,null,null,null,null,null,null,null,null,null,null,null,null,null,null,null,null,null,null,null,null,null,null,null,null,null,null,null,"7.5YR 5/1",true,true,false,null,null,null,null,null,null,null,null,null,null,null,null,null,1,3.5,4,"1-3.5-4","Prominent redox concentrations"]
[null,null,null,null,null,null,null,null,null,null,null,null,null,null,null,null,null,null,null,null,null,null,null,null,null,null,null,null,null,null,null,null,null,null,null,null,null,null,null,null,null,null,null,null,null,null,null,null,null,null,null,null,null,null,null,null,null,null,null,null,null,null,null,null,null,null,"7.5YR 4/1",false,true,false,null,null,null,null,null,null,null,null,null,null,null,null,null,1,3.5,5,"1-3.5-5","Prominent redox concentrations"]
[null,null,null,null,null,null,null,null,null,null,null,null,null,null,null,null,null,null,null,null,null,null,null,null,null,null,null,null,null,null,null,null,null,null,null,null,null,null,null,null,null,null,null,null,null,null,null,null,null,null,null,null,null,null,null,null,null,null,null,null,null,null,null,null,null,null,"7.5YR 3/1",false,false,false,null,null,null,null,null,null,null,null,null,null,null,null,null,1,3.5,6,"1-3.5-6","Prominent redox concentrations"]
[null,null,null,null,null,null,null,null,null,null,null,null,null,null,null,null,null,null,null,null,null,null,null,null,null,null,null,null,null,null,null,null,null,null,null,null,null,null,null,null,null,null,null,null,null,null,null,null,null,null,null,null,null,null,null,null,null,null,null,null,null,null,null,null,null,null,"7.5YR 2.5/1",false,false,false,null,null,null,null,null,null,null,null,null,null,null,null,null,1,3.5,7,"1-3.5-7","Prominent redox concentrations"]
[null,null,null,null,null,null,null,null,null,null,null,null,null,null,null,null,null,null,null,null,null,null,null,null,null,null,null,null,null,null,null,null,null,null,null,null,null,null,null,null,null,null,null,null,null,null,null,null,null,null,null,null,null,null,null,null,null,null,null,null,null,null,null,null,null,null,"7.5YR 9.5/2",true,true,false,null,null,null,null,null,null,null,null,null,null,null,null,null,1,4,0,"1-4.0-0","Prominent redox concentrations"]
[null,null,null,null,null,null,null,null,null,null,null,null,null,null,null,null,null,null,null,null,null,null,null,null,null,null,null,null,null,null,null,null,null,null,null,null,null,null,null,null,null,null,null,null,null,null,null,null,null,null,null,null,null,null,null,null,null,null,null,null,null,null,null,null,null,null,"7.5YR 9/2",true,true,false,null,null,null,null,null,null,null,null,null,null,null,null,null,1,4,1,"1-4.0-1","Prominent redox concentrations"]
[null,null,null,null,null,null,null,null,null,null,null,null,null,null,null,null,null,null,null,null,null,null,null,null,null,null,null,null,null,null,null,null,null,null,null,null,null,null,null,null,null,null,null,null,null,null,null,null,null,null,null,null,null,null,null,null,null,null,null,null,null,null,null,null,null,null,"7.5YR 8.5/2",true,true,false,null,null,null,null,null,null,null,null,null,null,null,null,null,1,4,2,"1-4.0-2","Prominent redox concentrations"]
[null,null,null,null,null,null,null,null,null,null,null,null,null,null,null,null,null,null,null,null,null,null,null,null,null,null,null,null,null,null,null,null,null,null,null,null,null,null,null,null,null,null,null,null,null,null,null,null,null,null,null,null,null,null,null,null,null,null,null,null,null,null,null,null,null,null,"7.5YR 8/2",true,true,false,null,null,null,null,null,null,null,null,null,null,null,null,null,1,4,3,"1-4.0-3","Prominent redox concentrations"]
[null,null,null,null,null,null,null,null,null,null,null,null,null,null,null,null,null,null,null,null,null,null,null,null,null,null,null,null,null,null,null,null,null,null,null,null,null,null,null,null,null,null,null,null,null,null,null,null,null,null,null,null,null,null,null,null,null,null,null,null,null,null,null,null,null,null,"7.5YR 7/2",true,true,false,null,null,null,null,null,null,null,null,null,null,null,null,null,1,4,4,"1-4.0-4","Prominent redox concentrations"]
[null,null,null,null,null,null,null,null,null,null,null,null,null,null,null,null,null,null,null,null,null,null,null,null,null,null,null,null,null,null,null,null,null,null,null,null,null,null,null,null,null,null,null,null,null,null,null,null,null,null,null,null,null,null,null,null,null,null,null,null,null,null,null,null,null,null,"7.5YR 6/2",true,true,false,null,null,null,null,null,null,null,null,null,null,null,null,null,1,4,5,"1-4.0-5","Prominent redox concentrations"]
[null,null,null,null,null,null,null,null,null,null,null,null,null,null,null,null,null,null,null,null,null,null,null,null,null,null,null,null,null,null,null,null,null,null,null,null,null,null,null,null,null,null,null,null,null,null,null,null,null,null,null,null,null,null,null,null,null,null,null,null,null,null,null,null,null,null,"7.5YR 5/2",false,true,false,null,null,null,null,null,null,null,null,null,null,null,null,null,1,4,6,"1-4.0-6","Prominent redox concentrations"]
[null,null,null,null,null,null,null,null,null,null,null,null,null,null,null,null,null,null,null,null,null,null,null,null,null,null,null,null,null,null,null,null,null,null,null,null,null,null,null,null,null,null,null,null,null,null,null,null,null,null,null,null,null,null,null,null,null,null,null,null,null,null,null,null,null,null,"7.5YR 4/2",false,true,false,null,null,null,null,null,null,null,null,null,null,null,null,null,1,4,7,"1-4.0-7","Prominent redox concentrations"]
[null,null,null,null,null,null,null,null,null,null,null,null,null,null,null,null,null,null,null,null,null,null,null,null,null,null,null,null,null,null,null,null,null,null,null,null,null,null,null,null,null,null,null,null,null,null,null,null,null,null,null,null,null,null,null,null,null,null,null,null,null,null,null,null,null,null,"7.5YR 3/2",false,false,false,null,null,null,null,null,null,null,null,null,null,null,null,null,1,4.5,0,"1-4.5-0","Prominent redox concentrations"]
[null,null,null,null,null,null,null,null,null,null,null,null,null,null,null,null,null,null,null,null,null,null,null,null,null,null,null,null,null,null,null,null,null,null,null,null,null,null,null,null,null,null,null,null,null,null,null,null,null,null,null,null,null,null,null,null,null,null,null,null,null,null,null,null,null,null,"7.5YR 2.5/2",false,false,false,null,null,null,null,null,null,null,null,null,null,null,null,null,1,4.5,1,"1-4.5-1","Prominent redox concentrations"]
[null,null,null,null,null,null,null,null,null,null,null,null,null,null,null,null,null,null,null,null,null,null,null,null,null,null,null,null,null,null,null,null,null,null,null,null,null,null,null,null,null,null,null,null,null,null,null,null,null,null,null,null,null,null,null,null,null,null,null,null,null,null,null,null,null,null,"7.5YR 8/3",false,false,false,null,null,null,null,null,null,null,null,null,null,null,null,null,1,4.5,2,"1-4.5-2","Prominent redox concentrations"]
[null,null,null,null,null,null,null,null,null,null,null,null,null,null,null,null,null,null,null,null,null,null,null,null,null,null,null,null,null,null,null,null,null,null,null,null,null,null,null,null,null,null,null,null,null,null,null,null,null,null,null,null,null,null,null,null,null,null,null,null,null,null,null,null,null,null,"7.5YR 7/3",false,false,false,null,null,null,null,null,null,null,null,null,null,null,null,null,1,4.5,3,"1-4.5-3",{"$f":"$BZ$63","v":"Prominent redox concentrations"}]
[null,null,null,null,null,null,null,null,null,null,null,null,null,null,null,null,null,null,null,null,null,null,null,null,null,null,null,null,null,null,null,null,null,null,null,null,null,null,null,null,null,null,null,null,null,null,null,null,null,null,null,null,null,null,null,null,null,null,null,null,null,null,null,null,null,null,"7.5YR 6/3",false,false,false,null,null,null,null,null,null,null,null,null,null,null,null,null,1,4.5,4,"1-4.5-4","Prominent redox concentrations"]
[null,null,null,null,null,null,null,null,null,null,null,null,null,null,null,null,null,null,null,null,null,null,null,null,null,null,null,null,null,null,null,null,null,null,null,null,null,null,null,null,null,null,null,null,null,null,null,null,null,null,null,null,null,null,null,null,null,null,null,null,null,null,null,null,null,null,"7.5YR 5/3",false,false,false,null,null,null,null,null,null,null,null,null,null,null,null,null,1,4.5,5,"1-4.5-5","Prominent redox concentrations"]
[null,null,null,null,null,null,null,null,null,null,null,null,null,null,null,null,null,null,null,null,null,null,null,null,null,null,null,null,null,null,null,null,null,null,null,null,null,null,null,null,null,null,null,null,null,null,null,null,null,null,null,null,null,null,null,null,null,null,null,null,null,null,null,null,null,null,"7.5YR 4/3",false,false,false,null,null,null,null,null,null,null,null,null,null,null,null,null,1,4.5,6,"1-4.5-6","Prominent redox concentrations"]
[null,null,null,null,null,null,null,null,null,null,null,null,null,null,null,null,null,null,null,null,null,null,null,null,null,null,null,null,null,null,null,null,null,null,null,null,null,null,null,null,null,null,null,null,null,null,null,null,null,null,null,null,null,null,null,null,null,null,null,null,null,null,null,null,null,null,"7.5YR 3/3",false,false,false,null,null,null,null,null,null,null,null,null,null,null,null,null,1,4.5,7,"1-4.5-7","Prominent redox concentrations"]
[null,null,null,null,null,null,null,null,null,null,null,null,null,null,null,null,null,null,null,null,null,null,null,null,null,null,null,null,null,null,null,null,null,null,null,null,null,null,null,null,null,null,null,null,null,null,null,null,null,null,null,null,null,null,null,null,null,null,null,null,null,null,null,null,null,null,"7.5YR 2.5/3",false,false,false,null,null,null,null,null,null,null,null,null,null,null,null,null,1,5,0,"1-5.0-0","Prominent redox concentrations"]
[null,null,null,null,null,null,null,null,null,null,null,null,null,null,null,null,null,null,null,null,null,null,null,null,null,null,null,null,null,null,null,null,null,null,null,null,null,null,null,null,null,null,null,null,null,null,null,null,null,null,null,null,null,null,null,null,null,null,null,null,null,null,null,null,null,null,"7.5YR 8/4",false,false,false,null,null,null,null,null,null,null,null,null,null,null,null,null,1,5,1,"1-5.0-1","Prominent redox concentrations"]
[null,null,null,null,null,null,null,null,null,null,null,null,null,null,null,null,null,null,null,null,null,null,null,null,null,null,null,null,null,null,null,null,null,null,null,null,null,null,null,null,null,null,null,null,null,null,null,null,null,null,null,null,null,null,null,null,null,null,null,null,null,null,null,null,null,null,"7.5YR 7/4",false,false,false,null,null,null,null,null,null,null,null,null,null,null,null,null,1,5,2,"1-5.0-2","Prominent redox concentrations"]
[null,null,null,null,null,null,null,null,null,null,null,null,null,null,null,null,null,null,null,null,null,null,null,null,null,null,null,null,null,null,null,null,null,null,null,null,null,null,null,null,null,null,null,null,null,null,null,null,null,null,null,null,null,null,null,null,null,null,null,null,null,null,null,null,null,null,"7.5YR 6/4",false,false,false,null,null,null,null,null,null,null,null,null,null,null,null,null,1,5,3,"1-5.0-3","Prominent redox concentrations"]
[null,null,null,null,null,null,null,null,null,null,null,null,null,null,null,null,null,null,null,null,null,null,null,null,null,null,null,null,null,null,null,null,null,null,null,null,null,null,null,null,null,null,null,null,null,null,null,null,null,null,null,null,null,null,null,null,null,null,null,null,null,null,null,null,null,null,"7.5YR 5/4",false,false,false,null,null,null,null,null,null,null,null,null,null,null,null,null,1,5,4,"1-5.0-4","Prominent redox concentrations"]
[null,null,null,null,null,null,null,null,null,null,null,null,null,null,null,null,null,null,null,null,null,null,null,null,null,null,null,null,null,null,null,null,null,null,null,null,null,null,null,null,null,null,null,null,null,null,null,null,null,null,null,null,null,null,null,null,null,null,null,null,null,null,null,null,null,null,"7.5YR 4/4",false,false,false,null,null,null,null,null,null,null,null,null,null,null,null,null,1,5,5,"1-5.0-5","Prominent redox concentrations"]
[null,null,null,null,null,null,null,null,null,null,null,null,null,null,null,null,null,null,null,null,null,null,null,null,null,null,null,null,null,null,null,null,null,null,null,null,null,null,null,null,null,null,null,null,null,null,null,null,null,null,null,null,null,null,null,null,null,null,null,null,null,null,null,null,null,null,"7.5YR 3/4",false,false,false,null,null,null,null,null,null,null,null,null,null,null,null,null,1,5,6,"1-5.0-6","Prominent redox concentrations"]
[null,null,null,null,null,null,null,null,null,null,null,null,null,null,null,null,null,null,null,null,null,null,null,null,null,null,null,null,null,null,null,null,null,null,null,null,null,null,null,null,null,null,null,null,null,null,null,null,null,null,null,null,null,null,null,null,null,null,null,null,null,null,null,null,null,null,"7.5YR 8/6",false,false,false,null,null,null,null,null,null,null,null,null,null,null,null,null,1,5,7,"1-5.0-7","Prominent redox concentrations"]
[null,null,null,null,null,null,null,null,null,null,null,null,null,null,null,null,null,null,null,null,null,null,null,null,null,null,null,null,null,null,null,null,null,null,null,null,null,null,null,null,null,null,null,null,null,null,null,null,null,null,null,null,null,null,null,null,null,null,null,null,null,null,null,null,null,null,"7.5YR 7/6",false,false,false,null,null,null,null,null,null,null,null,null,null,null,null,null,1,5.5,0,{"$f":"TEXT(CF278,\"0\")&\"-\"&TEXT(CG278,\"0.0\")&\"-\"&TEXT(CH278,\"0\")","v":"1-5.5-0"},"Prominent redox concentrations"]
[null,null,null,null,null,null,null,null,null,null,null,null,null,null,null,null,null,null,null,null,null,null,null,null,null,null,null,null,null,null,null,null,null,null,null,null,null,null,null,null,null,null,null,null,null,null,null,null,null,null,null,null,null,null,null,null,null,null,null,null,null,null,null,null,null,null,"7.5YR 6/6",false,false,false,null,null,null,null,null,null,null,null,null,null,null,null,null,1,5.5,1,"1-5.5-1","Prominent redox concentrations"]
[null,null,null,null,null,null,null,null,null,null,null,null,null,null,null,null,null,null,null,null,null,null,null,null,null,null,null,null,null,null,null,null,null,null,null,null,null,null,null,null,null,null,null,null,null,null,null,null,null,null,null,null,null,null,null,null,null,null,null,null,null,null,null,null,null,null,"7.5YR 5/6",false,false,false,null,null,null,null,null,null,null,null,null,null,null,null,null,1,5.5,2,"1-5.5-2","Prominent redox concentrations"]
[null,null,null,null,null,null,null,null,null,null,null,null,null,null,null,null,null,null,null,null,null,null,null,null,null,null,null,null,null,null,null,null,null,null,null,null,null,null,null,null,null,null,null,null,null,null,null,null,null,null,null,null,null,null,null,null,null,null,null,null,null,null,null,null,null,null,"7.5YR 4/6",false,false,false,null,null,null,null,null,null,null,null,null,null,null,null,null,1,5.5,3,"1-5.5-3","Prominent redox concentrations"]
[null,null,null,null,null,null,null,null,null,null,null,null,null,null,null,null,null,null,null,null,null,null,null,null,null,null,null,null,null,null,null,null,null,null,null,null,null,null,null,null,null,null,null,null,null,null,null,null,null,null,null,null,null,null,null,null,null,null,null,null,null,null,null,null,null,null,"7.5YR 7/8",false,false,false,null,null,null,null,null,null,null,null,null,null,null,null,null,1,5.5,4,"1-5.5-4","Prominent redox concentrations"]
[null,null,null,null,null,null,null,null,null,null,null,null,null,null,null,null,null,null,null,null,null,null,null,null,null,null,null,null,null,null,null,null,null,null,null,null,null,null,null,null,null,null,null,null,null,null,null,null,null,null,null,null,null,null,null,null,null,null,null,null,null,null,null,null,null,null,"7.5YR 6/8",false,false,false,null,null,null,null,null,null,null,null,null,null,null,null,null,1,5.5,5,"1-5.5-5","Prominent redox concentrations"]
[null,null,null,null,null,null,null,null,null,null,null,null,null,null,null,null,null,null,null,null,null,null,null,null,null,null,null,null,null,null,null,null,null,null,null,null,null,null,null,null,null,null,null,null,null,null,null,null,null,null,null,null,null,null,null,null,null,null,null,null,null,null,null,null,null,null,"7.5YR 5/8",false,false,false,null,null,null,null,null,null,null,null,null,null,null,null,null,1,5.5,6,"1-5.5-6","Prominent redox concentrations"]
[null,null,null,null,null,null,null,null,null,null,null,null,null,null,null,null,null,null,null,null,null,null,null,null,null,null,null,null,null,null,null,null,null,null,null,null,null,null,null,null,null,null,null,null,null,null,null,null,null,null,null,null,null,null,null,null,null,null,null,null,null,null,null,null,null,null,"10YR 9.5/1",true,true,false,null,null,null,null,null,null,null,null,null,null,null,null,null,1,5.5,7,"1-5.5-7","Prominent redox concentrations"]
[null,null,null,null,null,null,null,null,null,null,null,null,null,null,null,null,null,null,null,null,null,null,null,null,null,null,null,null,null,null,null,null,null,null,null,null,null,null,null,null,null,null,null,null,null,null,null,null,null,null,null,null,null,null,null,null,null,null,null,null,null,null,null,null,null,null,"10YR 9/1",true,true,false,null,null,null,null,null,null,null,null,null,null,null,null,null,1,6,0,"1-6.0-0","Prominent redox concentrations"]
[null,null,null,null,null,null,null,null,null,null,null,null,null,null,null,null,null,null,null,null,null,null,null,null,null,null,null,null,null,null,null,null,null,null,null,null,null,null,null,null,null,null,null,null,null,null,null,null,null,null,null,null,null,null,null,null,null,null,null,null,null,null,null,null,null,null,"10YR 8.5/1",true,true,false,null,null,null,null,null,null,null,null,null,null,null,null,null,1,6,1,"1-6.0-1","Prominent redox concentrations"]
[null,null,null,null,null,null,null,null,null,null,null,null,null,null,null,null,null,null,null,null,null,null,null,null,null,null,null,null,null,null,null,null,null,null,null,null,null,null,null,null,null,null,null,null,null,null,null,null,null,null,null,null,null,null,null,null,null,null,null,null,null,null,null,null,null,null,"10YR 8/1",true,true,false,null,null,null,null,null,null,null,null,null,null,null,null,null,1,6,2,"1-6.0-2","Prominent redox concentrations"]
[null,null,null,null,null,null,null,null,null,null,null,null,null,null,null,null,null,null,null,null,null,null,null,null,null,null,null,null,null,null,null,null,null,null,null,null,null,null,null,null,null,null,null,null,null,null,null,null,null,null,null,null,null,null,null,null,null,null,null,null,null,null,null,null,null,null,"10YR 7/1",true,true,false,null,null,null,null,null,null,null,null,null,null,null,null,null,1,6,3,"1-6.0-3","Prominent redox concentrations"]
[null,null,null,null,null,null,null,null,null,null,null,null,null,null,null,null,null,null,null,null,null,null,null,null,null,null,null,null,null,null,null,null,null,null,null,null,null,null,null,null,null,null,null,null,null,null,null,null,null,null,null,null,null,null,null,null,null,null,null,null,null,null,null,null,null,null,"10YR 6/1",true,true,false,null,null,null,null,null,null,null,null,null,null,null,null,null,1,6,4,"1-6.0-4","Prominent redox concentrations"]
[null,null,null,null,null,null,null,null,null,null,null,null,null,null,null,null,null,null,null,null,null,null,null,null,null,null,null,null,null,null,null,null,null,null,null,null,null,null,null,null,null,null,null,null,null,null,null,null,null,null,null,null,null,null,null,null,null,null,null,null,null,null,null,null,null,null,"10YR 5/1",true,true,false,null,null,null,null,null,null,null,null,null,null,null,null,null,1,6,5,"1-6.0-5","Prominent redox concentrations"]
[null,null,null,null,null,null,null,null,null,null,null,null,null,null,null,null,null,null,null,null,null,null,null,null,null,null,null,null,null,null,null,null,null,null,null,null,null,null,null,null,null,null,null,null,null,null,null,null,null,null,null,null,null,null,null,null,null,null,null,null,null,null,null,null,null,null,"10YR 4/1",false,true,false,null,null,null,null,null,null,null,null,null,null,null,null,null,1,6,6,"1-6.0-6","Prominent redox concentrations"]
[null,null,null,null,null,null,null,null,null,null,null,null,null,null,null,null,null,null,null,null,null,null,null,null,null,null,null,null,null,null,null,null,null,null,null,null,null,null,null,null,null,null,null,null,null,null,null,null,null,null,null,null,null,null,null,null,null,null,null,null,null,null,null,null,null,null,"10YR 3/1",false,false,false,null,null,null,null,null,null,null,null,null,null,null,null,null,1,6,7,"1-6.0-7","Prominent redox concentrations"]
[null,null,null,null,null,null,null,null,null,null,null,null,null,null,null,null,null,null,null,null,null,null,null,null,null,null,null,null,null,null,null,null,null,null,null,null,null,null,null,null,null,null,null,null,null,null,null,null,null,null,null,null,null,null,null,null,null,null,null,null,null,null,null,null,null,null,"10YR 2/1",false,false,false,null,null,null,null,null,null,null,null,null,null,null,null,null,1,6.5,0,"1-6.5-0","Prominent redox concentrations"]
[null,null,null,null,null,null,null,null,null,null,null,null,null,null,null,null,null,null,null,null,null,null,null,null,null,null,null,null,null,null,null,null,null,null,null,null,null,null,null,null,null,null,null,null,null,null,null,null,null,null,null,null,null,null,null,null,null,null,null,null,null,null,null,null,null,null,"10YR 9.5/2",true,true,false,null,null,null,null,null,null,null,null,null,null,null,null,null,1,6.5,1,"1-6.5-1","Prominent redox concentrations"]
[null,null,null,null,null,null,null,null,null,null,null,null,null,null,null,null,null,null,null,null,null,null,null,null,null,null,null,null,null,null,null,null,null,null,null,null,null,null,null,null,null,null,null,null,null,null,null,null,null,null,null,null,null,null,null,null,null,null,null,null,null,null,null,null,null,null,"10YR 9/2",true,true,false,null,null,null,null,null,null,null,null,null,null,null,null,null,1,6.5,2,"1-6.5-2","Prominent redox concentrations"]
[null,null,null,null,null,null,null,null,null,null,null,null,null,null,null,null,null,null,null,null,null,null,null,null,null,null,null,null,null,null,null,null,null,null,null,null,null,null,null,null,null,null,null,null,null,null,null,null,null,null,null,null,null,null,null,null,null,null,null,null,null,null,null,null,null,null,"10YR 8.5/2",true,true,false,null,null,null,null,null,null,null,null,null,null,null,null,null,1,6.5,3,"1-6.5-3","Prominent redox concentrations"]
[null,null,null,null,null,null,null,null,null,null,null,null,null,null,null,null,null,null,null,null,null,null,null,null,null,null,null,null,null,null,null,null,null,null,null,null,null,null,null,null,null,null,null,null,null,null,null,null,null,null,null,null,null,null,null,null,null,null,null,null,null,null,null,null,null,null,"10YR 8/2",true,true,false,null,null,null,null,null,null,null,null,null,null,null,null,null,1,6.5,4,"1-6.5-4","Prominent redox concentrations"]
[null,null,null,null,null,null,null,null,null,null,null,null,null,null,null,null,null,null,null,null,null,null,null,null,null,null,null,null,null,null,null,null,null,null,null,null,null,null,null,null,null,null,null,null,null,null,null,null,null,null,null,null,null,null,null,null,null,null,null,null,null,null,null,null,null,null,"10YR 7/2",true,true,false,null,null,null,null,null,null,null,null,null,null,null,null,null,1,6.5,5,"1-6.5-5","Prominent redox concentrations"]
[null,null,null,null,null,null,null,null,null,null,null,null,null,null,null,null,null,null,null,null,null,null,null,null,null,null,null,null,null,null,null,null,null,null,null,null,null,null,null,null,null,null,null,null,null,null,null,null,null,null,null,null,null,null,null,null,null,null,null,null,null,null,null,null,null,null,"10YR 6/2",true,true,false,null,null,null,null,null,null,null,null,null,null,null,null,null,1,6.5,6,"1-6.5-6","Prominent redox concentrations"]
[null,null,null,null,null,null,null,null,null,null,null,null,null,null,null,null,null,null,null,null,null,null,null,null,null,null,null,null,null,null,null,null,null,null,null,null,null,null,null,null,null,null,null,null,null,null,null,null,null,null,null,null,null,null,null,null,null,null,null,null,null,null,null,null,null,null,"10YR 5/2",false,true,false,null,null,null,null,null,null,null,null,null,null,null,null,null,1,6.5,7,"1-6.5-7","Prominent redox concentrations"]
[null,null,null,null,null,null,null,null,null,null,null,null,null,null,null,null,null,null,null,null,null,null,null,null,null,null,null,null,null,null,null,null,null,null,null,null,null,null,null,null,null,null,null,null,null,null,null,null,null,null,null,null,null,null,null,null,null,null,null,null,null,null,null,null,null,null,"10YR 4/2",false,true,false,null,null,null,null,null,null,null,null,null,null,null,null,null,1,7,0,"1-7.0-0","Prominent redox concentrations"]
[null,null,null,null,null,null,null,null,null,null,null,null,null,null,null,null,null,null,null,null,null,null,null,null,null,null,null,null,null,null,null,null,null,null,null,null,null,null,null,null,null,null,null,null,null,null,null,null,null,null,null,null,null,null,null,null,null,null,null,null,null,null,null,null,null,null,"10YR 3/2",false,false,false,null,null,null,null,null,null,null,null,null,null,null,null,null,1,7,1,"1-7.0-1","Prominent redox concentrations"]
[null,null,null,null,null,null,null,null,null,null,null,null,null,null,null,null,null,null,null,null,null,null,null,null,null,null,null,null,null,null,null,null,null,null,null,null,null,null,null,null,null,null,null,null,null,null,null,null,null,null,null,null,null,null,null,null,null,null,null,null,null,null,null,null,null,null,"10YR 2/2",false,false,false,null,null,null,null,null,null,null,null,null,null,null,null,null,1,7,2,"1-7.0-2","Prominent redox concentrations"]
[null,null,null,null,null,null,null,null,null,null,null,null,null,null,null,null,null,null,null,null,null,null,null,null,null,null,null,null,null,null,null,null,null,null,null,null,null,null,null,null,null,null,null,null,null,null,null,null,null,null,null,null,null,null,null,null,null,null,null,null,null,null,null,null,null,null,"10YR 8/3",false,false,false,null,null,null,null,null,null,null,null,null,null,null,null,null,1,7,3,"1-7.0-3","Prominent redox concentrations"]
[null,null,null,null,null,null,null,null,null,null,null,null,null,null,null,null,null,null,null,null,null,null,null,null,null,null,null,null,null,null,null,null,null,null,null,null,null,null,null,null,null,null,null,null,null,null,null,null,null,null,null,null,null,null,null,null,null,null,null,null,null,null,null,null,null,null,"10YR 7/3",false,false,false,null,null,null,null,null,null,null,null,null,null,null,null,null,1,7,4,"1-7.0-4","Prominent redox concentrations"]
[null,null,null,null,null,null,null,null,null,null,null,null,null,null,null,null,null,null,null,null,null,null,null,null,null,null,null,null,null,null,null,null,null,null,null,null,null,null,null,null,null,null,null,null,null,null,null,null,null,null,null,null,null,null,null,null,null,null,null,null,null,null,null,null,null,null,"10YR 6/3",false,false,false,null,null,null,null,null,null,null,null,null,null,null,null,null,1,7,5,"1-7.0-5","Prominent redox concentrations"]
[null,null,null,null,null,null,null,null,null,null,null,null,null,null,null,null,null,null,null,null,null,null,null,null,null,null,null,null,null,null,null,null,null,null,null,null,null,null,null,null,null,null,null,null,null,null,null,null,null,null,null,null,null,null,null,null,null,null,null,null,null,null,null,null,null,null,"10YR 5/3",false,false,false,null,null,null,null,null,null,null,null,null,null,null,null,null,1,7,6,"1-7.0-6","Prominent redox concentrations"]
[null,null,null,null,null,null,null,null,null,null,null,null,null,null,null,null,null,null,null,null,null,null,null,null,null,null,null,null,null,null,null,null,null,null,null,null,null,null,null,null,null,null,null,null,null,null,null,null,null,null,null,null,null,null,null,null,null,null,null,null,null,null,null,null,null,null,"10YR 4/3",false,false,false,null,null,null,null,null,null,null,null,null,null,null,null,null,1,7,7,"1-7.0-7","Prominent redox concentrations"]
[null,null,null,null,null,null,null,null,null,null,null,null,null,null,null,null,null,null,null,null,null,null,null,null,null,null,null,null,null,null,null,null,null,null,null,null,null,null,null,null,null,null,null,null,null,null,null,null,null,null,null,null,null,null,null,null,null,null,null,null,null,null,null,null,null,null,"10YR 3/3",false,false,false,null,null,null,null,null,null,null,null,null,null,null,null,null,1,7.5,0,"1-7.5-0","Prominent redox concentrations"]
[null,null,null,null,null,null,null,null,null,null,null,null,null,null,null,null,null,null,null,null,null,null,null,null,null,null,null,null,null,null,null,null,null,null,null,null,null,null,null,null,null,null,null,null,null,null,null,null,null,null,null,null,null,null,null,null,null,null,null,null,null,null,null,null,null,null,"10YR 8/4",false,false,false,null,null,null,null,null,null,null,null,null,null,null,null,null,1,7.5,1,"1-7.5-1","Prominent redox concentrations"]
[null,null,null,null,null,null,null,null,null,null,null,null,null,null,null,null,null,null,null,null,null,null,null,null,null,null,null,null,null,null,null,null,null,null,null,null,null,null,null,null,null,null,null,null,null,null,null,null,null,null,null,null,null,null,null,null,null,null,null,null,null,null,null,null,null,null,"10YR 7/4",false,false,false,null,null,null,null,null,null,null,null,null,null,null,null,null,1,7.5,2,"1-7.5-2","Prominent redox concentrations"]
[null,null,null,null,null,null,null,null,null,null,null,null,null,null,null,null,null,null,null,null,null,null,null,null,null,null,null,null,null,null,null,null,null,null,null,null,null,null,null,null,null,null,null,null,null,null,null,null,null,null,null,null,null,null,null,null,null,null,null,null,null,null,null,null,null,null,"10YR 6/4",false,false,false,null,null,null,null,null,null,null,null,null,null,null,null,null,1,7.5,3,"1-7.5-3","Prominent redox concentrations"]
[null,null,null,null,null,null,null,null,null,null,null,null,null,null,null,null,null,null,null,null,null,null,null,null,null,null,null,null,null,null,null,null,null,null,null,null,null,null,null,null,null,null,null,null,null,null,null,null,null,null,null,null,null,null,null,null,null,null,null,null,null,null,null,null,null,null,"10YR 5/4",false,false,false,null,null,null,null,null,null,null,null,null,null,null,null,null,1,7.5,4,"1-7.5-4","Prominent redox concentrations"]
[null,null,null,null,null,null,null,null,null,null,null,null,null,null,null,null,null,null,null,null,null,null,null,null,null,null,null,null,null,null,null,null,null,null,null,null,null,null,null,null,null,null,null,null,null,null,null,null,null,null,null,null,null,null,null,null,null,null,null,null,null,null,null,null,null,null,"10YR 4/4",false,false,false,null,null,null,null,null,null,null,null,null,null,null,null,null,1,7.5,5,"1-7.5-5","Prominent redox concentrations"]
[null,null,null,null,null,null,null,null,null,null,null,null,null,null,null,null,null,null,null,null,null,null,null,null,null,null,null,null,null,null,null,null,null,null,null,null,null,null,null,null,null,null,null,null,null,null,null,null,null,null,null,null,null,null,null,null,null,null,null,null,null,null,null,null,null,null,"10YR 3/4",false,false,false,null,null,null,null,null,null,null,null,null,null,null,null,null,1,7.5,6,"1-7.5-6","Prominent redox concentrations"]
[null,null,null,null,null,null,null,null,null,null,null,null,null,null,null,null,null,null,null,null,null,null,null,null,null,null,null,null,null,null,null,null,null,null,null,null,null,null,null,null,null,null,null,null,null,null,null,null,null,null,null,null,null,null,null,null,null,null,null,null,null,null,null,null,null,null,"10YR 8/6",false,false,false,null,null,null,null,null,null,null,null,null,null,null,null,null,1,7.5,7,"1-7.5-7","Prominent redox concentrations"]
[null,null,null,null,null,null,null,null,null,null,null,null,null,null,null,null,null,null,null,null,null,null,null,null,null,null,null,null,null,null,null,null,null,null,null,null,null,null,null,null,null,null,null,null,null,null,null,null,null,null,null,null,null,null,null,null,null,null,null,null,null,null,null,null,null,null,"10YR 7/6",false,false,false,null,null,null,null,null,null,null,null,null,null,null,null,null,2,0,0,"2-0.0-0",{"$f":"$BZ$61","v":"Faint redox concentrations"}]
[null,null,null,null,null,null,null,null,null,null,null,null,null,null,null,null,null,null,null,null,null,null,null,null,null,null,null,null,null,null,null,null,null,null,null,null,null,null,null,null,null,null,null,null,null,null,null,null,null,null,null,null,null,null,null,null,null,null,null,null,null,null,null,null,null,null,"10YR 6/6",false,false,false,null,null,null,null,null,null,null,null,null,null,null,null,null,2,0,1,"2-0.0-1",{"$f":"$BZ$62","v":"Distinct redox concentrations"}]
[null,null,null,null,null,null,null,null,null,null,null,null,null,null,null,null,null,null,null,null,null,null,null,null,null,null,null,null,null,null,null,null,null,null,null,null,null,null,null,null,null,null,null,null,null,null,null,null,null,null,null,null,null,null,null,null,null,null,null,null,null,null,null,null,null,null,"10YR 5/6",false,false,false,null,null,null,null,null,null,null,null,null,null,null,null,null,2,0,2,"2-0.0-2",{"$f":"$BZ$63","v":"Prominent redox concentrations"}]
[null,null,null,null,null,null,null,null,null,null,null,null,null,null,null,null,null,null,null,null,null,null,null,null,null,null,null,null,null,null,null,null,null,null,null,null,null,null,null,null,null,null,null,null,null,null,null,null,null,null,null,null,null,null,null,null,null,null,null,null,null,null,null,null,null,null,"10YR 4/6",false,false,false,null,null,null,null,null,null,null,null,null,null,null,null,null,2,0,3,"2-0.0-3","Prominent redox concentrations"]
[null,null,null,null,null,null,null,null,null,null,null,null,null,null,null,null,null,null,null,null,null,null,null,null,null,null,null,null,null,null,null,null,null,null,null,null,null,null,null,null,null,null,null,null,null,null,null,null,null,null,null,null,null,null,null,null,null,null,null,null,null,null,null,null,null,null,"10YR 3/6",false,false,false,null,null,null,null,null,null,null,null,null,null,null,null,null,2,0,4,"2-0.0-4","Prominent redox concentrations"]
[null,null,null,null,null,null,null,null,null,null,null,null,null,null,null,null,null,null,null,null,null,null,null,null,null,null,null,null,null,null,null,null,null,null,null,null,null,null,null,null,null,null,null,null,null,null,null,null,null,null,null,null,null,null,null,null,null,null,null,null,null,null,null,null,null,null,"10YR 8/8",false,false,false,null,null,null,null,null,null,null,null,null,null,null,null,null,2,0,5,"2-0.0-5","Prominent redox concentrations"]
[null,null,null,null,null,null,null,null,null,null,null,null,null,null,null,null,null,null,null,null,null,null,null,null,null,null,null,null,null,null,null,null,null,null,null,null,null,null,null,null,null,null,null,null,null,null,null,null,null,null,null,null,null,null,null,null,null,null,null,null,null,null,null,null,null,null,"10YR 7/8",false,false,false,null,null,null,null,null,null,null,null,null,null,null,null,null,2,0,6,"2-0.0-6","Prominent redox concentrations"]
[null,null,null,null,null,null,null,null,null,null,null,null,null,null,null,null,null,null,null,null,null,null,null,null,null,null,null,null,null,null,null,null,null,null,null,null,null,null,null,null,null,null,null,null,null,null,null,null,null,null,null,null,null,null,null,null,null,null,null,null,null,null,null,null,null,null,"10YR 6/8",false,false,false,null,null,null,null,null,null,null,null,null,null,null,null,null,2,0,7,"2-0.0-7","Prominent redox concentrations"]
[null,null,null,null,null,null,null,null,null,null,null,null,null,null,null,null,null,null,null,null,null,null,null,null,null,null,null,null,null,null,null,null,null,null,null,null,null,null,null,null,null,null,null,null,null,null,null,null,null,null,null,null,null,null,null,null,null,null,null,null,null,null,null,null,null,null,"10YR 5/8",false,false,false,null,null,null,null,null,null,null,null,null,null,null,null,null,2,0.5,0,"2-0.5-0",{"$f":"$BZ$62","v":"Distinct redox concentrations"}]
[null,null,null,null,null,null,null,null,null,null,null,null,null,null,null,null,null,null,null,null,null,null,null,null,null,null,null,null,null,null,null,null,null,null,null,null,null,null,null,null,null,null,null,null,null,null,null,null,null,null,null,null,null,null,null,null,null,null,null,null,null,null,null,null,null,null,"2.5Y 9.5/1",true,true,false,null,null,null,null,null,null,null,null,null,null,null,null,null,2,0.5,1,"2-0.5-1",{"$f":"$BZ$62","v":"Distinct redox concentrations"}]
[null,null,null,null,null,null,null,null,null,null,null,null,null,null,null,null,null,null,null,null,null,null,null,null,null,null,null,null,null,null,null,null,null,null,null,null,null,null,null,null,null,null,null,null,null,null,null,null,null,null,null,null,null,null,null,null,null,null,null,null,null,null,null,null,null,null,"2.5Y 9/1",true,true,false,null,null,null,null,null,null,null,null,null,null,null,null,null,2,0.5,2,"2-0.5-2",{"$f":"$BZ$63","v":"Prominent redox concentrations"}]
[null,null,null,null,null,null,null,null,null,null,null,null,null,null,null,null,null,null,null,null,null,null,null,null,null,null,null,null,null,null,null,null,null,null,null,null,null,null,null,null,null,null,null,null,null,null,null,null,null,null,null,null,null,null,null,null,null,null,null,null,null,null,null,null,null,null,"2.5Y 8.5/1",true,true,false,null,null,null,null,null,null,null,null,null,null,null,null,null,2,0.5,3,"2-0.5-3","Prominent redox concentrations"]
[null,null,null,null,null,null,null,null,null,null,null,null,null,null,null,null,null,null,null,null,null,null,null,null,null,null,null,null,null,null,null,null,null,null,null,null,null,null,null,null,null,null,null,null,null,null,null,null,null,null,null,null,null,null,null,null,null,null,null,null,null,null,null,null,null,null,"2.5Y 8/1",true,true,false,null,null,null,null,null,null,null,null,null,null,null,null,null,2,0.5,4,"2-0.5-4","Prominent redox concentrations"]
[null,null,null,null,null,null,null,null,null,null,null,null,null,null,null,null,null,null,null,null,null,null,null,null,null,null,null,null,null,null,null,null,null,null,null,null,null,null,null,null,null,null,null,null,null,null,null,null,null,null,null,null,null,null,null,null,null,null,null,null,null,null,null,null,null,null,"2.5Y 7/1",true,true,false,null,null,null,null,null,null,null,null,null,null,null,null,null,2,0.5,5,"2-0.5-5","Prominent redox concentrations"]
[null,null,null,null,null,null,null,null,null,null,null,null,null,null,null,null,null,null,null,null,null,null,null,null,null,null,null,null,null,null,null,null,null,null,null,null,null,null,null,null,null,null,null,null,null,null,null,null,null,null,null,null,null,null,null,null,null,null,null,null,null,null,null,null,null,null,"2.5Y 6/1",true,true,false,null,null,null,null,null,null,null,null,null,null,null,null,null,2,0.5,6,"2-0.5-6","Prominent redox concentrations"]
[null,null,null,null,null,null,null,null,null,null,null,null,null,null,null,null,null,null,null,null,null,null,null,null,null,null,null,null,null,null,null,null,null,null,null,null,null,null,null,null,null,null,null,null,null,null,null,null,null,null,null,null,null,null,null,null,null,null,null,null,null,null,null,null,null,null,"2.5Y 5/1",true,true,false,null,null,null,null,null,null,null,null,null,null,null,null,null,2,0.5,7,"2-0.5-7","Prominent redox concentrations"]
[null,null,null,null,null,null,null,null,null,null,null,null,null,null,null,null,null,null,null,null,null,null,null,null,null,null,null,null,null,null,null,null,null,null,null,null,null,null,null,null,null,null,null,null,null,null,null,null,null,null,null,null,null,null,null,null,null,null,null,null,null,null,null,null,null,null,"2.5Y 4/1",false,true,false,null,null,null,null,null,null,null,null,null,null,null,null,null,2,1,0,"2-1.0-0",{"$f":"$BZ$62","v":"Distinct redox concentrations"}]
[null,null,null,null,null,null,null,null,null,null,null,null,null,null,null,null,null,null,null,null,null,null,null,null,null,null,null,null,null,null,null,null,null,null,null,null,null,null,null,null,null,null,null,null,null,null,null,null,null,null,null,null,null,null,null,null,null,null,null,null,null,null,null,null,null,null,"2.5Y 3/1",false,false,false,null,null,null,null,null,null,null,null,null,null,null,null,null,2,1,1,"2-1.0-1",{"$f":"$BZ$62","v":"Distinct redox concentrations"}]
[null,null,null,null,null,null,null,null,null,null,null,null,null,null,null,null,null,null,null,null,null,null,null,null,null,null,null,null,null,null,null,null,null,null,null,null,null,null,null,null,null,null,null,null,null,null,null,null,null,null,null,null,null,null,null,null,null,null,null,null,null,null,null,null,null,null,"2.5Y 2.5/1",false,false,false,null,null,null,null,null,null,null,null,null,null,null,null,null,2,1,2,"2-1.0-2",{"$f":"$BZ$63","v":"Prominent redox concentrations"}]
[null,null,null,null,null,null,null,null,null,null,null,null,null,null,null,null,null,null,null,null,null,null,null,null,null,null,null,null,null,null,null,null,null,null,null,null,null,null,null,null,null,null,null,null,null,null,null,null,null,null,null,null,null,null,null,null,null,null,null,null,null,null,null,null,null,null,"2.5Y 9.5/2",true,true,false,null,null,null,null,null,null,null,null,null,null,null,null,null,2,1,3,"2-1.0-3","Prominent redox concentrations"]
[null,null,null,null,null,null,null,null,null,null,null,null,null,null,null,null,null,null,null,null,null,null,null,null,null,null,null,null,null,null,null,null,null,null,null,null,null,null,null,null,null,null,null,null,null,null,null,null,null,null,null,null,null,null,null,null,null,null,null,null,null,null,null,null,null,null,"2.5Y 9/2",true,true,false,null,null,null,null,null,null,null,null,null,null,null,null,null,2,1,4,"2-1.0-4","Prominent redox concentrations"]
[null,null,null,null,null,null,null,null,null,null,null,null,null,null,null,null,null,null,null,null,null,null,null,null,null,null,null,null,null,null,null,null,null,null,null,null,null,null,null,null,null,null,null,null,null,null,null,null,null,null,null,null,null,null,null,null,null,null,null,null,null,null,null,null,null,null,"2.5Y 8.5/2",true,true,false,null,null,null,null,null,null,null,null,null,null,null,null,null,2,1,5,"2-1.0-5","Prominent redox concentrations"]
[null,null,null,null,null,null,null,null,null,null,null,null,null,null,null,null,null,null,null,null,null,null,null,null,null,null,null,null,null,null,null,null,null,null,null,null,null,null,null,null,null,null,null,null,null,null,null,null,null,null,null,null,null,null,null,null,null,null,null,null,null,null,null,null,null,null,"2.5Y 8/2",true,true,false,null,null,null,null,null,null,null,null,null,null,null,null,null,2,1,6,"2-1.0-6","Prominent redox concentrations"]
[null,null,null,null,null,null,null,null,null,null,null,null,null,null,null,null,null,null,null,null,null,null,null,null,null,null,null,null,null,null,null,null,null,null,null,null,null,null,null,null,null,null,null,null,null,null,null,null,null,null,null,null,null,null,null,null,null,null,null,null,null,null,null,null,null,null,"2.5Y 7/2",true,true,false,null,null,null,null,null,null,null,null,null,null,null,null,null,2,1,7,"2-1.0-7","Prominent redox concentrations"]
[null,null,null,null,null,null,null,null,null,null,null,null,null,null,null,null,null,null,null,null,null,null,null,null,null,null,null,null,null,null,null,null,null,null,null,null,null,null,null,null,null,null,null,null,null,null,null,null,null,null,null,null,null,null,null,null,null,null,null,null,null,null,null,null,null,null,"2.5Y 6/2",true,true,false,null,null,null,null,null,null,null,null,null,null,null,null,null,2,1.5,0,"2-1.5-0",{"$f":"$BZ$62","v":"Distinct redox concentrations"}]
[null,null,null,null,null,null,null,null,null,null,null,null,null,null,null,null,null,null,null,null,null,null,null,null,null,null,null,null,null,null,null,null,null,null,null,null,null,null,null,null,null,null,null,null,null,null,null,null,null,null,null,null,null,null,null,null,null,null,null,null,null,null,null,null,null,null,"2.5Y 5/2",false,true,false,null,null,null,null,null,null,null,null,null,null,null,null,null,2,1.5,1,"2-1.5-1",{"$f":"$BZ$62","v":"Distinct redox concentrations"}]
[null,null,null,null,null,null,null,null,null,null,null,null,null,null,null,null,null,null,null,null,null,null,null,null,null,null,null,null,null,null,null,null,null,null,null,null,null,null,null,null,null,null,null,null,null,null,null,null,null,null,null,null,null,null,null,null,null,null,null,null,null,null,null,null,null,null,"2.5Y 4/2",false,true,false,null,null,null,null,null,null,null,null,null,null,null,null,null,2,1.5,2,"2-1.5-2",{"$f":"$BZ$63","v":"Prominent redox concentrations"}]
[null,null,null,null,null,null,null,null,null,null,null,null,null,null,null,null,null,null,null,null,null,null,null,null,null,null,null,null,null,null,null,null,null,null,null,null,null,null,null,null,null,null,null,null,null,null,null,null,null,null,null,null,null,null,null,null,null,null,null,null,null,null,null,null,null,null,"2.5Y 3/2",false,false,false,null,null,null,null,null,null,null,null,null,null,null,null,null,2,1.5,3,"2-1.5-3","Prominent redox concentrations"]
[null,null,null,null,null,null,null,null,null,null,null,null,null,null,null,null,null,null,null,null,null,null,null,null,null,null,null,null,null,null,null,null,null,null,null,null,null,null,null,null,null,null,null,null,null,null,null,null,null,null,null,null,null,null,null,null,null,null,null,null,null,null,null,null,null,null,"2.5Y 8/3",false,false,false,null,null,null,null,null,null,null,null,null,null,null,null,null,2,1.5,4,"2-1.5-4","Prominent redox concentrations"]
[null,null,null,null,null,null,null,null,null,null,null,null,null,null,null,null,null,null,null,null,null,null,null,null,null,null,null,null,null,null,null,null,null,null,null,null,null,null,null,null,null,null,null,null,null,null,null,null,null,null,null,null,null,null,null,null,null,null,null,null,null,null,null,null,null,null,"2.5Y 7/3",false,false,false,null,null,null,null,null,null,null,null,null,null,null,null,null,2,1.5,5,"2-1.5-5","Prominent redox concentrations"]
[null,null,null,null,null,null,null,null,null,null,null,null,null,null,null,null,null,null,null,null,null,null,null,null,null,null,null,null,null,null,null,null,null,null,null,null,null,null,null,null,null,null,null,null,null,null,null,null,null,null,null,null,null,null,null,null,null,null,null,null,null,null,null,null,null,null,"2.5Y 6/3",false,false,false,null,null,null,null,null,null,null,null,null,null,null,null,null,2,1.5,6,"2-1.5-6","Prominent redox concentrations"]
[null,null,null,null,null,null,null,null,null,null,null,null,null,null,null,null,null,null,null,null,null,null,null,null,null,null,null,null,null,null,null,null,null,null,null,null,null,null,null,null,null,null,null,null,null,null,null,null,null,null,null,null,null,null,null,null,null,null,null,null,null,null,null,null,null,null,"2.5Y 5/3",false,false,false,null,null,null,null,null,null,null,null,null,null,null,null,null,2,1.5,7,"2-1.5-7","Prominent redox concentrations"]
[null,null,null,null,null,null,null,null,null,null,null,null,null,null,null,null,null,null,null,null,null,null,null,null,null,null,null,null,null,null,null,null,null,null,null,null,null,null,null,null,null,null,null,null,null,null,null,null,null,null,null,null,null,null,null,null,null,null,null,null,null,null,null,null,null,null,"2.5Y 4/3",false,false,false,null,null,null,null,null,null,null,null,null,null,null,null,null,2,2,0,"2-2.0-0","Prominent redox concentrations"]
[null,null,null,null,null,null,null,null,null,null,null,null,null,null,null,null,null,null,null,null,null,null,null,null,null,null,null,null,null,null,null,null,null,null,null,null,null,null,null,null,null,null,null,null,null,null,null,null,null,null,null,null,null,null,null,null,null,null,null,null,null,null,null,null,null,null,"2.5Y 3/3",false,false,false,null,null,null,null,null,null,null,null,null,null,null,null,null,2,2,1,"2-2.0-1","Prominent redox concentrations"]
[null,null,null,null,null,null,null,null,null,null,null,null,null,null,null,null,null,null,null,null,null,null,null,null,null,null,null,null,null,null,null,null,null,null,null,null,null,null,null,null,null,null,null,null,null,null,null,null,null,null,null,null,null,null,null,null,null,null,null,null,null,null,null,null,null,null,"2.5Y 8/4",false,false,false,null,null,null,null,null,null,null,null,null,null,null,null,null,2,2,2,"2-2.0-2","Prominent redox concentrations"]
[null,null,null,null,null,null,null,null,null,null,null,null,null,null,null,null,null,null,null,null,null,null,null,null,null,null,null,null,null,null,null,null,null,null,null,null,null,null,null,null,null,null,null,null,null,null,null,null,null,null,null,null,null,null,null,null,null,null,null,null,null,null,null,null,null,null,"2.5Y 7/4",false,false,false,null,null,null,null,null,null,null,null,null,null,null,null,null,2,2,3,"2-2.0-3","Prominent redox concentrations"]
[null,null,null,null,null,null,null,null,null,null,null,null,null,null,null,null,null,null,null,null,null,null,null,null,null,null,null,null,null,null,null,null,null,null,null,null,null,null,null,null,null,null,null,null,null,null,null,null,null,null,null,null,null,null,null,null,null,null,null,null,null,null,null,null,null,null,"2.5Y 6/4",false,false,false,null,null,null,null,null,null,null,null,null,null,null,null,null,2,2,4,"2-2.0-4","Prominent redox concentrations"]
[null,null,null,null,null,null,null,null,null,null,null,null,null,null,null,null,null,null,null,null,null,null,null,null,null,null,null,null,null,null,null,null,null,null,null,null,null,null,null,null,null,null,null,null,null,null,null,null,null,null,null,null,null,null,null,null,null,null,null,null,null,null,null,null,null,null,"2.5Y 5/4",false,false,false,null,null,null,null,null,null,null,null,null,null,null,null,null,2,2,5,"2-2.0-5","Prominent redox concentrations"]
[null,null,null,null,null,null,null,null,null,null,null,null,null,null,null,null,null,null,null,null,null,null,null,null,null,null,null,null,null,null,null,null,null,null,null,null,null,null,null,null,null,null,null,null,null,null,null,null,null,null,null,null,null,null,null,null,null,null,null,null,null,null,null,null,null,null,"2.5Y 4/4",false,false,false,null,null,null,null,null,null,null,null,null,null,null,null,null,2,2,6,"2-2.0-6","Prominent redox concentrations"]
[null,null,null,null,null,null,null,null,null,null,null,null,null,null,null,null,null,null,null,null,null,null,null,null,null,null,null,null,null,null,null,null,null,null,null,null,null,null,null,null,null,null,null,null,null,null,null,null,null,null,null,null,null,null,null,null,null,null,null,null,null,null,null,null,null,null,"2.5Y 8/6",false,false,false,null,null,null,null,null,null,null,null,null,null,null,null,null,2,2,7,"2-2.0-7","Prominent redox concentrations"]
[null,null,null,null,null,null,null,null,null,null,null,null,null,null,null,null,null,null,null,null,null,null,null,null,null,null,null,null,null,null,null,null,null,null,null,null,null,null,null,null,null,null,null,null,null,null,null,null,null,null,null,null,null,null,null,null,null,null,null,null,null,null,null,null,null,null,"2.5Y 7/6",false,false,false,null,null,null,null,null,null,null,null,null,null,null,null,null,2,2.5,0,"2-2.5-0","Prominent redox concentrations"]
[null,null,null,null,null,null,null,null,null,null,null,null,null,null,null,null,null,null,null,null,null,null,null,null,null,null,null,null,null,null,null,null,null,null,null,null,null,null,null,null,null,null,null,null,null,null,null,null,null,null,null,null,null,null,null,null,null,null,null,null,null,null,null,null,null,null,"2.5Y 6/6",false,false,false,null,null,null,null,null,null,null,null,null,null,null,null,null,2,2.5,1,"2-2.5-1","Prominent redox concentrations"]
[null,null,null,null,null,null,null,null,null,null,null,null,null,null,null,null,null,null,null,null,null,null,null,null,null,null,null,null,null,null,null,null,null,null,null,null,null,null,null,null,null,null,null,null,null,null,null,null,null,null,null,null,null,null,null,null,null,null,null,null,null,null,null,null,null,null,"2.5Y 5/6",false,false,false,null,null,null,null,null,null,null,null,null,null,null,null,null,2,2.5,2,"2-2.5-2","Prominent redox concentrations"]
[null,null,null,null,null,null,null,null,null,null,null,null,null,null,null,null,null,null,null,null,null,null,null,null,null,null,null,null,null,null,null,null,null,null,null,null,null,null,null,null,null,null,null,null,null,null,null,null,null,null,null,null,null,null,null,null,null,null,null,null,null,null,null,null,null,null,"2.5Y 8/8",false,false,false,null,null,null,null,null,null,null,null,null,null,null,null,null,2,2.5,3,"2-2.5-3","Prominent redox concentrations"]
[null,null,null,null,null,null,null,null,null,null,null,null,null,null,null,null,null,null,null,null,null,null,null,null,null,null,null,null,null,null,null,null,null,null,null,null,null,null,null,null,null,null,null,null,null,null,null,null,null,null,null,null,null,null,null,null,null,null,null,null,null,null,null,null,null,null,"2.5Y 7/8",false,false,false,null,null,null,null,null,null,null,null,null,null,null,null,null,2,2.5,4,"2-2.5-4","Prominent redox concentrations"]
[null,null,null,null,null,null,null,null,null,null,null,null,null,null,null,null,null,null,null,null,null,null,null,null,null,null,null,null,null,null,null,null,null,null,null,null,null,null,null,null,null,null,null,null,null,null,null,null,null,null,null,null,null,null,null,null,null,null,null,null,null,null,null,null,null,null,"2.5Y 6/8",false,false,false,null,null,null,null,null,null,null,null,null,null,null,null,null,2,2.5,5,"2-2.5-5","Prominent redox concentrations"]
[null,null,null,null,null,null,null,null,null,null,null,null,null,null,null,null,null,null,null,null,null,null,null,null,null,null,null,null,null,null,null,null,null,null,null,null,null,null,null,null,null,null,null,null,null,null,null,null,null,null,null,null,null,null,null,null,null,null,null,null,null,null,null,null,null,null,"5Y 8/1",true,true,false,null,null,null,null,null,null,null,null,null,null,null,null,null,2,2.5,6,"2-2.5-6","Prominent redox concentrations"]
[null,null,null,null,null,null,null,null,null,null,null,null,null,null,null,null,null,null,null,null,null,null,null,null,null,null,null,null,null,null,null,null,null,null,null,null,null,null,null,null,null,null,null,null,null,null,null,null,null,null,null,null,null,null,null,null,null,null,null,null,null,null,null,null,null,null,"5Y 7/1",true,true,false,null,null,null,null,null,null,null,null,null,null,null,null,null,2,2.5,7,"2-2.5-7","Prominent redox concentrations"]
[null,null,null,null,null,null,null,null,null,null,null,null,null,null,null,null,null,null,null,null,null,null,null,null,null,null,null,null,null,null,null,null,null,null,null,null,null,null,null,null,null,null,null,null,null,null,null,null,null,null,null,null,null,null,null,null,null,null,null,null,null,null,null,null,null,null,"5Y 6/1",true,true,false,null,null,null,null,null,null,null,null,null,null,null,null,null,2,3,0,{"$f":"TEXT(CF366,\"0\")&\"-\"&TEXT(CG366,\"0.0\")&\"-\"&TEXT(CH366,\"0\")","v":"2-3.0-0"},"Prominent redox concentrations"]
[null,null,null,null,null,null,null,null,null,null,null,null,null,null,null,null,null,null,null,null,null,null,null,null,null,null,null,null,null,null,null,null,null,null,null,null,null,null,null,null,null,null,null,null,null,null,null,null,null,null,null,null,null,null,null,null,null,null,null,null,null,null,null,null,null,null,"5Y 5/1",true,true,false,null,null,null,null,null,null,null,null,null,null,null,null,null,2,3,1,"2-3.0-1","Prominent redox concentrations"]
[null,null,null,null,null,null,null,null,null,null,null,null,null,null,null,null,null,null,null,null,null,null,null,null,null,null,null,null,null,null,null,null,null,null,null,null,null,null,null,null,null,null,null,null,null,null,null,null,null,null,null,null,null,null,null,null,null,null,null,null,null,null,null,null,null,null,"5Y 4/1",false,true,false,null,null,null,null,null,null,null,null,null,null,null,null,null,2,3,2,"2-3.0-2","Prominent redox concentrations"]
[null,null,null,null,null,null,null,null,null,null,null,null,null,null,null,null,null,null,null,null,null,null,null,null,null,null,null,null,null,null,null,null,null,null,null,null,null,null,null,null,null,null,null,null,null,null,null,null,null,null,null,null,null,null,null,null,null,null,null,null,null,null,null,null,null,null,"5Y 3/1",false,false,false,null,null,null,null,null,null,null,null,null,null,null,null,null,2,3,3,"2-3.0-3","Prominent redox concentrations"]
[null,null,null,null,null,null,null,null,null,null,null,null,null,null,null,null,null,null,null,null,null,null,null,null,null,null,null,null,null,null,null,null,null,null,null,null,null,null,null,null,null,null,null,null,null,null,null,null,null,null,null,null,null,null,null,null,null,null,null,null,null,null,null,null,null,null,"5Y 2.5/1",false,false,false,null,null,null,null,null,null,null,null,null,null,null,null,null,2,3,4,"2-3.0-4","Prominent redox concentrations"]
[null,null,null,null,null,null,null,null,null,null,null,null,null,null,null,null,null,null,null,null,null,null,null,null,null,null,null,null,null,null,null,null,null,null,null,null,null,null,null,null,null,null,null,null,null,null,null,null,null,null,null,null,null,null,null,null,null,null,null,null,null,null,null,null,null,null,"5Y 8/2",true,true,false,null,null,null,null,null,null,null,null,null,null,null,null,null,2,3,5,"2-3.0-5","Prominent redox concentrations"]
[null,null,null,null,null,null,null,null,null,null,null,null,null,null,null,null,null,null,null,null,null,null,null,null,null,null,null,null,null,null,null,null,null,null,null,null,null,null,null,null,null,null,null,null,null,null,null,null,null,null,null,null,null,null,null,null,null,null,null,null,null,null,null,null,null,null,"5Y 7/2",true,true,false,null,null,null,null,null,null,null,null,null,null,null,null,null,2,3,6,"2-3.0-6","Prominent redox concentrations"]
[null,null,null,null,null,null,null,null,null,null,null,null,null,null,null,null,null,null,null,null,null,null,null,null,null,null,null,null,null,null,null,null,null,null,null,null,null,null,null,null,null,null,null,null,null,null,null,null,null,null,null,null,null,null,null,null,null,null,null,null,null,null,null,null,null,null,"5Y 6/2",true,true,false,null,null,null,null,null,null,null,null,null,null,null,null,null,2,3,7,"2-3.0-7","Prominent redox concentrations"]
[null,null,null,null,null,null,null,null,null,null,null,null,null,null,null,null,null,null,null,null,null,null,null,null,null,null,null,null,null,null,null,null,null,null,null,null,null,null,null,null,null,null,null,null,null,null,null,null,null,null,null,null,null,null,null,null,null,null,null,null,null,null,null,null,null,null,"5Y 5/2",false,true,false,null,null,null,null,null,null,null,null,null,null,null,null,null,2,3.5,0,"2-3.5-0","Prominent redox concentrations"]
[null,null,null,null,null,null,null,null,null,null,null,null,null,null,null,null,null,null,null,null,null,null,null,null,null,null,null,null,null,null,null,null,null,null,null,null,null,null,null,null,null,null,null,null,null,null,null,null,null,null,null,null,null,null,null,null,null,null,null,null,null,null,null,null,null,null,"5Y 4/2",false,true,false,null,null,null,null,null,null,null,null,null,null,null,null,null,2,3.5,1,"2-3.5-1","Prominent redox concentrations"]
[null,null,null,null,null,null,null,null,null,null,null,null,null,null,null,null,null,null,null,null,null,null,null,null,null,null,null,null,null,null,null,null,null,null,null,null,null,null,null,null,null,null,null,null,null,null,null,null,null,null,null,null,null,null,null,null,null,null,null,null,null,null,null,null,null,null,"5Y 3/2",false,false,false,null,null,null,null,null,null,null,null,null,null,null,null,null,2,3.5,2,"2-3.5-2",{"$f":"$BZ$63","v":"Prominent redox concentrations"}]
[null,null,null,null,null,null,null,null,null,null,null,null,null,null,null,null,null,null,null,null,null,null,null,null,null,null,null,null,null,null,null,null,null,null,null,null,null,null,null,null,null,null,null,null,null,null,null,null,null,null,null,null,null,null,null,null,null,null,null,null,null,null,null,null,null,null,"5Y 2.5/2",false,false,false,null,null,null,null,null,null,null,null,null,null,null,null,null,2,3.5,3,"2-3.5-3","Prominent redox concentrations"]
[null,null,null,null,null,null,null,null,null,null,null,null,null,null,null,null,null,null,null,null,null,null,null,null,null,null,null,null,null,null,null,null,null,null,null,null,null,null,null,null,null,null,null,null,null,null,null,null,null,null,null,null,null,null,null,null,null,null,null,null,null,null,null,null,null,null,"5Y 8/3",false,false,false,null,null,null,null,null,null,null,null,null,null,null,null,null,2,3.5,4,"2-3.5-4","Prominent redox concentrations"]
[null,null,null,null,null,null,null,null,null,null,null,null,null,null,null,null,null,null,null,null,null,null,null,null,null,null,null,null,null,null,null,null,null,null,null,null,null,null,null,null,null,null,null,null,null,null,null,null,null,null,null,null,null,null,null,null,null,null,null,null,null,null,null,null,null,null,"5Y 7/3",false,false,false,null,null,null,null,null,null,null,null,null,null,null,null,null,2,3.5,5,"2-3.5-5","Prominent redox concentrations"]
[null,null,null,null,null,null,null,null,null,null,null,null,null,null,null,null,null,null,null,null,null,null,null,null,null,null,null,null,null,null,null,null,null,null,null,null,null,null,null,null,null,null,null,null,null,null,null,null,null,null,null,null,null,null,null,null,null,null,null,null,null,null,null,null,null,null,"5Y 6/3",false,false,false,null,null,null,null,null,null,null,null,null,null,null,null,null,2,3.5,6,"2-3.5-6","Prominent redox concentrations"]
[null,null,null,null,null,null,null,null,null,null,null,null,null,null,null,null,null,null,null,null,null,null,null,null,null,null,null,null,null,null,null,null,null,null,null,null,null,null,null,null,null,null,null,null,null,null,null,null,null,null,null,null,null,null,null,null,null,null,null,null,null,null,null,null,null,null,"5Y 5/3",false,false,false,null,null,null,null,null,null,null,null,null,null,null,null,null,2,3.5,7,"2-3.5-7","Prominent redox concentrations"]
[null,null,null,null,null,null,null,null,null,null,null,null,null,null,null,null,null,null,null,null,null,null,null,null,null,null,null,null,null,null,null,null,null,null,null,null,null,null,null,null,null,null,null,null,null,null,null,null,null,null,null,null,null,null,null,null,null,null,null,null,null,null,null,null,null,null,"5Y 4/3",false,false,false,null,null,null,null,null,null,null,null,null,null,null,null,null,2,4,0,"2-4.0-0","Prominent redox concentrations"]
[null,null,null,null,null,null,null,null,null,null,null,null,null,null,null,null,null,null,null,null,null,null,null,null,null,null,null,null,null,null,null,null,null,null,null,null,null,null,null,null,null,null,null,null,null,null,null,null,null,null,null,null,null,null,null,null,null,null,null,null,null,null,null,null,null,null,"5Y 8/4",false,false,false,null,null,null,null,null,null,null,null,null,null,null,null,null,2,4,1,"2-4.0-1","Prominent redox concentrations"]
[null,null,null,null,null,null,null,null,null,null,null,null,null,null,null,null,null,null,null,null,null,null,null,null,null,null,null,null,null,null,null,null,null,null,null,null,null,null,null,null,null,null,null,null,null,null,null,null,null,null,null,null,null,null,null,null,null,null,null,null,null,null,null,null,null,null,"5Y 7/4",false,false,false,null,null,null,null,null,null,null,null,null,null,null,null,null,2,4,2,"2-4.0-2","Prominent redox concentrations"]
[null,null,null,null,null,null,null,null,null,null,null,null,null,null,null,null,null,null,null,null,null,null,null,null,null,null,null,null,null,null,null,null,null,null,null,null,null,null,null,null,null,null,null,null,null,null,null,null,null,null,null,null,null,null,null,null,null,null,null,null,null,null,null,null,null,null,"5Y 6/4",false,false,false,null,null,null,null,null,null,null,null,null,null,null,null,null,2,4,3,"2-4.0-3","Prominent redox concentrations"]
[null,null,null,null,null,null,null,null,null,null,null,null,null,null,null,null,null,null,null,null,null,null,null,null,null,null,null,null,null,null,null,null,null,null,null,null,null,null,null,null,null,null,null,null,null,null,null,null,null,null,null,null,null,null,null,null,null,null,null,null,null,null,null,null,null,null,"5Y 5/4",false,false,false,null,null,null,null,null,null,null,null,null,null,null,null,null,2,4,4,"2-4.0-4","Prominent redox concentrations"]
[null,null,null,null,null,null,null,null,null,null,null,null,null,null,null,null,null,null,null,null,null,null,null,null,null,null,null,null,null,null,null,null,null,null,null,null,null,null,null,null,null,null,null,null,null,null,null,null,null,null,null,null,null,null,null,null,null,null,null,null,null,null,null,null,null,null,"5Y 4/4",false,false,false,null,null,null,null,null,null,null,null,null,null,null,null,null,2,4,5,"2-4.0-5","Prominent redox concentrations"]
[null,null,null,null,null,null,null,null,null,null,null,null,null,null,null,null,null,null,null,null,null,null,null,null,null,null,null,null,null,null,null,null,null,null,null,null,null,null,null,null,null,null,null,null,null,null,null,null,null,null,null,null,null,null,null,null,null,null,null,null,null,null,null,null,null,null,"5Y 8/6",false,false,false,null,null,null,null,null,null,null,null,null,null,null,null,null,2,4,6,"2-4.0-6","Prominent redox concentrations"]
[null,null,null,null,null,null,null,null,null,null,null,null,null,null,null,null,null,null,null,null,null,null,null,null,null,null,null,null,null,null,null,null,null,null,null,null,null,null,null,null,null,null,null,null,null,null,null,null,null,null,null,null,null,null,null,null,null,null,null,null,null,null,null,null,null,null,"5Y 7/6",false,false,false,null,null,null,null,null,null,null,null,null,null,null,null,null,2,4,7,"2-4.0-7","Prominent redox concentrations"]
[null,null,null,null,null,null,null,null,null,null,null,null,null,null,null,null,null,null,null,null,null,null,null,null,null,null,null,null,null,null,null,null,null,null,null,null,null,null,null,null,null,null,null,null,null,null,null,null,null,null,null,null,null,null,null,null,null,null,null,null,null,null,null,null,null,null,"5Y 6/6",false,false,false,null,null,null,null,null,null,null,null,null,null,null,null,null,2,4.5,0,"2-4.5-0","Prominent redox concentrations"]
[null,null,null,null,null,null,null,null,null,null,null,null,null,null,null,null,null,null,null,null,null,null,null,null,null,null,null,null,null,null,null,null,null,null,null,null,null,null,null,null,null,null,null,null,null,null,null,null,null,null,null,null,null,null,null,null,null,null,null,null,null,null,null,null,null,null,"5Y 5/6",false,false,false,null,null,null,null,null,null,null,null,null,null,null,null,null,2,4.5,1,"2-4.5-1","Prominent redox concentrations"]
[null,null,null,null,null,null,null,null,null,null,null,null,null,null,null,null,null,null,null,null,null,null,null,null,null,null,null,null,null,null,null,null,null,null,null,null,null,null,null,null,null,null,null,null,null,null,null,null,null,null,null,null,null,null,null,null,null,null,null,null,null,null,null,null,null,null,"5Y 8/8",false,false,false,null,null,null,null,null,null,null,null,null,null,null,null,null,2,4.5,2,"2-4.5-2","Prominent redox concentrations"]
[null,null,null,null,null,null,null,null,null,null,null,null,null,null,null,null,null,null,null,null,null,null,null,null,null,null,null,null,null,null,null,null,null,null,null,null,null,null,null,null,null,null,null,null,null,null,null,null,null,null,null,null,null,null,null,null,null,null,null,null,null,null,null,null,null,null,"5Y 7/8",false,false,false,null,null,null,null,null,null,null,null,null,null,null,null,null,2,4.5,3,"2-4.5-3","Prominent redox concentrations"]
[null,null,null,null,null,null,null,null,null,null,null,null,null,null,null,null,null,null,null,null,null,null,null,null,null,null,null,null,null,null,null,null,null,null,null,null,null,null,null,null,null,null,null,null,null,null,null,null,null,null,null,null,null,null,null,null,null,null,null,null,null,null,null,null,null,null,"5Y 6/8",false,false,false,null,null,null,null,null,null,null,null,null,null,null,null,null,2,4.5,4,"2-4.5-4","Prominent redox concentrations"]
[null,null,null,null,null,null,null,null,null,null,null,null,null,null,null,null,null,null,null,null,null,null,null,null,null,null,null,null,null,null,null,null,null,null,null,null,null,null,null,null,null,null,null,null,null,null,null,null,null,null,null,null,null,null,null,null,null,null,null,null,null,null,null,null,null,null,"N 9.5/",false,false,true,null,null,null,null,null,null,null,null,null,null,null,null,null,2,4.5,5,"2-4.5-5","Prominent redox concentrations"]
[null,null,null,null,null,null,null,null,null,null,null,null,null,null,null,null,null,null,null,null,null,null,null,null,null,null,null,null,null,null,null,null,null,null,null,null,null,null,null,null,null,null,null,null,null,null,null,null,null,null,null,null,null,null,null,null,null,null,null,null,null,null,null,null,null,null,"N 9/",false,false,true,null,null,null,null,null,null,null,null,null,null,null,null,null,2,4.5,6,"2-4.5-6","Prominent redox concentrations"]
[null,null,null,null,null,null,null,null,null,null,null,null,null,null,null,null,null,null,null,null,null,null,null,null,null,null,null,null,null,null,null,null,null,null,null,null,null,null,null,null,null,null,null,null,null,null,null,null,null,null,null,null,null,null,null,null,null,null,null,null,null,null,null,null,null,null,"N 8.5/",false,false,true,null,null,null,null,null,null,null,null,null,null,null,null,null,2,4.5,7,"2-4.5-7","Prominent redox concentrations"]
[null,null,null,null,null,null,null,null,null,null,null,null,null,null,null,null,null,null,null,null,null,null,null,null,null,null,null,null,null,null,null,null,null,null,null,null,null,null,null,null,null,null,null,null,null,null,null,null,null,null,null,null,null,null,null,null,null,null,null,null,null,null,null,null,null,null,"N 8/",false,false,true,null,null,null,null,null,null,null,null,null,null,null,null,null,2,5,0,"2-5.0-0","Prominent redox concentrations"]
[null,null,null,null,null,null,null,null,null,null,null,null,null,null,null,null,null,null,null,null,null,null,null,null,null,null,null,null,null,null,null,null,null,null,null,null,null,null,null,null,null,null,null,null,null,null,null,null,null,null,null,null,null,null,null,null,null,null,null,null,null,null,null,null,null,null,"N 7/",false,false,true,null,null,null,null,null,null,null,null,null,null,null,null,null,2,5,1,"2-5.0-1","Prominent redox concentrations"]
[null,null,null,null,null,null,null,null,null,null,null,null,null,null,null,null,null,null,null,null,null,null,null,null,null,null,null,null,null,null,null,null,null,null,null,null,null,null,null,null,null,null,null,null,null,null,null,null,null,null,null,null,null,null,null,null,null,null,null,null,null,null,null,null,null,null,"N 6/",false,false,true,null,null,null,null,null,null,null,null,null,null,null,null,null,2,5,2,"2-5.0-2","Prominent redox concentrations"]
[null,null,null,null,null,null,null,null,null,null,null,null,null,null,null,null,null,null,null,null,null,null,null,null,null,null,null,null,null,null,null,null,null,null,null,null,null,null,null,null,null,null,null,null,null,null,null,null,null,null,null,null,null,null,null,null,null,null,null,null,null,null,null,null,null,null,"N 5/",false,false,true,null,null,null,null,null,null,null,null,null,null,null,null,null,2,5,3,"2-5.0-3","Prominent redox concentrations"]
[null,null,null,null,null,null,null,null,null,null,null,null,null,null,null,null,null,null,null,null,null,null,null,null,null,null,null,null,null,null,null,null,null,null,null,null,null,null,null,null,null,null,null,null,null,null,null,null,null,null,null,null,null,null,null,null,null,null,null,null,null,null,null,null,null,null,"N 4/",false,false,true,null,null,null,null,null,null,null,null,null,null,null,null,null,2,5,4,"2-5.0-4","Prominent redox concentrations"]
[null,null,null,null,null,null,null,null,null,null,null,null,null,null,null,null,null,null,null,null,null,null,null,null,null,null,null,null,null,null,null,null,null,null,null,null,null,null,null,null,null,null,null,null,null,null,null,null,null,null,null,null,null,null,null,null,null,null,null,null,null,null,null,null,null,null,"N 3/",false,false,false,null,null,null,null,null,null,null,null,null,null,null,null,null,2,5,5,"2-5.0-5","Prominent redox concentrations"]
[null,null,null,null,null,null,null,null,null,null,null,null,null,null,null,null,null,null,null,null,null,null,null,null,null,null,null,null,null,null,null,null,null,null,null,null,null,null,null,null,null,null,null,null,null,null,null,null,null,null,null,null,null,null,null,null,null,null,null,null,null,null,null,null,null,null,"N 2.5/",false,false,false,null,null,null,null,null,null,null,null,null,null,null,null,null,2,5,6,"2-5.0-6","Prominent redox concentrations"]
[null,null,null,null,null,null,null,null,null,null,null,null,null,null,null,null,null,null,null,null,null,null,null,null,null,null,null,null,null,null,null,null,null,null,null,null,null,null,null,null,null,null,null,null,null,null,null,null,null,null,null,null,null,null,null,null,null,null,null,null,null,null,null,null,null,null,"10Y 8/1",false,false,true,null,null,null,null,null,null,null,null,null,null,null,null,null,2,5,7,"2-5.0-7","Prominent redox concentrations"]
[null,null,null,null,null,null,null,null,null,null,null,null,null,null,null,null,null,null,null,null,null,null,null,null,null,null,null,null,null,null,null,null,null,null,null,null,null,null,null,null,null,null,null,null,null,null,null,null,null,null,null,null,null,null,null,null,null,null,null,null,null,null,null,null,null,null,"10Y 7/1",false,false,true,null,null,null,null,null,null,null,null,null,null,null,null,null,2,5.5,0,"2-5.5-0","Prominent redox concentrations"]
[null,null,null,null,null,null,null,null,null,null,null,null,null,null,null,null,null,null,null,null,null,null,null,null,null,null,null,null,null,null,null,null,null,null,null,null,null,null,null,null,null,null,null,null,null,null,null,null,null,null,null,null,null,null,null,null,null,null,null,null,null,null,null,null,null,null,"10Y 6/1",false,false,true,null,null,null,null,null,null,null,null,null,null,null,null,null,2,5.5,1,"2-5.5-1","Prominent redox concentrations"]
[null,null,null,null,null,null,null,null,null,null,null,null,null,null,null,null,null,null,null,null,null,null,null,null,null,null,null,null,null,null,null,null,null,null,null,null,null,null,null,null,null,null,null,null,null,null,null,null,null,null,null,null,null,null,null,null,null,null,null,null,null,null,null,null,null,null,"10Y 5/1",false,false,true,null,null,null,null,null,null,null,null,null,null,null,null,null,2,5.5,2,"2-5.5-2",{"$f":"$BZ$63","v":"Prominent redox concentrations"}]
[null,null,null,null,null,null,null,null,null,null,null,null,null,null,null,null,null,null,null,null,null,null,null,null,null,null,null,null,null,null,null,null,null,null,null,null,null,null,null,null,null,null,null,null,null,null,null,null,null,null,null,null,null,null,null,null,null,null,null,null,null,null,null,null,null,null,"10Y 4/1",false,false,true,null,null,null,null,null,null,null,null,null,null,null,null,null,2,5.5,3,"2-5.5-3","Prominent redox concentrations"]
[null,null,null,null,null,null,null,null,null,null,null,null,null,null,null,null,null,null,null,null,null,null,null,null,null,null,null,null,null,null,null,null,null,null,null,null,null,null,null,null,null,null,null,null,null,null,null,null,null,null,null,null,null,null,null,null,null,null,null,null,null,null,null,null,null,null,"10Y 3/1",false,false,false,null,null,null,null,null,null,null,null,null,null,null,null,null,2,5.5,4,"2-5.5-4","Prominent redox concentrations"]
[null,null,null,null,null,null,null,null,null,null,null,null,null,null,null,null,null,null,null,null,null,null,null,null,null,null,null,null,null,null,null,null,null,null,null,null,null,null,null,null,null,null,null,null,null,null,null,null,null,null,null,null,null,null,null,null,null,null,null,null,null,null,null,null,null,null,"10Y 2.5/1",false,false,false,null,null,null,null,null,null,null,null,null,null,null,null,null,2,5.5,5,"2-5.5-5","Prominent redox concentrations"]
[null,null,null,null,null,null,null,null,null,null,null,null,null,null,null,null,null,null,null,null,null,null,null,null,null,null,null,null,null,null,null,null,null,null,null,null,null,null,null,null,null,null,null,null,null,null,null,null,null,null,null,null,null,null,null,null,null,null,null,null,null,null,null,null,null,null,"10Y 6/2",false,false,false,null,null,null,null,null,null,null,null,null,null,null,null,null,2,5.5,6,"2-5.5-6","Prominent redox concentrations"]
[null,null,null,null,null,null,null,null,null,null,null,null,null,null,null,null,null,null,null,null,null,null,null,null,null,null,null,null,null,null,null,null,null,null,null,null,null,null,null,null,null,null,null,null,null,null,null,null,null,null,null,null,null,null,null,null,null,null,null,null,null,null,null,null,null,null,"10Y 5/2",false,false,false,null,null,null,null,null,null,null,null,null,null,null,null,null,2,5.5,7,"2-5.5-7","Prominent redox concentrations"]
[null,null,null,null,null,null,null,null,null,null,null,null,null,null,null,null,null,null,null,null,null,null,null,null,null,null,null,null,null,null,null,null,null,null,null,null,null,null,null,null,null,null,null,null,null,null,null,null,null,null,null,null,null,null,null,null,null,null,null,null,null,null,null,null,null,null,"10Y 4/2",false,false,false,null,null,null,null,null,null,null,null,null,null,null,null,null,2,6,0,"2-6.0-0","Prominent redox concentrations"]
[null,null,null,null,null,null,null,null,null,null,null,null,null,null,null,null,null,null,null,null,null,null,null,null,null,null,null,null,null,null,null,null,null,null,null,null,null,null,null,null,null,null,null,null,null,null,null,null,null,null,null,null,null,null,null,null,null,null,null,null,null,null,null,null,null,null,"10Y 3/2",false,false,false,null,null,null,null,null,null,null,null,null,null,null,null,null,2,6,1,"2-6.0-1","Prominent redox concentrations"]
[null,null,null,null,null,null,null,null,null,null,null,null,null,null,null,null,null,null,null,null,null,null,null,null,null,null,null,null,null,null,null,null,null,null,null,null,null,null,null,null,null,null,null,null,null,null,null,null,null,null,null,null,null,null,null,null,null,null,null,null,null,null,null,null,null,null,"10Y 6/4",false,false,false,null,null,null,null,null,null,null,null,null,null,null,null,null,2,6,2,"2-6.0-2","Prominent redox concentrations"]
[null,null,null,null,null,null,null,null,null,null,null,null,null,null,null,null,null,null,null,null,null,null,null,null,null,null,null,null,null,null,null,null,null,null,null,null,null,null,null,null,null,null,null,null,null,null,null,null,null,null,null,null,null,null,null,null,null,null,null,null,null,null,null,null,null,null,"10Y 5/4",false,false,false,null,null,null,null,null,null,null,null,null,null,null,null,null,2,6,3,"2-6.0-3","Prominent redox concentrations"]
[null,null,null,null,null,null,null,null,null,null,null,null,null,null,null,null,null,null,null,null,null,null,null,null,null,null,null,null,null,null,null,null,null,null,null,null,null,null,null,null,null,null,null,null,null,null,null,null,null,null,null,null,null,null,null,null,null,null,null,null,null,null,null,null,null,null,"10Y 4/4",false,false,false,null,null,null,null,null,null,null,null,null,null,null,null,null,2,6,4,"2-6.0-4","Prominent redox concentrations"]
[null,null,null,null,null,null,null,null,null,null,null,null,null,null,null,null,null,null,null,null,null,null,null,null,null,null,null,null,null,null,null,null,null,null,null,null,null,null,null,null,null,null,null,null,null,null,null,null,null,null,null,null,null,null,null,null,null,null,null,null,null,null,null,null,null,null,"10Y 3/4",false,false,false,null,null,null,null,null,null,null,null,null,null,null,null,null,2,6,5,"2-6.0-5","Prominent redox concentrations"]
[null,null,null,null,null,null,null,null,null,null,null,null,null,null,null,null,null,null,null,null,null,null,null,null,null,null,null,null,null,null,null,null,null,null,null,null,null,null,null,null,null,null,null,null,null,null,null,null,null,null,null,null,null,null,null,null,null,null,null,null,null,null,null,null,null,null,"5GY 8/1",false,false,true,null,null,null,null,null,null,null,null,null,null,null,null,null,2,6,6,"2-6.0-6","Prominent redox concentrations"]
[null,null,null,null,null,null,null,null,null,null,null,null,null,null,null,null,null,null,null,null,null,null,null,null,null,null,null,null,null,null,null,null,null,null,null,null,null,null,null,null,null,null,null,null,null,null,null,null,null,null,null,null,null,null,null,null,null,null,null,null,null,null,null,null,null,null,"5GY 7/1",false,false,true,null,null,null,null,null,null,null,null,null,null,null,null,null,2,7,6,{"$f":"TEXT(CF421,\"0\")&\"-\"&TEXT(CG421,\"0.0\")&\"-\"&TEXT(CH421,\"0\")","v":"2-7.0-6"},"Prominent redox concentrations"]
[null,null,null,null,null,null,null,null,null,null,null,null,null,null,null,null,null,null,null,null,null,null,null,null,null,null,null,null,null,null,null,null,null,null,null,null,null,null,null,null,null,null,null,null,null,null,null,null,null,null,null,null,null,null,null,null,null,null,null,null,null,null,null,null,null,null,"5GY 6/1",false,false,true,null,null,null,null,null,null,null,null,null,null,null,null,null,2,6.5,0,"2-6.5-0","Prominent redox concentrations"]
[null,null,null,null,null,null,null,null,null,null,null,null,null,null,null,null,null,null,null,null,null,null,null,null,null,null,null,null,null,null,null,null,null,null,null,null,null,null,null,null,null,null,null,null,null,null,null,null,null,null,null,null,null,null,null,null,null,null,null,null,null,null,null,null,null,null,"5GY 5/1",false,false,true,null,null,null,null,null,null,null,null,null,null,null,null,null,2,6.5,1,"2-6.5-1","Prominent redox concentrations"]
[null,null,null,null,null,null,null,null,null,null,null,null,null,null,null,null,null,null,null,null,null,null,null,null,null,null,null,null,null,null,null,null,null,null,null,null,null,null,null,null,null,null,null,null,null,null,null,null,null,null,null,null,null,null,null,null,null,null,null,null,null,null,null,null,null,null,"5GY 4/1",false,false,true,null,null,null,null,null,null,null,null,null,null,null,null,null,2,6.5,2,"2-6.5-2","Prominent redox concentrations"]
[null,null,null,null,null,null,null,null,null,null,null,null,null,null,null,null,null,null,null,null,null,null,null,null,null,null,null,null,null,null,null,null,null,null,null,null,null,null,null,null,null,null,null,null,null,null,null,null,null,null,null,null,null,null,null,null,null,null,null,null,null,null,null,null,null,null,"5GY 3/1",false,false,false,null,null,null,null,null,null,null,null,null,null,null,null,null,2,6.5,3,"2-6.5-3","Prominent redox concentrations"]
[null,null,null,null,null,null,null,null,null,null,null,null,null,null,null,null,null,null,null,null,null,null,null,null,null,null,null,null,null,null,null,null,null,null,null,null,null,null,null,null,null,null,null,null,null,null,null,null,null,null,null,null,null,null,null,null,null,null,null,null,null,null,null,null,null,null,"5GY 2.5/1",false,false,false,null,null,null,null,null,null,null,null,null,null,null,null,null,2,6.5,4,"2-6.5-4","Prominent redox concentrations"]
[null,null,null,null,null,null,null,null,null,null,null,null,null,null,null,null,null,null,null,null,null,null,null,null,null,null,null,null,null,null,null,null,null,null,null,null,null,null,null,null,null,null,null,null,null,null,null,null,null,null,null,null,null,null,null,null,null,null,null,null,null,null,null,null,null,null,"5GY 6/2",false,false,false,null,null,null,null,null,null,null,null,null,null,null,null,null,2,6.5,5,"2-6.5-5","Prominent redox concentrations"]
[null,null,null,null,null,null,null,null,null,null,null,null,null,null,null,null,null,null,null,null,null,null,null,null,null,null,null,null,null,null,null,null,null,null,null,null,null,null,null,null,null,null,null,null,null,null,null,null,null,null,null,null,null,null,null,null,null,null,null,null,null,null,null,null,null,null,"5GY 5/2",false,false,false,null,null,null,null,null,null,null,null,null,null,null,null,null,2,6.5,6,"2-6.5-6","Prominent redox concentrations"]
[null,null,null,null,null,null,null,null,null,null,null,null,null,null,null,null,null,null,null,null,null,null,null,null,null,null,null,null,null,null,null,null,null,null,null,null,null,null,null,null,null,null,null,null,null,null,null,null,null,null,null,null,null,null,null,null,null,null,null,null,null,null,null,null,null,null,"5GY 4/2",false,false,false,null,null,null,null,null,null,null,null,null,null,null,null,null,2,6.5,7,"2-6.5-7","Prominent redox concentrations"]
[null,null,null,null,null,null,null,null,null,null,null,null,null,null,null,null,null,null,null,null,null,null,null,null,null,null,null,null,null,null,null,null,null,null,null,null,null,null,null,null,null,null,null,null,null,null,null,null,null,null,null,null,null,null,null,null,null,null,null,null,null,null,null,null,null,null,"5GY 3/2",false,false,false,null,null,null,null,null,null,null,null,null,null,null,null,null,2,7,0,"2-7.0-0","Prominent redox concentrations"]
[null,null,null,null,null,null,null,null,null,null,null,null,null,null,null,null,null,null,null,null,null,null,null,null,null,null,null,null,null,null,null,null,null,null,null,null,null,null,null,null,null,null,null,null,null,null,null,null,null,null,null,null,null,null,null,null,null,null,null,null,null,null,null,null,null,null,"5GY 6/4",false,false,false,null,null,null,null,null,null,null,null,null,null,null,null,null,2,7,1,"2-7.0-1","Prominent redox concentrations"]
[null,null,null,null,null,null,null,null,null,null,null,null,null,null,null,null,null,null,null,null,null,null,null,null,null,null,null,null,null,null,null,null,null,null,null,null,null,null,null,null,null,null,null,null,null,null,null,null,null,null,null,null,null,null,null,null,null,null,null,null,null,null,null,null,null,null,"5GY 5/4",false,false,false,null,null,null,null,null,null,null,null,null,null,null,null,null,2,7,2,"2-7.0-2","Prominent redox concentrations"]
[null,null,null,null,null,null,null,null,null,null,null,null,null,null,null,null,null,null,null,null,null,null,null,null,null,null,null,null,null,null,null,null,null,null,null,null,null,null,null,null,null,null,null,null,null,null,null,null,null,null,null,null,null,null,null,null,null,null,null,null,null,null,null,null,null,null,"5GY 4/4",false,false,false,null,null,null,null,null,null,null,null,null,null,null,null,null,2,7,3,"2-7.0-3","Prominent redox concentrations"]
[null,null,null,null,null,null,null,null,null,null,null,null,null,null,null,null,null,null,null,null,null,null,null,null,null,null,null,null,null,null,null,null,null,null,null,null,null,null,null,null,null,null,null,null,null,null,null,null,null,null,null,null,null,null,null,null,null,null,null,null,null,null,null,null,null,null,"5GY 3/4",false,false,false,null,null,null,null,null,null,null,null,null,null,null,null,null,2,7,4,"2-7.0-4","Prominent redox concentrations"]
[null,null,null,null,null,null,null,null,null,null,null,null,null,null,null,null,null,null,null,null,null,null,null,null,null,null,null,null,null,null,null,null,null,null,null,null,null,null,null,null,null,null,null,null,null,null,null,null,null,null,null,null,null,null,null,null,null,null,null,null,null,null,null,null,null,null,"10GY 8/1",false,false,true,null,null,null,null,null,null,null,null,null,null,null,null,null,2,7,5,"2-7.0-5","Prominent redox concentrations"]
[null,null,null,null,null,null,null,null,null,null,null,null,null,null,null,null,null,null,null,null,null,null,null,null,null,null,null,null,null,null,null,null,null,null,null,null,null,null,null,null,null,null,null,null,null,null,null,null,null,null,null,null,null,null,null,null,null,null,null,null,null,null,null,null,null,null,"10GY 7/1",false,false,true,null,null,null,null,null,null,null,null,null,null,null,null,null,2,7,6,"2-7.0-6","Prominent redox concentrations"]
[null,null,null,null,null,null,null,null,null,null,null,null,null,null,null,null,null,null,null,null,null,null,null,null,null,null,null,null,null,null,null,null,null,null,null,null,null,null,null,null,null,null,null,null,null,null,null,null,null,null,null,null,null,null,null,null,null,null,null,null,null,null,null,null,null,null,"10GY 6/1",false,false,true,null,null,null,null,null,null,null,null,null,null,null,null,null,2,7,7,"2-7.0-7","Prominent redox concentrations"]
[null,null,null,null,null,null,null,null,null,null,null,null,null,null,null,null,null,null,null,null,null,null,null,null,null,null,null,null,null,null,null,null,null,null,null,null,null,null,null,null,null,null,null,null,null,null,null,null,null,null,null,null,null,null,null,null,null,null,null,null,null,null,null,null,null,null,"10GY 5/1",false,false,true,null,null,null,null,null,null,null,null,null,null,null,null,null,2,7.5,0,"2-7.5-0","Prominent redox concentrations"]
[null,null,null,null,null,null,null,null,null,null,null,null,null,null,null,null,null,null,null,null,null,null,null,null,null,null,null,null,null,null,null,null,null,null,null,null,null,null,null,null,null,null,null,null,null,null,null,null,null,null,null,null,null,null,null,null,null,null,null,null,null,null,null,null,null,null,"10GY 4/1",false,false,true,null,null,null,null,null,null,null,null,null,null,null,null,null,2,7.5,1,"2-7.5-1","Prominent redox concentrations"]
[null,null,null,null,null,null,null,null,null,null,null,null,null,null,null,null,null,null,null,null,null,null,null,null,null,null,null,null,null,null,null,null,null,null,null,null,null,null,null,null,null,null,null,null,null,null,null,null,null,null,null,null,null,null,null,null,null,null,null,null,null,null,null,null,null,null,"10GY 3/1",false,false,false,null,null,null,null,null,null,null,null,null,null,null,null,null,2,7.5,2,"2-7.5-2","Prominent redox concentrations"]
[null,null,null,null,null,null,null,null,null,null,null,null,null,null,null,null,null,null,null,null,null,null,null,null,null,null,null,null,null,null,null,null,null,null,null,null,null,null,null,null,null,null,null,null,null,null,null,null,null,null,null,null,null,null,null,null,null,null,null,null,null,null,null,null,null,null,"10GY 2.5/1",false,false,false,null,null,null,null,null,null,null,null,null,null,null,null,null,2,7.5,3,"2-7.5-3","Prominent redox concentrations"]
[null,null,null,null,null,null,null,null,null,null,null,null,null,null,null,null,null,null,null,null,null,null,null,null,null,null,null,null,null,null,null,null,null,null,null,null,null,null,null,null,null,null,null,null,null,null,null,null,null,null,null,null,null,null,null,null,null,null,null,null,null,null,null,null,null,null,"5G 8/1",false,false,true,null,null,null,null,null,null,null,null,null,null,null,null,null,2,7.5,4,"2-7.5-4","Prominent redox concentrations"]
[null,null,null,null,null,null,null,null,null,null,null,null,null,null,null,null,null,null,null,null,null,null,null,null,null,null,null,null,null,null,null,null,null,null,null,null,null,null,null,null,null,null,null,null,null,null,null,null,null,null,null,null,null,null,null,null,null,null,null,null,null,null,null,null,null,null,"5G 7/1",false,false,true,null,null,null,null,null,null,null,null,null,null,null,null,null,2,7.5,5,"2-7.5-5","Prominent redox concentrations"]
[null,null,null,null,null,null,null,null,null,null,null,null,null,null,null,null,null,null,null,null,null,null,null,null,null,null,null,null,null,null,null,null,null,null,null,null,null,null,null,null,null,null,null,null,null,null,null,null,null,null,null,null,null,null,null,null,null,null,null,null,null,null,null,null,null,null,"5G 6/1",false,false,true,null,null,null,null,null,null,null,null,null,null,null,null,null,2,7.5,6,"2-7.5-6","Prominent redox concentrations"]
[null,null,null,null,null,null,null,null,null,null,null,null,null,null,null,null,null,null,null,null,null,null,null,null,null,null,null,null,null,null,null,null,null,null,null,null,null,null,null,null,null,null,null,null,null,null,null,null,null,null,null,null,null,null,null,null,null,null,null,null,null,null,null,null,null,null,"5G 5/1",false,false,true,null,null,null,null,null,null,null,null,null,null,null,null,null,2,7.5,7,"2-7.5-7","Prominent redox concentrations"]
[null,null,null,null,null,null,null,null,null,null,null,null,null,null,null,null,null,null,null,null,null,null,null,null,null,null,null,null,null,null,null,null,null,null,null,null,null,null,null,null,null,null,null,null,null,null,null,null,null,null,null,null,null,null,null,null,null,null,null,null,null,null,null,null,null,null,"5G 4/1",false,false,true]
[null,null,null,null,null,null,null,null,null,null,null,null,null,null,null,null,null,null,null,null,null,null,null,null,null,null,null,null,null,null,null,null,null,null,null,null,null,null,null,null,null,null,null,null,null,null,null,null,null,null,null,null,null,null,null,null,null,null,null,null,null,null,null,null,null,null,"5G 3/1",false,false,false]
[null,null,null,null,null,null,null,null,null,null,null,null,null,null,null,null,null,null,null,null,null,null,null,null,null,null,null,null,null,null,null,null,null,null,null,null,null,null,null,null,null,null,null,null,null,null,null,null,null,null,null,null,null,null,null,null,null,null,null,null,null,null,null,null,null,null,"5G 2.5/1",false,false,false]
[null,null,null,null,null,null,null,null,null,null,null,null,null,null,null,null,null,null,null,null,null,null,null,null,null,null,null,null,null,null,null,null,null,null,null,null,null,null,null,null,null,null,null,null,null,null,null,null,null,null,null,null,null,null,null,null,null,null,null,null,null,null,null,null,null,null,"5G 8/2",false,false,true]
[null,null,null,null,null,null,null,null,null,null,null,null,null,null,null,null,null,null,null,null,null,null,null,null,null,null,null,null,null,null,null,null,null,null,null,null,null,null,null,null,null,null,null,null,null,null,null,null,null,null,null,null,null,null,null,null,null,null,null,null,null,null,null,null,null,null,"5G 7/2",false,false,true]
[null,null,null,null,null,null,null,null,null,null,null,null,null,null,null,null,null,null,null,null,null,null,null,null,null,null,null,null,null,null,null,null,null,null,null,null,null,null,null,null,null,null,null,null,null,null,null,null,null,null,null,null,null,null,null,null,null,null,null,null,null,null,null,null,null,null,"5G 6/2",false,false,true]
[null,null,null,null,null,null,null,null,null,null,null,null,null,null,null,null,null,null,null,null,null,null,null,null,null,null,null,null,null,null,null,null,null,null,null,null,null,null,null,null,null,null,null,null,null,null,null,null,null,null,null,null,null,null,null,null,null,null,null,null,null,null,null,null,null,null,"5G 5/2",false,false,true]
[null,null,null,null,null,null,null,null,null,null,null,null,null,null,null,null,null,null,null,null,null,null,null,null,null,null,null,null,null,null,null,null,null,null,null,null,null,null,null,null,null,null,null,null,null,null,null,null,null,null,null,null,null,null,null,null,null,null,null,null,null,null,null,null,null,null,"5G 4/2",false,false,true]
[null,null,null,null,null,null,null,null,null,null,null,null,null,null,null,null,null,null,null,null,null,null,null,null,null,null,null,null,null,null,null,null,null,null,null,null,null,null,null,null,null,null,null,null,null,null,null,null,null,null,null,null,null,null,null,null,null,null,null,null,null,null,null,null,null,null,"5G 3/2",false,false,false]
[null,null,null,null,null,null,null,null,null,null,null,null,null,null,null,null,null,null,null,null,null,null,null,null,null,null,null,null,null,null,null,null,null,null,null,null,null,null,null,null,null,null,null,null,null,null,null,null,null,null,null,null,null,null,null,null,null,null,null,null,null,null,null,null,null,null,"5G 2.5/2",false,false,false]
[null,null,null,null,null,null,null,null,null,null,null,null,null,null,null,null,null,null,null,null,null,null,null,null,null,null,null,null,null,null,null,null,null,null,null,null,null,null,null,null,null,null,null,null,null,null,null,null,null,null,null,null,null,null,null,null,null,null,null,null,null,null,null,null,null,null,"10G 8/1",false,false,true]
[null,null,null,null,null,null,null,null,null,null,null,null,null,null,null,null,null,null,null,null,null,null,null,null,null,null,null,null,null,null,null,null,null,null,null,null,null,null,null,null,null,null,null,null,null,null,null,null,null,null,null,null,null,null,null,null,null,null,null,null,null,null,null,null,null,null,"10G 7/1",false,false,true]
[null,null,null,null,null,null,null,null,null,null,null,null,null,null,null,null,null,null,null,null,null,null,null,null,null,null,null,null,null,null,null,null,null,null,null,null,null,null,null,null,null,null,null,null,null,null,null,null,null,null,null,null,null,null,null,null,null,null,null,null,null,null,null,null,null,null,"10G 6/1",false,false,true]
[null,null,null,null,null,null,null,null,null,null,null,null,null,null,null,null,null,null,null,null,null,null,null,null,null,null,null,null,null,null,null,null,null,null,null,null,null,null,null,null,null,null,null,null,null,null,null,null,null,null,null,null,null,null,null,null,null,null,null,null,null,null,null,null,null,null,"10G 5/1",false,false,true]
[null,null,null,null,null,null,null,null,null,null,null,null,null,null,null,null,null,null,null,null,null,null,null,null,null,null,null,null,null,null,null,null,null,null,null,null,null,null,null,null,null,null,null,null,null,null,null,null,null,null,null,null,null,null,null,null,null,null,null,null,null,null,null,null,null,null,"10G 4/1",false,false,true]
[null,null,null,null,null,null,null,null,null,null,null,null,null,null,null,null,null,null,null,null,null,null,null,null,null,null,null,null,null,null,null,null,null,null,null,null,null,null,null,null,null,null,null,null,null,null,null,null,null,null,null,null,null,null,null,null,null,null,null,null,null,null,null,null,null,null,"10G 3/1",false,false,false]
[null,null,null,null,null,null,null,null,null,null,null,null,null,null,null,null,null,null,null,null,null,null,null,null,null,null,null,null,null,null,null,null,null,null,null,null,null,null,null,null,null,null,null,null,null,null,null,null,null,null,null,null,null,null,null,null,null,null,null,null,null,null,null,null,null,null,"10G 2.5/1",false,false,false]
[null,null,null,null,null,null,null,null,null,null,null,null,null,null,null,null,null,null,null,null,null,null,null,null,null,null,null,null,null,null,null,null,null,null,null,null,null,null,null,null,null,null,null,null,null,null,null,null,null,null,null,null,null,null,null,null,null,null,null,null,null,null,null,null,null,null,"5BG 8/1",false,false,true]
[null,null,null,null,null,null,null,null,null,null,null,null,null,null,null,null,null,null,null,null,null,null,null,null,null,null,null,null,null,null,null,null,null,null,null,null,null,null,null,null,null,null,null,null,null,null,null,null,null,null,null,null,null,null,null,null,null,null,null,null,null,null,null,null,null,null,"5BG 7/1",false,false,true]
[null,null,null,null,null,null,null,null,null,null,null,null,null,null,null,null,null,null,null,null,null,null,null,null,null,null,null,null,null,null,null,null,null,null,null,null,null,null,null,null,null,null,null,null,null,null,null,null,null,null,null,null,null,null,null,null,null,null,null,null,null,null,null,null,null,null,"5BG 6/1",false,false,true]
[null,null,null,null,null,null,null,null,null,null,null,null,null,null,null,null,null,null,null,null,null,null,null,null,null,null,null,null,null,null,null,null,null,null,null,null,null,null,null,null,null,null,null,null,null,null,null,null,null,null,null,null,null,null,null,null,null,null,null,null,null,null,null,null,null,null,"5BG 5/1",false,false,true]
[null,null,null,null,null,null,null,null,null,null,null,null,null,null,null,null,null,null,null,null,null,null,null,null,null,null,null,null,null,null,null,null,null,null,null,null,null,null,null,null,null,null,null,null,null,null,null,null,null,null,null,null,null,null,null,null,null,null,null,null,null,null,null,null,null,null,"5BG 4/1",false,false,true]
[null,null,null,null,null,null,null,null,null,null,null,null,null,null,null,null,null,null,null,null,null,null,null,null,null,null,null,null,null,null,null,null,null,null,null,null,null,null,null,null,null,null,null,null,null,null,null,null,null,null,null,null,null,null,null,null,null,null,null,null,null,null,null,null,null,null,"5BG 3/1",false,false,false]
[null,null,null,null,null,null,null,null,null,null,null,null,null,null,null,null,null,null,null,null,null,null,null,null,null,null,null,null,null,null,null,null,null,null,null,null,null,null,null,null,null,null,null,null,null,null,null,null,null,null,null,null,null,null,null,null,null,null,null,null,null,null,null,null,null,null,"5BG 2.5/1",false,false,false]
[null,null,null,null,null,null,null,null,null,null,null,null,null,null,null,null,null,null,null,null,null,null,null,null,null,null,null,null,null,null,null,null,null,null,null,null,null,null,null,null,null,null,null,null,null,null,null,null,null,null,null,null,null,null,null,null,null,null,null,null,null,null,null,null,null,null,"10BG 8/1",false,false,true]
[null,null,null,null,null,null,null,null,null,null,null,null,null,null,null,null,null,null,null,null,null,null,null,null,null,null,null,null,null,null,null,null,null,null,null,null,null,null,null,null,null,null,null,null,null,null,null,null,null,null,null,null,null,null,null,null,null,null,null,null,null,null,null,null,null,null,"10BG 7/1",false,false,true]
[null,null,null,null,null,null,null,null,null,null,null,null,null,null,null,null,null,null,null,null,null,null,null,null,null,null,null,null,null,null,null,null,null,null,null,null,null,null,null,null,null,null,null,null,null,null,null,null,null,null,null,null,null,null,null,null,null,null,null,null,null,null,null,null,null,null,"10BG 6/1",false,false,true]
[null,null,null,null,null,null,null,null,null,null,null,null,null,null,null,null,null,null,null,null,null,null,null,null,null,null,null,null,null,null,null,null,null,null,null,null,null,null,null,null,null,null,null,null,null,null,null,null,null,null,null,null,null,null,null,null,null,null,null,null,null,null,null,null,null,null,"10BG 5/1",false,false,true]
[null,null,null,null,null,null,null,null,null,null,null,null,null,null,null,null,null,null,null,null,null,null,null,null,null,null,null,null,null,null,null,null,null,null,null,null,null,null,null,null,null,null,null,null,null,null,null,null,null,null,null,null,null,null,null,null,null,null,null,null,null,null,null,null,null,null,"10BG 4/1",false,false,true]
[null,null,null,null,null,null,null,null,null,null,null,null,null,null,null,null,null,null,null,null,null,null,null,null,null,null,null,null,null,null,null,null,null,null,null,null,null,null,null,null,null,null,null,null,null,null,null,null,null,null,null,null,null,null,null,null,null,null,null,null,null,null,null,null,null,null,"10BG 3/1",false,false,false]
[null,null,null,null,null,null,null,null,null,null,null,null,null,null,null,null,null,null,null,null,null,null,null,null,null,null,null,null,null,null,null,null,null,null,null,null,null,null,null,null,null,null,null,null,null,null,null,null,null,null,null,null,null,null,null,null,null,null,null,null,null,null,null,null,null,null,"10BG 2.5/1",false,false,false]
[null,null,null,null,null,null,null,null,null,null,null,null,null,null,null,null,null,null,null,null,null,null,null,null,null,null,null,null,null,null,null,null,null,null,null,null,null,null,null,null,null,null,null,null,null,null,null,null,null,null,null,null,null,null,null,null,null,null,null,null,null,null,null,null,null,null,"5B 8/1",false,false,true]
[null,null,null,null,null,null,null,null,null,null,null,null,null,null,null,null,null,null,null,null,null,null,null,null,null,null,null,null,null,null,null,null,null,null,null,null,null,null,null,null,null,null,null,null,null,null,null,null,null,null,null,null,null,null,null,null,null,null,null,null,null,null,null,null,null,null,"5B 7/1",false,false,true]
[null,null,null,null,null,null,null,null,null,null,null,null,null,null,null,null,null,null,null,null,null,null,null,null,null,null,null,null,null,null,null,null,null,null,null,null,null,null,null,null,null,null,null,null,null,null,null,null,null,null,null,null,null,null,null,null,null,null,null,null,null,null,null,null,null,null,"5B 6/1",false,false,true]
[null,null,null,null,null,null,null,null,null,null,null,null,null,null,null,null,null,null,null,null,null,null,null,null,null,null,null,null,null,null,null,null,null,null,null,null,null,null,null,null,null,null,null,null,null,null,null,null,null,null,null,null,null,null,null,null,null,null,null,null,null,null,null,null,null,null,"5B 5/1",false,false,true]
[null,null,null,null,null,null,null,null,null,null,null,null,null,null,null,null,null,null,null,null,null,null,null,null,null,null,null,null,null,null,null,null,null,null,null,null,null,null,null,null,null,null,null,null,null,null,null,null,null,null,null,null,null,null,null,null,null,null,null,null,null,null,null,null,null,null,"5B 4/1",false,false,true]
[null,null,null,null,null,null,null,null,null,null,null,null,null,null,null,null,null,null,null,null,null,null,null,null,null,null,null,null,null,null,null,null,null,null,null,null,null,null,null,null,null,null,null,null,null,null,null,null,null,null,null,null,null,null,null,null,null,null,null,null,null,null,null,null,null,null,"5B 3/1",false,false,false]
[null,null,null,null,null,null,null,null,null,null,null,null,null,null,null,null,null,null,null,null,null,null,null,null,null,null,null,null,null,null,null,null,null,null,null,null,null,null,null,null,null,null,null,null,null,null,null,null,null,null,null,null,null,null,null,null,null,null,null,null,null,null,null,null,null,null,"5B 2.5/1",false,false,false]
[null,null,null,null,null,null,null,null,null,null,null,null,null,null,null,null,null,null,null,null,null,null,null,null,null,null,null,null,null,null,null,null,null,null,null,null,null,null,null,null,null,null,null,null,null,null,null,null,null,null,null,null,null,null,null,null,null,null,null,null,null,null,null,null,null,null,"10B 8/1",false,false,true]
[null,null,null,null,null,null,null,null,null,null,null,null,null,null,null,null,null,null,null,null,null,null,null,null,null,null,null,null,null,null,null,null,null,null,null,null,null,null,null,null,null,null,null,null,null,null,null,null,null,null,null,null,null,null,null,null,null,null,null,null,null,null,null,null,null,null,"10B 7/1",false,false,true]
[null,null,null,null,null,null,null,null,null,null,null,null,null,null,null,null,null,null,null,null,null,null,null,null,null,null,null,null,null,null,null,null,null,null,null,null,null,null,null,null,null,null,null,null,null,null,null,null,null,null,null,null,null,null,null,null,null,null,null,null,null,null,null,null,null,null,"10B 6/1",false,false,true]
[null,null,null,null,null,null,null,null,null,null,null,null,null,null,null,null,null,null,null,null,null,null,null,null,null,null,null,null,null,null,null,null,null,null,null,null,null,null,null,null,null,null,null,null,null,null,null,null,null,null,null,null,null,null,null,null,null,null,null,null,null,null,null,null,null,null,"10B 5/1",false,false,true]
[null,null,null,null,null,null,null,null,null,null,null,null,null,null,null,null,null,null,null,null,null,null,null,null,null,null,null,null,null,null,null,null,null,null,null,null,null,null,null,null,null,null,null,null,null,null,null,null,null,null,null,null,null,null,null,null,null,null,null,null,null,null,null,null,null,null,"10B 4/1",false,false,true]
[null,null,null,null,null,null,null,null,null,null,null,null,null,null,null,null,null,null,null,null,null,null,null,null,null,null,null,null,null,null,null,null,null,null,null,null,null,null,null,null,null,null,null,null,null,null,null,null,null,null,null,null,null,null,null,null,null,null,null,null,null,null,null,null,null,null,"10B 3/1",false,false,false]
[null,null,null,null,null,null,null,null,null,null,null,null,null,null,null,null,null,null,null,null,null,null,null,null,null,null,null,null,null,null,null,null,null,null,null,null,null,null,null,null,null,null,null,null,null,null,null,null,null,null,null,null,null,null,null,null,null,null,null,null,null,null,null,null,null,null,"10B 2.5/1",false,false,false]
[null,null,null,null,null,null,null,null,null,null,null,null,null,null,null,null,null,null,null,null,null,null,null,null,null,null,null,null,null,null,null,null,null,null,null,null,null,null,null,null,null,null,null,null,null,null,null,null,null,null,null,null,null,null,null,null,null,null,null,null,null,null,null,null,null,null,"5PB 8/1",false,false,true]
[null,null,null,null,null,null,null,null,null,null,null,null,null,null,null,null,null,null,null,null,null,null,null,null,null,null,null,null,null,null,null,null,null,null,null,null,null,null,null,null,null,null,null,null,null,null,null,null,null,null,null,null,null,null,null,null,null,null,null,null,null,null,null,null,null,null,"5PB 7/1",false,false,true]
[null,null,null,null,null,null,null,null,null,null,null,null,null,null,null,null,null,null,null,null,null,null,null,null,null,null,null,null,null,null,null,null,null,null,null,null,null,null,null,null,null,null,null,null,null,null,null,null,null,null,null,null,null,null,null,null,null,null,null,null,null,null,null,null,null,null,"5PB 6/1",false,false,true]
[null,null,null,null,null,null,null,null,null,null,null,null,null,null,null,null,null,null,null,null,null,null,null,null,null,null,null,null,null,null,null,null,null,null,null,null,null,null,null,null,null,null,null,null,null,null,null,null,null,null,null,null,null,null,null,null,null,null,null,null,null,null,null,null,null,null,"5PB 5/1",false,false,true]
[null,null,null,null,null,null,null,null,null,null,null,null,null,null,null,null,null,null,null,null,null,null,null,null,null,null,null,null,null,null,null,null,null,null,null,null,null,null,null,null,null,null,null,null,null,null,null,null,null,null,null,null,null,null,null,null,null,null,null,null,null,null,null,null,null,null,"5PB 4/1",false,false,true]
[null,null,null,null,null,null,null,null,null,null,null,null,null,null,null,null,null,null,null,null,null,null,null,null,null,null,null,null,null,null,null,null,null,null,null,null,null,null,null,null,null,null,null,null,null,null,null,null,null,null,null,null,null,null,null,null,null,null,null,null,null,null,null,null,null,null,"5PB 3/1",false,false,false]
[null,null,null,null,null,null,null,null,null,null,null,null,null,null,null,null,null,null,null,null,null,null,null,null,null,null,null,null,null,null,null,null,null,null,null,null,null,null,null,null,null,null,null,null,null,null,null,null,null,null,null,null,null,null,null,null,null,null,null,null,null,null,null,null,null,null,"5PB 2.5/1",false,false,false]

{"sheet":"Vegetation Continued, 5 Strata","index":4,"n_rows":64,"n_cols":65,"rows_kept":64,"cut":false,"hidden":false,"merged":[[0,58,0,62],[1,0,1,63],[2,0,53,0],[2,25,2,29],[2,31,2,35],[4,25,4,29],[4,31,4,35],[4,37,4,41],[5,3,5,23],[5,25,5,29],[5,31,5,35],[5,37,5,41],[2,37,2,41],[2,44,2,63],[3,3,3,23],[3,25,3,29],[3,31,3,35],[3,37,3,41],[4,3,4,23],[7,37,7,41],[8,3,8,23],[8,25,8,29],[8,31,8,35],[8,37,8,41],[2,43,17,43],[13,3,13,23],[13,25,13,29],[13,31,13,35],[13,37,13,41],[13,42,18,42],[15,3,15,23],[15,25,15,29],[15,31,15,35],[15,37,15,41],[11,37,11,41],[9,1,9,42],[10,1,10,24],[10,25,10,29],[10,30,10,42],[11,1,11,12],[16,31,16,35],[16,37,16,41],[6,3,6,23],[6,25,6,29],[6,31,6,35],[6,37,6,41],[14,3,14,23],[14,25,14,29],[14,31,14,35],[14,37,14,41],[23,3,23,23],[23,25,23,29],[23,31,23,35],[23,37,23,41],[23,42,28,42],[19,1,19,42],[20,1,20,24],[20,25,20,29],[20,30,20,42],[21,1,21,12],[21,22,21,26],[25,3,25,23],[25,25,25,29],[25,31,25,35],[25,37,25,41],[26,3,26,23],[26,25,26,29],[26,31,26,35],[26,37,26,41],[24,3,24,23],[24,25,24,29],[24,31,24,35],[24,37,24,41],[35,31,35,35],[29,1,29,24],[29,25,29,29],[29,30,29,42],[30,1,30,12],[30,22,30,26],[30,37,30,41],[27,3,27,23],[27,25,27,29],[27,31,27,35],[27,37,27,41],[28,3,28,23],[28,25,28,29],[28,31,28,35],[28,37,28,41],[31,1,31,42],[35,37,35,41],[32,3,32,23],[32,25,32,29],[32,31,32,35],[32,37,32,41],[32,42,42,42],[33,3,33,23],[33,25,33,29],[33,31,33,35],[33,37,33,41],[36,3,36,23],[36,25,36,29],[36,31,36,35],[36,37,36,41],[37,3,37,23],[37,25,37,29],[37,31,37,35],[37,37,37,41],[34,3,34,23],[34,25,34,29],[34,31,34,35],[34,37,34,41],[35,3,35,23],[35,25,35,29],[48,37,48,41],[44,22,44,26],[44,37,44,41],[46,3,46,23],[46,25,46,29],[46,31,46,35],[46,37,46,41],[46,42,50,42],[47,3,47,23],[44,1,44,12],[45,1,45,42],[16,25,16,29],[53,1,53,42],[54,1,54,63],[18,43,53,63],[51,1,51,24],[51,25,51,29],[51,30,51,42],[52,1,52,12],[52,22,52,26],[52,37,52,41],[49,3,49,23],[49,25,49,29],[49,31,49,35],[49,37,49,41],[50,3,50,23],[50,25,50,29],[50,31,50,35],[50,37,50,41],[47,25,47,29],[47,31,47,35],[47,37,47,41],[48,3,48,23],[48,25,48,29],[48,31,48,35],[40,3,40,23],[3,44,5,63],[6,44,8,63],[9,44,11,63],[12,44,15,63],[16,44,17,63],[0,24,0,51],[2,1,2,24],[12,1,12,42],[22,1,22,42],[21,37,21,41],[11,22,11,26],[7,3,7,23],[7,25,7,29],[7,31,7,35],[18,3,18,23],[18,25,18,29],[18,31,18,35],[18,37,18,41],[17,3,17,23],[17,25,17,29],[17,31,17,35],[17,37,17,41],[16,3,16,23],[54,0,55,0],[55,1,55,63],[38,3,38,23],[38,25,38,29],[38,31,38,35],[38,37,38,41],[39,3,39,23],[39,25,39,29],[39,31,39,35],[39,37,39,41],[42,3,42,23],[42,25,42,29],[42,31,42,35],[42,37,42,41],[43,1,43,24],[43,25,43,29],[43,30,43,42],[40,25,40,29],[40,31,40,35],[40,37,40,41],[41,3,41,23],[41,25,41,29],[41,31,41,35],[41,37,41,41]]}
["VEGETATION Continued (Five Strata)",null,null,null,null,null,null,null,null,null,null,null,null,null,null,null,null,null,null,null,null,null,null,null,"– Use scientific names of plants.",null,null,null,null,null,null,null,null,null,null,null,null,null,null,null,null,null,null,null,null,null,null,null,null,null,null,null,"Sampling Point:",null,null,null,null,null,{"$f":"IF('Page 1 (Hydrology)'!AP3=0,\"\",'Page 1 (Hydrology)'!AP3)","v":""}]
[]
[null,"Tree Stratum",null,null,null,null,null,null,null,null,null,null,null,null,null,null,null,null,null,null,null,null,null,null,null,"Absolute % Cover",null,null,null,null,null,"Dominant Species?",null,null,null,null,null,"Indicator Status",null,null,null,null,null,null,"Definitions of Five Vegetation Strata:",null,null,null,null,null,null,null,null,null,null,null,null,null,null,null,null,null,null,null,"Indicators"]
[null,"7.",null,"",null,null,null,null,null,null,null,null,null,null,null,null,null,null,null,null,null,null,null,null,null,null,null,null,null,null,null,{"$f":"IF(Z4>0,IF(OR(AND(Z$11<5,Z$21=\"\",Z$30=\"\",Z$44=\"\",Z$52=\"\"),Z$11>=5),IF(AND(ISNA(MATCH(Z4,'Page 2 (Vegetation, 5 Strata)'!CG$4:CG$15,0)),'Page 2 (Vegetation, 5 Strata)'!CD10<0.2),\"No\",\"Yes\"),\"No\"),\"\")","v":""},null,null,null,null,null,{"$f":"IF('Page 2 (Vegetation, 5 Strata)'!CI10=0,\"\",'Page 2 (Vegetation, 5 Strata)'!CI10)","v":""},null,null,null,null,null,null,"Tree – Woody plants, excluding woody vines, approximately 20 ft (6 m) or more in height and 3 in.      (7.6 cm) or larger in diameter at breast height (DBH).",null,null,null,null,null,null,null,null,null,null,null,null,null,null,null,null,null,null,null,"OBL"]
[null,"8.",null,"",null,null,null,null,null,null,null,null,null,null,null,null,null,null,null,null,null,null,null,null,null,null,null,null,null,null,null,{"$f":"IF(Z5>0,IF(OR(AND(Z$11<5,Z$21=\"\",Z$30=\"\",Z$44=\"\",Z$52=\"\"),Z$11>=5),IF(AND(ISNA(MATCH(Z5,'Page 2 (Vegetation, 5 Strata)'!CG$4:CG$15,0)),'Page 2 (Vegetation, 5 Strata)'!CD11<0.2),\"No\",\"Yes\"),\"No\"),\"\")","v":""},null,null,null,null,null,{"$f":"IF('Page 2 (Vegetation, 5 Strata)'!CI11=0,\"\",'Page 2 (Vegetation, 5 Strata)'!CI11)","v":""},null,null,null,null,null,null,null,null,null,null,null,null,null,null,null,null,null,null,null,null,null,null,null,null,null,null,"FACW"]
[null,"9.",null,null,null,null,null,null,null,null,null,null,null,null,null,null,null,null,null,null,null,null,null,null,null,null,null,null,null,null,null,{"$f":"IF(Z6>0,IF(OR(AND(Z$11<5,Z$21=\"\",Z$30=\"\",Z$44=\"\",Z$52=\"\"),Z$11>=5),IF(AND(ISNA(MATCH(Z6,'Page 2 (Vegetation, 5 Strata)'!CG$4:CG$15,0)),'Page 2 (Vegetation, 5 Strata)'!CD12<0.2),\"No\",\"Yes\"),\"No\"),\"\")","v":""},null,null,null,null,null,{"$f":"IF('Page 2 (Vegetation, 5 Strata)'!CI12=0,\"\",'Page 2 (Vegetation, 5 Strata)'!CI12)","v":""},null,null,null,null,null,null,null,null,null,null,null,null,null,null,null,null,null,null,null,null,null,null,null,null,null,null,"FAC"]
[null,"10.",null,"",null,null,null,null,null,null,null,null,null,null,null,null,null,null,null,null,null,null,null,null,null,null,null,null,null,null,null,{"$f":"IF(Z7>0,IF(OR(AND(Z$11<5,Z$21=\"\",Z$30=\"\",Z$44=\"\",Z$52=\"\"),Z$11>=5),IF(AND(ISNA(MATCH(Z7,'Page 2 (Vegetation, 5 Strata)'!CG$4:CG$15,0)),'Page 2 (Vegetation, 5 Strata)'!CD13<0.2),\"No\",\"Yes\"),\"No\"),\"\")","v":""},null,null,null,null,null,{"$f":"IF('Page 2 (Vegetation, 5 Strata)'!CI13=0,\"\",'Page 2 (Vegetation, 5 Strata)'!CI13)","v":""},null,null,null,null,null,null,"Sapling – Woody plants, excluding woody vines, approximately 20 ft (6 m) or more in height and less than 3 in. (7.6 cm) DBH.",null,null,null,null,null,null,null,null,null,null,null,null,null,null,null,null,null,null,null,"FACU"]
[null,"11.",null,"",null,null,null,null,null,null,null,null,null,null,null,null,null,null,null,null,null,null,null,null,null,null,null,null,null,null,null,{"$f":"IF(Z8>0,IF(OR(AND(Z$11<5,Z$21=\"\",Z$30=\"\",Z$44=\"\",Z$52=\"\"),Z$11>=5),IF(AND(ISNA(MATCH(Z8,'Page 2 (Vegetation, 5 Strata)'!CG$4:CG$15,0)),'Page 2 (Vegetation, 5 Strata)'!CD14<0.2),\"No\",\"Yes\"),\"No\"),\"\")","v":""},null,null,null,null,null,{"$f":"IF('Page 2 (Vegetation, 5 Strata)'!CI14=0,\"\",'Page 2 (Vegetation, 5 Strata)'!CI14)","v":""},null,null,null,null,null,null,null,null,null,null,null,null,null,null,null,null,null,null,null,null,null,null,null,null,null,null,"UPL"]
[null,"12.",null,"",null,null,null,null,null,null,null,null,null,null,null,null,null,null,null,null,null,null,null,null,null,null,null,null,null,null,null,{"$f":"IF(Z9>0,IF(OR(AND(Z$11<5,Z$21=\"\",Z$30=\"\",Z$44=\"\",Z$52=\"\"),Z$11>=5),IF(AND(ISNA(MATCH(Z9,'Page 2 (Vegetation, 5 Strata)'!CG$4:CG$15,0)),'Page 2 (Vegetation, 5 Strata)'!CD15<0.2),\"No\",\"Yes\"),\"No\"),\"\")","v":""},null,null,null,null,null,{"$f":"IF('Page 2 (Vegetation, 5 Strata)'!CI15=0,\"\",'Page 2 (Vegetation, 5 Strata)'!CI15)","v":""}]
[null,"",null,null,null,null,null,null,null,null,null,null,null,null,null,null,null,null,null,null,null,null,null,null,null,null,null,null,null,null,null,null,null,null,null,null,null,null,null,null,null,null,null,null,"Shrub - Woody Plants, excluding woody vines, approximately 3 to 20 ft (1 to 6 m) in height."]
[null,null,null,null,null,null,null,null,null,null,null,null,null,null,null,null,null,null,null,null,null,null,null,null,null,{"$f":"IFERROR('Page 2 (Vegetation, 5 Strata)'!Z11,\"\")","v":""},null,null,null,null,"=Total Cover",null,null,null,null,null,null,null,null,null,null,null,null,null,null,null,null,null,null,null,null,null,null,null,null,null,null,null,null,null,null,null,null,null,"Page 1"]
[null,null,null,null,null,null,null,null,null,null,null,null,null,"50% of total cover:",null,null,null,null,null,null,null,null,{"$f":"IFERROR('Page 2 (Vegetation, 5 Strata)'!W12,\"\")","v":""},null,null,null,null,null,"20% of total cover:",null,null,null,null,null,null,null,null,{"$f":"IFERROR('Page 2 (Vegetation, 5 Strata)'!AL12,\"\")","v":""},null,null,null,null,null,null,null,null,null,null,null,null,null,null,null,null,null,null,null,null,null,null,null,null,null,null,{"$f":"ISBLANK('Page 1 (Hydrology)'!$AI$3)","v":true}]
[null,"Sapling Stratum",null,null,null,null,null,null,null,null,null,null,null,null,null,null,null,null,null,null,null,null,null,null,null,null,null,null,null,null,null,null,null,null,null,null,null,null,null,null,null,null,null,null,"Herb – All herbaceous (non-woody) plants, including herbaceous vines, regardless of size, and woody plants, except woody vines, less than approximately 3 ft (1 m) in height.",null,null,null,null,null,null,null,null,null,null,null,null,null,null,null,null,null,null,null,{"$f":"IF('Page 1 (Hydrology)'!$AI$3=\"AR\",IF(ISNA(MATCH('Page 1 (Hydrology)'!$L$6,BM23:BM30,0)),TRUE,FALSE))","v":false}]
[null,"7.",null,"",null,null,null,null,null,null,null,null,null,null,null,null,null,null,null,null,null,null,null,null,null,null,null,null,null,null,null,{"$f":"IF(Z14>0,IF(OR(AND(Z$21<5,Z$11=\"\",Z$30=\"\",Z$44=\"\",Z$52=\"\"),Z$21>=5),IF(AND(ISNA(MATCH(Z14,'Page 2 (Vegetation, 5 Strata)'!CG$17:CG$28,0)),'Page 2 (Vegetation, 5 Strata)'!CD23<0.2),\"No\",\"Yes\"),\"No\"),\"\")","v":""},null,null,null,null,null,{"$f":"IF('Page 2 (Vegetation, 5 Strata)'!CI23=0,\"\",'Page 2 (Vegetation, 5 Strata)'!CI23)","v":""},null,null,null,null,null,null,null,null,null,null,null,null,null,null,null,null,null,null,null,null,null,null,null,null,null,null,{"$f":"IF('Page 1 (Hydrology)'!$AI$3=\"LA\",IF(ISNA(MATCH('Page 1 (Hydrology)'!$L$6,BM33:BM44,0)),TRUE,FALSE))","v":false}]
[null,"8.",null,"",null,null,null,null,null,null,null,null,null,null,null,null,null,null,null,null,null,null,null,null,null,null,null,null,null,null,null,{"$f":"IF(Z15>0,IF(OR(AND(Z$21<5,Z$11=\"\",Z$30=\"\",Z$44=\"\",Z$52=\"\"),Z$21>=5),IF(AND(ISNA(MATCH(Z15,'Page 2 (Vegetation, 5 Strata)'!CG$17:CG$28,0)),'Page 2 (Vegetation, 5 Strata)'!CD24<0.2),\"No\",\"Yes\"),\"No\"),\"\")","v":""},null,null,null,null,null,{"$f":"IF('Page 2 (Vegetation, 5 Strata)'!CI24=0,\"\",'Page 2 (Vegetation, 5 Strata)'!CI24)","v":""},null,null,null,null,null,null,null,null,null,null,null,null,null,null,null,null,null,null,null,null,null,null,null,null,null,null,{"$f":"IF('Page 1 (Hydrology)'!$AI$3=\"MS\",IF(ISNA(MATCH('Page 1 (Hydrology)'!$L$6,BM47:BM53,0)),TRUE,FALSE))","v":false}]
[null,"9.",null,"",null,null,null,null,null,null,null,null,null,null,null,null,null,null,null,null,null,null,null,null,null,null,null,null,null,null,null,{"$f":"IF(Z16>0,IF(OR(AND(Z$21<5,Z$11=\"\",Z$30=\"\",Z$44=\"\",Z$52=\"\"),Z$21>=5),IF(AND(ISNA(MATCH(Z16,'Page 2 (Vegetation, 5 Strata)'!CG$17:CG$28,0)),'Page 2 (Vegetation, 5 Strata)'!CD25<0.2),\"No\",\"Yes\"),\"No\"),\"\")","v":""},null,null,null,null,null,{"$f":"IF('Page 2 (Vegetation, 5 Strata)'!CI25=0,\"\",'Page 2 (Vegetation, 5 Strata)'!CI25)","v":""},null,null,null,null,null,null,null,null,null,null,null,null,null,null,null,null,null,null,null,null,null,null,null,null,null,null,{"$f":"IF('Page 1 (Hydrology)'!$AI$3=\"OK\",IF(ISNA(MATCH('Page 1 (Hydrology)'!$L$6,BM56:BM57,0)),TRUE,FALSE))","v":false}]
[null,"10.",null,"",null,null,null,null,null,null,null,null,null,null,null,null,null,null,null,null,null,null,null,null,null,null,null,null,null,null,null,{"$f":"IF(Z17>0,IF(OR(AND(Z$21<5,Z$11=\"\",Z$30=\"\",Z$44=\"\",Z$52=\"\"),Z$21>=5),IF(AND(ISNA(MATCH(Z17,'Page 2 (Vegetation, 5 Strata)'!CG$17:CG$28,0)),'Page 2 (Vegetation, 5 Strata)'!CD26<0.2),\"No\",\"Yes\"),\"No\"),\"\")","v":""},null,null,null,null,null,{"$f":"IF('Page 2 (Vegetation, 5 Strata)'!CI26=0,\"\",'Page 2 (Vegetation, 5 Strata)'!CI26)","v":""},null,null,null,null,null,null,"Woody Vine – All woody vines, regardless of height.",null,null,null,null,null,null,null,null,null,null,null,null,null,null,null,null,null,null,null,{"$f":"IF('Page 1 (Hydrology)'!$AI$3=\"TN\",IF(ISNA(MATCH('Page 1 (Hydrology)'!$L$6,BM60:BM64,0)),TRUE,FALSE))","v":false}]
[null,"11.",null,null,null,null,null,null,null,null,null,null,null,null,null,null,null,null,null,null,null,null,null,null,null,null,null,null,null,null,null,{"$f":"IF(Z18>0,IF(OR(AND(Z$21<5,Z$11=\"\",Z$30=\"\",Z$44=\"\",Z$52=\"\"),Z$21>=5),IF(AND(ISNA(MATCH(Z18,'Page 2 (Vegetation, 5 Strata)'!CG$17:CG$28,0)),'Page 2 (Vegetation, 5 Strata)'!CD27<0.2),\"No\",\"Yes\"),\"No\"),\"\")","v":""},null,null,null,null,null,{"$f":"IF('Page 2 (Vegetation, 5 Strata)'!CI27=0,\"\",'Page 2 (Vegetation, 5 Strata)'!CI27)","v":""},null,null,null,null,null,null,null,null,null,null,null,null,null,null,null,null,null,null,null,null,null,null,null,null,null,null,{"$f":"IF(AND(OR($BM$12=TRUE,$BM$13=TRUE,$BM$14=TRUE,$BM$15=TRUE,$BM$16=TRUE,$BM$17=TRUE),D4<>\"\"),TRUE,FALSE)","v":false}]
[null,"12.",null,"",null,null,null,null,null,null,null,null,null,null,null,null,null,null,null,null,null,null,null,null,null,null,null,null,null,null,null,{"$f":"IF(Z19>0,IF(OR(AND(Z$21<5,Z$11=\"\",Z$30=\"\",Z$44=\"\",Z$52=\"\"),Z$21>=5),IF(AND(ISNA(MATCH(Z19,'Page 2 (Vegetation, 5 Strata)'!CG$17:CG$28,0)),'Page 2 (Vegetation, 5 Strata)'!CD28<0.2),\"No\",\"Yes\"),\"No\"),\"\")","v":""},null,null,null,null,null,{"$f":"IF('Page 2 (Vegetation, 5 Strata)'!CI28=0,\"\",'Page 2 (Vegetation, 5 Strata)'!CI28)","v":""}]
[]
[null,null,null,null,null,null,null,null,null,null,null,null,null,null,null,null,null,null,null,null,null,null,null,null,null,{"$f":"IFERROR('Page 2 (Vegetation, 5 Strata)'!Z21,\"\")","v":""},null,null,null,null,"=Total Cover",null,null,null,null,null,null,null,null,null,null,null,null,null,null,null,null,null,null,null,null,null,null,null,null,null,null,null,null,null,null,null,null,null,"Conditional Formatting Indicator Status"]
[null,null,null,null,null,null,null,null,null,null,null,null,null,"50% of total cover:",null,null,null,null,null,null,null,null,{"$f":"IFERROR('Page 2 (Vegetation, 5 Strata)'!W22,\"\")","v":""},null,null,null,null,null,"20% of total cover:",null,null,null,null,null,null,null,null,{"$f":"IFERROR('Page 2 (Vegetation, 5 Strata)'!AL22,\"\")","v":""},null,null,null,null,null,null,null,null,null,null,null,null,null,null,null,null,null,null,null,null,null,null,null,null,null,null,"AR"]
[null,"Shrub Stratum",null,null,null,null,null,null,null,null,null,null,null,null,null,null,null,null,null,null,null,null,null,null,null,null,null,null,null,null,null,null,null,null,null,null,null,null,null,null,null,null,null,null,null,null,null,null,null,null,null,null,null,null,null,null,null,null,null,null,null,null,null,null,"LRR O"]
[null,"7.",null,"",null,null,null,null,null,null,null,null,null,null,null,null,null,null,null,null,null,null,null,null,null,null,null,null,null,null,null,{"$f":"IF(Z24>0,IF(OR(AND(Z$30<5,Z$11=\"\",Z$21=\"\",Z$44=\"\",Z$52=\"\"),Z$30>=5),IF(AND(ISNA(MATCH(Z24,'Page 2 (Vegetation, 5 Strata)'!CG$31:CG$41,0)),'Page 2 (Vegetation, 5 Strata)'!CD36<0.2),\"No\",\"Yes\"),\"No\"),\"\")","v":""},null,null,null,null,null,{"$f":"IF('Page 2 (Vegetation, 5 Strata)'!CI36=0,\"\",'Page 2 (Vegetation, 5 Strata)'!CI36)","v":""},null,null,null,null,null,null,null,null,null,null,null,null,null,null,null,null,null,null,null,null,null,null,null,null,null,null,"LRR O, MLRA 131A"]
[null,"8.",null,"",null,null,null,null,null,null,null,null,null,null,null,null,null,null,null,null,null,null,null,null,null,null,null,null,null,null,null,{"$f":"IF(Z25>0,IF(OR(AND(Z$30<5,Z$11=\"\",Z$21=\"\",Z$44=\"\",Z$52=\"\"),Z$30>=5),IF(AND(ISNA(MATCH(Z25,'Page 2 (Vegetation, 5 Strata)'!CG$31:CG$41,0)),'Page 2 (Vegetation, 5 Strata)'!CD37<0.2),\"No\",\"Yes\"),\"No\"),\"\")","v":""},null,null,null,null,null,{"$f":"IF('Page 2 (Vegetation, 5 Strata)'!CI37=0,\"\",'Page 2 (Vegetation, 5 Strata)'!CI37)","v":""},null,null,null,null,null,null,null,null,null,null,null,null,null,null,null,null,null,null,null,null,null,null,null,null,null,null,"LRR O, MLRA 131B"]
[null,"9.",null,"",null,null,null,null,null,null,null,null,null,null,null,null,null,null,null,null,null,null,null,null,null,null,null,null,null,null,null,{"$f":"IF(Z26>0,IF(OR(AND(Z$30<5,Z$11=\"\",Z$21=\"\",Z$44=\"\",Z$52=\"\"),Z$30>=5),IF(AND(ISNA(MATCH(Z26,'Page 2 (Vegetation, 5 Strata)'!CG$31:CG$41,0)),'Page 2 (Vegetation, 5 Strata)'!CD38<0.2),\"No\",\"Yes\"),\"No\"),\"\")","v":""},null,null,null,null,null,{"$f":"IF('Page 2 (Vegetation, 5 Strata)'!CI38=0,\"\",'Page 2 (Vegetation, 5 Strata)'!CI38)","v":""},null,null,null,null,null,null,null,null,null,null,null,null,null,null,null,null,null,null,null,null,null,null,null,null,null,null,"LRR O, MLRA 131C"]
[null,"10.",null,"",null,null,null,null,null,null,null,null,null,null,null,null,null,null,null,null,null,null,null,null,null,null,null,null,null,null,null,{"$f":"IF(Z27>0,IF(OR(AND(Z$30<5,Z$11=\"\",Z$21=\"\",Z$44=\"\",Z$52=\"\"),Z$30>=5),IF(AND(ISNA(MATCH(Z27,'Page 2 (Vegetation, 5 Strata)'!CG$31:CG$41,0)),'Page 2 (Vegetation, 5 Strata)'!CD39<0.2),\"No\",\"Yes\"),\"No\"),\"\")","v":""},null,null,null,null,null,{"$f":"IF('Page 2 (Vegetation, 5 Strata)'!CI39=0,\"\",'Page 2 (Vegetation, 5 Strata)'!CI39)","v":""},null,null,null,null,null,null,null,null,null,null,null,null,null,null,null,null,null,null,null,null,null,null,null,null,null,null,"LRR O, MLRA 131D"]
[null,"11.",null,null,null,null,null,null,null,null,null,null,null,null,null,null,null,null,null,null,null,null,null,null,null,null,null,null,null,null,null,{"$f":"IF(Z28>0,IF(OR(AND(Z$30<5,Z$11=\"\",Z$21=\"\",Z$44=\"\",Z$52=\"\"),Z$30>=5),IF(AND(ISNA(MATCH(Z28,'Page 2 (Vegetation, 5 Strata)'!CG$31:CG$41,0)),'Page 2 (Vegetation, 5 Strata)'!CD40<0.2),\"No\",\"Yes\"),\"No\"),\"\")","v":""},null,null,null,null,null,{"$f":"IF('Page 2 (Vegetation, 5 Strata)'!CI40=0,\"\",'Page 2 (Vegetation, 5 Strata)'!CI40)","v":""},null,null,null,null,null,null,null,null,null,null,null,null,null,null,null,null,null,null,null,null,null,null,null,null,null,null,"LRR P, MLRA 133B"]
[null,"12.",null,"",null,null,null,null,null,null,null,null,null,null,null,null,null,null,null,null,null,null,null,null,null,null,null,null,null,null,null,{"$f":"IF(Z29>0,IF(OR(AND(Z$30<5,Z$11=\"\",Z$21=\"\",Z$44=\"\",Z$52=\"\"),Z$30>=5),IF(AND(ISNA(MATCH(Z29,'Page 2 (Vegetation, 5 Strata)'!CG$31:CG$41,0)),'Page 2 (Vegetation, 5 Strata)'!CD41<0.2),\"No\",\"Yes\"),\"No\"),\"\")","v":""},null,null,null,null,null,{"$f":"IF('Page 2 (Vegetation, 5 Strata)'!CI41=0,\"\",'Page 2 (Vegetation, 5 Strata)'!CI41)","v":""},null,null,null,null,null,null,null,null,null,null,null,null,null,null,null,null,null,null,null,null,null,null,null,null,null,null,"LRR P, MLRA 134"]
[null,null,null,null,null,null,null,null,null,null,null,null,null,null,null,null,null,null,null,null,null,null,null,null,null,{"$f":"IFERROR('Page 2 (Vegetation, 5 Strata)'!Z30,\"\")","v":""},null,null,null,null,"=Total Cover",null,null,null,null,null,null,null,null,null,null,null,null,null,null,null,null,null,null,null,null,null,null,null,null,null,null,null,null,null,null,null,null,null,"LRR P, MLRA 135B"]
[null,null,null,null,null,null,null,null,null,null,null,null,null,"50% of total cover:",null,null,null,null,null,null,null,null,{"$f":"IFERROR('Page 2 (Vegetation, 5 Strata)'!W31,\"\")","v":""},null,null,null,null,null,"20% of total cover:",null,null,null,null,null,null,null,null,{"$f":"IFERROR('Page 2 (Vegetation, 5 Strata)'!AL31,\"\")","v":""}]
[null,"Herb Stratum",null,null,null,null,null,null,null,null,null,null,null,null,null,null,null,null,null,null,null,null,null,null,null,null,null,null,null,null,null,null,null,null,null,null,null,null,null,null,null,null,null,null,null,null,null,null,null,null,null,null,null,null,null,null,null,null,null,null,null,null,null,null,"LA"]
[null,"12.",null,"",null,null,null,null,null,null,null,null,null,null,null,null,null,null,null,null,null,null,null,null,null,null,null,null,null,null,null,{"$f":"IF(Z33>0,IF(OR(AND(Z$44<5,Z$11=\"\",Z$21=\"\",Z$30=\"\",Z$52=\"\"),Z$44>=5),IF(AND(ISNA(MATCH(Z33,'Page 2 (Vegetation, 5 Strata)'!CG$43:CG$64,0)),'Page 2 (Vegetation, 5 Strata)'!CD54<0.2),\"No\",\"Yes\"),\"No\"),\"\")","v":""},null,null,null,null,null,{"$f":"IF('Page 2 (Vegetation, 5 Strata)'!CI54=0,\"\",'Page 2 (Vegetation, 5 Strata)'!CI54)","v":""},null,null,null,null,null,null,null,null,null,null,null,null,null,null,null,null,null,null,null,null,null,null,null,null,null,null,"LRR O"]
[null,"13.",null,"",null,null,null,null,null,null,null,null,null,null,null,null,null,null,null,null,null,null,null,null,null,null,null,null,null,null,null,{"$f":"IF(Z34>0,IF(OR(AND(Z$44<5,Z$11=\"\",Z$21=\"\",Z$30=\"\",Z$52=\"\"),Z$44>=5),IF(AND(ISNA(MATCH(Z34,'Page 2 (Vegetation, 5 Strata)'!CG$43:CG$64,0)),'Page 2 (Vegetation, 5 Strata)'!CD55<0.2),\"No\",\"Yes\"),\"No\"),\"\")","v":""},null,null,null,null,null,{"$f":"IF('Page 2 (Vegetation, 5 Strata)'!CI55=0,\"\",'Page 2 (Vegetation, 5 Strata)'!CI55)","v":""},null,null,null,null,null,null,null,null,null,null,null,null,null,null,null,null,null,null,null,null,null,null,null,null,null,null,"LRR O, MLRA 131A"]
[null,"14.",null,null,null,null,null,null,null,null,null,null,null,null,null,null,null,null,null,null,null,null,null,null,null,null,null,null,null,null,null,{"$f":"IF(Z35>0,IF(OR(AND(Z$44<5,Z$11=\"\",Z$21=\"\",Z$30=\"\",Z$52=\"\"),Z$44>=5),IF(AND(ISNA(MATCH(Z35,'Page 2 (Vegetation, 5 Strata)'!CG$43:CG$64,0)),'Page 2 (Vegetation, 5 Strata)'!CD56<0.2),\"No\",\"Yes\"),\"No\"),\"\")","v":""},null,null,null,null,null,{"$f":"IF('Page 2 (Vegetation, 5 Strata)'!CI56=0,\"\",'Page 2 (Vegetation, 5 Strata)'!CI56)","v":""},null,null,null,null,null,null,null,null,null,null,null,null,null,null,null,null,null,null,null,null,null,null,null,null,null,null,"LRR O, MLRA 131B"]
[null,"15.",null,"",null,null,null,null,null,null,null,null,null,null,null,null,null,null,null,null,null,null,null,null,null,null,null,null,null,null,null,{"$f":"IF(Z36>0,IF(OR(AND(Z$44<5,Z$11=\"\",Z$21=\"\",Z$30=\"\",Z$52=\"\"),Z$44>=5),IF(AND(ISNA(MATCH(Z36,'Page 2 (Vegetation, 5 Strata)'!CG$43:CG$64,0)),'Page 2 (Vegetation, 5 Strata)'!CD57<0.2),\"No\",\"Yes\"),\"No\"),\"\")","v":""},null,null,null,null,null,{"$f":"IF('Page 2 (Vegetation, 5 Strata)'!CI57=0,\"\",'Page 2 (Vegetation, 5 Strata)'!CI57)","v":""},null,null,null,null,null,null,null,null,null,null,null,null,null,null,null,null,null,null,null,null,null,null,null,null,null,null,"LRR O, MLRA 131C"]
[null,"16.",null,"",null,null,null,null,null,null,null,null,null,null,null,null,null,null,null,null,null,null,null,null,null,null,null,null,null,null,null,{"$f":"IF(Z37>0,IF(OR(AND(Z$44<5,Z$11=\"\",Z$21=\"\",Z$30=\"\",Z$52=\"\"),Z$44>=5),IF(AND(ISNA(MATCH(Z37,'Page 2 (Vegetation, 5 Strata)'!CG$43:CG$64,0)),'Page 2 (Vegetation, 5 Strata)'!CD58<0.2),\"No\",\"Yes\"),\"No\"),\"\")","v":""},null,null,null,null,null,{"$f":"IF('Page 2 (Vegetation, 5 Strata)'!CI58=0,\"\",'Page 2 (Vegetation, 5 Strata)'!CI58)","v":""},null,null,null,null,null,null,null,null,null,null,null,null,null,null,null,null,null,null,null,null,null,null,null,null,null,null,"LRR O, MLRA 131D"]
[null,"17.",null,"",null,null,null,null,null,null,null,null,null,null,null,null,null,null,null,null,null,null,null,null,null,null,null,null,null,null,null,{"$f":"IF(Z38>0,IF(OR(AND(Z$44<5,Z$11=\"\",Z$21=\"\",Z$30=\"\",Z$52=\"\"),Z$44>=5),IF(AND(ISNA(MATCH(Z38,'Page 2 (Vegetation, 5 Strata)'!CG$43:CG$64,0)),'Page 2 (Vegetation, 5 Strata)'!CD59<0.2),\"No\",\"Yes\"),\"No\"),\"\")","v":""},null,null,null,null,null,{"$f":"IF('Page 2 (Vegetation, 5 Strata)'!CI59=0,\"\",'Page 2 (Vegetation, 5 Strata)'!CI59)","v":""},null,null,null,null,null,null,null,null,null,null,null,null,null,null,null,null,null,null,null,null,null,null,null,null,null,null,"LRR P, MLRA 133A"]
[null,"18.",null,"",null,null,null,null,null,null,null,null,null,null,null,null,null,null,null,null,null,null,null,null,null,null,null,null,null,null,null,{"$f":"IF(Z39>0,IF(OR(AND(Z$44<5,Z$11=\"\",Z$21=\"\",Z$30=\"\",Z$52=\"\"),Z$44>=5),IF(AND(ISNA(MATCH(Z39,'Page 2 (Vegetation, 5 Strata)'!CG$43:CG$64,0)),'Page 2 (Vegetation, 5 Strata)'!CD60<0.2),\"No\",\"Yes\"),\"No\"),\"\")","v":""},null,null,null,null,null,{"$f":"IF('Page 2 (Vegetation, 5 Strata)'!CI60=0,\"\",'Page 2 (Vegetation, 5 Strata)'!CI60)","v":""},null,null,null,null,null,null,null,null,null,null,null,null,null,null,null,null,null,null,null,null,null,null,null,null,null,null,"LRR P, MLRA 133B"]
[null,"19.",null,"",null,null,null,null,null,null,null,null,null,null,null,null,null,null,null,null,null,null,null,null,null,null,null,null,null,null,null,{"$f":"IF(Z40>0,IF(OR(AND(Z$44<5,Z$11=\"\",Z$21=\"\",Z$30=\"\",Z$52=\"\"),Z$44>=5),IF(AND(ISNA(MATCH(Z40,'Page 2 (Vegetation, 5 Strata)'!CG$43:CG$64,0)),'Page 2 (Vegetation, 5 Strata)'!CD61<0.2),\"No\",\"Yes\"),\"No\"),\"\")","v":""},null,null,null,null,null,{"$f":"IF('Page 2 (Vegetation, 5 Strata)'!CI61=0,\"\",'Page 2 (Vegetation, 5 Strata)'!CI61)","v":""},null,null,null,null,null,null,null,null,null,null,null,null,null,null,null,null,null,null,null,null,null,null,null,null,null,null,"LRR P, MLRA 134"]
[null,"20.",null,"",null,null,null,null,null,null,null,null,null,null,null,null,null,null,null,null,null,null,null,null,null,null,null,null,null,null,null,{"$f":"IF(Z41>0,IF(OR(AND(Z$44<5,Z$11=\"\",Z$21=\"\",Z$30=\"\",Z$52=\"\"),Z$44>=5),IF(AND(ISNA(MATCH(Z41,'Page 2 (Vegetation, 5 Strata)'!CG$43:CG$64,0)),'Page 2 (Vegetation, 5 Strata)'!CD62<0.2),\"No\",\"Yes\"),\"No\"),\"\")","v":""},null,null,null,null,null,{"$f":"IF('Page 2 (Vegetation, 5 Strata)'!CI62=0,\"\",'Page 2 (Vegetation, 5 Strata)'!CI62)","v":""},null,null,null,null,null,null,null,null,null,null,null,null,null,null,null,null,null,null,null,null,null,null,null,null,null,null,"LRR T, MLRA 150A"]
[null,"21.",null,"",null,null,null,null,null,null,null,null,null,null,null,null,null,null,null,null,null,null,null,null,null,null,null,null,null,null,null,{"$f":"IF(Z42>0,IF(OR(AND(Z$44<5,Z$11=\"\",Z$21=\"\",Z$30=\"\",Z$52=\"\"),Z$44>=5),IF(AND(ISNA(MATCH(Z42,'Page 2 (Vegetation, 5 Strata)'!CG$43:CG$64,0)),'Page 2 (Vegetation, 5 Strata)'!CD63<0.2),\"No\",\"Yes\"),\"No\"),\"\")","v":""},null,null,null,null,null,{"$f":"IF('Page 2 (Vegetation, 5 Strata)'!CI63=0,\"\",'Page 2 (Vegetation, 5 Strata)'!CI63)","v":""},null,null,null,null,null,null,null,null,null,null,null,null,null,null,null,null,null,null,null,null,null,null,null,null,null,null,"LRR T, MLRA 151"]
[null,"22.",null,"",null,null,null,null,null,null,null,null,null,null,null,null,null,null,null,null,null,null,null,null,null,null,null,null,null,null,null,{"$f":"IF(Z43>0,IF(OR(AND(Z$44<5,Z$11=\"\",Z$21=\"\",Z$30=\"\",Z$52=\"\"),Z$44>=5),IF(AND(ISNA(MATCH(Z43,'Page 2 (Vegetation, 5 Strata)'!CG$43:CG$64,0)),'Page 2 (Vegetation, 5 Strata)'!CD64<0.2),\"No\",\"Yes\"),\"No\"),\"\")","v":""},null,null,null,null,null,{"$f":"IF('Page 2 (Vegetation, 5 Strata)'!CI64=0,\"\",'Page 2 (Vegetation, 5 Strata)'!CI64)","v":""},null,null,null,null,null,null,null,null,null,null,null,null,null,null,null,null,null,null,null,null,null,null,null,null,null,null,"LRR T, MLRA 152A"]
[null,null,null,null,null,null,null,null,null,null,null,null,null,null,null,null,null,null,null,null,null,null,null,null,null,{"$f":"IFERROR('Page 2 (Vegetation, 5 Strata)'!Z44,\"\")","v":""},null,null,null,null,"=Total Cover",null,null,null,null,null,null,null,null,null,null,null,null,null,null,null,null,null,null,null,null,null,null,null,null,null,null,null,null,null,null,null,null,null,"LRR T, MLRA 152B"]
[null,null,null,null,null,null,null,null,null,null,null,null,null,"50% of total cover:",null,null,null,null,null,null,null,null,{"$f":"IFERROR('Page 2 (Vegetation, 5 Strata)'!W45,\"\")","v":""},null,null,null,null,null,"20% of total cover:",null,null,null,null,null,null,null,null,{"$f":"IFERROR('Page 2 (Vegetation, 5 Strata)'!AL45,\"\")","v":""}]
[null,"Woody Vine Stratum",null,null,null,null,null,null,null,null,null,null,null,null,null,null,null,null,null,null,null,null,null,null,null,null,null,null,null,null,null,null,null,null,null,null,null,null,null,null,null,null,null,null,null,null,null,null,null,null,null,null,null,null,null,null,null,null,null,null,null,null,null,null,"MS"]
[null,"6.",null,"",null,null,null,null,null,null,null,null,null,null,null,null,null,null,null,null,null,null,null,null,null,null,null,null,null,null,null,{"$f":"IF(Z47>0,IF(OR(AND(Z$52<5,Z$11=\"\",Z$21=\"\",Z$30=\"\",Z$44=\"\"),Z$52>=5),IF(AND(ISNA(MATCH(Z47,'Page 2 (Vegetation, 5 Strata)'!CG$66:CG$75,0)),'Page 2 (Vegetation, 5 Strata)'!CD71<0.2),\"No\",\"Yes\"),\"No\"),\"\")","v":""},null,null,null,null,null,{"$f":"IF('Page 2 (Vegetation, 5 Strata)'!CI71=0,\"\",'Page 2 (Vegetation, 5 Strata)'!CI71)","v":""},null,null,null,null,null,null,null,null,null,null,null,null,null,null,null,null,null,null,null,null,null,null,null,null,null,null,"LRR O"]
[null,"7.",null,null,null,null,null,null,null,null,null,null,null,null,null,null,null,null,null,null,null,null,null,null,null,null,null,null,null,null,null,{"$f":"IF(Z48>0,IF(OR(AND(Z$52<5,Z$11=\"\",Z$21=\"\",Z$30=\"\",Z$44=\"\"),Z$52>=5),IF(AND(ISNA(MATCH(Z48,'Page 2 (Vegetation, 5 Strata)'!CG$66:CG$75,0)),'Page 2 (Vegetation, 5 Strata)'!CD72<0.2),\"No\",\"Yes\"),\"No\"),\"\")","v":""},null,null,null,null,null,{"$f":"IF('Page 2 (Vegetation, 5 Strata)'!CI72=0,\"\",'Page 2 (Vegetation, 5 Strata)'!CI72)","v":""},null,null,null,null,null,null,null,null,null,null,null,null,null,null,null,null,null,null,null,null,null,null,null,null,null,null,"LRR O, MLRA 131A"]
[null,"8.",null,"",null,null,null,null,null,null,null,null,null,null,null,null,null,null,null,null,null,null,null,null,null,null,null,null,null,null,null,{"$f":"IF(Z49>0,IF(OR(AND(Z$52<5,Z$11=\"\",Z$21=\"\",Z$30=\"\",Z$44=\"\"),Z$52>=5),IF(AND(ISNA(MATCH(Z49,'Page 2 (Vegetation, 5 Strata)'!CG$66:CG$75,0)),'Page 2 (Vegetation, 5 Strata)'!CD73<0.2),\"No\",\"Yes\"),\"No\"),\"\")","v":""},null,null,null,null,null,{"$f":"IF('Page 2 (Vegetation, 5 Strata)'!CI73=0,\"\",'Page 2 (Vegetation, 5 Strata)'!CI73)","v":""},null,null,null,null,null,null,null,null,null,null,null,null,null,null,null,null,null,null,null,null,null,null,null,null,null,null,"LRR P, MLRA 133A"]
[null,"9.",null,null,null,null,null,null,null,null,null,null,null,null,null,null,null,null,null,null,null,null,null,null,null,null,null,null,null,null,null,{"$f":"IF(Z50>0,IF(OR(AND(Z$52<5,Z$11=\"\",Z$21=\"\",Z$30=\"\",Z$44=\"\"),Z$52>=5),IF(AND(ISNA(MATCH(Z50,'Page 2 (Vegetation, 5 Strata)'!CG$66:CG$75,0)),'Page 2 (Vegetation, 5 Strata)'!CD74<0.2),\"No\",\"Yes\"),\"No\"),\"\")","v":""},null,null,null,null,null,{"$f":"IF('Page 2 (Vegetation, 5 Strata)'!CI74=0,\"\",'Page 2 (Vegetation, 5 Strata)'!CI74)","v":""},null,null,null,null,null,null,null,null,null,null,null,null,null,null,null,null,null,null,null,null,null,null,null,null,null,null,"LRR P, MLRA 134"]
[null,"10.",null,"",null,null,null,null,null,null,null,null,null,null,null,null,null,null,null,null,null,null,null,null,null,null,null,null,null,null,null,{"$f":"IF(Z51>0,IF(OR(AND(Z$52<5,Z$11=\"\",Z$21=\"\",Z$30=\"\",Z$44=\"\"),Z$52>=5),IF(AND(ISNA(MATCH(Z51,'Page 2 (Vegetation, 5 Strata)'!CG$66:CG$75,0)),'Page 2 (Vegetation, 5 Strata)'!CD75<0.2),\"No\",\"Yes\"),\"No\"),\"\")","v":""},null,null,null,null,null,{"$f":"IF('Page 2 (Vegetation, 5 Strata)'!CI75=0,\"\",'Page 2 (Vegetation, 5 Strata)'!CI75)","v":""},null,null,null,null,null,null,null,null,null,null,null,null,null,null,null,null,null,null,null,null,null,null,null,null,null,null,"LRR P, MLRA 135A"]
[null,null,null,null,null,null,null,null,null,null,null,null,null,null,null,null,null,null,null,null,null,null,null,null,null,{"$f":"IFERROR('Page 2 (Vegetation, 5 Strata)'!Z52,\"\")","v":""},null,null,null,null,"=Total Cover",null,null,null,null,null,null,null,null,null,null,null,null,null,null,null,null,null,null,null,null,null,null,null,null,null,null,null,null,null,null,null,null,null,"LRR T, MLRA 151"]
[null,null,null,null,null,null,null,null,null,null,null,null,null,"50% of total cover:",null,null,null,null,null,null,null,null,{"$f":"IFERROR('Page 2 (Vegetation, 5 Strata)'!W53,\"\")","v":""},null,null,null,null,null,"20% of total cover:",null,null,null,null,null,null,null,null,{"$f":"IFERROR('Page 2 (Vegetation, 5 Strata)'!AL53,\"\")","v":""},null,null,null,null,null,null,null,null,null,null,null,null,null,null,null,null,null,null,null,null,null,null,null,null,null,null,"LRR T, MLRA 152A"]
[]
[null,"Remarks:  (If observed, list morphological adaptations below.)",null,null,null,null,null,null,null,null,null,null,null,null,null,null,null,null,null,null,null,null,null,null,null,null,null,null,null,null,null,null,null,null,null,null,null,null,null,null,null,null,null,null,null,null,null,null,null,null,null,null,null,null,null,null,null,null,null,null,null,null,null,null,"OK"]
[null,null,null,null,null,null,null,null,null,null,null,null,null,null,null,null,null,null,null,null,null,null,null,null,null,null,null,null,null,null,null,null,null,null,null,null,null,null,null,null,null,null,null,null,null,null,null,null,null,null,null,null,null,null,null,null,null,null,null,null,null,null,null,null,"LRR P, MLRA 133B"]
["ENG FORM 6116-2, JUL 2018",null,null,null,null,null,null,null,null,null,null,null,null,null,null,null,null,null,null,null,null,null,null,null,null,null,null,null,null,null,null,null,null,null,null,null,null,null,null,null,null,null,null,null,null,null,"Atlantic and Gulf Coastal Plain – Version 2.0",null,null,null,null,null,null,null,null,null,null,null,null,null,null,null,null,null,"LRR P, MLRA 135B"]
[]
[null,null,null,null,null,null,null,null,null,null,null,null,null,null,null,null,null,null,null,null,null,null,null,null,null,null,null,null,null,null,null,null,null,null,null,null,null,null,null,null,null,null,null,null,null,null,null,null,null,null,null,null,null,null,null,null,null,null,null,null,null,null,null,null,"TN"]
[null,null,null,null,null,null,null,null,null,null,null,null,null,null,null,null,null,null,null,null,null,null,null,null,null,null,null,null,null,null,null,null,null,null,null,null,null,null,null,null,null,null,null,null,null,null,null,null,null,null,null,null,null,null,null,null,null,null,null,null,null,null,null,null,"LRR O"]
[null,null,null,null,null,null,null,null,null,null,null,null,null,null,null,null,null,null,null,null,null,null,null,null,null,null,null,null,null,null,null,null,null,null,null,null,null,null,null,null,null,null,null,null,null,null,null,null,null,null,null,null,null,null,null,null,null,null,null,null,null,null,null,null,"LRR O, MLRA 131A"]
[null,null,null,null,null,null,null,null,null,null,null,null,null,null,null,null,null,null,null,null,null,null,null,null,null,null,null,null,null,null,null,null,null,null,null,null,null,null,null,null,null,null,null,null,null,null,null,null,null,null,null,null,null,null,null,null,null,null,null,null,null,null,null,null,"LRR P, MLRA 133A"]
[null,null,null,null,null,null,null,null,null,null,null,null,null,null,null,null,null,null,null,null,null,null,null,null,null,null,null,null,null,null,null,null,null,null,null,null,null,null,null,null,null,null,null,null,null,null,null,null,null,null,null,null,null,null,null,null,null,null,null,null,null,null,null,null,"LRR P, MLRA 134"]
[null,null,null,null,null,null,null,null,null,null,null,null,null,null,null,null,null,null,null,null,null,null,null,null,null,null,null,null,null,null,null,null,null,null,null,null,null,null,null,null,null,null,null,null,null,null,null,null,null,null,null,null,null,null,null,null,null,null,null,null,null,null,null,null,"LRR P, MLRA 135A"]

{"sheet":"Vegetation Continued, 4 Strata","index":5,"n_rows":64,"n_cols":65,"rows_kept":64,"cut":false,"hidden":false,"merged":[[0,24,0,51],[9,44,12,63],[13,44,14,63],[2,43,14,43],[15,43,48,63],[41,1,41,42],[26,1,26,42],[14,1,14,42],[2,1,2,24],[45,25,45,29],[45,31,45,35],[45,37,45,41],[46,3,46,23],[46,25,46,29],[46,31,46,35],[46,37,46,41],[42,42,46,42],[43,3,43,23],[43,25,43,29],[43,31,43,35],[43,37,43,41],[44,3,44,23],[44,25,44,29],[44,31,44,35],[49,1,49,42],[49,43,49,63],[50,0,55,0],[50,1,50,63],[51,1,55,63],[47,1,47,24],[47,25,47,29],[47,30,47,42],[48,1,48,12],[48,22,48,26],[48,37,48,41],[44,37,44,41],[45,3,45,23],[42,3,42,23],[42,24,46,24],[42,25,42,29],[42,30,46,30],[42,31,42,35],[42,36,46,36],[42,37,42,41],[39,1,39,24],[39,25,39,29],[39,30,39,42],[40,1,40,12],[40,22,40,26],[40,37,40,41],[36,37,36,41],[37,3,37,23],[37,25,37,29],[37,31,37,35],[37,37,37,41],[38,3,38,23],[38,25,38,29],[38,31,38,35],[38,37,38,41],[36,3,36,23],[36,25,36,29],[36,31,36,35],[6,44,8,63],[34,3,34,23],[34,25,34,29],[34,31,34,35],[34,37,34,41],[35,3,35,23],[35,25,35,29],[35,31,35,35],[35,37,35,41],[31,37,31,41],[32,3,32,23],[32,25,32,29],[32,31,32,35],[32,37,32,41],[33,3,33,23],[33,25,33,29],[33,31,33,35],[33,37,33,41],[29,37,29,41],[24,1,24,24],[24,25,24,29],[24,30,24,42],[25,1,25,12],[25,22,25,26],[2,44,2,63],[30,3,30,23],[30,25,30,29],[30,31,30,35],[30,37,30,41],[3,44,5,63],[31,3,31,23],[31,25,31,29],[27,37,27,41],[27,42,38,42],[28,3,28,23],[28,25,28,29],[28,31,28,35],[28,37,28,41],[29,3,29,23],[29,25,29,29],[29,31,29,35],[27,3,27,23],[27,24,38,24],[27,25,27,29],[27,30,38,30],[27,31,27,35],[27,36,38,36],[31,31,31,35],[25,37,25,41],[22,37,22,41],[23,3,23,23],[23,25,23,29],[23,31,23,35],[23,37,23,41],[20,37,20,41],[20,42,23,42],[21,3,21,23],[21,25,21,29],[21,31,21,35],[21,37,21,41],[22,3,22,23],[20,3,20,23],[20,24,23,24],[20,25,20,29],[20,30,23,30],[20,31,20,35],[20,36,23,36],[22,25,22,29],[22,31,22,35],[18,37,18,41],[19,1,19,42],[17,3,17,23],[17,25,17,29],[17,31,17,35],[17,37,17,41],[15,37,15,41],[15,42,18,42],[16,3,16,23],[16,25,16,29],[16,31,16,35],[16,37,16,41],[15,3,15,23],[15,24,18,24],[15,25,15,29],[15,30,18,30],[15,31,15,35],[15,36,18,36],[18,3,18,23],[18,25,18,29],[18,31,18,35],[13,37,13,41],[12,1,12,24],[12,25,12,29],[12,30,12,42],[13,1,13,12],[13,22,13,26],[10,37,10,41],[10,42,11,42],[11,3,11,23],[11,25,11,29],[11,31,11,35],[11,37,11,41],[4,37,4,41],[8,31,8,35],[8,37,8,41],[9,1,9,42],[10,3,10,23],[10,24,11,24],[10,25,10,29],[10,30,11,30],[10,31,10,35],[7,3,7,23],[7,25,7,29],[7,31,7,35],[7,37,7,41],[8,3,8,23],[8,25,8,29],[2,31,2,35],[2,37,2,41],[2,42,8,42],[3,3,3,23],[3,24,8,24],[3,25,3,29],[3,31,3,35],[3,37,3,41],[0,58,0,62],[1,0,1,63],[2,0,49,0],[2,25,2,29],[2,30,8,30],[5,3,5,23],[5,25,5,29],[5,31,5,35],[5,37,5,41],[6,3,6,23],[6,25,6,29],[6,31,6,35],[6,37,6,41],[4,3,4,23],[4,25,4,29],[4,31,4,35]]}
["VEGETATION Continued (Four Strata)",null,null,null,null,null,null,null,null,null,null,null,null,null,null,null,null,null,null,null,null,null,null,null,"– Use scientific names of plants.",null,null,null,null,null,null,null,null,null,null,null,null,null,null,null,null,null,null,null,null,null,null,null,null,null,null,null,"Sampling Point:",null,null,null,null,null,{"$f":"IF('Page 1 (Hydrology)'!AP3=0,\"\",'Page 1 (Hydrology)'!AP3)","v":""}]
[]
[null,"Tree Stratum",null,null,null,null,null,null,null,null,null,null,null,null,null,null,null,null,null,null,null,null,null,null,null,"Absolute % Cover",null,null,null,null,null,"Dominant Species?",null,null,null,null,null,"Indicator Status",null,null,null,null,null,null,"Definitions of Four Vegetation Strata:",null,null,null,null,null,null,null,null,null,null,null,null,null,null,null,null,null,null,null,"Indicators"]
[null,"9.",null,"",null,null,null,null,null,null,null,null,null,null,null,null,null,null,null,null,null,null,null,null,null,null,null,null,null,null,null,{"$f":"IF(Z4>0,IF(OR(AND(Z$13<5,Z$25=\"\",Z$40=\"\",Z$48=\"\"),Z$13>=5),IF(AND(ISNA(MATCH(Z4,'Page 2 (Vegetation, 4 Strata)'!CG$4:CG$19,0)),'Page 2 (Vegetation, 4 Strata)'!CD12<0.2),\"No\",\"Yes\"),\"No\"),\"\")","v":""},null,null,null,null,null,{"$f":"IF('Page 2 (Vegetation, 4 Strata)'!CI12=0,\"\",'Page 2 (Vegetation, 4 Strata)'!CI12)","v":""},null,null,null,null,null,null,"Tree – Woody plants, excluding vines, 3 in. (7.6 cm) or more in diameter at breast height (DBH), regardless of height.",null,null,null,null,null,null,null,null,null,null,null,null,null,null,null,null,null,null,null,"OBL"]
[null,"10.",null,"",null,null,null,null,null,null,null,null,null,null,null,null,null,null,null,null,null,null,null,null,null,null,null,null,null,null,null,{"$f":"IF(Z5>0,IF(OR(AND(Z$13<5,Z$25=\"\",Z$40=\"\",Z$48=\"\"),Z$13>=5),IF(AND(ISNA(MATCH(Z5,'Page 2 (Vegetation, 4 Strata)'!CG$4:CG$19,0)),'Page 2 (Vegetation, 4 Strata)'!CD13<0.2),\"No\",\"Yes\"),\"No\"),\"\")","v":""},null,null,null,null,null,{"$f":"IF('Page 2 (Vegetation, 4 Strata)'!CI13=0,\"\",'Page 2 (Vegetation, 4 Strata)'!CI13)","v":""},null,null,null,null,null,null,null,null,null,null,null,null,null,null,null,null,null,null,null,null,null,null,null,null,null,null,"FACW"]
[null,"11.",null,"",null,null,null,null,null,null,null,null,null,null,null,null,null,null,null,null,null,null,null,null,null,null,null,null,null,null,null,{"$f":"IF(Z6>0,IF(OR(AND(Z$13<5,Z$25=\"\",Z$40=\"\",Z$48=\"\"),Z$13>=5),IF(AND(ISNA(MATCH(Z6,'Page 2 (Vegetation, 4 Strata)'!CG$4:CG$19,0)),'Page 2 (Vegetation, 4 Strata)'!CD14<0.2),\"No\",\"Yes\"),\"No\"),\"\")","v":""},null,null,null,null,null,{"$f":"IF('Page 2 (Vegetation, 4 Strata)'!CI14=0,\"\",'Page 2 (Vegetation, 4 Strata)'!CI14)","v":""},null,null,null,null,null,null,null,null,null,null,null,null,null,null,null,null,null,null,null,null,null,null,null,null,null,null,"FAC"]
[null,"12.",null,"",null,null,null,null,null,null,null,null,null,null,null,null,null,null,null,null,null,null,null,null,null,null,null,null,null,null,null,{"$f":"IF(Z7>0,IF(OR(AND(Z$13<5,Z$25=\"\",Z$40=\"\",Z$48=\"\"),Z$13>=5),IF(AND(ISNA(MATCH(Z7,'Page 2 (Vegetation, 4 Strata)'!CG$4:CG$19,0)),'Page 2 (Vegetation, 4 Strata)'!CD15<0.2),\"No\",\"Yes\"),\"No\"),\"\")","v":""},null,null,null,null,null,{"$f":"IF('Page 2 (Vegetation, 4 Strata)'!CI15=0,\"\",'Page 2 (Vegetation, 4 Strata)'!CI15)","v":""},null,null,null,null,null,null,"Sapling/Shrub – Woody plants, excluding vines, less than 3 in. DBH and greater than 3.28 ft (1 m) tall.",null,null,null,null,null,null,null,null,null,null,null,null,null,null,null,null,null,null,null,"FACU"]
[null,"13.",null,"",null,null,null,null,null,null,null,null,null,null,null,null,null,null,null,null,null,null,null,null,null,null,null,null,null,null,null,{"$f":"IF(Z8>0,IF(OR(AND(Z$13<5,Z$25=\"\",Z$40=\"\",Z$48=\"\"),Z$13>=5),IF(AND(ISNA(MATCH(Z8,'Page 2 (Vegetation, 4 Strata)'!CG$4:CG$19,0)),'Page 2 (Vegetation, 4 Strata)'!CD16<0.2),\"No\",\"Yes\"),\"No\"),\"\")","v":""},null,null,null,null,null,{"$f":"IF('Page 2 (Vegetation, 4 Strata)'!CI16=0,\"\",'Page 2 (Vegetation, 4 Strata)'!CI16)","v":""},null,null,null,null,null,null,null,null,null,null,null,null,null,null,null,null,null,null,null,null,null,null,null,null,null,null,"UPL"]
[null,"14.",null,"",null,null,null,null,null,null,null,null,null,null,null,null,null,null,null,null,null,null,null,null,null,null,null,null,null,null,null,{"$f":"IF(Z9>0,IF(OR(AND(Z$13<5,Z$25=\"\",Z$40=\"\",Z$48=\"\"),Z$13>=5),IF(AND(ISNA(MATCH(Z9,'Page 2 (Vegetation, 4 Strata)'!CG$4:CG$19,0)),'Page 2 (Vegetation, 4 Strata)'!CD17<0.2),\"No\",\"Yes\"),\"No\"),\"\")","v":""},null,null,null,null,null,{"$f":"IF('Page 2 (Vegetation, 4 Strata)'!CI17=0,\"\",'Page 2 (Vegetation, 4 Strata)'!CI17)","v":""}]
[null,"",null,null,null,null,null,null,null,null,null,null,null,null,null,null,null,null,null,null,null,null,null,null,null,null,null,null,null,null,null,null,null,null,null,null,null,null,null,null,null,null,null,null,"Herb – All herbaceous (non-woody) plants, regardless of size, and woody plants less than 3.28 ft tall."]
[null,"15.",null,null,null,null,null,null,null,null,null,null,null,null,null,null,null,null,null,null,null,null,null,null,null,null,null,null,null,null,null,{"$f":"IF(Z11>0,IF(OR(AND(Z$13<5,Z$25=\"\",Z$40=\"\",Z$48=\"\"),Z$13>=5),IF(AND(ISNA(MATCH(Z11,'Page 2 (Vegetation, 4 Strata)'!CG$4:CG$19,0)),'Page 2 (Vegetation, 4 Strata)'!CD18<0.2),\"No\",\"Yes\"),\"No\"),\"\")","v":""},null,null,null,null,null,{"$f":"IF('Page 2 (Vegetation, 4 Strata)'!CI18=0,\"\",'Page 2 (Vegetation, 4 Strata)'!CI18)","v":""},null,null,null,null,null,null,null,null,null,null,null,null,null,null,null,null,null,null,null,null,null,null,null,null,null,null,"Page 1"]
[null,"16.",null,"",null,null,null,null,null,null,null,null,null,null,null,null,null,null,null,null,null,null,null,null,null,null,null,null,null,null,null,{"$f":"IF(Z12>0,IF(OR(AND(Z$13<5,Z$25=\"\",Z$40=\"\",Z$48=\"\"),Z$13>=5),IF(AND(ISNA(MATCH(Z12,'Page 2 (Vegetation, 4 Strata)'!CG$4:CG$19,0)),'Page 2 (Vegetation, 4 Strata)'!CD19<0.2),\"No\",\"Yes\"),\"No\"),\"\")","v":""},null,null,null,null,null,{"$f":"IF('Page 2 (Vegetation, 4 Strata)'!CI19=0,\"\",'Page 2 (Vegetation, 4 Strata)'!CI19)","v":""},null,null,null,null,null,null,null,null,null,null,null,null,null,null,null,null,null,null,null,null,null,null,null,null,null,null,{"$f":"ISBLANK('Page 1 (Hydrology)'!AI3)","v":true}]
[null,null,null,null,null,null,null,null,null,null,null,null,null,null,null,null,null,null,null,null,null,null,null,null,null,{"$f":"IFERROR('Page 2 (Vegetation, 4 Strata)'!Z13,\"\")","v":""},null,null,null,null,"=Total Cover",null,null,null,null,null,null,null,null,null,null,null,null,null,null,null,null,null,null,null,null,null,null,null,null,null,null,null,null,null,null,null,null,null,{"$f":"IF('Page 1 (Hydrology)'!$AI$3=\"AR\",IF(ISNA(MATCH('Page 1 (Hydrology)'!$L$6,BM23:BM30,0)),TRUE,FALSE))","v":false}]
[null,null,null,null,null,null,null,null,null,null,null,null,null,"50% of total cover:",null,null,null,null,null,null,null,null,{"$f":"IFERROR('Page 2 (Vegetation, 4 Strata)'!W14,\"\")","v":""},null,null,null,null,null,"20% of total cover:",null,null,null,null,null,null,null,null,{"$f":"IFERROR('Page 2 (Vegetation, 4 Strata)'!AL14,\"\")","v":""},null,null,null,null,null,null,"Woody Vine – All woody vines greater than 3.28 ft in height.",null,null,null,null,null,null,null,null,null,null,null,null,null,null,null,null,null,null,null,{"$f":"IF('Page 1 (Hydrology)'!$AI$3=\"LA\",IF(ISNA(MATCH('Page 1 (Hydrology)'!$L$6,BM33:BM44,0)),TRUE,FALSE))","v":false}]
[null,"Sapling/Shrub Stratum",null,null,null,null,null,null,null,null,null,null,null,null,null,null,null,null,null,null,null,null,null,null,null,null,null,null,null,null,null,null,null,null,null,null,null,null,null,null,null,null,null,null,null,null,null,null,null,null,null,null,null,null,null,null,null,null,null,null,null,null,null,null,{"$f":"IF('Page 1 (Hydrology)'!$AI$3=\"MS\",IF(ISNA(MATCH('Page 1 (Hydrology)'!$L$6,BM47:BM53,0)),TRUE,FALSE))","v":false}]
[null,"9.",null,null,null,null,null,null,null,null,null,null,null,null,null,null,null,null,null,null,null,null,null,null,null,null,null,null,null,null,null,{"$f":"IF(Z16>0,IF(OR(AND(Z$25<5,Z$13=\"\",Z$40=\"\",Z$48=\"\"),Z$25>=5),IF(AND(ISNA(MATCH(Z16,'Page 2 (Vegetation, 4 Strata)'!CG$21:CG$36,0)),'Page 2 (Vegetation, 4 Strata)'!CD29<0.2),\"No\",\"Yes\"),\"No\"),\"\")","v":""},null,null,null,null,null,{"$f":"IF('Page 2 (Vegetation, 4 Strata)'!CI29=0,\"\",'Page 2 (Vegetation, 4 Strata)'!CI29)","v":""},null,null,null,null,null,null,null,null,null,null,null,null,null,null,null,null,null,null,null,null,null,null,null,null,null,null,{"$f":"IF('Page 1 (Hydrology)'!$AI$3=\"OK\",IF(ISNA(MATCH('Page 1 (Hydrology)'!$L$6,BM56:BM57,0)),TRUE,FALSE))","v":false}]
[null,"10.",null,"",null,null,null,null,null,null,null,null,null,null,null,null,null,null,null,null,null,null,null,null,null,null,null,null,null,null,null,{"$f":"IF(Z17>0,IF(OR(AND(Z$25<5,Z$13=\"\",Z$40=\"\",Z$48=\"\"),Z$25>=5),IF(AND(ISNA(MATCH(Z17,'Page 2 (Vegetation, 4 Strata)'!CG$21:CG$36,0)),'Page 2 (Vegetation, 4 Strata)'!CD30<0.2),\"No\",\"Yes\"),\"No\"),\"\")","v":""},null,null,null,null,null,{"$f":"IF('Page 2 (Vegetation, 4 Strata)'!CI30=0,\"\",'Page 2 (Vegetation, 4 Strata)'!CI30)","v":""},null,null,null,null,null,null,null,null,null,null,null,null,null,null,null,null,null,null,null,null,null,null,null,null,null,null,{"$f":"IF('Page 1 (Hydrology)'!$AI$3=\"TN\",IF(ISNA(MATCH('Page 1 (Hydrology)'!$L$6,BM60:BM64,0)),TRUE,FALSE))","v":false}]
[null,"11.",null,"",null,null,null,null,null,null,null,null,null,null,null,null,null,null,null,null,null,null,null,null,null,null,null,null,null,null,null,{"$f":"IF(Z18>0,IF(OR(AND(Z$25<5,Z$13=\"\",Z$40=\"\",Z$48=\"\"),Z$25>=5),IF(AND(ISNA(MATCH(Z18,'Page 2 (Vegetation, 4 Strata)'!CG$21:CG$36,0)),'Page 2 (Vegetation, 4 Strata)'!CD31<0.2),\"No\",\"Yes\"),\"No\"),\"\")","v":""},null,null,null,null,null,{"$f":"IF('Page 2 (Vegetation, 4 Strata)'!CI31=0,\"\",'Page 2 (Vegetation, 4 Strata)'!CI31)","v":""},null,null,null,null,null,null,null,null,null,null,null,null,null,null,null,null,null,null,null,null,null,null,null,null,null,null,{"$f":"IF(AND(OR($BM$12=TRUE,$BM$13=TRUE,$BM$14=TRUE,$BM$15=TRUE,$BM$16=TRUE,$BM$17=TRUE),D4<>\"\"),TRUE,FALSE)","v":false}]
[null,"12.",null,"",null,null,null,null,null,null,null,null,null,null,null,null,null,null,null,null,null,null,null,null,null,null,null,null,null,null,null,{"$f":"IF(Z19>0,IF(OR(AND(Z$25<5,Z$13=\"\",Z$40=\"\",Z$48=\"\"),Z$25>=5),IF(AND(ISNA(MATCH(Z19,'Page 2 (Vegetation, 4 Strata)'!CG$21:CG$36,0)),'Page 2 (Vegetation, 4 Strata)'!CD32<0.2),\"No\",\"Yes\"),\"No\"),\"\")","v":""},null,null,null,null,null,{"$f":"IF('Page 2 (Vegetation, 4 Strata)'!CI32=0,\"\",'Page 2 (Vegetation, 4 Strata)'!CI32)","v":""}]
[]
[null,"13.",null,null,null,null,null,null,null,null,null,null,null,null,null,null,null,null,null,null,null,null,null,null,null,null,null,null,null,null,null,{"$f":"IF(Z21>0,IF(OR(AND(Z$25<5,Z$13=\"\",Z$40=\"\",Z$48=\"\"),Z$25>=5),IF(AND(ISNA(MATCH(Z21,'Page 2 (Vegetation, 4 Strata)'!CG$21:CG$36,0)),'Page 2 (Vegetation, 4 Strata)'!CD33<0.2),\"No\",\"Yes\"),\"No\"),\"\")","v":""},null,null,null,null,null,{"$f":"IF('Page 2 (Vegetation, 4 Strata)'!CI33=0,\"\",'Page 2 (Vegetation, 4 Strata)'!CI33)","v":""},null,null,null,null,null,null,null,null,null,null,null,null,null,null,null,null,null,null,null,null,null,null,null,null,null,null,"Conditional Formatting Indicator Status"]
[null,"14.",null,"",null,null,null,null,null,null,null,null,null,null,null,null,null,null,null,null,null,null,null,null,null,null,null,null,null,null,null,{"$f":"IF(Z22>0,IF(OR(AND(Z$25<5,Z$13=\"\",Z$40=\"\",Z$48=\"\"),Z$25>=5),IF(AND(ISNA(MATCH(Z22,'Page 2 (Vegetation, 4 Strata)'!CG$21:CG$36,0)),'Page 2 (Vegetation, 4 Strata)'!CD34<0.2),\"No\",\"Yes\"),\"No\"),\"\")","v":""},null,null,null,null,null,{"$f":"IF('Page 2 (Vegetation, 4 Strata)'!CI34=0,\"\",'Page 2 (Vegetation, 4 Strata)'!CI34)","v":""},null,null,null,null,null,null,null,null,null,null,null,null,null,null,null,null,null,null,null,null,null,null,null,null,null,null,"AR"]
[null,"15.",null,"",null,null,null,null,null,null,null,null,null,null,null,null,null,null,null,null,null,null,null,null,null,null,null,null,null,null,null,{"$f":"IF(Z23>0,IF(OR(AND(Z$25<5,Z$13=\"\",Z$40=\"\",Z$48=\"\"),Z$25>=5),IF(AND(ISNA(MATCH(Z23,'Page 2 (Vegetation, 4 Strata)'!CG$21:CG$36,0)),'Page 2 (Vegetation, 4 Strata)'!CD35<0.2),\"No\",\"Yes\"),\"No\"),\"\")","v":""},null,null,null,null,null,{"$f":"IF('Page 2 (Vegetation, 4 Strata)'!CI35=0,\"\",'Page 2 (Vegetation, 4 Strata)'!CI35)","v":""},null,null,null,null,null,null,null,null,null,null,null,null,null,null,null,null,null,null,null,null,null,null,null,null,null,null,"LRR O"]
[null,"16.",null,"",null,null,null,null,null,null,null,null,null,null,null,null,null,null,null,null,null,null,null,null,null,null,null,null,null,null,null,{"$f":"IF(Z24>0,IF(OR(AND(Z$25<5,Z$13=\"\",Z$40=\"\",Z$48=\"\"),Z$25>=5),IF(AND(ISNA(MATCH(Z24,'Page 2 (Vegetation, 4 Strata)'!CG$21:CG$36,0)),'Page 2 (Vegetation, 4 Strata)'!CD36<0.2),\"No\",\"Yes\"),\"No\"),\"\")","v":""},null,null,null,null,null,{"$f":"IF('Page 2 (Vegetation, 4 Strata)'!CI36=0,\"\",'Page 2 (Vegetation, 4 Strata)'!CI36)","v":""},null,null,null,null,null,null,null,null,null,null,null,null,null,null,null,null,null,null,null,null,null,null,null,null,null,null,"LRR O, MLRA 131A"]
[null,null,null,null,null,null,null,null,null,null,null,null,null,null,null,null,null,null,null,null,null,null,null,null,null,{"$f":"IFERROR('Page 2 (Vegetation, 4 Strata)'!Z25,\"\")","v":""},null,null,null,null,"=Total Cover",null,null,null,null,null,null,null,null,null,null,null,null,null,null,null,null,null,null,null,null,null,null,null,null,null,null,null,null,null,null,null,null,null,"LRR O, MLRA 131B"]
[null,null,null,null,null,null,null,null,null,null,null,null,null,"50% of total cover:",null,null,null,null,null,null,null,null,{"$f":"IFERROR('Page 2 (Vegetation, 4 Strata)'!W26,\"\")","v":""},null,null,null,null,null,"20% of total cover:",null,null,null,null,null,null,null,null,{"$f":"IFERROR('Page 2 (Vegetation, 4 Strata)'!AL26,\"\")","v":""},null,null,null,null,null,null,null,null,null,null,null,null,null,null,null,null,null,null,null,null,null,null,null,null,null,null,"LRR O, MLRA 131C"]
[null,"Herb Stratum",null,null,null,null,null,null,null,null,null,null,null,null,null,null,null,null,null,null,null,null,null,null,null,null,null,null,null,null,null,null,null,null,null,null,null,null,null,null,null,null,null,null,null,null,null,null,null,null,null,null,null,null,null,null,null,null,null,null,null,null,null,null,"LRR O, MLRA 131D"]
[null,"13.",null,"",null,null,null,null,null,null,null,null,null,null,null,null,null,null,null,null,null,null,null,null,null,null,null,null,null,null,null,{"$f":"IF(Z28>0,IF(OR(AND(Z$40<5,Z$13=\"\",Z$25=\"\",Z$48=\"\"),Z$40>=5),IF(AND(ISNA(MATCH(Z28,'Page 2 (Vegetation, 4 Strata)'!CG$38:CG$61,0)),'Page 2 (Vegetation, 4 Strata)'!CD50<0.2),\"No\",\"Yes\"),\"No\"),\"\")","v":""},null,null,null,null,null,{"$f":"IF('Page 2 (Vegetation, 4 Strata)'!CI50=0,\"\",'Page 2 (Vegetation, 4 Strata)'!CI50)","v":""},null,null,null,null,null,null,null,null,null,null,null,null,null,null,null,null,null,null,null,null,null,null,null,null,null,null,"LRR P, MLRA 133B"]
[null,"14.",null,"",null,null,null,null,null,null,null,null,null,null,null,null,null,null,null,null,null,null,null,null,null,null,null,null,null,null,null,{"$f":"IF(Z29>0,IF(OR(AND(Z$40<5,Z$13=\"\",Z$25=\"\",Z$48=\"\"),Z$40>=5),IF(AND(ISNA(MATCH(Z29,'Page 2 (Vegetation, 4 Strata)'!CG$38:CG$61,0)),'Page 2 (Vegetation, 4 Strata)'!CD51<0.2),\"No\",\"Yes\"),\"No\"),\"\")","v":""},null,null,null,null,null,{"$f":"IF('Page 2 (Vegetation, 4 Strata)'!CI51=0,\"\",'Page 2 (Vegetation, 4 Strata)'!CI51)","v":""},null,null,null,null,null,null,null,null,null,null,null,null,null,null,null,null,null,null,null,null,null,null,null,null,null,null,"LRR P, MLRA 134"]
[null,"15.",null,null,null,null,null,null,null,null,null,null,null,null,null,null,null,null,null,null,null,null,null,null,null,null,null,null,null,null,null,{"$f":"IF(Z30>0,IF(OR(AND(Z$40<5,Z$13=\"\",Z$25=\"\",Z$48=\"\"),Z$40>=5),IF(AND(ISNA(MATCH(Z30,'Page 2 (Vegetation, 4 Strata)'!CG$38:CG$61,0)),'Page 2 (Vegetation, 4 Strata)'!CD52<0.2),\"No\",\"Yes\"),\"No\"),\"\")","v":""},null,null,null,null,null,{"$f":"IF('Page 2 (Vegetation, 4 Strata)'!CI52=0,\"\",'Page 2 (Vegetation, 4 Strata)'!CI52)","v":""},null,null,null,null,null,null,null,null,null,null,null,null,null,null,null,null,null,null,null,null,null,null,null,null,null,null,"LRR P, MLRA 135B"]
[null,"16.",null,null,null,null,null,null,null,null,null,null,null,null,null,null,null,null,null,null,null,null,null,null,null,null,null,null,null,null,null,{"$f":"IF(Z31>0,IF(OR(AND(Z$40<5,Z$13=\"\",Z$25=\"\",Z$48=\"\"),Z$40>=5),IF(AND(ISNA(MATCH(Z31,'Page 2 (Vegetation, 4 Strata)'!CG$38:CG$61,0)),'Page 2 (Vegetation, 4 Strata)'!CD53<0.2),\"No\",\"Yes\"),\"No\"),\"\")","v":""},null,null,null,null,null,{"$f":"IF('Page 2 (Vegetation, 4 Strata)'!CI53=0,\"\",'Page 2 (Vegetation, 4 Strata)'!CI53)","v":""}]
[null,"17.",null,"",null,null,null,null,null,null,null,null,null,null,null,null,null,null,null,null,null,null,null,null,null,null,null,null,null,null,null,{"$f":"IF(Z32>0,IF(OR(AND(Z$40<5,Z$13=\"\",Z$25=\"\",Z$48=\"\"),Z$40>=5),IF(AND(ISNA(MATCH(Z32,'Page 2 (Vegetation, 4 Strata)'!CG$38:CG$61,0)),'Page 2 (Vegetation, 4 Strata)'!CD54<0.2),\"No\",\"Yes\"),\"No\"),\"\")","v":""},null,null,null,null,null,{"$f":"IF('Page 2 (Vegetation, 4 Strata)'!CI54=0,\"\",'Page 2 (Vegetation, 4 Strata)'!CI54)","v":""},null,null,null,null,null,null,null,null,null,null,null,null,null,null,null,null,null,null,null,null,null,null,null,null,null,null,"LA"]
[null,"18.",null,"",null,null,null,null,null,null,null,null,null,null,null,null,null,null,null,null,null,null,null,null,null,null,null,null,null,null,null,{"$f":"IF(Z33>0,IF(OR(AND(Z$40<5,Z$13=\"\",Z$25=\"\",Z$48=\"\"),Z$40>=5),IF(AND(ISNA(MATCH(Z33,'Page 2 (Vegetation, 4 Strata)'!CG$38:CG$61,0)),'Page 2 (Vegetation, 4 Strata)'!CD55<0.2),\"No\",\"Yes\"),\"No\"),\"\")","v":""},null,null,null,null,null,{"$f":"IF('Page 2 (Vegetation, 4 Strata)'!CI55=0,\"\",'Page 2 (Vegetation, 4 Strata)'!CI55)","v":""},null,null,null,null,null,null,null,null,null,null,null,null,null,null,null,null,null,null,null,null,null,null,null,null,null,null,"LRR O"]
[null,"19.",null,"",null,null,null,null,null,null,null,null,null,null,null,null,null,null,null,null,null,null,null,null,null,null,null,null,null,null,null,{"$f":"IF(Z34>0,IF(OR(AND(Z$40<5,Z$13=\"\",Z$25=\"\",Z$48=\"\"),Z$40>=5),IF(AND(ISNA(MATCH(Z34,'Page 2 (Vegetation, 4 Strata)'!CG$38:CG$61,0)),'Page 2 (Vegetation, 4 Strata)'!CD56<0.2),\"No\",\"Yes\"),\"No\"),\"\")","v":""},null,null,null,null,null,{"$f":"IF('Page 2 (Vegetation, 4 Strata)'!CI56=0,\"\",'Page 2 (Vegetation, 4 Strata)'!CI56)","v":""},null,null,null,null,null,null,null,null,null,null,null,null,null,null,null,null,null,null,null,null,null,null,null,null,null,null,"LRR O, MLRA 131A"]
[null,"20.",null,"",null,null,null,null,null,null,null,null,null,null,null,null,null,null,null,null,null,null,null,null,null,null,null,null,null,null,null,{"$f":"IF(Z35>0,IF(OR(AND(Z$40<5,Z$13=\"\",Z$25=\"\",Z$48=\"\"),Z$40>=5),IF(AND(ISNA(MATCH(Z35,'Page 2 (Vegetation, 4 Strata)'!CG$38:CG$61,0)),'Page 2 (Vegetation, 4 Strata)'!CD57<0.2),\"No\",\"Yes\"),\"No\"),\"\")","v":""},null,null,null,null,null,{"$f":"IF('Page 2 (Vegetation, 4 Strata)'!CI57=0,\"\",'Page 2 (Vegetation, 4 Strata)'!CI57)","v":""},null,null,null,null,null,null,null,null,null,null,null,null,null,null,null,null,null,null,null,null,null,null,null,null,null,null,"LRR O, MLRA 131B"]
[null,"21.",null,"",null,null,null,null,null,null,null,null,null,null,null,null,null,null,null,null,null,null,null,null,null,null,null,null,null,null,null,{"$f":"IF(Z36>0,IF(OR(AND(Z$40<5,Z$13=\"\",Z$25=\"\",Z$48=\"\"),Z$40>=5),IF(AND(ISNA(MATCH(Z36,'Page 2 (Vegetation, 4 Strata)'!CG$38:CG$61,0)),'Page 2 (Vegetation, 4 Strata)'!CD58<0.2),\"No\",\"Yes\"),\"No\"),\"\")","v":""},null,null,null,null,null,{"$f":"IF('Page 2 (Vegetation, 4 Strata)'!CI58=0,\"\",'Page 2 (Vegetation, 4 Strata)'!CI58)","v":""},null,null,null,null,null,null,null,null,null,null,null,null,null,null,null,null,null,null,null,null,null,null,null,null,null,null,"LRR O, MLRA 131C"]
[null,"22.",null,null,null,null,null,null,null,null,null,null,null,null,null,null,null,null,null,null,null,null,null,null,null,null,null,null,null,null,null,{"$f":"IF(Z37>0,IF(OR(AND(Z$40<5,Z$13=\"\",Z$25=\"\",Z$48=\"\"),Z$40>=5),IF(AND(ISNA(MATCH(Z37,'Page 2 (Vegetation, 4 Strata)'!CG$38:CG$61,0)),'Page 2 (Vegetation, 4 Strata)'!CD59<0.2),\"No\",\"Yes\"),\"No\"),\"\")","v":""},null,null,null,null,null,{"$f":"IF('Page 2 (Vegetation, 4 Strata)'!CI59=0,\"\",'Page 2 (Vegetation, 4 Strata)'!CI59)","v":""},null,null,null,null,null,null,null,null,null,null,null,null,null,null,null,null,null,null,null,null,null,null,null,null,null,null,"LRR O, MLRA 131D"]
[null,"23.",null,"",null,null,null,null,null,null,null,null,null,null,null,null,null,null,null,null,null,null,null,null,null,null,null,null,null,null,null,{"$f":"IF(Z38>0,IF(OR(AND(Z$40<5,Z$13=\"\",Z$25=\"\",Z$48=\"\"),Z$40>=5),IF(AND(ISNA(MATCH(Z38,'Page 2 (Vegetation, 4 Strata)'!CG$38:CG$61,0)),'Page 2 (Vegetation, 4 Strata)'!CD60<0.2),\"No\",\"Yes\"),\"No\"),\"\")","v":""},null,null,null,null,null,{"$f":"IF('Page 2 (Vegetation, 4 Strata)'!CI60=0,\"\",'Page 2 (Vegetation, 4 Strata)'!CI60)","v":""},null,null,null,null,null,null,null,null,null,null,null,null,null,null,null,null,null,null,null,null,null,null,null,null,null,null,"LRR P, MLRA 133A"]
[null,"24.",null,"",null,null,null,null,null,null,null,null,null,null,null,null,null,null,null,null,null,null,null,null,null,null,null,null,null,null,null,{"$f":"IF(Z39>0,IF(OR(AND(Z$40<5,Z$13=\"\",Z$25=\"\",Z$48=\"\"),Z$40>=5),IF(AND(ISNA(MATCH(Z39,'Page 2 (Vegetation, 4 Strata)'!CG$38:CG$61,0)),'Page 2 (Vegetation, 4 Strata)'!CD61<0.2),\"No\",\"Yes\"),\"No\"),\"\")","v":""},null,null,null,null,null,{"$f":"IF('Page 2 (Vegetation, 4 Strata)'!CI61=0,\"\",'Page 2 (Vegetation, 4 Strata)'!CI61)","v":""},null,null,null,null,null,null,null,null,null,null,null,null,null,null,null,null,null,null,null,null,null,null,null,null,null,null,"LRR P, MLRA 133B"]
[null,null,null,null,null,null,null,null,null,null,null,null,null,null,null,null,null,null,null,null,null,null,null,null,null,{"$f":"IFERROR('Page 2 (Vegetation, 4 Strata)'!Z40,\"\")","v":""},null,null,null,null,"=Total Cover",null,null,null,null,null,null,null,null,null,null,null,null,null,null,null,null,null,null,null,null,null,null,null,null,null,null,null,null,null,null,null,null,null,"LRR P, MLRA 134"]
[null,null,null,null,null,null,null,null,null,null,null,null,null,"50% of total cover:",null,null,null,null,null,null,null,null,{"$f":"IFERROR('Page 2 (Vegetation, 4 Strata)'!W41,\"\")","v":""},null,null,null,null,null,"20% of total cover:",null,null,null,null,null,null,null,null,{"$f":"IFERROR('Page 2 (Vegetation, 4 Strata)'!AL41,\"\")","v":""},null,null,null,null,null,null,null,null,null,null,null,null,null,null,null,null,null,null,null,null,null,null,null,null,null,null,"LRR T, MLRA 150A"]
[null,"Woody Vine Stratum",null,null,null,null,null,null,null,null,null,null,null,null,null,null,null,null,null,null,null,null,null,null,null,null,null,null,null,null,null,null,null,null,null,null,null,null,null,null,null,null,null,null,null,null,null,null,null,null,null,null,null,null,null,null,null,null,null,null,null,null,null,null,"LRR T, MLRA 151"]
[null,"6.",null,"",null,null,null,null,null,null,null,null,null,null,null,null,null,null,null,null,null,null,null,null,null,null,null,null,null,null,null,{"$f":"IF(Z43>0,IF(OR(AND(Z$48<5,Z$13=\"\",Z$25=\"\",Z$40=\"\"),Z$48>=5),IF(AND(ISNA(MATCH(Z43,'Page 2 (Vegetation, 4 Strata)'!CG$63:CG$72,0)),'Page 2 (Vegetation, 4 Strata)'!CD68<0.2),\"No\",\"Yes\"),\"No\"),\"\")","v":""},null,null,null,null,null,{"$f":"IF('Page 2 (Vegetation, 4 Strata)'!CI68=0,\"\",'Page 2 (Vegetation, 4 Strata)'!CI68)","v":""},null,null,null,null,null,null,null,null,null,null,null,null,null,null,null,null,null,null,null,null,null,null,null,null,null,null,"LRR T, MLRA 152A"]
[null,"7.",null,null,null,null,null,null,null,null,null,null,null,null,null,null,null,null,null,null,null,null,null,null,null,null,null,null,null,null,null,{"$f":"IF(Z44>0,IF(OR(AND(Z$48<5,Z$13=\"\",Z$25=\"\",Z$40=\"\"),Z$48>=5),IF(AND(ISNA(MATCH(Z44,'Page 2 (Vegetation, 4 Strata)'!CG$63:CG$72,0)),'Page 2 (Vegetation, 4 Strata)'!CD69<0.2),\"No\",\"Yes\"),\"No\"),\"\")","v":""},null,null,null,null,null,{"$f":"IF('Page 2 (Vegetation, 4 Strata)'!CI69=0,\"\",'Page 2 (Vegetation, 4 Strata)'!CI69)","v":""},null,null,null,null,null,null,null,null,null,null,null,null,null,null,null,null,null,null,null,null,null,null,null,null,null,null,"LRR T, MLRA 152B"]
[null,"8.",null,null,null,null,null,null,null,null,null,null,null,null,null,null,null,null,null,null,null,null,null,null,null,null,null,null,null,null,null,{"$f":"IF(Z45>0,IF(OR(AND(Z$48<5,Z$13=\"\",Z$25=\"\",Z$40=\"\"),Z$48>=5),IF(AND(ISNA(MATCH(Z45,'Page 2 (Vegetation, 4 Strata)'!CG$63:CG$72,0)),'Page 2 (Vegetation, 4 Strata)'!CD70<0.2),\"No\",\"Yes\"),\"No\"),\"\")","v":""},null,null,null,null,null,{"$f":"IF('Page 2 (Vegetation, 4 Strata)'!CI70=0,\"\",'Page 2 (Vegetation, 4 Strata)'!CI70)","v":""}]
[null,"9.",null,"",null,null,null,null,null,null,null,null,null,null,null,null,null,null,null,null,null,null,null,null,null,null,null,null,null,null,null,{"$f":"IF(Z46>0,IF(OR(AND(Z$48<5,Z$13=\"\",Z$25=\"\",Z$40=\"\"),Z$48>=5),IF(AND(ISNA(MATCH(Z46,'Page 2 (Vegetation, 4 Strata)'!CG$63:CG$72,0)),'Page 2 (Vegetation, 4 Strata)'!CD71<0.2),\"No\",\"Yes\"),\"No\"),\"\")","v":""},null,null,null,null,null,{"$f":"IF('Page 2 (Vegetation, 4 Strata)'!CI71=0,\"\",'Page 2 (Vegetation, 4 Strata)'!CI71)","v":""},null,null,null,null,null,null,null,null,null,null,null,null,null,null,null,null,null,null,null,null,null,null,null,null,null,null,"MS"]
[null,"10.",null,"",null,null,null,null,null,null,null,null,null,null,null,null,null,null,null,null,null,null,null,null,null,null,null,null,null,null,null,{"$f":"IF(Z47>0,IF(OR(AND(Z$48<5,Z$13=\"\",Z$25=\"\",Z$40=\"\"),Z$48>=5),IF(AND(ISNA(MATCH(Z47,'Page 2 (Vegetation, 4 Strata)'!CG$63:CG$72,0)),'Page 2 (Vegetation, 4 Strata)'!CD72<0.2),\"No\",\"Yes\"),\"No\"),\"\")","v":""},null,null,null,null,null,{"$f":"IF('Page 2 (Vegetation, 4 Strata)'!CI72=0,\"\",'Page 2 (Vegetation, 4 Strata)'!CI72)","v":""},null,null,null,null,null,null,null,null,null,null,null,null,null,null,null,null,null,null,null,null,null,null,null,null,null,null,"LRR O"]
[null,null,null,null,null,null,null,null,null,null,null,null,null,null,null,null,null,null,null,null,null,null,null,null,null,{"$f":"IFERROR('Page 2 (Vegetation, 4 Strata)'!Z48,\"\")","v":""},null,null,null,null,"=Total Cover",null,null,null,null,null,null,null,null,null,null,null,null,null,null,null,null,null,null,null,null,null,null,null,null,null,null,null,null,null,null,null,null,null,"LRR O, MLRA 131A"]
[null,null,null,null,null,null,null,null,null,null,null,null,null,"50% of total cover:",null,null,null,null,null,null,null,null,{"$f":"IFERROR('Page 2 (Vegetation, 4 Strata)'!W49,\"\")","v":""},null,null,null,null,null,"20% of total cover:",null,null,null,null,null,null,null,null,{"$f":"IFERROR('Page 2 (Vegetation, 4 Strata)'!AL49,\"\")","v":""},null,null,null,null,null,null,null,null,null,null,null,null,null,null,null,null,null,null,null,null,null,null,null,null,null,null,"LRR P, MLRA 133A"]
[null,null,null,null,null,null,null,null,null,null,null,null,null,null,null,null,null,null,null,null,null,null,null,null,null,null,null,null,null,null,null,null,null,null,null,null,null,null,null,null,null,null,null,null,null,null,null,null,null,null,null,null,null,null,null,null,null,null,null,null,null,null,null,null,"LRR P, MLRA 134"]
[null,"Remarks:  (If observed, list morphological adaptations below.)",null,null,null,null,null,null,null,null,null,null,null,null,null,null,null,null,null,null,null,null,null,null,null,null,null,null,null,null,null,null,null,null,null,null,null,null,null,null,null,null,null,null,null,null,null,null,null,null,null,null,null,null,null,null,null,null,null,null,null,null,null,null,"LRR P, MLRA 135A"]
[null,null,null,null,null,null,null,null,null,null,null,null,null,null,null,null,null,null,null,null,null,null,null,null,null,null,null,null,null,null,null,null,null,null,null,null,null,null,null,null,null,null,null,null,null,null,null,null,null,null,null,null,null,null,null,null,null,null,null,null,null,null,null,null,"LRR T, MLRA 151"]
[null,null,null,null,null,null,null,null,null,null,null,null,null,null,null,null,null,null,null,null,null,null,null,null,null,null,null,null,null,null,null,null,null,null,null,null,null,null,null,null,null,null,null,null,null,null,null,null,null,null,null,null,null,null,null,null,null,null,null,null,null,null,null,null,"LRR T, MLRA 152A"]
[]
[null,null,null,null,null,null,null,null,null,null,null,null,null,null,null,null,null,null,null,null,null,null,null,null,null,null,null,null,null,null,null,null,null,null,null,null,null,null,null,null,null,null,null,null,null,null,null,null,null,null,null,null,null,null,null,null,null,null,null,null,null,null,null,null,"OK"]
[null,null,null,null,null,null,null,null,null,null,null,null,null,null,null,null,null,null,null,null,null,null,null,null,null,null,null,null,null,null,null,null,null,null,null,null,null,null,null,null,null,null,null,null,null,null,null,null,null,null,null,null,null,null,null,null,null,null,null,null,null,null,null,null,"LRR P, MLRA 133B"]
["ENG FORM 6116-2, JUL 2018",null,null,null,null,null,null,null,null,null,null,null,null,null,null,null,null,null,null,null,null,null,null,null,null,null,null,null,null,null,null,null,null,null,null,null,null,null,null,null,null,null,null,null,null,null,"Atlantic and Gulf Coastal Plain – Version 2.0",null,null,null,null,null,null,null,null,null,null,null,null,null,null,null,null,null,"LRR P, MLRA 135B"]
[]
[null,null,null,null,null,null,null,null,null,null,null,null,null,null,null,null,null,null,null,null,null,null,null,null,null,null,null,null,null,null,null,null,null,null,null,null,null,null,null,null,null,null,null,null,null,null,null,null,null,null,null,null,null,null,null,null,null,null,null,null,null,null,null,null,"TN"]
[null,null,null,null,null,null,null,null,null,null,null,null,null,null,null,null,null,null,null,null,null,null,null,null,null,null,null,null,null,null,null,null,null,null,null,null,null,null,null,null,null,null,null,null,null,null,null,null,null,null,null,null,null,null,null,null,null,null,null,null,null,null,null,null,"LRR O"]
[null,null,null,null,null,null,null,null,null,null,null,null,null,null,null,null,null,null,null,null,null,null,null,null,null,null,null,null,null,null,null,null,null,null,null,null,null,null,null,null,null,null,null,null,null,null,null,null,null,null,null,null,null,null,null,null,null,null,null,null,null,null,null,null,"LRR O, MLRA 131A"]
[null,null,null,null,null,null,null,null,null,null,null,null,null,null,null,null,null,null,null,null,null,null,null,null,null,null,null,null,null,null,null,null,null,null,null,null,null,null,null,null,null,null,null,null,null,null,null,null,null,null,null,null,null,null,null,null,null,null,null,null,null,null,null,null,"LRR P, MLRA 133A"]
[null,null,null,null,null,null,null,null,null,null,null,null,null,null,null,null,null,null,null,null,null,null,null,null,null,null,null,null,null,null,null,null,null,null,null,null,null,null,null,null,null,null,null,null,null,null,null,null,null,null,null,null,null,null,null,null,null,null,null,null,null,null,null,null,"LRR P, MLRA 134"]
[null,null,null,null,null,null,null,null,null,null,null,null,null,null,null,null,null,null,null,null,null,null,null,null,null,null,null,null,null,null,null,null,null,null,null,null,null,null,null,null,null,null,null,null,null,null,null,null,null,null,null,null,null,null,null,null,null,null,null,null,null,null,null,null,"LRR P, MLRA 135A"]

{"sheet":"Plant List","index":6,"n_rows":44759,"n_cols":3,"rows_kept":4500,"cut":true,"hidden":true,"merged":[],"bounds":{"rows_first":2000,"rows_last":500,"rows_between":2000,"halvings":0}}
["Plant List"]
["Name","AGCP","WGC"]
["Abelia","",""]
[" abelia"]
["Abelia X grandiflora","UPL","UPL"]
[" glossy abelia"]
["Abelmoschus","",""]
[" okra"]
["Abelmoschus esculentus","UPL","UPL"]
[" okra"]
["Abies","",""]
[" fir"]
["Abies alba","UPL","UPL"]
[" silver fir"]
["Abies firma","UPL","UPL"]
[" Momi fir"]
["Abietinella","",""]
[" abietenella moss"]
["Abietinella abietina","UPL","UPL"]
[" abietinella moss"]
["Abildgaardia","",""]
[" sedge"]
["Abildgaardia ovata","FACW","FACW"]
[" Flat-Spike Sedge"]
["Abronia","",""]
[" sand verbena"]
["Abronia ameliae","UPL","UPL"]
[" Amelia's sand verbena"]
["Abronia angustifolia","UPL","UPL"]
[" purple sand verbena"]
["Abronia carletonii","UPL","UPL"]
[" Carleton's sand verbena"]
["Abronia fragrans","UPL","UPL"]
[" snowball sand verbena"]
["Abronia macrocarpa","UPL","UPL"]
[" largefruit sand verbena"]
["Abrus","",""]
[" abrus"]
["Abrus precatorius","UPL","UPL"]
[" Rosary-Pea"]
["Abutilon","",""]
[" Indian mallow"]
["Abutilon abutiloides","UPL","UPL"]
[" shrubby Indian mallow"]
["Abutilon berlandieri","UPL","UPL"]
[" Berlandier's Indian mallow"]
["Abutilon fruticosum","UPL","UPL"]
[" Texas Indian mallow"]
["Abutilon hirtum","UPL","UPL"]
[" Florida Keys Indian mallow"]
["Abutilon hulseanum","UPL","UPL"]
[" mauve"]
["Abutilon hypoleucum","UPL","UPL"]
[" whiteleaf Indian mallow"]
["Abutilon malacum","UPL","UPL"]
[" yellow Indian mallow"]
["Abutilon mollicomum","UPL","UPL"]
[" Sonoran Indian mallow"]
["Abutilon parvulum","UPL","UPL"]
[" dwarf Indian mallow"]
["Abutilon permolle","UPL","UPL"]
[" coastal Indian mallow"]
["Abutilon theophrasti","FACU","FACU"]
[" Velvetleaf"]
["Abutilon trisulcatum","UPL","UPL"]
[" anglestem Indian mallow"]
["Abutilon wrightii","UPL","UPL"]
[" Wright's Indian mallow"]
["Acacia","",""]
[" acacia"]
["Acacia auriculiformis","UPL","UPL"]
[" earleaf acacia"]
["Acacia retinodes","UPL","UPL"]
[" water wattle"]
["Acalypha","",""]
[" copperleaf"]
["Acalypha alopecuroidea","UPL","UPL"]
[" foxtail copperleaf"]
["Acalypha amentacea","FAC","FAC"]
[" Match-Me-If-You-Can"]
["Acalypha arvensis","UPL","UPL"]
[" field copperleaf"]
["Acalypha australis","UPL","UPL"]
[" Asian copperleaf"]
["Acalypha chamaedryfolia","UPL","UPL"]
[" bastard copperleaf"]
["Acalypha deamii","UPL","UPL"]
[" Deam's threeseed mercury"]
["Acalypha gracilens","FAC","FAC"]
[" Slender Three-Seed-Mercury"]
["Acalypha monococca","UPL","UPL"]
[" slender threeseed mercury"]
["Acalypha monostachya","UPL","UPL"]
[" round copperleaf"]
["Acalypha neomexicana","UPL","UPL"]
[" New Mexico copperleaf"]
["Acalypha ostryifolia","UPL","UPL"]
[" pineland threeseed mercury"]
["Acalypha phleoides","UPL","UPL"]
[" shrubby copperleaf"]
["Acalypha poiretii","FACU","FACU"]
[" Poiret's Copperleaf"]
["Acalypha radians","UPL","UPL"]
[" cardinal's feather"]
["Acalypha rhomboidea","FAC","FAC"]
[" Common Three-Seed-Mercury"]
["Acalypha setosa","UPL","UPL"]
[" Cuban copperleaf"]
["Acalypha virginica","FACU","FACU"]
[" Virginia Three-Seed-Mercury"]
["Acanthocereus","",""]
[" triangle cactus"]
["Acanthocereus tetragonus","FAC","FAC"]
[" Triangle Cactus"]
["Acanthospermum","",""]
[" starbur"]
["Acanthospermum australe","UPL","UPL"]
[" Paraguayan starbur"]
["Acanthospermum hispidum","UPL","UPL"]
[" hispid starbur"]
["Acanthospermum humile","UPL","UPL"]
[" low starbur"]
["Acer","",""]
[" maple"]
["Acer campestre","UPL","UPL"]
[" hedge maple"]
["Acer floridanum","UPL","UPL"]
[" southern sugar maple"]
["Acer ginnala","UPL","UPL"]
[" Amur maple"]
["Acer japonicum","UPL","UPL"]
[" Amur maple"]
["Acer leucoderme","UPL","UPL"]
[" chalk maple"]
["Acer negundo","FAC","FAC"]
[" Ash-Leaf Maple"]
["Acer nigrum","UPL","UPL"]
[" Black Maple"]
["Acer palmatum","UPL","UPL"]
[" Japanese maple"]
["Acer pensylvanicum","FACU","FACU"]
[" Striped Maple"]
["Acer platanoides","UPL","UPL"]
[" Norway Maple"]
["Acer pseudoplatanus","UPL","UPL"]
[" sycamore maple"]
["Acer rubrum","FAC","FAC"]
[" Red Maple"]
["Acer saccharinum","FAC","FAC"]
[" Silver Maple"]
["Acer saccharum","FACU","FACU"]
[" Sugar Maple"]
["Acer spicatum","UPL","UPL"]
[" Mountain Maple"]
["Acer X freemanii","UPL","UPL"]
[" Freeman maple"]
["Achillea","",""]
[" yarrow"]
["Achillea millefolium","FACU","FACU"]
[" Common Yarrow"]
["Achillea ptarmica","FACU","FACU"]
[" Pearl Yarrow"]
["Achnatherum","",""]
[" needlegrass"]
["Achnatherum aridum","UPL","UPL"]
[" Mormon needlegrass"]
["Achnatherum clandestinum","UPL","UPL"]
[" Mexican ricegrass"]
["Achnatherum curvifolium","UPL","UPL"]
[" Guadalupe ricegrass"]
["Achnatherum eminens","UPL","UPL"]
[" southwestern needlegrass"]
["Achnatherum lobatum","UPL","UPL"]
[" littleawn needlegrass"]
["Achnatherum perplexum","UPL","UPL"]
[" New Mexico needlegrass"]
["Achnatherum robustum","UPL","UPL"]
[" sleepygrass"]
["Achnatherum scribneri","UPL","UPL"]
[" Scribner needlegrass"]
["Achyranthes","",""]
[" chaff flower"]
["Achyranthes aspera","UPL","UPL"]
[" Devil's-Horsewhip"]
["Achyranthes japonica","UPL","UPL"]
[" Japanese chaff flower"]
["Acicarpha","",""]
[" acicarpha"]
["Acicarpha tribuloides","UPL","UPL"]
[" madam gorgon"]
["Acinos","",""]
[" acinos"]
["Acinos arvensis","UPL","UPL"]
[" basil thyme"]
["Acleisanthes","",""]
[" trumpets"]
["Acleisanthes acutifolia","UPL","UPL"]
[" needletip trumpets"]
["Acleisanthes anisophylla","UPL","UPL"]
[" obliqueleaf trumpets"]
["Acleisanthes crassifolia","UPL","UPL"]
[" Texas trumpets"]
["Acleisanthes longiflora","UPL","UPL"]
[" angel's trumpets"]
["Acleisanthes obtusa","UPL","UPL"]
[" Berlandier's trumpets"]
["Acleisanthes wrightii","UPL","UPL"]
[" Wright's trumpets"]
["Acmella","",""]
[" spotflower"]
["Acmella decumbens","UPL","UPL"]
[" creeping spotflower"]
["Acmella oppositifolia","UPL","UPL"]
[" oppositeleaf spotflower"]
["Acmella pilosa","UPL","UPL"]
[" hairy spotflower"]
["Acmella pusilla","UPL","UPL"]
[" dwarf spotflower"]
["Acmella repens","FACW","FACW"]
[" Opposite-Leaf Spotflower"]
["Acmispon","",""]
[" bird's-foot trefoil"]
["Acmispon americanus","FACU","FACU"]
[" American Deerweed"]
["Acoelorraphe","",""]
[" palm"]
["Acoelorraphe wrightii","UPL","UPL"]
[" Everglades palm"]
["Acoelorrhaphe"]
[" palm"]
["Acoelorrhaphe wrightii","OBL","OBL"]
[" Everglades Palm"]
["Aconitum","",""]
[" monkshood"]
["Aconitum napellus","UPL","UPL"]
[" Venus' chariot"]
["Aconitum uncinatum","FAC","FAC"]
[" Southern Blue Monkshood"]
["Acorus","",""]
[" sweetflag"]
["Acorus americanus","OBL","OBL"]
[" Several-Vein Sweetflag"]
["Acorus calamus","OBL","OBL"]
[" Single-Vein Sweetflag"]
["Acourtia","",""]
[" desertpeony"]
["Acourtia nana","UPL","UPL"]
[" dwarf desertpeony"]
["Acourtia runcinata","UPL","UPL"]
[" featherleaf desertpeony"]
["Acourtia wrightii","UPL","UPL"]
[" brownfoot"]
["Acrocomia","",""]
[" acrocomia"]
["Acrocomia totai","UPL","UPL"]
[" grugru palm"]
["Acroptilon","",""]
[" hardheads"]
["Acroptilon repens","UPL","UPL"]
[" hardheads"]
["Acrostichum","",""]
[" leatherfern"]
["Acrostichum aureum","OBL","OBL"]
[" Golden Leather Fern"]
["Acrostichum danaeifolium","OBL","OBL"]
[" Inland Leather Fern"]
["Actaea","",""]
[" baneberry"]
["Actaea pachypoda","FACU","FACU"]
[" White Baneberry"]
["Actaea racemosa","UPL","UPL"]
[" black baneberry"]
["Actaea rubifolia","UPL","UPL"]
[" Appalachian bugbane"]
["Actaea rubra","UPL","UPL"]
[" Red Baneberry"]
["Actaea spicata","UPL","UPL"]
[" Eurasian baneberry"]
["Actaea X ludovici","UPL","UPL"]
[" baneberry"]
["Actinidia","",""]
[" actinidia"]
["Actinidia arguta","UPL","UPL"]
[" tara vine"]
["Actinidia chinensis","UPL","UPL"]
[" kiwi"]
["Actinostachys"]
[" actinostachys"]
["Actinostachys pennula","FAC","FAC"]
[" Ray Fern"]
["Adelia","",""]
[" wild lime"]
["Adelia vaseyi","UPL","UPL"]
[" Vasey's wild lime"]
["Adenanthera","",""]
[" beadtree"]
["Adenanthera pavonina","UPL","UPL"]
[" Red Beadtree"]
["Adiantum","",""]
[" maidenhair fern"]
["Adiantum aleuticum","FAC","FAC"]
[" Aleutian Maidenhair"]
["Adiantum anceps","UPL","UPL"]
[" double edge maidenhair"]
["Adiantum capillus-veneris","FACU","FACU"]
[" Southern Maidenhair"]
["Adiantum caudatum","UPL","UPL"]
[" tailed maidenhair"]
["Adiantum hispidulum","UPL","UPL"]
[" rough maidenhair"]
["Adiantum melanoleucum","UPL","UPL"]
[" fragrant maidenhair"]
["Adiantum pedatum","FACU","FACU"]
[" Northern Maidenhair"]
["Adiantum tenerum","FAC","FAC"]
[" Brittle Maidenhair"]
["Adiantum trapeziforme","UPL","UPL"]
[" diamond maidenhair"]
["Adiantum villosum","UPL","UPL"]
[" woolly maidenhair"]
["Adlumia","",""]
[" adlumia"]
["Adlumia fungosa","UPL","UPL"]
[" allegheny vine"]
["Adolphia","",""]
[" prickbush"]
["Adolphia infesta","UPL","UPL"]
[" junco"]
["Adonis","",""]
[" pheasant's eye"]
["Adonis aestivalis","UPL","UPL"]
[" summer pheasant's eye"]
["Adonis annua","UPL","UPL"]
[" blooddrops"]
["Aegilops","",""]
[" goatgrass"]
["Aegilops cylindrica","UPL","UPL"]
[" jointed goatgrass"]
["Aegilops geniculata","UPL","UPL"]
[" ovate goatgrass"]
["Aegilops neglecta","UPL","UPL"]
[" three-awned goatgrass"]
["Aegilops triuncialis","UPL","UPL"]
[" barbed goatgrass"]
["Aegiphila","",""]
[" spiritweed"]
["Aegiphila elata","UPL","UPL"]
[" tall spiritweed"]
["Aegopodium","",""]
[" goutweed"]
["Aegopodium podagraria","FACW","FACW"]
[" Bishop's Goutweed"]
["Aeschynomene","",""]
[" jointvetch"]
["Aeschynomene americana","FAC","FAC"]
[" Shyleaf"]
["Aeschynomene histrix","UPL","UPL"]
[" porcupine jointvetch"]
["Aeschynomene indica","FACW","FACW"]
[" Indian Joint-Vetch"]
["Aeschynomene pratensis","OBL","OBL"]
[" Meadow Joint-Vetch"]
["Aeschynomene rudis","UPL","UPL"]
[" zigzag jointvetch"]
["Aeschynomene virginica","OBL","OBL"]
[" Virginia Joint-Vetch"]
["Aeschynomene viscidula","UPL","UPL"]
[" sticky jointvetch"]
["Aesculus","",""]
[" buckeye"]
["Aesculus flava","FACU","FACU"]
[" Yellow Buckeye"]
["Aesculus glabra","FACU","FACU"]
[" Ohio Buckeye"]
["Aesculus hippocastanum","UPL","UPL"]
[" horse chestnut"]
["Aesculus parviflora","UPL","UPL"]
[" bottlebrush buckeye"]
["Aesculus pavia","FACU","FACU"]
[" Red Buckeye"]
["Aesculus sylvatica","FAC","FAC"]
[" Painted Buckeye"]
["Aesculus X bushii","UPL","UPL"]
[" buckeye"]
["Aesculus X carnea","UPL","UPL"]
[" red horse-chestnut"]
["Aesculus X hybrida","UPL","UPL"]
[" buckeye"]
["Aesculus X marylandica","UPL","UPL"]
[" buckeye"]
["Aesculus X mutabilis","UPL","UPL"]
[" buckeye"]
["Aesculus X neglecta","UPL","UPL"]
[" buckeye"]
["Aesculus X worlitzensis","UPL","UPL"]
[" buckeye"]
["Aethusa","",""]
[" aethusa"]
["Aethusa cynapium","UPL","UPL"]
[" fool's parsley"]
["Agalinis","",""]
[" false foxglove"]
["Agalinis acuta","UPL","UPL"]
[" sandplain false foxglove"]
["Agalinis aphylla","FACW","FACW"]
[" Scale-Leaf False Foxglove"]
["Agalinis aspera","FACU","FACU"]
[" Tall False Foxglove"]
["Agalinis auriculata","UPL","UPL"]
[" earleaf false foxglove"]
["Agalinis caddoensis","UPL","UPL"]
[" Caddo false foxglove"]
["Agalinis densiflora","UPL","UPL"]
[" Osage false foxglove"]
["Agalinis divaricata","FACU","FACU"]
[" Pineland False Foxglove"]
["Agalinis edwardsiana","UPL","UPL"]
[" plateau false foxglove"]
["Agalinis fasciculata","FAC","FAC"]
[" Beach False Foxglove"]
["Agalinis filicaulis","FAC","FAC"]
[" Jackson False Foxglove"]
["Agalinis filifolia","FACU","FACU"]
[" Seminole False Foxglove"]
["Agalinis flexicaulis","FACW","FACW"]
[" Hampton False Foxglove"]
["Agalinis gattingeri","UPL","UPL"]
[" roundstem false foxglove"]
["Agalinis georgiana","FAC","FAC"]
[" Georgia False Foxglove"]
["Agalinis harperi","FAC","FAC"]
[" Coastal-Plain False Foxglove"]
["Agalinis heterophylla","FACU","FACU"]
[" Prairie False Foxglove"]
["Agalinis homalantha","UPL","UPL"]
[" San Antonio false foxglove"]
["Agalinis laxa","UPL","UPL"]
[" twoline false foxglove"]
["Agalinis linifolia","OBL","OBL"]
[" Flax-Leaf False Foxglove"]
["Agalinis maritima","OBL","OBL"]
[" Saltmarsh False Foxglove"]
["Agalinis navasotensis","UPL","UPL"]
[" Navasota false foxglove"]
["Agalinis nuttallii","UPL","UPL"]
[" Nuttall's false foxglove"]
["Agalinis obtusifolia","FAC","FAC"]
[" Ten-Lobe False Foxglove"]
["Agalinis oligophylla","FAC","FAC"]
[" Ridge-Stem False Foxglove"]
["Agalinis paupercula","FACW","FACW"]
[" Small-Flower False Foxglove"]
["Agalinis plukenetii","UPL","UPL"]
[" Chattahoochee false foxglove"]
["Agalinis pulchella","FACW","FACW"]
[" St. Mark's False Foxglove"]
["Agalinis purpurea","FACW","FACW"]
[" Purple False Foxglove"]
["Agalinis setacea","UPL","UPL"]
[" threadleaf false foxglove"]
["Agalinis skinneriana","FACU","FACU"]
[" Skinner's False Foxglove"]
["Agalinis strictifolia","UPL","UPL"]
[" stiffleaf false foxglove"]
["Agalinis tenella","OBL","OBL"]
["Agalinis tenuifolia","FACU","FACU"]
[" Slender-Leaf False Foxglove"]
["Agalinis viridis","UPL","UPL"]
[" green false foxglove"]
["Agarista","",""]
[" Florida hobblebush"]
["Agarista populifolia","FACW","FACW"]
[" Florida-Hobblebush"]
["Agastache","",""]
[" giant hyssop"]
["Agastache cana","UPL","UPL"]
[" mosquito plant"]
["Agastache foeniculum","UPL","UPL"]
[" blue giant hyssop"]
["Agastache micrantha","UPL","UPL"]
[" white giant hyssop"]
["Agastache nepetoides","FAC","FAC"]
[" Yellow Giant-Hyssop"]
["Agastache pallidiflora","UPL","UPL"]
[" Bill Williams Mountain giant hyssop"]
["Agastache scrophulariifolia","UPL","UPL"]
[" purple giant hyssop"]
["Agave","",""]
[" agave"]
["Agave americana","UPL","UPL"]
[" American Century-Plant"]
["Agave asperrima","UPL","UPL"]
[" rough century plant"]
["Agave decipiens","UPL","UPL"]
[" false sisal"]
["Agave desmettiana","UPL","UPL"]
[" dwarf century plant"]
["Agave glomeruliflora","UPL","UPL"]
[" Chisos Mountain century plant"]
["Agave gracilipes","UPL","UPL"]
[" slimfoot century plant"]
["Agave havardiana","UPL","UPL"]
[" Havard's century plant"]
["Agave lechuguilla","UPL","UPL"]
[" lechuguilla"]
["Agave neglecta","UPL","UPL"]
[" wild century plant"]
["Agave parryi","UPL","UPL"]
[" Parry's agave"]
["Agave sisalana","UPL","UPL"]
[" Sisal-Hemp"]
["Agave univittata","UPL","UPL"]
[" McKelvey's century plant"]
["Agave weberi","UPL","UPL"]
[" Weber's century plant"]
["Agdestis","",""]
[" agdestis"]
["Agdestis clematidea","UPL","UPL"]
[" rockroot"]
["Ageratina","",""]
[" snakeroot"]
["Ageratina altissima","FACU","FACU"]
[" White Snakeroot"]
["Ageratina aromatica","UPL","UPL"]
[" lesser snakeroot"]
["Ageratina havanensis","UPL","UPL"]
[" Havana snakeroot"]
["Ageratina herbacea","UPL","UPL"]
[" fragrant snakeroot"]
["Ageratina jucunda","FACU","FACU"]
[" Hammock Snakeroot"]
["Ageratina luciae-brauniae","UPL","UPL"]
[" Lucy Braun's snakeroot"]
["Ageratina rothrockii","UPL","UPL"]
[" Rothrock's snakeroot"]
["Ageratina wrightii","UPL","UPL"]
[" Wright's snakeroot"]
["Ageratum","",""]
[" whiteweed"]
["Ageratum conyzoides","FACU","FACU"]
[" Tropical Whiteweed"]
["Ageratum corymbosum","UPL","UPL"]
[" flat-top whiteweed"]
["Ageratum houstonianum","FACU","FACU"]
[" Bluemink"]
["Ageratum littorale","UPL","UPL"]
[" Cape Sable whiteweed"]
["Aglaonema","",""]
[" aglaonema"]
["Aglaonema commutatum","FACU","FACU"]
[" Philippine-Evergreen"]
["Agrimonia","",""]
[" agrimony"]
["Agrimonia eupatoria","UPL","UPL"]
[" churchsteeples"]
["Agrimonia gryposepala","FACU","FACU"]
[" Tall Hairy Grooveburr"]
["Agrimonia incisa","UPL","UPL"]
[" incised agrimony"]
["Agrimonia microcarpa","UPL","UPL"]
[" smallfruit agrimony"]
["Agrimonia parviflora","FAC","FAC"]
[" Harvestlice"]
["Agrimonia pubescens","UPL","UPL"]
[" soft agrimony"]
["Agrimonia rostellata","FAC","FAC"]
[" Beaked Grooveburr"]
["Agrimonia striata","UPL","UPL"]
[" Woodland Grooveburr"]
["Agropyron","",""]
[" wheatgrass"]
["Agropyron cristatum","UPL","UPL"]
[" crested wheatgrass"]
["Agropyron desertorum","UPL","UPL"]
[" desert wheatgrass"]
["Agrostemma","",""]
[" corncockle"]
["Agrostemma githago","UPL","UPL"]
[" common corncockle"]
["Agrostis","",""]
[" bentgrass"]
["Agrostis canina","FACU","FACU"]
[" Velvet Bent"]
["Agrostis capillaris","FAC","FAC"]
[" Colonial Bent"]
["Agrostis elliottiana","FACU","FACU"]
[" Elliott's Bent"]
["Agrostis gigantea","FACW","FACW"]
[" Black Bent"]
["Agrostis hyemalis","FAC","FAC"]
[" Winter Bent"]
["Agrostis mertensii","FACU","FACU"]
[" Northern Bent"]
["Agrostis perennans","FACU","FACU"]
[" Upland Bent"]
["Agrostis scabra","FAC","FAC"]
[" Rough Bent"]
["Agrostis stolonifera","FACW","FACW"]
[" Spreading Bent"]
["Ailanthus","",""]
[" ailanthus"]
["Ailanthus altissima","FACU","FACU"]
[" Tree-of-Heaven"]
["Aira","",""]
[" hairgrass"]
["Aira caryophyllea","FAC","FAC"]
[" Common Silver-Hair Grass"]
["Aira elegans","UPL","UPL"]
[" annual silver hairgrass"]
["Aira praecox","UPL","UPL"]
[" yellow hairgrass"]
["Ajuga","",""]
[" bugle"]
["Ajuga chamaepitys","UPL","UPL"]
[" yellow bugle"]
["Ajuga genevensis","UPL","UPL"]
[" blue bugle"]
["Ajuga pyramidalis","UPL","UPL"]
[" pyramid bugle"]
["Ajuga reptans","UPL","UPL"]
[" common bugle"]
["Akebia","",""]
[" chocolate vine"]
["Akebia quinata","UPL","UPL"]
[" chocolate vine"]
["Albizia","",""]
[" albizia"]
["Albizia julibrissin","UPL","UPL"]
[" silktree"]
["Albizia lebbeck","UPL","UPL"]
[" Woman's-Tongue"]
["Albizia lebbekoides","UPL","UPL"]
[" Indian albizia"]
["Albizia procera","UPL","UPL"]
[" tall albizia"]
["Alcea","",""]
[" hollyhock"]
["Alcea rosea","UPL","UPL"]
[" hollyhock"]
["Aldrovanda","",""]
["Aldrovanda vesiculosa","UPL","UPL"]
[" waterwheel plant"]
["Aletes","",""]
[" Indian parsley"]
["Aletes acaulis","UPL","UPL"]
[" stemless Indian parsley"]
["Aletes filifolius","UPL","UPL"]
[" Trans-Pecos Indian parsley"]
["Aletris","",""]
[" colicroot"]
["Aletris aurea","FACW","FACW"]
[" Golden Colicroot"]
["Aletris bracteata","FACU","FACU"]
[" Bracted Colicroot"]
["Aletris farinosa","FAC","FAC"]
[" White Colicroot"]
["Aletris lutea","FACW","FACW"]
[" Yellow Colicroot"]
["Aletris obovata","FAC","FAC"]
[" Southern Colicroot"]
["Aletris X tottenii","UPL","UPL"]
[" colicroot"]
["Aleurites","",""]
[" aleurites"]
["Aleurites moluccanus","UPL","UPL"]
[" Indian-Walnut"]
["Alhagi","",""]
[" alhagi"]
["Alhagi maurorum","FAC","FAC"]
[" Camelthorn"]
["Alisma","",""]
[" water plantain"]
["Alisma gramineum","OBL","OBL"]
[" Narrow-Leaf Water-Plantain"]
["Alisma subcordatum","OBL","OBL"]
[" American Water-Plantain"]
["Alisma triviale","OBL","OBL"]
[" Northern Water-Plantain"]
["Allamanda","",""]
[" allamanda"]
["Allamanda cathartica","UPL","UPL"]
[" golden trumpet"]
["Alliaria","",""]
[" alliaria"]
["Alliaria petiolata","FACU","FACU"]
[" Garlic-Mustard"]
["Allionia","",""]
[" windmills"]
["Allionia choisyi","UPL","UPL"]
[" annual windmills"]
["Allionia incarnata","UPL","UPL"]
[" trailing windmills"]
["Allium","",""]
[" onion"]
["Allium allegheniense","UPL","UPL"]
[" Allegheny onion"]
["Allium ampeloprasum","UPL","UPL"]
[" broadleaf wild leek"]
["Allium atroviolaceum","UPL","UPL"]
[" broadleaf wild leek"]
["Allium canadense","FACU","FACU"]
[" Meadow Garlic"]
["Allium cepa","UPL","UPL"]
[" garden onion"]
["Allium cernuum","FACU","FACU"]
[" Nodding Onion"]
["Allium coryi","UPL","UPL"]
[" yellowflower onion"]
["Allium cuthbertii","UPL","UPL"]
[" striped garlic"]
["Allium drummondii","UPL","UPL"]
[" Drummond's onion"]
["Allium elmendorfii","UPL","UPL"]
[" Elmendorf's onion"]
["Allium fistulosum","UPL","UPL"]
[" welsh onion"]
["Allium glandulosum","UPL","UPL"]
[" gland onion"]
["Allium kunthii","UPL","UPL"]
[" Kunth's onion"]
["Allium macropetalum","UPL","UPL"]
[" largeflower onion"]
["Allium neapolitanum","UPL","UPL"]
[" white garlic"]
["Allium oleraceum","UPL","UPL"]
[" field garlic"]
["Allium perdulce","UPL","UPL"]
[" plains onion"]
["Allium porrum","UPL","UPL"]
[" garden leek"]
["Allium runyonii","UPL","UPL"]
[" Runyon's onion"]
["Allium sativum","UPL","UPL"]
[" cultivated garlic"]
["Allium schoenoprasum","FACU","FACU"]
[" Wild Chives"]
["Allium speculae","UPL","UPL"]
[" Little River Canyon onion"]
["Allium stellatum","UPL","UPL"]
[" autumn onion"]
["Allium tricoccum","FACU","FACU"]
[" Ramp"]
["Allium vineale","FACU","FACU"]
[" Crow Garlic"]
["Allium X proliferum","UPL","UPL"]
[" garden onion"]
["Alloteropsis","",""]
[" summergrass"]
["Alloteropsis cimicina","UPL","UPL"]
[" summergrass"]
["Allowissadula","",""]
[" false Indianmallow"]
["Allowissadula holosericea","UPL","UPL"]
[" Chisos Mountain false Indianmallow"]
["Allowissadula lozanii","UPL","UPL"]
[" Lozano's false Indianmallow"]
["Alnus","",""]
[" alder"]
["Alnus glutinosa","FACW","FACW"]
[" European Alder"]
["Alnus incana","FACU","FACU"]
[" Speckled Alder"]
["Alnus maritima","OBL","OBL"]
[" Seaside Alder"]
["Alnus serrulata","FACW","FACW"]
[" Brookside Alder"]
["Alocasia","",""]
[" taro"]
["Alocasia macrorrhizos","FACW","FACW"]
[" Giant Taro"]
["Alocasia odora","UPL","UPL"]
[" Asian taro"]
["Aloe","",""]
[" aloe"]
["Aloe vera","UPL","UPL"]
[" Barbados aloe"]
["Alopecurus","",""]
[" foxtail"]
["Alopecurus aequalis","OBL","OBL"]
[" Short-Awn Meadow-Foxtail"]
["Alopecurus carolinianus","FACW","FACW"]
[" Tufted Meadow-Foxtail"]
["Alopecurus creticus","UPL","UPL"]
[" Cretan meadow foxtail"]
["Alopecurus geniculatus","OBL","OBL"]
[" Marsh Meadow-Foxtail"]
["Alopecurus myosuroides","FACW","FACW"]
[" Slender Meadow-Foxtail"]
["Alopecurus pratensis","FAC","FAC"]
[" Field Meadow-Foxtail"]
["Alopecurus rendlei","UPL","UPL"]
[" Rendle's meadow foxtail"]
["Alophia","",""]
[" alophia"]
["Alophia drummondii","FACU","FACU"]
[" Propeller-Flower"]
["Aloysia","",""]
[" beebrush"]
["Aloysia gratissima","UPL","UPL"]
[" whitebrush"]
["Aloysia macrostachya","UPL","UPL"]
[" Rio Grande beebrush"]
["Aloysia triphylla","UPL","UPL"]
[" lemon beebrush"]
["Aloysia wrightii","UPL","UPL"]
[" Wright's beebrush"]
["Alpinia","",""]
[" alpinia"]
["Alpinia zerumbet","UPL","UPL"]
[" Shellplant"]
["Alstonia","",""]
[" alstonia"]
["Alstonia macrophylla","UPL","UPL"]
[" deviltree"]
["Alstroemeria","",""]
[" lily of the Incas"]
["Alstroemeria haemantha","UPL","UPL"]
[" purple-spot parrot-lily"]
["Alstroemeria psittacina","UPL","UPL"]
[" lily of the Incas"]
["Alstroemeria pulchella","UPL","UPL"]
[" parrot-lily"]
["Alternanthera","",""]
[" joyweed"]
["Alternanthera bettzichiana","UPL","UPL"]
[" calicoplant"]
["Alternanthera brasiliana","UPL","UPL"]
[" Brazilian joyweed"]
["Alternanthera caracasana","UPL","UPL"]
[" washerwoman"]
["Alternanthera ficoidea","FACU","FACU"]
[" Sanguinaria"]
["Alternanthera flavescens","UPL","UPL"]
[" yellow joyweed"]
["Alternanthera flavogrisea","UPL","UPL"]
[" hairy joyweed"]
["Alternanthera maritima","FACW","FACW"]
[" Seaside Joyweed"]
["Alternanthera paronychioides","OBL","OBL"]
[" Smooth Joyweed"]
["Alternanthera philoxeroides","OBL","OBL"]
[" Alligator-Weed"]
["Alternanthera pungens","UPL","UPL"]
[" khakiweed"]
["Alternanthera sessilis","OBL","OBL"]
[" Sessile Joyweed"]
["Althaea","",""]
[" marshmallow"]
["Althaea cannabina","UPL","UPL"]
[" palm-leaf marshmallow"]
["Althaea hirsuta","UPL","UPL"]
[" hairy marshmallow"]
["Althaea officinalis","FACW","FACW"]
[" Common Marsh-Mallow"]
["Alvaradoa","",""]
[" alvaradoa"]
["Alvaradoa amorphoides","UPL","UPL"]
[" Mexican alvaradoa"]
["Alysicarpus","",""]
[" moneywort"]
["Alysicarpus ovalifolius","UPL","UPL"]
[" alyce clover"]
["Alysicarpus rugosus","UPL","UPL"]
[" red moneywort"]
["Alysicarpus vaginalis","FAC","FAC"]
[" White Moneywort"]
["Alyssum","",""]
[" madwort"]
["Alyssum alyssoides","UPL","UPL"]
[" pale madwort"]
["Alyssum desertorum","UPL","UPL"]
[" desert madwort"]
["Amaranthus","",""]
[" pigweed"]
["Amaranthus acanthochiton","FACU","FACU"]
[" Greenstripe"]
["Amaranthus albus","FACU","FACU"]
[" Tumbleweed"]
["Amaranthus arenicola","FACU","FACU"]
[" Sandhill Amaranth"]
["Amaranthus australis","OBL","OBL"]
[" Southern Amaranth"]
["Amaranthus bigelovii","UPL","UPL"]
[" Bigelow's amaranth"]
["Amaranthus blitoides","FAC","FAC"]
[" Mat Amaranth"]
["Amaranthus blitum","FACU","FACU"]
[" Purple Amaranth"]
["Amaranthus cannabinus","OBL","OBL"]
[" Tidal-Marsh Amaranth"]
["Amaranthus caudatus","UPL","UPL"]
[" foxtail amaranth"]
["Amaranthus crassipes","FAC","FAC"]
[" Spreading Amaranth"]
["Amaranthus crispus","UPL","UPL"]
[" crispleaf amaranth"]
["Amaranthus cruentus","UPL","UPL"]
[" red amaranth"]
["Amaranthus deflexus","UPL","UPL"]
[" largefruit amaranth"]
["Amaranthus dubius","UPL","UPL"]
[" spleen amaranth"]
["Amaranthus fimbriatus","UPL","UPL"]
[" fringed amaranth"]
["Amaranthus floridanus","OBL","OBL"]
[" Florida Amaranth"]
["Amaranthus graecizans","FACU","FACU"]
[" Italian-Spinach"]
["Amaranthus greggii","FAC","FAC"]
[" Josiah Amaranth"]
["Amaranthus hybridus","UPL","UPL"]
[" slim amaranth"]
["Amaranthus hypochondriacus","UPL","UPL"]
[" Prince-of-Wales feather"]
["Amaranthus muricatus","UPL","UPL"]
[" African amaranth"]
["Amaranthus palmeri","FACU","FACU"]
[" Careless Weed"]
["Amaranthus polygonoides","UPL","UPL"]
[" tropical amaranth"]
["Amaranthus powellii","UPL","UPL"]
[" Powell's amaranth"]
["Amaranthus pumilus","FACW","FACW"]
[" Seaside Amaranth"]
["Amaranthus retroflexus","FAC","FAC"]
[" Red-Root"]
["Amaranthus scleropoides","UPL","UPL"]
[" bonebract amaranth"]
["Amaranthus spinosus","FACU","FACU"]
[" Spiny Amaranth"]
["Amaranthus tamaulipensis","UPL","UPL"]
[" Tamaulipas amaranth"]
["Amaranthus thunbergii","UPL","UPL"]
[" Thunberg's amaranthus"]
["Amaranthus tricolor","UPL","UPL"]
[" Joseph's-Coat"]
["Amaranthus tuberculatus","FACW","FACW"]
[" Rough-Fruit Amaranth"]
["Amaranthus viridis","FAC","FAC"]
[" Slender Amaranth"]
["Amaranthus wrightii","UPL","UPL"]
[" Wright's amaranth"]
["Amaryllis","",""]
[" amaryllis"]
["Amaryllis belladonna","UPL","UPL"]
[" belladonna lily"]
["Amberboa","",""]
[" amberboa"]
["Amberboa moschata","UPL","UPL"]
[" sweetsultan"]
["Amblyolepis","",""]
[" amblyolepis"]
["Amblyolepis setigera","UPL","UPL"]
[" huisache daisy"]
["Amblystegium","",""]
[" amblystegium moss"]
["Amblystegium serpens","UPL","UPL"]
[" amblystegium moss"]
["Amblystegium varium","UPL","UPL"]
[" amblystegium moss"]
["Ambrosia","",""]
[" ragweed"]
["Ambrosia acanthicarpa","UPL","UPL"]
[" flatspine bur ragweed"]
["Ambrosia artemisiifolia","FACU","FACU"]
[" Annual Ragweed"]
["Ambrosia bidentata","UPL","UPL"]
[" lanceleaf ragweed"]
["Ambrosia cheiranthifolia","UPL","UPL"]
[" Rio Grande ragweed"]
["Ambrosia confertiflora","UPL","UPL"]
[" weakleaf bur ragweed"]
["Ambrosia hispida","UPL","UPL"]
[" coastal ragweed"]
["Ambrosia psilostachya","FAC","FAC"]
[" Perennial Ragweed"]
["Ambrosia tenuifolia","UPL","UPL"]
[" slimleaf bur ragweed"]
["Ambrosia tomentosa","UPL","UPL"]
[" skeletonleaf bur ragweed"]
["Ambrosia trifida","FAC","FAC"]
[" Great Ragweed"]
["Ambrosia X helenae","UPL","UPL"]
[" ragweed"]
["Ambrosia X intergradiens","UPL","UPL"]
[" ragweed"]
["Amelanchier","",""]
[" serviceberry"]
["Amelanchier arborea","FACU","FACU"]
[" Downy Service-Berry"]
["Amelanchier canadensis","FAC","FAC"]
[" Canadian Service-Berry"]
["Amelanchier humilis","UPL","UPL"]
[" low serviceberry"]
["Amelanchier interior","UPL","UPL"]
[" inland serviceberry"]
["Amelanchier intermedia","FACW","FACW"]
[" Intermediate Service-Berry"]
["Amelanchier laevis","UPL","UPL"]
[" Allegheny serviceberry"]
["Amelanchier nantucketensis","FACU","FACU"]
[" Nantucket Service-Berry"]
["Amelanchier sanguinea","UPL","UPL"]
[" roundleaf serviceberry"]
["Amelanchier spicata","FACU","FACU"]
[" Running Service-Berry"]
["Amelanchier X intermedia","UPL","UPL"]
[" serviceberry"]
["Amelanchier X neglecta","UPL","UPL"]
[" serviceberry"]
["Amianthium","",""]
[" amianthium"]
["Amianthium muscitoxicum","FAC","FAC"]
[" Flypoison"]
["Ammannia","",""]
[" redstem"]
["Ammannia auriculata","OBL","OBL"]
[" Eared Redstem"]
["Ammannia coccinea","OBL","OBL"]
[" Valley Redstem"]
["Ammannia latifolia","OBL","OBL"]
[" Pink Redstem"]
["Ammannia robusta","OBL","OBL"]
[" Grand Redstem"]
["Ammi","",""]
[" ammi"]
["Ammi majus","UPL","UPL"]
[" large bullwort"]
["Ammi visnaga","UPL","UPL"]
[" toothpickweed"]
["Ammocodon","",""]
[" ammocodon"]
["Ammocodon chenopodioides","UPL","UPL"]
[" goosefoot moonpod"]
["Ammophila","",""]
[" beachgrass"]
["Ammophila arenaria","FACU","FACU"]
[" European Beach Grass"]
["Ammophila breviligulata","UPL","UPL"]
[" American Beach Grass"]
["Ammoselinum","",""]
[" sandparsley"]
["Ammoselinum butleri","FAC","FAC"]
[" Butler's Sand-Parsley"]
["Ammoselinum popei","UPL","UPL"]
[" plains sandparsley"]
["Amoreuxia","",""]
[" yellowshow"]
["Amoreuxia wrightii","UPL","UPL"]
[" Wright's yellowshow"]
["Amorpha","",""]
[" false indigo"]
["Amorpha canescens","UPL","UPL"]
[" leadplant"]
["Amorpha confusa","FACU","FACU"]
[" Carolina Indigo-Bush"]
["Amorpha fruticosa","FACW","FACW"]
[" False Indigo-Bush"]
["Amorpha georgiana","FACW","FACW"]
[" Georgia Indigo-Bush"]
["Amorpha glabra","UPL","UPL"]
[" mountain false indigo"]
["Amorpha herbacea","FAC","FAC"]
[" Cluster-Spike Indigo-Bush"]
["Amorpha laevigata","UPL","UPL"]
[" smooth false indigo"]
["Amorpha nitens","FAC","FAC"]
[" Shining Indigo-Bush"]
["Amorpha ouachitensis","UPL","UPL"]
[" Ouachita false indigo"]
["Amorpha paniculata","FACW","FACW"]
[" Panicled Indigo-Bush"]
["Amorpha roemeriana","FACU","FACU"]
[" Roemer's Indigo-Bush"]
["Amorpha schwerinii","UPL","UPL"]
[" Schwerin's false indigo"]
["Amorpha X notha","UPL","UPL"]
[" false indigo"]
["Ampelaster","",""]
[" climbing aster"]
["Ampelaster carolinianus","OBL","OBL"]
[" Climbing-Aster"]
["Ampelopsis","",""]
[" peppervine"]
["Ampelopsis aconitifolia","UPL","UPL"]
[" monkshoodvine"]
["Ampelopsis arborea","FAC","FAC"]
[" Peppervine"]
["Ampelopsis brevipedunculata","UPL","UPL"]
[" Amur peppervine"]
["Ampelopsis cordata","FAC","FAC"]
[" Heart-Leaf Peppervine"]
["Amphiachyris","",""]
[" broomweed"]
["Amphiachyris amoena","UPL","UPL"]
[" Texas broomweed"]
["Amphiachyris dracunculoides","UPL","UPL"]
[" prairie broomweed"]
["Amphibromus","",""]
[" wallaby grass"]
["Amphibromus scabrivalvis","UPL","UPL"]
[" swamp wallaby grass"]
["Amphicarpaea","",""]
[" hogpeanut"]
["Amphicarpaea bracteata","FAC","FAC"]
[" American Hog-Peanut"]
["Amphicarpum","",""]
[" maidencane"]
["Amphicarpum amphicarpon","FACW","FACW"]
[" Blue Maiden-Cane"]
["Amphicarpum muehlenbergianum","FACW","FACW"]
[" Perennial Goober Grass"]
["Amphitecna","",""]
[" amphitecna"]
["Amphitecna latifolia","FACU","FACU"]
[" Black-Calabash"]
["Amsinckia","",""]
[" fiddleneck"]
["Amsinckia lycopsoides","UPL","UPL"]
[" tarweed fiddleneck"]
["Amsinckia menziesii","UPL","UPL"]
[" Menzies' fiddleneck"]
["Amsinckia tessellata","UPL","UPL"]
[" bristly fiddleneck"]
["Amsonia","",""]
[" bluestar"]
["Amsonia ciliata","UPL","UPL"]
[" fringed bluestar"]
["Amsonia hubrichtii","UPL","UPL"]
[" Hubricht's bluestar"]
["Amsonia longiflora","UPL","UPL"]
[" tubular bluestar"]
["Amsonia ludoviciana","FAC","FAC"]
[" Louisiana Bluestar"]
["Amsonia palmeri","UPL","UPL"]
[" Palmer's bluestar"]
["Amsonia repens","UPL","UPL"]
[" creeping bluestar"]
["Amsonia rigida","FACW","FACW"]
[" Stiff Bluestar"]
["Amsonia tabernaemontana","FACW","FACW"]
[" Eastern Bluestar"]
["Amsonia tharpii","UPL","UPL"]
[" feltleaf bluestar"]
["Amsonia tomentosa","UPL","UPL"]
[" woolly bluestar"]
["Amyris","",""]
[" torchwood"]
["Amyris balsamifera","UPL","UPL"]
[" balsam torchwood"]
["Amyris elemifera","FAC","FAC"]
[" Smooth Torchwood"]
["Amyris madrensis","UPL","UPL"]
[" mountain torchwood"]
["Amyris texana","UPL","UPL"]
[" Texas torchwood"]
["Anacamptodon","",""]
[" anacamptodon moss"]
["Anacamptodon splachnoides","UPL","UPL"]
[" anacamptodon moss"]
["Anacyclus","",""]
[" anacyclus"]
["Anacyclus clavatus","UPL","UPL"]
[" whitebuttons"]
["Ananas","",""]
[" pineapple"]
["Ananas comosus","UPL","UPL"]
[" pineapple"]
["Anaphalis","",""]
[" pearly everlasting"]
["Anaphalis margaritacea","UPL","UPL"]
[" Pearly-Everlasting"]
["Anchusa","",""]
[" bugloss"]
["Anchusa arvensis","UPL","UPL"]
[" small bugloss"]
["Anchusa azurea","UPL","UPL"]
[" Italian bugloss"]
["Anchusa officinalis","UPL","UPL"]
[" common bugloss"]
["Ancistrocactus","",""]
["Ancistrocactus brevihamatus","UPL","UPL"]
[" shorthook fishhook cactus"]
["Ancistrocactus scheeri","UPL","UPL"]
[" Scheer's fishhook cactus"]
["Ancistrocactus tobuschii","UPL","UPL"]
[" shorthook fishhook cactus"]
["Andira","",""]
[" andira"]
["Andira inermis","FAC","FAC"]
[" Cabbagebark-Tree"]
["Andrographis","",""]
[" false waterwillow"]
["Andrographis echioides","UPL","UPL"]
[" false waterwillow"]
["Andropogon","",""]
[" bluestem"]
["Andropogon arctatus","FAC","FAC"]
[" Pinewoods Bluestem"]
["Andropogon bicornis","FAC","FAC"]
[" Barbas-de-Indio"]
["Andropogon brachystachyus","FAC","FAC"]
[" Short-Spike Bluestem"]
["Andropogon capillipes","FAC","FAC"]
[" Chalky Bluestem"]
["Andropogon floridanus","FACU","FACU"]
[" Florida Bluestem"]
["Andropogon gerardii","FAC","FAC"]
[" Big Bluestem"]
["Andropogon glaucopsis","FACW","FACW"]
[" Coastal Bluestem"]
["Andropogon glomeratus","FACW","FACW"]
[" Bushy Bluestem"]
["Andropogon gracilis","FAC","FAC"]
[" Wiry Bluestem"]
["Andropogon gyrans","FACU","FACU"]
[" Elliott's Bluestem"]
["Andropogon hallii","UPL","UPL"]
[" sand bluestem"]
["Andropogon hirsutior","FACW","FACW"]
["Andropogon longiberbis","FAC","FAC"]
[" Long-Beard Bluestem"]
["Andropogon mohrii","FACW","FACW"]
[" Mohr's Bluestem"]
["Andropogon ternarius","FACU","FACU"]
[" Split-Beard Bluestem"]
["Andropogon tracyi","UPL","UPL"]
[" Tracy's bluestem"]
["Andropogon virginicus","FAC","FAC"]
[" Broom-Sedge"]
["Androsace","",""]
[" rockjasmine"]
["Androsace occidentalis","FACU","FACU"]
[" Western Rock-Jasmine"]
["Androstephium","",""]
[" funnel lily"]
["Androstephium coeruleum","UPL","UPL"]
[" blue funnel lily"]
["Anemia","",""]
[" anemia fern"]
["Anemia adiantifolia","UPL","UPL"]
[" pineland fern"]
["Anemia mexicana","UPL","UPL"]
[" Mexican fern"]
["Anemia wrightii","UPL","UPL"]
[" Wright's flowering fern"]
["Anemone","",""]
[" anemone"]
["Anemone berlandieri","UPL","UPL"]
[" tenpetal thimbleweed"]
["Anemone blanda","UPL","UPL"]
[" Greek thimbleweed"]
["Anemone canadensis","FAC","FAC"]
[" Round-Leaf Thimbleweed"]
["Anemone caroliniana","UPL","UPL"]
[" Carolina anemone"]
["Anemone cylindrica","UPL","UPL"]
[" candle anemone"]
["Anemone edwardsiana","UPL","UPL"]
[" Edwards Plateau thimbleweed"]
["Anemone lancifolia","UPL","UPL"]
[" mountain thimbleweed"]
["Anemone quinquefolia","FACU","FACU"]
[" Nightcaps"]
["Anemone tuberosa","UPL","UPL"]
[" tuber anemone"]
["Anemone virginiana","FACU","FACU"]
[" Tall Thimbleweed"]
["Anethum","",""]
[" dill"]
["Anethum graveolens","UPL","UPL"]
[" dill"]
["Aneura","",""]
["Aneura maxima","UPL","UPL"]
["Aneura pinguis","UPL","UPL"]
["Angadenia","",""]
[" pineland golden trumpet"]
["Angadenia berteroi","FACW","FACW"]
[" Pineland-Golden-Trumpet"]
["Angelica","",""]
[" angelica"]
["Angelica atropurpurea","OBL","OBL"]
[" Purple-Stem Angelica"]
["Angelica dentata","UPL","UPL"]
[" coastal plain angelica"]
["Angelica triquinata","UPL","UPL"]
[" filmy angelica"]
["Angelica venenosa","UPL","UPL"]
[" hairy angelica"]
["Angelonia","",""]
[" angelon"]
["Angelonia angustifolia","UPL","UPL"]
[" narrowleaf angelon"]
["Anisacanthus","",""]
[" desert honeysuckle"]
["Anisacanthus linearis","UPL","UPL"]
[" narrowleaf desert honeysuckle"]
["Anisacanthus puberulus","UPL","UPL"]
[" dwarf desert honeysuckle"]
["Anisacanthus quadrifidus","UPL","UPL"]
[" Wright's desert honeysuckle"]
["Aniseia","",""]
[" aniseia"]
["Aniseia martinicensis","FAC","FAC"]
[" Whitejacket"]
["Annona","",""]
[" annona"]
["Annona glabra","OBL","OBL"]
[" Pond-Apple"]
["Annona montana","UPL","UPL"]
[" mountain soursop"]
["Annona squamosa","UPL","UPL"]
[" sugar apple"]
["Anoda","",""]
[" anoda"]
["Anoda crenatiflora","UPL","UPL"]
[" thicket anoda"]
["Anoda cristata","FAC","FAC"]
[" Crested Anoda"]
["Anoda lanceolata","UPL","UPL"]
[" lanceleaf anoda"]
["Anoda pentaschista","UPL","UPL"]
[" field anoda"]
["Anomodon","",""]
[" anomodon moss"]
["Anomodon attenuatus","UPL","UPL"]
[" anomodon moss"]
["Anomodon minor","UPL","UPL"]
[" anomodon moss"]
["Anomodon rostratus","UPL","UPL"]
[" anomodon moss"]
["Anomodon viticulosus","UPL","UPL"]
[" anomodon moss"]
["Anredera","",""]
[" madieravine"]
["Anredera cordifolia","UPL","UPL"]
[" heartleaf madeiravine"]
["Anredera vesicaria","UPL","UPL"]
[" Texas madeiravine"]
["Antennaria","",""]
[" pussytoes"]
["Antennaria howellii","UPL","UPL"]
[" Howell's pussytoes"]
["Antennaria marginata","UPL","UPL"]
[" whitemargin pussytoes"]
["Antennaria neglecta","UPL","UPL"]
[" Field Pussytoes"]
["Antennaria parlinii","UPL","UPL"]
[" Parlin's pussytoes"]
["Antennaria parvifolia","UPL","UPL"]
[" small-leaf pussytoes"]
["Antennaria plantaginifolia","UPL","UPL"]
[" woman's tobacco"]
["Antennaria solitaria","UPL","UPL"]
[" singlehead pussytoes"]
["Antennaria virginica","UPL","UPL"]
[" shale barren pussytoes"]
["Anthaenantia","",""]
[" silkyscale"]
["Anthaenantia rufa","UPL","UPL"]
[" purple silkyscale"]
["Anthaenantia villosa","UPL","UPL"]
[" green silkyscale"]
["Anthemis","",""]
[" chamomile"]
["Anthemis arvensis","UPL","UPL"]
[" corn chamomile"]
["Anthemis cotula","FACU","FACU"]
[" Stinking Chamomile"]
["Anthemis secundiramea","UPL","UPL"]
[" prostrate chamomile"]
["Anthemis tinctoria","UPL","UPL"]
[" golden chamomile"]
["Anthenantia","",""]
[" silkyscale"]
["Anthenantia rufa","FACW","FACW"]
[" Purple Silkyscale"]
["Anthephora","",""]
[" oldfield grass"]
["Anthephora hermaphrodita","UPL","UPL"]
[" oldfield grass"]
["Anthoxanthum","",""]
[" hornwort"]
["Anthoxanthum aristatum","UPL","UPL"]
[" annual vernalgrass"]
["Anthoxanthum hirtum","FACW","FACW"]
[" Northern Sweet Vernal Grass"]
["Anthoxanthum odoratum","FACU","FACU"]
[" Large Sweet Vernal Grass"]
["Anthriscus","",""]
[" chervil"]
["Anthriscus caucalis","UPL","UPL"]
[" bur chervil"]
["Anthriscus cerefolium","UPL","UPL"]
[" garden chervil"]
["Anthriscus sylvestris","UPL","UPL"]
[" wild chervil"]
["Anthyllis","",""]
[" kidneyvetch"]
["Anthyllis vulneraria","UPL","UPL"]
[" common kidneyvetch"]
["Antigonon","",""]
[" antigonon"]
["Antigonon leptopus","FAC","FAC"]
[" Queen's-Jewels"]
["Antiphytum","",""]
[" saucerflower"]
["Antiphytum floribundum","UPL","UPL"]
[" Texas saucerflower"]
["Antiphytum heliotropioides","UPL","UPL"]
[" Mexican saucerflower"]
["Antirrhinum","",""]
[" snapdragon"]
["Antirrhinum majus","UPL","UPL"]
[" garden snapdragon"]
["Anulocaulis","",""]
[" ringstem"]
["Anulocaulis eriosolenus","UPL","UPL"]
[" Big Bend ringstem"]
["Anulocaulis leiosolenus","UPL","UPL"]
[" southwestern ringstem"]
["Anulocaulis reflexus","UPL","UPL"]
[" Texas ringstem"]
["Apera","",""]
[" silkybent"]
["Apera interrupta","UPL","UPL"]
[" dense silkybent"]
["Apera spica-venti","UPL","UPL"]
[" loose silkybent"]
["Aphanes","",""]
[" parsley piert"]
["Aphanes arvensis","UPL","UPL"]
[" field parsley piert"]
["Aphanes microcarpa","UPL","UPL"]
[" slender parsley piert"]
["Aphanorrhegma","",""]
[" aphanorrhegma moss"]
["Aphanorrhegma serratum","UPL","UPL"]
[" serrate aphanorrhegma moss"]
["Aphanostephus","",""]
[" dozedaisy"]
["Aphanostephus pilosus","UPL","UPL"]
[" hairy dozedaisy"]
["Aphanostephus ramosissimus","UPL","UPL"]
[" plains dozedaisy"]
["Aphanostephus riddellii","UPL","UPL"]
[" Riddell's dozedaisy"]
["Aphanostephus skirrhobasis","UPL","UPL"]
[" Arkansas dozedaisy"]
["Apios","",""]
[" groundnut"]
["Apios americana","FACW","FACW"]
[" Groundnut"]
["Apios priceana","FACU","FACU"]
["Traveler's Delight"]
["Apium","",""]
[" celery"]
["Apium graveolens","UPL","UPL"]
[" wild celery"]
["Apium repens","UPL","UPL"]
[" creeping marshwort"]
["Aplectrum","",""]
[" Adam and Eve"]
["Aplectrum hyemale","FAC","FAC"]
[" Adam-and-Eve"]
["Apluda","",""]
[" Mauritian grass"]
["Apluda mutica","UPL","UPL"]
[" Mauritian grass"]
["Apocynum","",""]
[" dogbane"]
["Apocynum androsaemifolium","UPL","UPL"]
[" Spreading Dogbane"]
["Apocynum cannabinum","FACU","FACU"]
[" Indian-Hemp"]
["Apocynum X floribundum","UPL","UPL"]
["Apodanthera","",""]
[" apodanthera"]
["Apodanthera undulata","UPL","UPL"]
[" melon loco"]
["Apteria","",""]
[" apteria"]
["Apteria aphylla","FACW","FACW"]
[" Nodding-Nixie"]
["Aquilegia","",""]
[" columbine"]
["Aquilegia canadensis","FACU","FACU"]
[" Red Columbine"]
["Aquilegia vulgaris","UPL","UPL"]
[" European columbine"]
["Arabidopsis","",""]
[" rockcress"]
["Arabidopsis lyrata","FACU","FACU"]
[" Lyre-Leaf Thalecress"]
["Arabidopsis thaliana","UPL","UPL"]
[" mouseear cress"]
["Arabis","",""]
[" rockcress"]
["Arabis alpina","FAC","FAC"]
[" Alpine Eared Rockcress"]
["Arabis canadensis","UPL","UPL"]
[" sicklepod"]
["Arabis fendleri","UPL","UPL"]
[" Fendler's rockcress"]
["Arabis georgiana","UPL","UPL"]
[" Georgia rockcress"]
["Arabis glabra","UPL","UPL"]
[" tower rockcress"]
["Arabis hirsuta","UPL","UPL"]
[" hairy rockcress"]
["Arabis laevigata","UPL","UPL"]
[" smooth rockcress"]
["Arabis lyallii","UPL","UPL"]
[" Lyall's rockcress"]
["Arabis missouriensis","UPL","UPL"]
[" green rockcress"]
["Arabis patens","UPL","UPL"]
[" spreading rockcress"]
["Arabis perennans","UPL","UPL"]
[" perennial rockcress"]
["Arabis perstellata","UPL","UPL"]
[" Braun's rockcress"]
["Arabis petiolaris","UPL","UPL"]
[" Brazos rockcress"]
["Arabis pycnocarpa","FACU","FACU"]
[" Hairy Eared Rockcress"]
["Arabis serotina","UPL","UPL"]
[" shale barren rockcress"]
["Arachis","",""]
[" peanut"]
["Arachis glabrata","UPL","UPL"]
[" rhizoma peanut"]
["Arachis hagenbeckii","UPL","UPL"]
[" rhizoma peanut"]
["Arachis hypogaea","UPL","UPL"]
[" peanut"]
["Arachniodes","",""]
[" hollyfern"]
["Arachniodes simplicior","UPL","UPL"]
[" simpler hollyfern"]
["Aralia","",""]
[" spikenard"]
["Aralia chinensis","UPL","UPL"]
[" Chinese angelica tree"]
["Aralia elata","UPL","UPL"]
[" Japanese angelica tree"]
["Aralia hispida","UPL","UPL"]
[" bristly sarsaparilla"]
["Aralia nudicaulis","FACU","FACU"]
[" Wild Sarsaparilla"]
["Aralia racemosa","FACU","FACU"]
[" American Spikenard"]
["Aralia spinosa","FAC","FACU"]
[" Devil's-Walkingstick"]
["Araucaria","",""]
[" araucaria"]
["Araucaria heterophylla","UPL","UPL"]
[" Norfolk Island pine"]
["Araujia","",""]
[" araujia"]
["Araujia sericifera","UPL","UPL"]
[" white bladderflower"]
["Arbutus","",""]
[" madrone"]
["Arbutus xalapensis","UPL","UPL"]
[" Texas madrone"]
["Arceuthobium","",""]
[" dwarf mistletoe"]
["Arceuthobium divaricatum","UPL","UPL"]
[" pinyon dwarf mistletoe"]
["Arceuthobium douglasii","UPL","UPL"]
[" Douglas-fir dwarf mistletoe"]
["Arceuthobium pusillum","UPL","UPL"]
[" eastern dwarf mistletoe"]
["Arceuthobium vaginatum","UPL","UPL"]
[" pineland dwarf mistletoe"]
["Archidium","",""]
[" archidium moss"]
["Archidium ohioense","UPL","UPL"]
[" Ohio archidium moss"]
["Arctium","",""]
[" burdock"]
["Arctium lappa","UPL","UPL"]
[" greater burdock"]
["Arctium minus","UPL","UPL"]
[" Lesser Burrdock"]
["Arctium tomentosum","UPL","UPL"]
[" woolly burdock"]
["Arctium vulgare","UPL","UPL"]
[" woodland burdock"]
["Arctostaphylos","",""]
[" manzanita"]
["Arctostaphylos pungens","UPL","UPL"]
[" pointleaf manzanita"]
["Arctostaphylos uva-ursi","UPL","UPL"]
[" Red Bearberry"]
["Arctotis","",""]
[" arctotis"]
["Arctotis stoechadifolia","UPL","UPL"]
[" African daisy"]
["Ardisia","",""]
[" marlberry"]
["Ardisia crenata","FAC","FAC"]
[" Hen's-Eyes"]
["Ardisia elliptica","FAC","FAC"]
[" Shoebutton"]
["Ardisia escallonoides","UPL","UPL"]
[" island marlberry"]
["Ardisia humilis","UPL","UPL"]
[" low shoebutton"]
["Ardisia solanacea","UPL","UPL"]
[" China-shrub"]
["Arenaria","",""]
[" sandwort"]
["Arenaria benthamii","UPL","UPL"]
[" hilly sandwort"]
["Arenaria fendleri","UPL","UPL"]
[" Fendler's sandwort"]
["Arenaria hookeri","UPL","UPL"]
[" Hooker's sandwort"]
["Arenaria lanuginosa","FAC","FAC"]
[" Spreading Sandwort"]
["Arenaria livermorensis","UPL","UPL"]
[" Livermore sandwort"]
["Arenaria ludens","UPL","UPL"]
[" Trans-Pecos sandwort"]
["Arenaria serpyllifolia","UPL","UPL"]
[" Thyme-Leaf Sandwort"]
["Arethusa","",""]
[" dragon's mouth"]
["Arethusa bulbosa","OBL","OBL"]
[" Dragon's-Mouth"]
["Argemone","",""]
[" pricklypoppy"]
["Argemone aenea","UPL","UPL"]
[" golden pricklypoppy"]
["Argemone albiflora","UPL","UPL"]
[" bluestem pricklypoppy"]
["Argemone aurantiaca","UPL","UPL"]
[" Texas pricklypoppy"]
["Argemone chisosensis","UPL","UPL"]
[" Chisos Mountain pricklypoppy"]
["Argemone mexicana","UPL","UPL"]
[" Mexican pricklypoppy"]
["Argemone polyanthemos","UPL","UPL"]
[" crested pricklypoppy"]
["Argemone sanguinea","UPL","UPL"]
[" red pricklypoppy"]
["Argemone squarrosa","UPL","UPL"]
[" hedgehog pricklypoppy"]
["Argusia","",""]
[" sea rosemary"]
["Argusia gnaphalodes","FACU","FACU"]
[" Sea-Rosemary"]
["Argyreia","",""]
[" argyreia"]
["Argyreia nervosa","UPL","UPL"]
[" elephant creeper"]
["Argyrochosma","",""]
[" false cloak fern"]
["Argyrochosma dealbata","UPL","UPL"]
[" powdery false cloak fern"]
["Argyrochosma limitanea","UPL","UPL"]
[" southwestern false cloak fern"]
["Argyrochosma microphylla","UPL","UPL"]
[" small-leaf false cloak fern"]
["Argythamnia","",""]
[" silverbush"]
["Argythamnia aphoroides","UPL","UPL"]
[" Hill Country silverbush"]
["Argythamnia argyraea","UPL","UPL"]
[" silky silverbush"]
["Argythamnia astroplethos","UPL","UPL"]
[" Mexican silverbush"]
["Argythamnia blodgettii","UPL","UPL"]
[" Blodgett's silverbush"]
["Argythamnia humilis","UPL","UPL"]
[" low silverbush"]
["Argythamnia mercurialina","UPL","UPL"]
[" tall silverbush"]
["Argythamnia neomexicana","UPL","UPL"]
[" New Mexico silverbush"]
["Argythamnia simulans","UPL","UPL"]
[" plateau silverbush"]
["Ariocarpus","",""]
[" livingrock"]
["Ariocarpus fissuratus","UPL","UPL"]
[" chautle livingrock"]
["Arisaema","",""]
[" Jack in the pulpit"]
["Arisaema dracontium","FACW","FACW"]
[" Greendragon"]
["Arisaema triphyllum","FACW","FACW"]
[" Jack-in-the-Pulpit"]
["Aristida","",""]
[" threeawn"]
["Aristida adscensionis","UPL","UPL"]
[" sixweeks threeawn"]
["Aristida arizonica","UPL","UPL"]
[" Arizona threeawn"]
["Aristida basiramea","UPL","UPL"]
[" forked threeawn"]
["Aristida beyrichiana","FAC","FAC"]
[" Beyrich's Three-Awn"]
["Aristida condensata","UPL","UPL"]
[" piedmont threeawn"]
["Aristida desmantha","UPL","UPL"]
[" curly threeawn"]
["Aristida dichotoma","FACU","FACU"]
[" Church-Mouse Three-Awn"]
["Aristida divaricata","UPL","UPL"]
[" poverty threeawn"]
["Aristida floridana","UPL","UPL"]
[" Key West threeawn"]
["Aristida gypsophila","UPL","UPL"]
[" gypsum threeawn"]
["Aristida gyrans","UPL","UPL"]
[" corkscrew threeawn"]
["Aristida havardii","UPL","UPL"]
[" Havard's threeawn"]
["Aristida lanosa","UPL","UPL"]
[" woollysheath threeawn"]
["Aristida longespica","FACU","FACU"]
[" Red Three-Awn"]
["Aristida mohrii","UPL","UPL"]
[" Mohr's threeawn"]
["Aristida oligantha","UPL","UPL"]
[" prairie threeawn"]
["Aristida palustris","FACW","FACW"]
[" Three-Awn"]
["Aristida pansa","UPL","UPL"]
[" Wooton's threeawn"]
["Aristida patula","FAC","FAC"]
[" Tall Three-Awn"]
["Aristida purpurascens","UPL","UPL"]
[" Arrow-Feather Three-Awn"]
["Aristida purpurea","UPL","UPL"]
[" purple threeawn"]
["Aristida ramosissima","UPL","UPL"]
[" s-curve threeawn"]
["Aristida rhizomophora","FACW","FACW"]
[" Florida Three-Awn"]
["Aristida schiedeana","UPL","UPL"]
[" single threeawn"]
["Aristida simpliciflora","FAC","FAC"]
[" Southern Three-Awn"]
["Aristida spiciformis","FAC","FAC"]
[" Bottlebrush Three-Awn"]
["Aristida stricta","FAC","FAC"]
[" Pineland Three-Awn"]
["Aristida ternipes","UPL","UPL"]
[" spidergrass"]
["Aristida tuberculosa","UPL","UPL"]
[" seaside threeawn"]
["Aristolochia","",""]
[" dutchman's pipe"]
["Aristolochia clematitis","UPL","UPL"]
[" birthwort"]
["Aristolochia coryi","UPL","UPL"]
[" Cory's dutchman's pipe"]
["Aristolochia elegans","UPL","UPL"]
[" Elegant Dutchman's-Pipe"]
["Aristolochia erecta","UPL","UPL"]
[" swanflower"]
["Aristolochia grandiflora","UPL","UPL"]
[" pelicanflower"]
["Aristolochia labiata","UPL","UPL"]
[" mottled dutchman's pipe"]
["Aristolochia macrophylla","UPL","UPL"]
[" pipevine"]
["Aristolochia maxima","UPL","UPL"]
[" Florida dutchman's pipe"]
["Aristolochia pentandra","UPL","UPL"]
[" Marsh's dutchman's pipe"]
["Aristolochia reticulata","UPL","UPL"]
[" Texas dutchman's pipe"]
["Aristolochia ringens","UPL","UPL"]
[" gaping dutchman's pipe"]
["Aristolochia wrightii","UPL","UPL"]
[" Wright's dutchman's pipe"]
["Arivela","",""]
[" spiderflower"]
["Arivela viscosa","UPL","UPL"]
[" Tickweed"]
["Armoracia","",""]
[" armoracia"]
["Armoracia rusticana","UPL","UPL"]
[" horseradish"]
["Arnica","",""]
[" arnica"]
["Arnica acaulis","UPL","UPL"]
[" Common Leopardbane"]
["Arnoglossum","",""]
[" Indian plantain"]
["Arnoglossum album","UPL","UPL"]
[" Bay County Indian plantain"]
["Arnoglossum atriplicifolium","UPL","UPL"]
[" pale Indian plantain"]
["Arnoglossum diversifolium","FACW","FACW"]
[" Variable-Leaf Indian-Plantain"]
["Arnoglossum floridanum","UPL","UPL"]
[" Florida cacalia"]
["Arnoglossum ovatum","FACW","FACW"]
[" Egg-Leaf Indian-Plantain"]
["Arnoglossum plantagineum","FACU","FACU"]
[" Groove-Stem Indian-Plantain"]
["Arnoglossum reniforme","UPL","UPL"]
[" great Indian plantain"]
["Arnoglossum sulcatum","OBL","OBL"]
[" Georgia Indian-Plantain"]
["Arnoseris","",""]
[" arnoseris"]
["Arnoseris minima","UPL","UPL"]
[" lamb succory"]
["Aronia","",""]
["Aronia arbutifolia","FACW","FACW"]
[" Red Chokeberry"]
["Aronia melanocarpa","FAC","FAC"]
[" Black Chokeberry"]
["Aronia prunifolia","FACW","FACW"]
[" Purple Chokeberry"]
["Aronia X prunifolia","UPL","UPL"]
[" purple chokeberry"]
["Arrhenatherum","",""]
[" oatgrass"]
["Arrhenatherum elatius","FACU","FACU"]
[" Tall Oat Grass"]
["Artemisia","",""]
[" sagebrush"]
["Artemisia abrotanum","UPL","UPL"]
[" southernwood"]
["Artemisia absinthium","UPL","UPL"]
[" absinthium"]
["Artemisia annua","FACU","FACU"]
[" Annual Wormwood"]
["Artemisia biennis","FACU","FACU"]
[" Biennial Wormwood"]
["Artemisia bigelovii","UPL","UPL"]
[" Bigelow sage"]
["Artemisia campestris","UPL","UPL"]
[" Pacific Wormwood"]
["Artemisia carruthii","UPL","UPL"]
[" Carruth's sagewort"]
["Artemisia filifolia","UPL","UPL"]
[" sand sagebrush"]
["Artemisia frigida","UPL","UPL"]
[" prairie sagewort"]
["Artemisia ludoviciana","UPL","UPL"]
[" White Sagebrush"]
["Artemisia pontica","UPL","UPL"]
[" Roman wormwood"]
["Artemisia scoparia","UPL","UPL"]
[" redstem wormwood"]
["Artemisia serrata","UPL","UPL"]
[" sawtooth wormwood"]
["Artemisia stelleriana","FACU","FACU"]
[" Oldwoman"]
["Artemisia vulgaris","UPL","UPL"]
[" Common Wormwood"]
["Arthraxon","",""]
[" carpetgrass"]
["Arthraxon hispidus","FAC","FAC"]
[" Small Carp Grass"]
["Arum","",""]
[" arum"]
["Arum italicum","UPL","UPL"]
[" Italian lords and ladies"]
["Aruncus","",""]
[" aruncus"]
["Aruncus dioicus","FACU","FACU"]
[" Bride's-Feathers"]
["Arundinaria","",""]
[" cane"]
["Arundinaria appalachiana","UPL","UPL"]
[" hill cane"]
["Arundinaria gigantea","FACW","FACW"]
[" Giant Cane"]
["Arundinaria tecta","FACW","FACW"]
[" Switch Cane"]
["Arundo","",""]
[" giant reed"]
["Arundo donax","FAC","FAC"]
[" Giant-Reed"]
["Asarum","",""]
[" wildginger"]
["Asarum canadense","UPL","UPL"]
[" Canadian Wild Ginger"]
["Asclepias","",""]
[" milkweed"]
["Asclepias amplexicaulis","UPL","UPL"]
[" clasping milkweed"]
["Asclepias arenaria","UPL","UPL"]
[" sand milkweed"]
["Asclepias asperula","UPL","UPL"]
[" spider milkweed"]
["Asclepias brachystephana","UPL","UPL"]
[" bract milkweed"]
["Asclepias cinerea","UPL","UPL"]
[" Carolina milkweed"]
["Asclepias connivens","OBL","OBL"]
[" Large-Flower Milkweed"]
["Asclepias curassavica","FAC","FAC"]
[" Bloodflower"]
["Asclepias curtissii","UPL","UPL"]
[" Curtiss' milkweed"]
["Asclepias emoryi","UPL","UPL"]
[" Emory's milkweed"]
["Asclepias engelmanniana","UPL","UPL"]
[" Engelmann's milkweed"]
["Asclepias exaltata","UPL","UPL"]
[" Poke Milkweed"]
["Asclepias feayi","UPL","UPL"]
[" Florida milkweed"]
["Asclepias glaucescens","UPL","UPL"]
[" nodding milkweed"]
["Asclepias humistrata","UPL","UPL"]
[" pinewoods milkweed"]
["Asclepias incarnata","OBL","OBL"]
[" Swamp Milkweed"]
["Asclepias involucrata","UPL","UPL"]
[" dwarf milkweed"]
["Asclepias lanceolata","OBL","OBL"]
[" Few-Flower Milkweed"]
["Asclepias lanuginosa","UPL","UPL"]
[" sidecluster milkweed"]
["Asclepias latifolia","UPL","UPL"]
[" broadleaf milkweed"]
["Asclepias linearis","UPL","UPL"]
[" slim milkweed"]
["Asclepias longifolia","FAC","FAC"]
[" Long-Leaf Milkweed"]
["Asclepias macrotis","UPL","UPL"]
[" longhood milkweed"]
["Asclepias michauxii","FAC","FAC"]
[" Michaux's Milkweed"]
["Asclepias nummularia","UPL","UPL"]
[" tufted milkweed"]
["Asclepias obovata","UPL","UPL"]
[" pineland milkweed"]
["Asclepias oenotheroides","FACU","FACU"]
[" Zizotes Milkweed"]
["Asclepias ovalifolia","UPL","UPL"]
[" oval-leaf milkweed"]
["Asclepias pedicellata","FACW","FACW"]
[" Savannah Milkweed"]
["Asclepias perennis","OBL","OBL"]
[" Aquatic Milkweed"]
["Asclepias purpurascens","FACU","FACU"]
[" Purple Milkweed"]
["Asclepias quadrifolia","UPL","UPL"]
[" fourleaf milkweed"]
["Asclepias quinquedentata","UPL","UPL"]
[" slimpod milkweed"]
["Asclepias rubra","OBL","OBL"]
[" Red Milkweed"]
["Asclepias scaposa","UPL","UPL"]
[" Bear Mountain milkweed"]
["Asclepias speciosa","FAC","FAC"]
[" Showy Milkweed"]
["Asclepias sperryi","UPL","UPL"]
[" Sperry's milkweed"]
["Asclepias stenophylla","UPL","UPL"]
[" slimleaf milkweed"]
["Asclepias subverticillata","FACU","FACU"]
[" Horsetail Milkweed"]
["Asclepias syriaca","UPL","UPL"]
[" Common Milkweed"]
["Asclepias tomentosa","UPL","UPL"]
[" tuba milkweed"]
["Asclepias tuberosa","UPL","UPL"]
[" butterfly milkweed"]
["Asclepias uncialis","UPL","UPL"]
[" wheel milkweed"]
["Asclepias variegata","FACU","FACU"]
[" Red-Ring Milkweed"]
["Asclepias verticillata","FACU","FACU"]
[" Whorled Milkweed"]
["Asclepias viridiflora","UPL","UPL"]
[" green comet milkweed"]
["Asclepias viridis","UPL","UPL"]
[" green antelopehorn"]
["Asclepias viridula","FACW","FACW"]
[" Southern Milkweed"]
["Asimina","",""]
[" pawpaw"]
["Asimina angustifolia","UPL","UPL"]
[" slimleaf pawpaw"]
["Asimina incana","UPL","UPL"]
[" woolly pawpaw"]
["Asimina obovata","UPL","UPL"]
[" bigflower pawpaw"]
["Asimina parviflora","FACU","FACU"]
[" Small-Flower Pawpaw"]
["Asimina pygmea","FACU","FACU"]
[" Dwarf Pawpaw"]
["Asimina reticulata","FACU","FACU"]
[" Netted Pawpaw"]
["Asimina tetramera","UPL","UPL"]
[" fourpetal pawpaw"]
["Asimina triloba","FAC","FACU"]
[" blue woodruff"]
["Asplenium dentatum","FACU","FACU"]
[" Ebony Spleenwort"]
["Asplenium verecundum","UPL","UPL"]
[" spleenwort"]
[" Crescent milkvetch"]
["Astragalus giganteus","UPL","UPL"]
["Astragalus gypsodes","UPL","UPL"]
[" Edwards Plateau milkvetch"]
["Astragalus waterfallii","UPL","UPL"]
["Athyrium filix-femina","UPL","UPL"]
[" Saline Saltbush"]
["Atriplex matamorensis","UPL","UPL"]
[" Tumbling Orache"]
["Aubrieta deltoidea","UPL","UPL"]
[" animated oat"]
["Axyris","",""]
[" hairy ayenia"]
["Baccharis brachyphylla","UPL","UPL"]
["Bahia absinthifolia","UPL","UPL"]
[" honeycombhead"]
["Baptisia","",""]
[" grayhairy wild indigo"]
["Baptisia X sulphurea","UPL","UPL"]
[" screwstem"]
["Bassia","",""]
[" purple gaymallow"]
["Bauhinia yunnanensis","UPL","UPL"]
["Berberis","",""]
[" bergia"]
[" greeneyes"]
["Beta procumbens","UPL","UPL"]
[" Downy Birch"]
[" bishop"]
["Bignonia capreolata","FAC","FAC"]
[" midsorus fern"]
["Blephilia ciliata","UPL","UPL"]
[" false oxtongue"]
["Boerhavia anisophylla","UPL","UPL"]
[" White Doll's Daisy"]
["Bontia daphnoides","FACW","FACW"]
["Bothriochloa alta","UPL","UPL"]
[" pitted beardgrass"]
[" paintedtongue"]
["Bouteloua aristidoides","UPL","UPL"]
[" hairy grama"]
["Brachiaria eruciformis","UPL","UPL"]
[" acuminate brachythecium moss"]
["Brasiliopuntia","",""]
[" black mustard"]
["Brickellia","",""]
[" leafy brickellbush"]
[" pinguin"]
["Bromus erectus","UPL","UPL"]
[" Porter brome"]
[" cheatgrass"]
["Broussonetia","",""]
["Bryum","",""]
[" American Bluehearts"]
["Buddleja alternifolia","UPL","UPL"]
[" escobilla butterflybush"]
["Bupleurum","",""]
[" South American jelly palm"]
["Caesalpinia","",""]
[" fewflower holdback"]
["Cakile constricta","FACU","FACU"]
["Calamovilfa brevipilis","OBL","OBL"]
[" pot marigold"]
["Calliandra eriophylla","UPL","UPL"]
[" calliergon moss"]
[" winecup"]
[" Autumn Water-Starwort"]
["Callitris glaucophylla","UPL","UPL"]
[" Bearded Grass-Pink"]
["Calycera","",""]
["Calyptranthes zuzygium","UPL","UPL"]
[" camas"]
["Camelina","",""]
["Campanula floridana","OBL","OBL"]
[" bellflower"]
[" wild cinnamon"]
[" marijuana"]
[" Goatweed"]
["Cardamine","",""]
[" Limestone Bittercress"]
["Carduus crispus","UPL","UPL"]
[" Lesser Pond Sedge"]
["Carex annectens","FACW","FACW"]
[" Prickly Bog Sedge"]
[" Bryson's sedge"]
["Carex cephaloidea","FAC","FAC"]
[" Hirsute Sedge"]
["Carex davisii","FAC","FAC"]
["Carex digitalis","FACU","FACU"]
["Carex foenea","FACU","FACU"]
[" Godfrey's sedge"]
["Carex gynocrates","OBL","OBL"]
[" Shoreline Sedge"]
["Carex juniperorum","UPL","UPL"]
["Carex louisianica","OBL","OBL"]
[" largespike sedge"]
[" frightful sedge"]
["Carex oklahomensis","OBL","OBL"]
["Carex panicea","UPL","UPL"]
["Carex purpurifera","UPL","UPL"]
[" Ruth's sedge"]
["Carex siccata","UPL","UPL"]
[" Dioecious Sedge"]
[" Rigid Sedge"]
[" Dark-Green Sedge"]
["Carex X aestivaliformis","FAC","FAC"]
["Carlina","",""]
[" littleleaf wrightwort"]
[" American Hornbeam"]
["Cartrema americana","FAC","FAC"]
[" hybrid hickory"]
[" hybrid hickory"]
[" fishtail palm"]
[" chestnut"]
["Castilleja kraliana","UPL","UPL"]
[" sheoak"]
["Catapodium","",""]
["Cayaponia americana","FAC","FAC"]
[" Jersey tea"]
[" Oriental bittersweet"]
["Celtis ehrenbergiana","UPL","UPL"]
[" Indian sandbur"]
[" diffuse knapweed"]
["Centaurea solstitialis","UPL","UPL"]
["Centaurium tenuiflorum","FACW","FACW"]
[" Larkdaisy"]
[" doubtful chickweed"]
[" ceratonia"]
["Ceratopteris richardii","OBL","OBL"]
[" Redbud"]
["Chaenomeles","",""]
["Chaetopappa parryi","UPL","UPL"]
[" Gregg's sensitive pea"]
["Chamaecyparis pisifera","UPL","UPL"]
["Chamaenerion","",""]
[" pale five eyes"]
[" heartleaf sandmat"]
["Chamaesyce laredana","UPL","UPL"]
[" Parry's sandmat"]
["Chamaesyce theriaca","UPL","UPL"]
[" white sunbonnets"]
[" rival lipfern"]
[" graceful lipfern"]
["Chelone lyonii","FACW","FACW"]
[" blite goosefoot"]
["Chenopodium macrospermum","FACW","FACW"]
["Chimaphila maculata","UPL","UPL"]
[" windmill grass"]
["Chloris gayana","FACU","FACU"]
["Chondrilla juncea","UPL","UPL"]
[" chorispora"]
[" chrysogonum"]
["Chrysopogon pauciflorus","FACU","FACU"]
[" Maryland Golden-Aster"]
["Chrysothamnus pulchellus","UPL","UPL"]
["Circaea alpina","FACW","FACW"]
[" Canadian Thistle"]
[" Nuttall's Thistle"]
["Cirsium vulgare","FACU","FACU"]
[" fiddlewood"]
[" cup lichen"]
["Claytonia","",""]
[" cleistesiopsis"]
["Clematis fremontii","UPL","UPL"]
["Clematis viorna","UPL","UPL"]
["Cleome speciosa","UPL","UPL"]
[" Kaempfer's glorybower"]
["Clethra alnifolia","FACW","FACW"]
[" Limestone Wild Basil"]
[" cnicus"]
["Coccocypselum hirsutum","UPL","UPL"]
[" laurel-leaf snailseed"]
[" Lattice Joint-Tail Grass"]
[" purple Chinese houses"]
["Collomia linearis","UPL","UPL"]
[" greenheart"]
["Comandra umbellata","UPL","UPL"]
[" White-Mouth Dayflower"]
[" mangrove"]
["Conradina etonia","UPL","UPL"]
["Conradina grandiflora","UPL","UPL"]
[" field bindweed"]
["Cooperia chlorosolen","FACU","FACU"]
["Corchorus hirtus","UPL","UPL"]
[" Assyrian plum"]
["Coreopsis auriculata","UPL","UPL"]
[" Fringe-Leaf Tickseed"]
["Coreopsis palmata","UPL","UPL"]
[" Red Osier"]
["Cornus rugosa","UPL","UPL"]
[" greater swinecress"]
["Corydalis crystallina","UPL","UPL"]
[" gray clubawn grass"]
[" spreading cotoneaster"]
["Crassocephalum","",""]
["Crataegus alma","UPL","UPL"]
[" Carolina hawthorn"]
["Crataegus calpodendron","UPL","UPL"]
["Crataegus dodgei","UPL","UPL"]
[" Fuller's hawthorn"]
["Crataegus inanis","UPL","UPL"]
[" Kellogg's hawthorn"]
[" Florida hawthorn"]
[" Washington Hawthorn"]
["Crataegus resima","UPL","UPL"]
[" Caughuawaga hawthorn"]
["Crataegus turnerorum","UPL","UPL"]
["Crepis capillaris","UPL","UPL"]
[" alkaliweed"]
["Crocosmia","",""]
["Croptilon rigidifolium","UPL","UPL"]
[" sunn hemp"]
["Croton bonplandianus","UPL","UPL"]
[" vente conmigo"]
["Croton parksii","UPL","UPL"]
[" piedmont bedstraw"]
[" low cryptantha"]
["Cryptomeria japonica","UPL","UPL"]
["Cryptotaenia canadensis","FAC","FAC"]
[" West Indian gherkin"]
[" cumin"]
["Cuphea aspera","FACW","FACW"]
[" curculigo"]
["Cuscuta compacta","UPL","UPL"]
[" rope dodder"]
[" Cooper's cyathea"]
[" Winged-Pigweed"]
["Cydista","",""]
[" candle cholla"]
["Cymophora","",""]
["Cynanchum scoparium","UPL","UPL"]
[" Ceylon hound's tongue"]
["Cyperus","",""]
[" buttonbush flatsedge"]
["Cyperus erythrorhizos","OBL","OBL"]
[" Gray's flatsedge"]
["Cyperus lanceolatus","FACW","FACW"]
[" Rusty Flat Sedge"]
["Cyperus plukenetii","UPL","UPL"]
[" oneflower flatsedge"]
[" flatsedge"]
["Cypripedium parviflorum","FAC","FAC"]
[" Asian netvein hollyfern"]
[" St. Lawrence bladderfern"]
["Dactylis glomerata","FACU","FACU"]
["Dalea brachystachya","UPL","UPL"]
[" Andean prairie clover"]
["Dalea jamesii","UPL","UPL"]
[" roundhead prairie clover"]
["Dalea tenuis","UPL","UPL"]
[" woollygrass"]
["Daucosma","",""]
[" false pawpaw"]
["Delphinium exaltatum","UPL","UPL"]
["Deparia","",""]
[" western tansymustard"]
["Desmanthus leptophyllus","UPL","UPL"]
[" Graham's ticktrefoil"]
["Desmodium obtusum","UPL","UPL"]
[" Scorpion Tick-Trefoil"]
["Deutzia gracilis","UPL","UPL"]
[" cerulean flaxlily"]
["Diarrhena americana","UPL","UPL"]
["Dichanthelium acuminatum","FAC","FAC"]
[" Cypress Rosette Grass"]
["Dichanthelium portoricense","FACU","FACU"]
["Dichanthelium strigosum","FAC","FAC"]
["Dichondra recurvata","FAC","FAC"]
[" dicranella moss"]
["Dicranum bonjeanii","UPL","UPL"]
[" didymoglossum"]
["Digera","",""]
[" fall witchgrass"]
["Digitaria sanguinalis","FACU","FACU"]
[" Violet Crab Grass"]
["Dinebra panicea","FACW","FACW"]
[" Venus flytrap"]
[" Vegetable Fern"]
["Dipsacus laciniatus","FACU","FACU"]
[" ditrichum moss"]
["Dittrichia viscosa","UPL","UPL"]
["Doellingeria umbellata","FACW","FACW"]
["Dracunculus","",""]
[" Round-Leaf Sundew"]
["Drymaria leptophylla","UPL","UPL"]
[" rockmustard"]
["Dryopteris goldieana","UPL","UPL"]
["Dulichium","",""]
[" polkadots"]
[" dysphania"]
["Dysphania pumilio","UPL","UPL"]
[" Torrey's craglily"]
[" Berlandier's hedgehog cactus"]
["Echinocereus pentalophus","UPL","UPL"]
[" Jungle-Rice"]
["Echinochloa walteri","OBL","OBL"]
["Echites umbellatus","UPL","UPL"]
["Egeria densa","OBL","OBL"]
[" water hyacinth"]
["Elaeis","",""]
[" Needle Spike-Rush"]
[" Creeping Spike-Rush"]
["Eleocharis montana","OBL","OBL"]
[" Little-Head Spike-Rush"]
[" Beaked Spike-Rush"]
[" balsamscale grass"]
["Elodea canadensis","OBL","OBL"]
[" Nodding Wild Rye"]
["Elymus repens","FACU","FACU"]
[" Virginia Wild Rye"]
[" rufous butterfly orchid"]
["Enemion biternatum","FACW","FACW"]
["Enydra","",""]
[" Torrey's jointfir"]
[" willowherb"]
["Epipactis helleborine","UPL","UPL"]
[" pingpong-ball cactus"]
["Equisetum ramosissimum","UPL","UPL"]
["Eragrostis capillaris","UPL","UPL"]
["Eragrostis elongata","UPL","UPL"]
["Eragrostis refracta","FACW","FACW"]
[" spike lovegrass"]
["Eranthemum pulchellum","UPL","UPL"]
[" Cornish heath"]
[" Geiser's fleabane"]
["Erigeron tenuis","UPL","UPL"]
[" Seven-Angle Pipewort"]
[" Prairie Cup Grass"]
["Eriochloa pseudoacrotricha","UPL","UPL"]
["Eriogonum nealleyi","UPL","UPL"]
[" woollygrass"]
["Erithalis fruticosa","UPL","UPL"]
[" musky stork's bill"]
["Eryngium aquaticum","OBL","OBL"]
["Erysimum capitatum","UPL","UPL"]
["Erythronium","",""]
[" column foxtail cactus"]
["Escobaria orcuttii","UPL","UPL"]
[" swamp doghobble"]
[" Wild Coco"]
["Euonymus fortunei","UPL","UPL"]
[" hemp agrimony"]
[" Common Boneset"]
["Euphorbia bilobata","UPL","UPL"]
[" toothed spurge"]
["Euphorbia floridana","UPL","UPL"]
[" Graceful Sandmat"]
["Euphorbia lucida","UPL","UPL"]
["Euphorbia radians","UPL","UPL"]
[" weak spurge"]
[" eurhynchium moss"]
["Eurybia hemispherica","FACU","FACU"]
["Eustachys glauca","FACW","FACW"]
[" goldentop"]
["Eutrochium steelei","UPL","UPL"]
[" sand plain dwarf morning-glory"]
["Exochorda racemosa","UPL","UPL"]
["Fagopyrum tataricum","UPL","UPL"]
["Fendlera rupicola","UPL","UPL"]
[" variousleaf fescue"]
["Festuca trachyphylla","UPL","UPL"]
["Filipendula","",""]
[" Cymose Fimbry"]
["Fimbristylis vahlii","OBL","OBL"]
[" yellowtops"]
[" brickellbush"]
[" Florida swampprivet"]
["Fragaria","",""]
[" Carolina False Buckthorn"]
["Frasera speciosa","UPL","UPL"]
[" Chihuahuan ash"]
[" blue umbrella-sedge"]
["Fumaria vaillantii","UPL","UPL"]
["Furcraea","",""]
[" lanceleaf blanketflower"]
["Galactia canescens","UPL","UPL"]
["Galanthus elwesii","UPL","UPL"]
[" showy orchid"]
["Galinsoga parviflora","UPL","UPL"]
[" Northern Bedstraw"]
["Galium mollugo","FACU","FACU"]
[" Fragrant Bedstraw"]
["Gamochaeta pensylvanica","FACU","FACU"]
[" nit grass"]
["Gaylussacia dumosa","FAC","FAC"]
["Gentiana catesbaei","OBL","OBL"]
[" gentian"]
["Geocarpon minimum","UPL","UPL"]
["Geranium maculatum","FACU","FACU"]
[" Texas geranium"]
[" bluehead gilia"]
["Giliastrum rigidulum","UPL","UPL"]
[" oldmaid"]
["Glandularia canadensis","UPL","UPL"]
[" South American mock vervain"]
["Gleditsia triacanthos","FAC","FAC"]
["Glinus lotoides","FACW","FACW"]
[" Creeping Manna Grass"]
["Glyceria obtusa","OBL","OBL"]
["Gonolobus suberosus","FACW","FACW"]
[" cottonflower"]
["Gratiola","",""]
[" Clammy Hedge-Hyssop"]
["Grewia asiatica","UPL","UPL"]
[" cholla"]
["Guapira discolor","FAC","FAC"]
[" guizotia"]
["Gyminda latifolia","UPL","UPL"]
["Gymnostyles stolonifera","UPL","UPL"]
[" Oldham's baby's-breath"]
["Habenaria repens","OBL","OBL"]
["Hackelochloa granularis","FAC","FAC"]
[" common salttree"]
[" harp onefruit"]
["Harperella vivipara","OBL","OBL"]
[" fragrant applecactus"]
["Havardia pallens","UPL","UPL"]
[" rough false pennyroyal"]
[" Cretanweed"]
[" Dwarf Burhead Pygmy Swordplant"]
["Helenium virginicum","OBL","OBL"]
[" pine barren frostweed"]
["Helianthus argophyllus","UPL","UPL"]
["Helianthus microcephalus","UPL","UPL"]
[" prairie sunflower"]
["Helianthus strumosus","UPL","UPL"]
[" sunflower"]
["Heliopsis","",""]
[" pasture heliotrope"]
["Helonias","",""]
[" hemigraphis"]
[" Giant Hogweed"]
[" rocket"]
["Heteranthera limosa","OBL","OBL"]
[" tanglehead"]
["Heuchera americana","FACU","FACU"]
["Heuchera longiflora","UPL","UPL"]
["Hexastylis minor","UPL","UPL"]
[" Comfortroot"]
["Hibiscus laevis","OBL","OBL"]
[" roselle"]
["Hieracium greenii","FACU","FACU"]
[" hawkweed"]
["Hippocratea","",""]
[" sicklepod holdback"]
["Holcus lanatus","FACU","FACU"]
["Hosta","",""]
[" needleleaf bluet"]
["Houstonia procumbens","UPL","UPL"]
[" houttuynia"]
["Hunzikeria texana","UPL","UPL"]
[" Eastern Green-Violet"]
["Hydrangea quercifolia","UPL","UPL"]
[" Common Frogbit"]
["Hydrocotyle umbellata","OBL","OBL"]
["Hygrophila lacustris","OBL","OBL"]
[" marsh grass"]
["Hymenocallis gholsonii","UPL","UPL"]
[" Tropical Spider-Lily"]
[" collegeflower"]
[" henbane"]
["Hypecoum pendulum","UPL","UPL"]
[" Lesser Canadian St. John's-Wort"]
["Hypericum dolabriforme","UPL","UPL"]
[" cedarglade St. Johnswort"]
[" Spotted St. John's-Wort"]
["Hypericum X dissimulatum","FACW","FACW"]
[" beadfern"]
["Hypoxis wrightii","FACW","FACW"]
[" evergreen candytuft"]
[" tawnyberry holly"]
["Ilex vomitoria","FAC","FAC"]
[" Buzzy-Lizzy"]
["Indigofera pilosa","UPL","UPL"]
[" flaxleaf whitetop aster"]
["Ipomoea cairica","FACU","FACU"]
[" crestrib morning-glory"]
["Ipomoea meyeri","UPL","UPL"]
[" Cypress-Vine"]
[" iron ipomopsis"]
["Iresine leptoclada","UPL","UPL"]
[" lemonyellow iris"]
[" dwarf iris"]
["Iris X flexicaulis","OBL","OBL"]
["Isoetes appalachiana","OBL","OBL"]
[" Louisiana Quillwort"]
["Isoetes saccharata","OBL","OBL"]
[" Taylor's quillwort"]
[" Woolly Pipevine"]
[" Seacoast Marsh-Elder"]
[" Stinking Willie"]
["Jacquinia armillaris","UPL","UPL"]
[" slender janusia"]
[" jefea"]
["Juglans X intermedia","UPL","UPL"]
[" White-Root Rush"]
["Juncus coriaceus","FACW","FACW"]
["Juncus georgianus","UPL","UPL"]
["Juncus scirpoides","FACW","FACW"]
[" Round-Head Rush"]
["Juniperus scopulorum","UPL","UPL"]
["Justicia ovata","OBL","OBL"]
["Kallstroemia californica","UPL","UPL"]
[" Sand-Myrtle"]
["Khaya senegalensis","UPL","UPL"]
["Knautia","",""]
[" koelreuteria"]
[" Two-Flower Dwarf-Dandelion"]
["Krugiodendron ferreum","UPL","UPL"]
[" Low Spike Sedge"]
["Lachnocaulon","",""]
[" Wild Blue Lettuce"]
[" Trans-Pecos horseweed"]
[" White Mangrove"]
["Lamprocapnos","",""]
[" hammock shrubverbena"]
["Lappula marginata","UPL","UPL"]
["Lathyrus inconspicuus","UPL","UPL"]
[" Meadow Vetchling"]
["Leavenworthia","",""]
["Lechea","",""]
["Lechea torreyi","FACU","FACU"]
[" corkwood"]
["Lemna obscura","OBL","OBL"]
[" lion's ear"]
["Lepanthopsis","",""]
["Lepidium perfoliatum","FACU","FACU"]
[" Poorman's-Pepperwort"]
[" Tropical Sprangletop"]
["Lespedeza capitata","FACU","FACU"]
[" Texas lespedeza"]
[" Duck River bladderpod"]
["Lesquerella lindheimeri","UPL","UPL"]
[" gaslight bladderpod"]
["Leucaena leucocephala","FACU","FACU"]
["Leucobryum albidum","UPL","UPL"]
["Levisticum officinale","UPL","UPL"]
[" branched blazing star"]
["Liatris helleri","UPL","UPL"]
[" Godfrey's blazing star"]
[" blazing star"]
["Ligusticum canadense","FAC","FAC"]
[" waxyleaf privet"]
[" Carolina Lily"]
["Lilium philippinense","UPL","UPL"]
[" Welsh Mudwort"]
["Linaria repens","UPL","UPL"]
[" false pimpernel"]
["Linum","",""]
["Linum macrocarpum","UPL","UPL"]
[" rock flax"]
[" Pantropical Wide-Lip Orchid"]
["Lippia","",""]
[" creeping liriope"]
[" livistona"]
["Lobelia brevifolia","FAC","FAC"]
[" Glade Lobelia"]
["Lobelia X rogersii","UPL","UPL"]
["Logfia minima","UPL","UPL"]
["Lonicera arizonica","UPL","UPL"]
[" Amur honeysuckle"]
[" honeysuckle"]
["Lotononis","",""]
["Ludwigia grandiflora","OBL","OBL"]
[" Mexican Primrose-Willow"]
["Ludwigia spathulata","OBL","OBL"]
["Lumnitzera","",""]
[" bajada lupine"]
[" woodrush"]
["Lychnis viscaria","UPL","UPL"]
[" Chinese desert-thorn"]
["Lycopodiella X brucei","UPL","UPL"]
[" deeproot clubmoss"]
["Lygodesmia juncea","UPL","UPL"]
["Lyonia mariana","FAC","FAC"]
[" Scarlet Yellow-Loosestrife"]
["Lysimachia japonica","UPL","UPL"]
[" Whorled Yellow-Loosestrife"]
["Macbridea","",""]
[" smallflower tansyaster"]
["Macradenia lutescens","UPL","UPL"]
["Magnolia acuminata","FACU","FACU"]
[" Kobus magnolia"]
[" leafbract"]
["Malaxis","",""]
[" malpighia"]
["Malus floribunda","UPL","UPL"]
["Malva verticillata","UPL","UPL"]
[" wax mallow"]
[" little nipple cactus"]
["Mandevilla brachysiphon","UPL","UPL"]
[" Siler's tuberose"]
[" Puffballs"]
["Marsilea hirsuta","FACW","FACW"]
[" milkvine"]
["Matelea flavidula","UPL","UPL"]
["Matthiola","",""]
["Matthiola longipetala","UPL","UPL"]
[" mecardonia"]
["Medicago laciniata","UPL","UPL"]
[" southern medick"]
[" melastome"]
["Melica mutica","UPL","UPL"]
[" Mediterranean sweetclover"]
["Melochia pyramidata","FAC","FAC"]
[" Apple Mint"]
["Mentzelia incisa","UPL","UPL"]
[" Coahuila blazingstar"]
["Mercurialis annua","UPL","UPL"]
[" hogvine"]
["Micranthemum","",""]
[" Early Pseudosaxifrage"]
[" browntop"]
[" mile-a-minute"]
["Mimosa asperata","UPL","UPL"]
["Mimulus alatus","OBL","OBL"]
[" Cumberland stitchwort"]
["Minuartia uniflora","FACW","FACW"]
[" hairy four o'clock"]
["Miscanthus sacchariflorus","UPL","UPL"]
[" Swamp Hornpod"]
["Mollugo verticillata","FAC","FAC"]
[" eastern beebalm"]
["Monarda maritima","UPL","UPL"]
[" Nuttall's Poverty-Weed"]
[" purple mistress"]
["Mortonia scabrella","UPL","UPL"]
[" Miniature-Beefsteakplant"]
["Muhlenbergia capillaris","FAC","FAC"]
["Muhlenbergia fragilis","UPL","UPL"]
["Muhlenbergia setifolia","UPL","UPL"]
[" New Jersey Muhly"]
["Muntingia calabura","UPL","UPL"]
[" banana"]
["Myosurus","",""]
["Myrcianthes fragrans","UPL","UPL"]
[" Whorled Water-Milfoil"]
["Nabalus racemosus","FACW","FACW"]
[" Brittle Waternymph"]
[" rushleaf jonquil"]
["Narcissus X odorus","UPL","UPL"]
[" serrated tussock"]
["Nectandra","",""]
[" baby blue eyes"]
["Neottia cordata","FACW","FACW"]
[" puff"]
["Nerium","",""]
[" ribbon fern"]
[" cupflower"]
["Nissolia platycalyx","UPL","UPL"]
[" woodland beargrass"]
["Nothocalais cuspidata","UPL","UPL"]
[" slender false garlic"]
["Nyctaginia","",""]
[" White Egyptian-Lotus"]
["Nymphoides peltata","OBL","OBL"]
[" obolaria"]
["Oeceoclades maculata","UPL","UPL"]
[" shortfruit evening primrose"]
["Oenothera curtiflora","UPL","UPL"]
["Oenothera grandis","UPL","UPL"]
[" mountain evening primrose"]
[" stemless evening primrose"]
["Oldenlandiopsis callitrichoides","FACW","FACW"]
[" arctic cudweed"]
["Onoclea","",""]
[" lidpod"]
["Opuntia","",""]
[" Edwards' pricklypear"]
["Opuntia macrorhiza","UPL","UPL"]
[" Erect Prickly-Pear"]
["Orbexilum macrophyllum","UPL","UPL"]
["Orobanche ludoviciana","UPL","UPL"]
[" Goldenclub"]
["Oryza","",""]
["Osmunda spectabilis","OBL","OBL"]
[" alpine woodsorrel"]
[" Sourwood"]
["Oxytropis lambertii","FACU","FACU"]
[" shale barren ragwort"]
["Packera paupercula","FACW","FACW"]
["Palafoxia sphacelata","UPL","UPL"]
[" panicgrass"]
[" Prairie Panic Grass"]
["Panicum hallii","FACU","FACU"]
[" Marsh Panic Grass"]
[" sicklegrass"]
["Parietaria officinalis","UPL","UPL"]
[" Kidney-Leaf Grass-of-Parnassus"]
["Paronychia jonesii","UPL","UPL"]
[" feverfew"]
["Parthenocissus","",""]
[" watercrown grass"]
["Paspalum boscianum","FACW","FACW"]
[" Golden Crown Grass"]
[" Early Crown Grass"]
["Paspalum urvillei","FAC","FAC"]
[" scarlet passionflower"]
[" whiteflower passionflower"]
[" paxistima"]
["Pectis glaucescens","UPL","UPL"]
[" combseed"]
["Pediomelum canescens","UPL","UPL"]
[" Texas Plains Indian breadroot"]
[" ovateleaf cliffbrake"]
["Peltandra sagittifolia","OBL","OBL"]
["Pennisetum macrourum","UPL","UPL"]
[" Los Alamos beardtongue"]
["Penstemon canescens","UPL","UPL"]
["Penstemon oklahomensis","UPL","UPL"]
[" Wright's beardtongue"]
["Pentodon pentandrus","OBL","OBL"]
[" baby rubberplant"]
[" dissected rockdaisy"]
[" Vasey's rockdaisy"]
["Persicaria arifolia","OBL","OBL"]
[" Swamp Smartweed"]
["Persicaria perfoliata","FAC","FAC"]
[" Pestilence-Wort"]
[" large white petunia"]
["Phacelia dubia","UPL","UPL"]
["Phacelia laxa","FAC","FAC"]
[" stout phacelia"]
["Phalaris canariensis","FACU","FACU"]
["Phaseolus pedicellatus","UPL","UPL"]
["Phedimus spurius","UPL","UPL"]
[" flameflower"]
["Phemeranthus parviflorus","UPL","UPL"]
["Philadelphus microphyllus","UPL","UPL"]
["Phleum pratense","FACU","FACU"]
[" Thick-Leaf Phlox"]
["Phlox nana","UPL","UPL"]
[" cold-desert phlox"]
[" oak mistletoe"]
["Phragmites karka","FACW","FACW"]
[" Northern Frogfruit"]
["Phyllanthus caroliniensis","FAC","FAC"]
["Phyllostachys heterocycla","UPL","UPL"]
[" Musk Fern"]
["Physalis hederifolia","UPL","UPL"]
[" field groundcherry"]
["Physalis walteri","UPL","UPL"]
["Picea","",""]
[" Woodhouse's bahia"]
[" smallflower oxtongue"]
["Piloblephis","",""]
["Pinellia","",""]
[" pine"]
["Pinus nigra","UPL","UPL"]
[" Pond Pine"]
["Pinus wallichiana","UPL","UPL"]
["Piscidia piscipula","UPL","UPL"]
["Pisum","",""]
[" catclaw blackbead"]
["Pityopsis falcata","UPL","UPL"]
[" popcornflower"]
[" Great Plantain"]
["Platanthera","",""]
["Platanthera flava","FACW","FACW"]
["Platanthera X channellii","UPL","UPL"]
[" London planetree"]
[" Rush-Featherling"]
["Pleuraphis jamesii","UPL","UPL"]
[" Cure-For-All"]
["Plumbago zeylanica","UPL","UPL"]
[" Bigelow's bluegrass"]
[" Wolf's bluegrass"]
[" Horn-Leaf Riverweed"]
["Polemonium caeruleum","FACW","FACW"]
[" polyalthia"]
["Polygala appendiculata","UPL","UPL"]
["Polygala lutea","FACW","FACW"]
[" Nuttall's Milkwort"]
["Polygala senega","FACU","FACU"]
["Polygonatum pubescens","FACU","FACU"]
["Polygonum aviculare","FAC","FAC"]
[" rupturewort"]
["Polygonum tenue","UPL","UPL"]
[" Hybrid rock polypody"]
["Polyscias","",""]
["Polytrichum juniperinum","UPL","UPL"]
[" hardy orange"]
[" shadow witch"]
["Populus X canadensis","UPL","UPL"]
["Portulaca smallii","UPL","UPL"]
[" Snail-Seed Pondweed"]
["Potamogeton natans","OBL","OBL"]
[" Red-Head Pondweed"]
["Potentilla","",""]
[" Graceful Pouzolz's-Bush"]
[" barbed rattlesnakeroot"]
["Primula","",""]
[" ram's horn"]
[" dwarf butterfly orchid"]
["Prunus avium","UPL","UPL"]
[" Oklahoma plum"]
["Prunus murrayana","UPL","UPL"]
[" winter-flowering cherry"]
["Pseudelephantopus","",""]
[" Jalisco rabbit-tobacco"]
["Pseudogynoxys chenopodioides","UPL","UPL"]
[" wheatgrass"]
["Psidium guajava","FAC","FAC"]
["Psychotria nervosa","FAC","FAC"]
[" Bahama brake"]
[" brake fern"]
["Pterospora andromedea","UPL","UPL"]
[" Spreading Alkali Grass"]
[" Beadle's mountainmint"]
["Pycnanthemum montanum","UPL","UPL"]
[" firethorn"]
["Pyrola elliptica","UPL","UPL"]
[" pyrularia"]
["Quercus acerifolia","UPL","UPL"]
[" northern pin oak"]
["Quercus havardii","UPL","UPL"]
[" sandhill oak"]
[" Cherry-Bark Oak"]
["Quercus rugosa","UPL","UPL"]
[" Texas Red Oak"]
[" hybrid oak"]
["Quercus X demareei","UPL","UPL"]
[" hybrid oak"]
["Quercus X inconstans","UPL","UPL"]
["Quercus X mellichampii","UPL","UPL"]
["Quercus X podophylla","UPL","UPL"]
[" hybrid oak"]
[" quincula"]
[" Kidney-Leaf Buttercup"]
["Ranunculus fascicularis","FAC","FAC"]
[" Long-Beak Water-Crowfoot"]
[" bastardcabbage"]
["Rauvolfia tetraphylla","UPL","UPL"]
[" reimar grass"]
["Reseda odorata","UPL","UPL"]
[" Japanese-Knotweed"]
[" meadowbeauty"]
["Rhexia virginica","FACW","FACW"]
["Rhodobryum","",""]
[" Mountain Azalea"]
[" angled sandmint"]
["Rhus lanceolata","UPL","UPL"]
[" snoutbean"]
["Rhynchosia minima","UPL","UPL"]
[" White Beak Sedge"]
["Rhynchospora divergens","OBL","OBL"]
[" Globe Beak Sedge"]
["Rhynchospora inundata","OBL","OBL"]
[" sandyfield beaksedge"]
["Rhynchospora pallida","OBL","OBL"]
["Ribes americanum","FACW","FACW"]
[" Hairy-Stem Gooseberry"]
["Ribes rotundifolium","UPL","UPL"]
["Rivina humilis","UPL","UPL"]
[" groundsel"]
[" dog rose"]
["Rosa laevigata","UPL","UPL"]
[" Scotch rose"]
["Rosa X odorata","UPL","UPL"]
[" blackberry"]
["Rubus arizonensis","FACU","FACU"]
[" Himalayan berry"]
["Rubus deliciosus","UPL","UPL"]
[" Whiplash Dewberry"]
[" sandyfield dewberry"]
["Rubus macvaughii","UPL","UPL"]
[" kinnickinnick dewberry"]
["Rubus parviflorus","FACU","FACU"]
["Rubus pergratus","FACU","FACU"]
["Rubus recurvicaulis","UPL","UPL"]
[" Seward's blackberry"]
["Rubus trux","UPL","UPL"]
[" Wisconsin blackberry"]
["Rudbeckia missouriensis","UPL","UPL"]
["Ruellia metziae","UPL","UPL"]
[" Linear-Leaf Wild Petunia"]
[" Greater Water Dock"]
["Rumex frutescens","UPL","UPL"]
["Rumohra adiantiformis","UPL","UPL"]
[" fringed rue"]
["Sabatia arenicola","FACW","FACW"]
[" Appalachian rose gentian"]
["Sabatia quadrangula","FACW","FACW"]
["Sacciolepis indica","FAC","FAC"]
["Sagittaria","",""]
[" Engelmann's Arrowhead"]
[" Giant Arrowhead"]
["Salix babylonica","FACW","FACW"]
[" crack willow"]
["Salix purpurea","FACW","FACW"]
["Salsola kali","FACU","FACU"]
["Salvia","",""]
["Salvia pinguifolia","UPL","UPL"]
[" great sage"]
["Salvia whitehousei","UPL","UPL"]
[" Black Elder"]
[" Canadian Burnet"]
[" Wing-Leaf Soapberry"]
["Sarracenia alabamensis","OBL","OBL"]
["Sarracenia rubra","OBL","OBL"]
[" pitcherplant"]
["Sarracenia X rehderi","UPL","UPL"]
["Scaevola","",""]
[" Cut-Leaf Grape Fern"]
["Schedonorus arundinaceus","FAC","FAC"]
[" Mediterranean Schenkia"]
[" common Mediterranean grass"]
[" schizanthus"]
["Schoenocaulon dubium","UPL","UPL"]
[" Hard-Stem Club-Rush"]
["Schoenoplectus hallii","OBL","OBL"]
["Schoepfia","",""]
[" bulrush"]
["Scirpus hattorianus","OBL","OBL"]
["Scleria bourgeaui","UPL","UPL"]
[" Slender Nut-Rush"]
[" common goldenthistle"]
["Scorzoneroides","",""]
[" water figwort"]
["Scutellaria drummondii","UPL","UPL"]
[" Mad Dog Skullcap"]
[" South American Skullcap"]
[" white stonecrop"]
[" dwarf stonecrop"]
["Sedum ternatum","FACU","FACU"]
["Selaginella uncinata","OBL","OBL"]
["Selenia grandis","FACW","FACW"]
[" spreading moonpod"]
["Senecio cineraria","UPL","UPL"]
["Senna","",""]
["Senna mexicana","FAC","FAC"]
[" dwarf senna"]
["Serenoa repens","FACU","FACU"]
[" sesame"]
[" Adherent Bristle Grass"]
["Setaria megaphylla","UPL","UPL"]
[" West Indian bristlegrass"]
["Seymeria","",""]
[" sherardia"]
[" Common-Wireweed"]
["Sida hermaphrodita","UPL","UPL"]
[" stipule fanpetals"]
["Sideritis lanata","UPL","UPL"]
[" Florida Bully"]
[" red catchfly"]
[" royal catchfly"]
["Silphium compositum","UPL","UPL"]
[" Old Cahaba rosinweed"]
["Simarouba","",""]
["Sisymbrium turczaninowii","UPL","UPL"]
[" prairie blue-eyed grass"]
["Sisyrinchium nashii","FAC","FAC"]
["Smallanthus uvedalius","UPL","UPL"]
["Smilax rotundifolia","FAC","FAC"]
[" ornamental nightshade"]
["Solanum donianum","FAC","FAC"]
[" Jamaican Nightshade"]
["Solanum pseudocapsicum","UPL","UPL"]
["Solenostemon","",""]
[" white goldenrod"]
[" Virginia Goldenrod"]
["Solidago juncea","UPL","UPL"]
[" Ouachita Mountain goldenrod"]
[" showy goldenrod"]
["Solidago villosicarpa","UPL","UPL"]
["Sonchus","",""]
[" silky sophora"]
[" bur-reed"]
[" Big Cord Grass"]
[" ground orchid"]
["Spergularia marina","OBL","OBL"]
[" Smooth False Buttonweed"]
[" scaly globemallow"]
["Sphagnum atlanticum","UPL","UPL"]
[" sphagnum"]
[" Long-Leaf Wedgescale"]
["Sphenopholis pensylvanica","OBL","OBL"]
[" Japanese Meadowsweet"]
["Spiraea X billiardii","UPL","UPL"]
[" White Nodding Ladies'-Tresses"]
["Spiranthes ovalis","FAC","FAC"]
[" rough dropseed"]
["Sporobolus giganteus","UPL","UPL"]
["Sporobolus neglectus","UPL","UPL"]
[" Wright's Dropseed"]
["Stachys cordata","FAC","FAC"]
["Stanleya","",""]
[" starwort"]
["Stellaria pubera","UPL","UPL"]
[" Sweet Shaggytuft"]
["Stenochlaena","",""]
[" stephanandra"]
["Stictocardia tiliifolia","FACU","FACU"]
[" Stokes'-Aster"]
["Streptanthus sparsiflorus","UPL","UPL"]
["Stylisma abdita","UPL","UPL"]
[" Carolina false vervain"]
["Styphnolobium","",""]
["Styrax grandifolius","FACU","FACU"]
[" suriana"]
[" Island American-Aster"]
["Symphyotrichum ericoides","UPL","UPL"]
[" largeflower aster"]
["Symphyotrichum oolentangiense","UPL","UPL"]
[" Crooked-Stem American-Aster"]
["Symphytum X uplandicum","UPL","UPL"]
["Syngonanthus","",""]
[" Hungarian lilac"]
["Syzygium jambos","FACU","FACU"]
[" taenidia"]
[" tamarind"]
["Tamaulipa","",""]
[" rock dandelion"]
["Taxodium ascendens","OBL","OBL"]
[" Broad Halberd Fern"]
[" Edwards Plateau hoarypea"]
["Terminalia catappa","UPL","UPL"]
[" pineland nerveray"]
["Tetraneuris herbacea","UPL","UPL"]
["Thalictrum","",""]
[" Early Meadow-Rue"]
["Thamnosma texana","UPL","UPL"]
[" Edwards Plateau greenthread"]
[" miniature barrel cactus"]
[" Lattice-Vein Fern"]
["Themeda triandra","UPL","UPL"]
[" thevetia"]
["Thlaspi","",""]
["Thymophylla aurea","UPL","UPL"]
["Thyrsanthella difformis","FACW","FACW"]
[" woolly tidestromia"]
["Tilia tomentosa","UPL","UPL"]
[" Sky plant"]
[" hairy crinklemat"]
["Tolumnia bahamensis","UPL","UPL"]
[" knotted hedgeparsley"]
["Townsendia","",""]
[" leatherleaf spiderwort"]
["Tradescantia occidentalis","UPL","UPL"]
[" Boat-Lily"]
["Tragia cordata","UPL","UPL"]
[" wavyleaf noseburn"]
[" Gunpowder-Tree"]
["Tribulus cistoides","FACU","FACU"]
[" Limestone Bugheal"]
["Trichophorum planifolium","UPL","UPL"]
["Trichostema dichotomum","UPL","UPL"]
["Tridens strictus","FACW","FACW"]
[" running glade clover"]
["Trifolium glomeratum","UPL","UPL"]
[" bigflower clover"]
["Trifolium striatum","UPL","UPL"]
[" bashful wakerobin"]
["Trillium nivale","UPL","UPL"]
[" jeweled wakerobin"]
["Trimezia","",""]
[" horse-gentian"]
[" mayweed"]
["Tripterocalyx","",""]
[" prairie false oat"]
["Triumfetta rhomboidea","UPL","UPL"]
["Tropidia polystachya","UPL","UPL"]
["Typha latifolia","OBL","OBL"]
[" Cedar Elm"]
["Uncinia hamata","UPL","UPL"]
[" signalgrass"]
[" nettle"]
["Utricularia","",""]
[" Piedmont Bladderwort"]
[" Striped Bladderwort"]
["Vaccaria","",""]
["Vaccinium tenellum","FACU","FACU"]
["Valeriana pauciflora","FAC","FAC"]
[" Lewiston cornsalad"]
["Vallisneria","",""]
["Venturiella","",""]
[" Virginia Bunchflower"]
[" wand mullein"]
["Verbena cloverae","UPL","UPL"]
[" fanleaf vervain"]
["Verbesina aristata","UPL","UPL"]
[" Yellow Crownbeard"]
["Vernonia baldwinii","UPL","UPL"]
[" New York Ironweed"]
[" European Speedwell"]
["Veronica polita","UPL","UPL"]
[" viburnum"]
["Viburnum nudum","FACW","FACW"]
[" leatherleaf arrowwood"]
[" smooth yellow vetch"]
["Vicia villosa","UPL","UPL"]
[" Sarawak bean"]
[" periwinkle"]
["Viola calcicola","UPL","UPL"]
["Viola pedatifida","FACU","FACU"]
[" Hooded Blue Violet"]
[" hybrid violet"]
[" hybrid violet"]
["Viola X mulfordiae","UPL","UPL"]
["Vitis cinerea","FAC","FAC"]
["Vitis shuttleworthii","FAC","FAC"]
["Vittaria lineata","UPL","UPL"]
[" Rat-Tail Six-Weeks Grass"]
["Warea","",""]
[" big yellow velvetleaf"]
["Wolffia borealis","OBL","OBL"]
[" Plummer's cliff fern"]
[" Netted Chain Fern"]
["Xanthisma spinulosum","FACU","FACU"]
["Xylosma flexuosa","UPL","UPL"]
[" Short-Leaf Yellow-Eyed-Grass"]
["Xyris floridana","OBL","OBL"]
[" Tall Yellow-Eyed-Grass"]
[" Adam's needle"]
["Yucca reverchonii","UPL","UPL"]
["Zamia pumila","UPL","UPL"]
[" Limestone Prickly-Ash"]
["Zea mexicana","UPL","UPL"]
["Zephyranthes simpsonii","FAC","FAC"]
[" zinnia"]
["Zizania palustris","OBL","OBL"]
[" Indian Jujube"]
[" Pacific Temple Grass"]
["Acacia minuta","FACU","FACU"]
["Acalypha virginica var. monococca","UPL","UPL"]
["Acer drummondii","FAC","FAC"]
["Acer rubrum ssp. drummondii","FAC","FAC"]
["Acetosella corniculata","UPL","UPL"]
["Achillea californica","FACU","FACU"]
["Achillea millefolium var. alpicola","FACU","FACU"]
["Achillea millefolium var. megacephala","FACU","FACU"]
["Acmella oppositifolia var. repens","FACW","FACW"]
["Acomastylis radiata","UPL","UPL"]
["Actaea arguta","UPL","UPL"]
["Acuan depressum","FACU","FACU"]
["Adiantum capillus-veneris var. modestum","FACU","FACU"]
["Aesculus glabra var. sargentii","FACU","FACU"]
["Aesculus octandra var. virginica","FACU","FACU"]
["Agalinis purpurea var. racemulosa","FAC","FAC"]
["Agati grandiflora","FACU","FACU"]
["Ageratina altissima var. angustata","FACU","FACU"]
["Agropyron pauciflorum ssp. teslinense","FAC","FAC"]
["Agropyron teslinense","FAC","FAC"]
["Agrostis alba","FACW","FACW"]
["Agrostis geminata","FAC","FAC"]
["Agrostis sylvatica","FAC","FAC"]
["Aira cupaniana","FAC","FAC"]
["Alhagi camelorum","FAC","FAC"]
["Allamanda cathartica var. grandiflora","UPL","UPL"]
["Allionia grayana","UPL","UPL"]
["Allium canadense ssp. lavendulare","FACU","FACU"]
["Allium neopolitanum","UPL","UPL"]
["Allium vineale ssp. vineale","FACU","FACU"]
["Alnus tenuifolia","FACU","FACU"]
["Alopecurus monspeliensis","FACW","FACW"]
["Alsine tennesseensis","UPL","UPL"]
["Amaranthus blitum ssp. emarginatus var. emarginatus","FACU","FACU"]
["Amaranthus hybridus var. cruentus","UPL","UPL"]
["Amaranthus warnockii","FAC","FAC"]
["Ambrosia californica","FAC","FAC"]
["Amellus spinulosus","FACU","FACU"]
["Ammophila champlainensis","UPL","UPL"]
["Amorpha occidentalis var. arizonica","FACW","FACW"]
["Amphianthus pusillus","OBL","OBL"]
["Amsonia hirtella","UPL","UPL"]
["Anaphalis margaritacea var. angustior","UPL","UPL"]
["Andropogon altus","UPL","UPL"]
["Andropogon elliottii","FACU","FACU"]
["Andropogon hassleri","UPL","UPL"]
["Andropogon subtenuis","FACU","FACU"]
["Andropogon virginicus var. tetrastachyus","FAC","FAC"]
["Anemone quinquefolia var. interior","FACU","FACU"]
["Angelica villosa","UPL","UPL"]
["Anoda acerifolia","FAC","FAC"]
["Antennaria neglecta var. athabascensis","UPL","UPL"]
["Antenoron virginianum","FAC","FAC"]
["Apargia autumnalis","FAC","FAC"]
["Aphyllon uniflorum","FACU","FACU"]
["Apocynum scopulorum","UPL","UPL"]
["Arabidopsis lyrata ssp. lyrata","FACU","FACU"]
["Arabis hirsuta ssp. pycnocarpa","FACU","FACU"]
["Arabis shortii","FACU","FACU"]
["Aristida affinis","FACW","FACW"]
["Arenaria groenlandica","UPL","UPL"]
["Arenaria peploides var. diffusa","FACU","FACU"]
["Argentina anserina var. concolor","OBL","OBL"]
["Arisaema triphyllum ssp. stewardsonii","FACW","FACW"]
["Aristida necopina","FACU","FACU"]
["Aronia nigra","FAC","FAC"]
["Artemisia campestris var. pacifica","UPL","UPL"]
["Artemisia kansana","UPL","UPL"]
["Artemisia pacifica","UPL","UPL"]
["Artemisia vulgaris var. selengensis","UPL","UPL"]
["Asarum lewisii","UPL","UPL"]
["Asclepias galioides","FACU","FACU"]
["Asclepias syriaca var. kansana","UPL","UPL"]
["Ascyrum stans","FACW","FACW"]
["Asplenium auritum","UPL","UPL"]
["Aster bifoliatus","UPL","UPL"]
["Aster carmesinus","UPL","UPL"]
["Aster cordifolius var. lanceolatus","UPL","UPL"]
["Aster diffusus var. thyrsoides","FAC","FAC"]
["Aster ericoides","UPL","UPL"]
["Aster fragilis var. brachypholis","FACW","FACW"]
["Aster hesperius","FACW","FACW"]
["Aster laevis","UPL","UPL"]
["Aster lanceolatus var. simplex","FACW","FACW"]
["Aster multiflorus var. commutatus","FAC","FAC"]
["Aster novi-belgii var. rosaceus","OBL","OBL"]
["Aster pantotrichus","FAC","FAC"]
["Aster pilosus var. pusillus","UPL","UPL"]
["Aster prenanthoides","FAC","FAC"]
["Aster salicifolius","FACW","FACW"]
["Aster solidagineus","UPL","UPL"]
["Aster subulatus","OBL","OBL"]
["Aster umbellatus var. latifolius","FACW","FACW"]
["Astragalus canadensis var. brevidens","FAC","FAC"]
["Astragalus lotiflorus var. nebraskensis","UPL","UPL"]
["Ateramnus lucidus","UPL","UPL"]
["Atrichum macmillanii","UPL","UPL"]
["Atriplex nitens","FAC","FAC"]
["Avena hybrida","UPL","UPL"]
["Azalea candida","FACW","FACW"]
["Bacopa acuminata var. microphylla","FACW","FACW"]
["Bambusa glaucescens","UPL","UPL"]
["Barbarea vulgaris var. arcuata","FAC","FAC"]
["Bartramia pomiformis var. crispa","UPL","UPL"]
["Batrachium longirostre","OBL","OBL"]
["Befaria","UPL","UPL"]
["Berberis repens","UPL","UPL"]
["Betula lutea var. macrolepis","FACU","FACU"]
["Bidens connata var. inundata","FACW","FACW"]
["Bidens elegans","OBL","OBL"]
["Bidens pilosa var. minor","FAC","FAC"]
["Bignonia venusta","UPL","UPL"]
["Boebera papposa","UPL","UPL"]
["Boerhavia torreyana","UPL","UPL"]
["Boltonia asteroides var. glastifolia","FACW","FACW"]
["Boltonia recognita","FACW","FACW"]
["Botrychium californicum","FAC","FAC"]
["Botrychium virginianum","FACU","FACU"]
["Bouteloua barbata var. barbata","UPL","UPL"]
["Brachiaria fasciculata var. reticulata","FACU","FACU"]
["Brachyelytrum aristosum var. glabratum","UPL","UPL"]
["Brachythecium populeum var. majus","UPL","UPL"]
["Brassica rapa var. rapa","UPL","UPL"]
["Breweria ovalifolia","UPL","UPL"]
["Bromopsis lanatipes","UPL","UPL"]
["Bromus ciliatus var. genuinus","FACW","FACW"]
["Bromus ramosus","FACW","FACW"]
["Brunnichia cirrhosa","FACW","FACW"]
["Bryum lanatum","UPL","UPL"]
["Bulbostylis fendleri","FACW","FACW"]
["Bumelia tenax","UPL","UPL"]
["Cacalia lanceolata var. elliottii","FACW","FACW"]
["Cactus fragilis","UPL","UPL"]
["Caesalpinia oxycarpa","UPL","UPL"]
["Cakile lanceolata ssp. fusiformis","FAC","FAC"]
["Calamagrostis canadensis var. langsdorfii","OBL","OBL"]
["Calamagrostis nubila","OBL","OBL"]
["Calamintha georgiana","UPL","UPL"]
["Calliergon cordifolium var. angustifolium","UPL","UPL"]
["Calliergonella cuspidata var. umbrosus","UPL","UPL"]
["Calopogon tuberosus var. latifolius","OBL","OBL"]
["Caltha palustris var. radicans","OBL","OBL"]
["Calystegia catesbiana","UPL","UPL"]
["Calystegia sericata","UPL","UPL"]
["Campanula groenlandica","FACU","FACU"]
["Capnoides sempervirens","UPL","UPL"]
["Capraria crustacea","FACU","FACU"]
["Cardaria draba var. repens","UPL","UPL"]
["Carduus lecontei","FACW","FACW"]
["Carex annectens var. xanthocarpa","FACW","FACW"]
["Carex bayardii","OBL","OBL"]
["Carex canescens var. subloliacea","OBL","OBL"]
["Carex crinita var. minor","FACW","FACW"]
["Carex digitalis var. floridana","FACU","FACU"]
["Carex gravida var. lunelliana","FACW","FACW"]
["Carex josselynii","OBL","OBL"]
["Carex laxiflora var. patulifolia","FACU","FACU"]
["Carex lupulina var. pedunculata","OBL","OBL"]
["Carex nigromarginata var. minor","UPL","UPL"]
["Carex sartwellii var. stenorrhyncha","FACW","FACW"]
["Carex stans","OBL","OBL"]
["Carex tribuloides var. sangamonensis","FACW","FACW"]
["Carex vesicaria var. distenta","OBL","OBL"]
["Carex willdenowii var. megarrhyncha","FAC","FAC"]
["Carya ovalis var. obcordata","FACU","FACU"]
["Casparea congesta","UPL","UPL"]
["Cassia corymbosa","UPL","UPL"]
["Cassia greggii","UPL","UPL"]
["Cassia pilosa","UPL","UPL"]
["Castanea vulgaris","UPL","UPL"]
["Cathartolinum medium var. texanum","FAC","FAC"]
["Ceanothus fendleri var. viridis","UPL","UPL"]
["Celtis laevigata var. reticulata","UPL","UPL"]
["Centaurea pratensis","FACU","FACU"]
["Centrogenium setaceum","FAC","FAC"]
["Cerastium aquaticum","FACW","FACW"]
["Cerastium fontanum ssp. scandicum","FAC","FAC"]
["Cerastium sericeum","FACU","FACU"]
["Ceratophyllum demersum var. apiculatum","OBL","OBL"]
["Cereus coniflorus","UPL","UPL"]
["Cerothamnus ceriferus","FAC","FAC"]
["Chaerophyllum texanum","FAC","FAC"]
["Chalcas exotica","UPL","UPL"]
["Chamaedaphne hirsuta","FACW","FACW"]
["Chamaesyce brasiliensis","FAC","FAC"]
["Chamaesyce porteriana","FACW","FACW"]
["Chamaesyce zygophylloides","UPL","UPL"]
["Chelone chlorantha","OBL","OBL"]
["Chenopodium album ssp. fallax","FACU","FACU"]
["Chenopodium aridum","UPL","UPL"]
["Chenopodium glaucum ssp. euglaucum","FAC","FAC"]
["Chenopodium incognitum","UPL","UPL"]
["Chionanthus virginicus var. maritimus","FACU","FACU"]
["Chloris glauca","FACW","FACW"]
["Chondrosum exile","UPL","UPL"]
["Chrysanthemum lacustre","UPL","UPL"]
["Chrysopsis graminifolia","UPL","UPL"]
["Chrysopsis viscida","UPL","UPL"]
["Cicuta maculata var. victorinii","OBL","OBL"]
["Circaea latifolia","FACU","FACU"]
["Cirsium muticum var. subpinnatifidum","OBL","OBL"]
["Citharexylum pentandrum","FACU","FACU"]
["Clausenellia ternata","FACU","FACU"]
["Claytonia virginica var. hammondiae","FACU","FACU"]
["Clematis fremontii var. riehlii","UPL","UPL"]
["Cleome hassleriana","FACU","FACU"]
["Cochranea anchusifolia","UPL","UPL"]
["Coldenia hispidissima","UPL","UPL"]
["Collinsia grandiflora var. pusilla","UPL","UPL"]
["Comandra richardsiana","UPL","UPL"]
["Commelina erecta var. deamiana","FACU","FACU"]
["Convolvulus batatas","UPL","UPL"]
["Convolvulus purpureus","UPL","UPL"]
["Conyza bonariensis","FACU","FACU"]
["Conyza parva","FACU","FACU"]
["Corallorhiza trifida var. verna","FACW","FACW"]
["Coreopsis longifolia","FACW","FACW"]
["Coreopsis tinctoria var. atkinsoniana","FAC","FAC"]
["Coriflora reticulata","UPL","UPL"]
["Corispermum simplicissimum","FACU","FACU"]
["Coronaria flos-cuculi","FACU","FACU"]
["Corypha minor","FACW","FACW"]
["Coryphantha similis","UPL","UPL"]
["Cracca ambigua","UPL","UPL"]
["Cranichis oligantha","UPL","UPL"]
["Crataegus berberifolia var. edita","FAC","FAC"]
["Crataegus calpodendron var. globosa","UPL","UPL"]
["Crataegus coccinioides var. locuples","UPL","UPL"]
["Crataegus crassifolia","UPL","UPL"]
["Crataegus denaria","FAC","FAC"]
["Crataegus foetida","UPL","UPL"]
["Crataegus hirtiflora","UPL","UPL"]
["Crataegus ingens","FACW","FACW"]
["Crataegus kellermanii","UPL","UPL"]
["Crataegus meridionalis","FAC","FAC"]
["Crataegus neobushii","UPL","UPL"]
["Crataegus pallens","UPL","UPL"]
["Crataegus pisifera","UPL","UPL"]
["Crataegus punctata var. pausiaca","UPL","UPL"]
["Crataegus scabrida var. balkwillii","UPL","UPL"]
["Crataegus signata","FAC","FAC"]
["Crataegus succulenta var. neofluvialis","UPL","UPL"]
["Crataegus venulosa","UPL","UPL"]
["Cristatella jamesii","UPL","UPL"]
["Crocanthemum corymbosum","UPL","UPL"]
["Crotalaria angulata","FACU","FACU"]
["Crotalaria rotundifolia var. vulgaris","FACU","FACU"]
["Ctenitis ampla","UPL","UPL"]
["Cyanococcus myrsinites","FACU","FACU"]
["Cydonia vulgaris","UPL","UPL"]
["Cynoctonum sessilifolium","FACW","FACW"]
["Cynosurus tristachyus","UPL","UPL"]
["Cyperus bushii","FACU","FACU"]
["Cyperus hyalinus","FAC","FAC"]
["Cyperus litoreus","FACU","FACU"]
["Cyperus paniculatus","FACW","FACW"]
["Cyperus retrofractus var. hystricinus","UPL","UPL"]
["Cyperus tenuifolius","FACW","FACW"]
["Cystopteris fragilis var. angustata","FACU","FACU"]
["Dactylis glomerata var. vivipara","FACU","FACU"]
["Danthonia sericea var. epilis","OBL","OBL"]
["Dasystephana linearis","OBL","OBL"]
["Dendrium buxifolium","FACU","FACU"]
["Deringa canadensis","FAC","FAC"]
["Deschampsia caespitosa var. alpicola","FACW","FACW"]
["Deschampsia cespitosa var. arctica","UPL","UPL"]
["Deschampsia mackenzieana","FACW","FACW"]
["Desmothamnus lucidus","FACW","FACW"]
["Diapedium brachiatum","FACW","FACW"]
["Dichanthelium acuminatum var. densiflorum","FACW","FACW"]
["Dichanthelium acuminatum var. wrightianum","FACW","FACW"]
["Dichanthelium dichotomum ssp. mattamuskeetense","FAC","FAC"]
["Dichanthelium meridionale var. albemarlense","FAC","FAC"]
["Dichanthelium sabulorum var. thinium","FACU","FACU"]
["Dichanthelium yadkinense","FAC","FAC"]
["Dicliptera glandulosa","FACW","FACW"]
["Digitalis orientalis","UPL","UPL"]
["Dimorphocarpa palmeri","UPL","UPL"]
["Dioscorea villosa var. floridana","UPL","UPL"]
["Dipholis salicifolia","UPL","UPL"]
["Diplopappus lutescens","UPL","UPL"]
["Dodecatheon meadia var. obesum","FACU","FACU"]
["Dodonaea eriocarpa var. oblonga","UPL","UPL"]
["Dodonaea stenoptera var. fauriei","UPL","UPL"]
["Dolichos hosei","UPL","UPL"]
["Draba reptans var. typica","UPL","UPL"]
["Dryopteris austriaca var. spinulosa","FACW","FACW"]
["Dryopteris phegopteris","FAC","FAC"]
["Dryopteris subtetragona","UPL","UPL"]
["Dyssodia acerosa","UPL","UPL"]
["Echinochloa crus-galli var. frumentacea","UPL","UPL"]
["Echinochloa walteri var. laevigata","OBL","OBL"]
["Echinodorus radicans","OBL","OBL"]
["Elatine triandra","OBL","OBL"]
["Eleocharis calva var. australis","OBL","OBL"]
["Eleocharis microcarpa var. brittonii","OBL","OBL"]
["Eleocharis obtusa var. jejuna","OBL","OBL"]
["Eleocharis perlonga","OBL","OBL"]
["Eleocharis tenuis var. tenuis","FACW","FACW"]
["Elodea brandegeeae","OBL","OBL"]
["Elymus intermedius","UPL","UPL"]
["Elymus trachycaulus ssp. andinus","FAC","FAC"]
["Elymus virginicus var. jenkinsii","FAC","FAC"]
["Elytrigia intermedia ssp. intermedia","UPL","UPL"]
["Ephedra nevadensis var. aspera","UPL","UPL"]
["Epilobium adenocaulon var. perplexans","FACW","FACW"]
["Epilobium californicum var. holosericeum","FACW","FACW"]
["Epilobium palustre var. gracile","OBL","OBL"]
["Equisetum hyemale var. affine","FACW","FACW"]
["Eragrostis curvula var. curvula","UPL","UPL"]
["Eragrostis oxylepis","UPL","UPL"]
["Eragrostis spectabilis var. sparsihirsuta","FACU","FACU"]
["Eremocarya angustifolia","UPL","UPL"]
["Erianthus strictus","OBL","OBL"]
["Erigeron pulchellus var. tolsteadii","FACU","FACU"]
["Erigeron traversii","FAC","FAC"]
["Eriocaulon pellucidum","OBL","OBL"]
["Eriogonum abertianum var. gillespiei","UPL","UPL"]
["Erophila spathulata","UPL","UPL"]
["Escobaria dasyacantha var. duncanii","UPL","UPL"]
["Eugenia cumini","UPL","UPL"]
["Euonymus alata","UPL","UPL"]
["Eupatoriadelphus maculatus","FACW","FACW"]
["Eupatorium incarnatum","FACU","FACU"]
["Eupatorium rotundifolium var. scabridum","FAC","FAC"]
["Eupatorium tortifolium","UPL","UPL"]
["Euphorbia berteriana","UPL","UPL"]
["Euphorbia corollata var. angustifolia","UPL","UPL"]
["Euphorbia lurida","UPL","UPL"]
["Euphorbia parryi","UPL","UPL"]
["Euphorbia simulans","UPL","UPL"]
["Euphoria longana","UPL","UPL"]
["Euthamia graminifolia var. galetorum","FAC","FAC"]
["Falcaria sioides","UPL","UPL"]
["Festuca arenaria","FACU","FACU"]
["Festuca duriuscula var. cinerea","UPL","UPL"]
["Festuca octoflora var. aristulata","FACU","FACU"]
["Festuca rubra var. megastachys","FACU","FACU"]
["Ficaria verna ssp. calthifolia","FAC","FAC"]
["Filipendula ulmaria ssp. denudata","FAC","FAC"]
["Fimbristylis cymosa ssp. cymosa","FAC","FAC"]
["Fimbristylis spadicea","OBL","OBL"]
["Fragaria chiloensis var. sandwicensis","FACU","FACU"]
["Fragaria truncata","FACU","FACU"]
["Fragaria virginiana var. terrae-novae","FACU","FACU"]
["Fraxinus americana var. biltmoreana","FACU","FACU"]
["Fuirena torreyana","OBL","OBL"]
["Gaillardia trinervata","UPL","UPL"]
["Galactia mollis var. nashii","FAC","FAC"]
["Galarhoeus obtusatus","FACU","FACU"]
["Galinsoga caracasana","FACU","FACU"]
["Galium claytonii","FACW","FACW"]
["Galium obtusum var. ramosum","FACW","FACW"]
["Galium spurium var. echinospermum","FACU","FACU"]
["Galium trifidum ssp. trifidum","OBL","OBL"]
["Gamochaeta rosacea","UPL","UPL"]
["Gentiana puberula","FACW","FACW"]
["Geranium nemorale var. bicknellii","UPL","UPL"]
["Gerardia divaricata","FACU","FACU"]
["Gerardia heterophylla","FACU","FACU"]
["Gerardia pectinata","UPL","UPL"]
["Gerardia viridis","UPL","UPL"]
["Geum canadense var. grimesii","FAC","FAC"]
["Gilia rigidula var. acerosa","UPL","UPL"]
["Glandularia verecunda","UPL","UPL"]
["Glyceria grandis var. grandis","OBL","OBL"]
["Gnaphalium germanicum","UPL","UPL"]
["Gomphrena brasiliana","UPL","UPL"]
["Gonolobus granulatus","FACW","FACW"]
["Goodyera repens var. ophioides","UPL","UPL"]
["Grindelia microcephala var. pusilla","UPL","UPL"]
["Grossularia missouriensis","UPL","UPL"]
["Gutierrezia glomerella","UPL","UPL"]
["Gymnostyles nasturtiifolia","UPL","UPL"]
["Habenaria correlliana","OBL","OBL"]
["Halesia tetraptera","FACU","FACU"]
["Haplopappus coulteri","FACU","FACU"]
["Haplopappus pluriflorus","UPL","UPL"]
["Haplopappus spinulosus var. turbinellus","FACU","FACU"]
["Hedeoma angulata","UPL","UPL"]
["Hedyotis ouachitana","UPL","UPL"]
["Hedyotis uniflora var. fasciculata","FACW","FACW"]
["Helenium autumnale var. grandiflorum","FACW","FACW"]
["Helenium parviflorum","FACW","FACW"]
["Helianthus debilis var. silvestris","FAC","FAC"]
["Helianthus grosseserratus ssp. maximus","FAC","FAC"]
["Helianthus rydbergii","FACW","FACW"]
["Heliopsis helianthoides ssp. occidentalis","UPL","UPL"]
["Heliotropium phyllostachyum","UPL","UPL"]
["Herpothamnus crassifolius","FAC","FAC"]
["Heterotheca graminifolia var. tracyi","UPL","UPL"]
["Heterotheca scabra","UPL","UPL"]
["Heuchera americana var. hispida","FACU","FACU"]
["Hexastylis arifolia var. arifolia","FAC","FAC"]
["Hibiscus striatus ssp. lambertianus","OBL","OBL"]
["Hicoria ovalis","FACU","FACU"]
["Hieracium scabriusculum var. saximontanum","UPL","UPL"]
["Hierochloe odorata ssp. arctica","FACW","FACW"]
["Homalosorus pycnocarpos","FAC","FAC"]
["Hordeum hexastichum","UPL","UPL"]
["Hordeum jubatum ssp. jubatum","FAC","FAC"]
["Houstonia longifolia var. compacta","UPL","UPL"]
["Humulus lupulus var. lupuloides","FACU","FACU"]
["Hydrophila drummondii","UPL","UPL"]
["Hymenocallis expansa","FACU","FACU"]
["Hymenoxys acaulis var. glabra","UPL","UPL"]
["Hypericum aureum","UPL","UPL"]
["Hypericum mutilum var. parviflorum","FACW","FACW"]
["Hyptis pectinata","UPL","UPL"]
["Icacorea paniculata","UPL","UPL"]
["Ilex curtissii","FACW","FACW"]
["Ilex verticillata var. tenuifolia","FACW","FACW"]
["Indigofera macrostachya","UPL","UPL"]
["Ipomoea campanulata","FACU","FACU"]
["Ipomoea fastigiata","UPL","UPL"]
["Ipomoea pinnatifida","UPL","UPL"]
["Iresine elongata","FAC","FAC"]
["Iris aurilinea","OBL","OBL"]
["Iris ianthina","OBL","OBL"]
["Iris oenantha","OBL","OBL"]
["Iris rosilutea","OBL","OBL"]
["Iris venulosa","OBL","OBL"]
["Isoetes engelmannii var. valida","OBL","OBL"]
["Isoetes saccharata var. amesii","OBL","OBL"]
["Iva ambrosiifolia","UPL","UPL"]
["Jacquinia barbasco","UPL","UPL"]
["Julocroton argenteus","UPL","UPL"]
["Juncus dichotomus var. platyphyllus","FACW","FACW"]
["Juncus kansanus","FAC","FAC"]
["Juncus scirpoides var. compositus","FACW","FACW"]
["Juniperus ashei var. ovata","UPL","UPL"]
["Juniperus lucayana","FACU","FACU"]
["Jussiaea repens","OBL","OBL"]
["Justicia mortuifluminis","OBL","OBL"]
["Kalopanax pictus","UPL","UPL"]
["Kneiffia subglobosa","FACU","FACU"]
["Koellia multiflora","UPL","UPL"]
["Kosteletzkya virginica var. althaeifolia","OBL","OBL"]
["Kuhnistera truncata","UPL","UPL"]
["Lacinaria ruthii","UPL","UPL"]
["Lactuca sagittifolia","FACU","FACU"]
["Langloisia schottii","UPL","UPL"]
["Lantana horrida","FACU","FACU"]
["Lappa major","UPL","UPL"]
["Lasallea falcata","FAC","FAC"]
["Lathyrus palustris var. macranthus","OBL","OBL"]
["Lavauxia taraxacoides","FACU","FACU"]
["Legousia perfoliata","FACU","FACU"]
["Lemna cyclostasa","OBL","OBL"]
["Leontodon danubialis","UPL","UPL"]
["Lepidium idahoense","UPL","UPL"]
["Lepidium virginicum var. typicum","UPL","UPL"]
["Leptochloa attenuata","FACW","FACW"]
["Leptochloa panicea ssp. brachiata","FACW","FACW"]
["Leptoglottis chapmanii","UPL","UPL"]
["Lespedeza prairea","UPL","UPL"]
["Leucothoe acuminata","FACW","FACW"]
["Liatris gracilis var. gholsonii","UPL","UPL"]
["Liatris regimontis","UPL","UPL"]
["Lilium canadense ssp. editorum","FAC","FAC"]
["Limonia aurantifolia","UPL","UPL"]
["Limosella aquatica var. tenuifolia","OBL","OBL"]
["Lindernia dubia var. riparia","OBL","OBL"]
["Linum medium var. medium","FAC","FAC"]
["Lippia dulcis","UPL","UPL"]
["Lobelia cardinalis ssp. graminea","FACW","FACW"]
["Lobelia puberula var. mineolana","FACW","FACW"]
["Lolium loliaceum","UPL","UPL"]
["Lolium strictum","UPL","UPL"]
["Lotus americanus","FACU","FACU"]
["Lotus neomexicanus","UPL","UPL"]
["Ludwigia grandiflora ssp. hexapetala","OBL","OBL"]
["Ludwigia peploides var. montevidensis","OBL","OBL"]
["Luffa cylindrica var. insularum","UPL","UPL"]
["Lupinus villosus ssp. diffusus","UPL","UPL"]
["Luzula kobayasii var. minor","FACU","FACU"]
["Luzula sudetica","FACU","FACU"]
["Lycopodium alopecuroides ssp. appressum","OBL","OBL"]
["Lycopodium inundatum var. pinnatum","OBL","OBL"]
["Lycopodium selago var. porophilum","UPL","UPL"]
["Lycopus sinuatus","OBL","OBL"]
["Lysiloma bahamense","UPL","UPL"]
["Lythrum dacotanum","OBL","OBL"]
["Macrosiphonia macrosiphon","UPL","UPL"]
["Magnolia tomentosa","UPL","UPL"]
["Malaxis floridana","OBL","OBL"]
["Malus domestica","UPL","UPL"]
["Mammillaria albicolumnaria","UPL","UPL"]
["Mammillaria nellieae","UPL","UPL"]
["Manihot dulcis","UPL","UPL"]
["Marilaunidium jamaicense","FACU","FACU"]
["Marshallia caespitosa var. caespitosa","FACU","FACU"]
["Matricaria maritima","FAC","FAC"]
["Matthiola bicornis","UPL","UPL"]
["Medicago arabica ssp. inermis","UPL","UPL"]
["Medicago polymorpha var. brevispina","FACU","FACU"]
["Meibomia canadensis","FAC","FAC"]
["Meibomia stricta","UPL","UPL"]
["Melandrium noctiflorum","UPL","UPL"]
["Melanthium latifolium","FACU","FACU"]
["Melilotus neapolitanus","UPL","UPL"]
["Menodora scoparia","UPL","UPL"]
["Mentzelia albicaulis var. ctenophora","UPL","UPL"]
["Mesadenia lanceolata var. virescens","FACW","FACW"]
["Metastelma scoparium","UPL","UPL"]
["Microseris cuspidata","UPL","UPL"]
["Mimosa pigra","FAC","FAC"]
["Mimulus guttatus ssp. arenicola","OBL","OBL"]
["Mimulus guttatus var. microphyllus","OBL","OBL"]
["Mimulus microphyllus","OBL","OBL"]
["Mimulus moschatus var. moniliformis","OBL","OBL"]
["Mimulus ringens var. ringens","OBL","OBL"]
["Mirabilis oblongifolia","UPL","UPL"]
["Mnesithea tuberculosa","OBL","OBL"]
["Monarda fistulosa ssp. brevis","FACU","FACU"]
["Monarda punctata ssp. coryi","FACU","FACU"]
["Monotropsis lehmaniae","UPL","UPL"]
["Moringa moringa","FACU","FACU"]
["Muhlenbergia capillaris var. filipes","FACW","FACW"]
["Muhlenbergia schreberi ssp. curtisetosa","UPL","UPL"]
["Mulgedium villosum","FACU","FACU"]
["Myosurus minimus var. apus","FACW","FACW"]
["Myrica peregrina","UPL","UPL"]
["Myriophyllum verticillatum var. cheneyi","OBL","OBL"]
["Najas flexilis var. congesta","OBL","OBL"]
["Narcissus barrii","UPL","UPL"]
["Nasturtium stylosum","UPL","UPL"]
["Nelumbo pentapetala","OBL","OBL"]
["Neobeckia aquatica","OBL","OBL"]
["Neomammillaria similis","UPL","UPL"]
["Norta altissima","FACU","FACU"]
["Nothoscordum texanum","FACU","FACU"]
["Nuphar lutea ssp. sagittifolia","OBL","OBL"]
["Nymphaea chartacea","OBL","OBL"]
["Oakesiella puberula","FAC","FAC"]
["Oenothera angustissima","UPL","UPL"]
["Oenothera bifrons","UPL","UPL"]
["Oenothera delessertiana","UPL","UPL"]
["Oenothera fruticosa var. unguiculata","FACU","FACU"]
["Oenothera lavandulifolia var. glandulosa","UPL","UPL"]
["Oenothera tetragona var. velutina","FACU","FACU"]
["Oldenlandia subviscosa","UPL","UPL"]
["Oncidium floridanum","FACW","FACW"]
["Ophioglossum palmatum","UPL","UPL"]
["Opuntia charlestonensis","UPL","UPL"]
["Opuntia engelmannii var. aciculata","UPL","UPL"]
["Opuntia lindheimeri var. chisosensis","UPL","UPL"]
["Opuntia tunicata var. davisii","UPL","UPL"]
["Opuntia vulgaris","UPL","UPL"]
["Orobanche uniflora var. occidentalis","FACU","FACU"]
["Oryza perennis","FACW","FACW"]
["Osmunda cinnamomea var. glandulosa","FACW","FACW"]
["Oxalis brittoniae","FACU","FACU"]
["Oxalis filipes","FACU","FACU"]
["Oxybaphus linearis","UPL","UPL"]
["Oxyrrhynchium hians","UPL","UPL"]
["Packera paupercula var. pseudotomentosa","FACW","FACW"]
["Palhinhaea cernua var. cernua","FACW","FACW"]
["Panicum acuminatum var. longiligulatum","FACW","FACW"]
["Panicum albomarginatum","FAC","FAC"]
["Panicum arenicoloides","FACU","FACU"]
["Panicum brodiei","FAC","FAC"]
["Panicum chapmanii","UPL","UPL"]
["Panicum cryptanthum","OBL","OBL"]
["Panicum earlei","FAC","FAC"]
["Panicum ferventicola","FAC","FAC"]
["Panicum hallii var. hallii","FACU","FACU"]
["Panicum languidum","FAC","FAC"]
["Panicum maximum","FAC","FAC"]
["Panicum nodatum","UPL","UPL"]
["Panicum ovale var. addisonii","FACU","FACU"]
["Panicum pilcomayense","FACW","FACW"]
["Panicum shastense","FAC","FAC"]
["Panicum strigosum","FAC","FAC"]
["Panicum verticillatum","FAC","FAC"]
["Panicum wilmingtonense","FACU","FACU"]
["Parietaria debilis","FAC","FAC"]
["Parthenium hysterophorus var. lyratum","UPL","UPL"]
["Paspalum difforme","FACW","FACW"]
["Paspalum larranagai","FAC","FAC"]
["Paspalum poiretii","FAC","FAC"]
["Pattersonia caroliniensis","FACU","FACU"]
["Pedicularis gladiata","FACU","FACU"]
["Pellaea microphylla","UPL","UPL"]
["Pennisetum polystachion ssp. setosum","FAC","FAC"]
["Penstemon cobaea var. purpureus","UPL","UPL"]
["Pereskia aculeata var. godseffiana","UPL","UPL"]
["Persicaria hispida","UPL","UPL"]
["Persicaria pensylvanica var. dura","FACW","FACW"]
["Perularia bidentata","FACW","FACW"]
["Petasites arcticus","FACW","FACW"]
["Petunia violacea","UPL","UPL"]
["Phacelia popei var. similis","UPL","UPL"]
["Pharbitis cathartica","FAC","FAC"]
["Phaseolus semierectus","FACU","FACU"]
["Philadelphus inodorus var. laxus","UPL","UPL"]
["Phippsia nutkaensis","FACW","FACW"]
["Phlox carolina var. angusta","FACU","FACU"]
["Phlox nana ssp. glabella","UPL","UPL"]
["Phlox pilosa var. fulgida","FACU","FACU"]
["Phoradendron juniperinum var. ligatum","UPL","UPL"]
["Phyla nodiflora var. longifolia","FAC","FAC"]
["Phymosia cuspidata","UPL","UPL"]
["Physalis lobata var. albiflora","UPL","UPL"]
["Physalis wrightii","UPL","UPL"]
["Picea australis","FACU","FACU"]
["Pimpinella saxifraga ssp. saxifraga","UPL","UPL"]
["Pinus elliottii var. elliottii","FACW","FACW"]
["Piper obtusifolium","UPL","UPL"]
["Piriqueta glabrescens","FAC","FAC"]
["Pityothamnus angustifolius","UPL","UPL"]
["Plantago indica","FACU","FACU"]
["Plantago maritima ssp. juncoides","FACW","FACW"]
["Plantago rugelii var. asperula","FACU","FACU"]
["Platanthera repens","OBL","OBL"]
["Pluchea foetida var. imbricata","OBL","OBL"]
["Poa agassizensis","FACU","FACU"]
["Poa gracillima","FACU","FACU"]
["Poa involuta","UPL","UPL"]
["Poa secunda var. elongata","FACU","FACU"]
["Podospermum laciniatum","UPL","UPL"]
["Poinsettia heterophylla","FAC","FAC"]
["Polianthes maculosa","UPL","UPL"]
["Polycodium stamineum","FACU","FACU"]
["Polygonatum cobrense","FACU","FACU"]
["Polygonum amphibium var. stipulaceum","OBL","OBL"]
["Polygonum aviculare ssp. rurivagum","FAC","FAC"]
["Polygonum careyi","FACW","FACW"]
["Polygonum hydropiperoides var. euronotorum","OBL","OBL"]
["Polygonum littorale","FAC","FAC"]
["Polygonum montereyense","FAC","FAC"]
["Polygonum pensylvanicum var. laevigatum","FACW","FACW"]
["Polygonum sagittatum","OBL","OBL"]
["Polypodium heterophyllum","UPL","UPL"]
["Polystachya extinctoria","UPL","UPL"]
["Polytrichastrum ohioense","UPL","UPL"]
["Populus angulata","FAC","FAC"]
["Populus canadensis var. fremontii","FAC","FAC"]
["Populus macdougalii","FAC","FAC"]
["Populus texana","FAC","FAC"]
["Populus virginiana","FAC","FAC"]
["Porteranthus stipulatus","UPL","UPL"]
["Portulaca umbraticola ssp. lanceolata","FAC","FAC"]
["Potamogeton foliosus ssp. foliosus","OBL","OBL"]
["Potamogeton lucens","OBL","OBL"]
["Potamogeton zosterifolius ssp. zosteriformis","OBL","OBL"]
["Potentilla canadensis var. simplex","FACU","FACU"]
["Pothomorphe umbellata","FAC","FAC"]
["Proserpinaca palustris var. crebra","OBL","OBL"]
["Prosopis juliflora var. torreyana","UPL","UPL"]
["Prunus demissa","FACU","FACU"]
["Prunus serotina var. alabamensis","UPL","UPL"]
["Pseudotsuga taxifolia var. glauca","FACU","FACU"]
["Psoralea cyphocalyx","UPL","UPL"]
["Psoralea micrantha","UPL","UPL"]
["Psychotria nervosa var. lanceolata","FAC","FAC"]
["Psychotria undata","FAC","FAC"]
["Pteridium latiusculum var. pseudocaudatum","FACU","FACU"]
["Puccinellia borreri","OBL","OBL"]
["Puccinellia pauciflora var. holmii","OBL","OBL"]
["Pycnanthemum pilosum","FAC","FAC"]
["Pylostachya cymosa","OBL","OBL"]
["Pyrola virens var. saximontana","UPL","UPL"]
["Pyrus coronaria var. dasycalyx","UPL","UPL"]
["Pyrus X soulardii","UPL","UPL"]
["Quercus borealis","FACU","FACU"]
["Quercus reticulata","UPL","UPL"]
["Quercus stellata var. margarettae","UPL","UPL"]
["Quercus X dubia","UPL","UPL"]
["Radicula sessiliflora","OBL","OBL"]
["Ramium niveum","UPL","UPL"]
["Ranunculus bulbosus var. dissectus","FAC","FAC"]
["Ranunculus flammula var. filiformis","FACW","FACW"]
["Ranunculus hispidus var. hispidus","FAC","FAC"]
["Ranunculus pusillus var. typicus","FACW","FACW"]
["Rapistrum rugosum ssp. linnaeanum","UPL","UPL"]
["Reynoutria scandens","FAC","FAC"]
["Rhamnus minutiflora","FAC","FAC"]
["Rhexia interior","FACW","FACW"]
["Rhododendron nudiflorum","FAC","FAC"]
["Rhus caroliniana","UPL","UPL"]
["Rhus radicans var. littoralis","FAC","FAC"]
["Rhus X pulvinata","UPL","UPL"]
["Rhynchospora breviseta","OBL","OBL"]
["Rhynchospora globularis var. saxicola","FACW","FACW"]
["Rhytiglossa viridiflora","FACW","FACW"]
["Ribes sylvestre","UPL","UPL"]
["Robinia halodendron","UPL","UPL"]
["Rorippa floridana","UPL","UPL"]
["Rorippa palustris ssp. fernaldiana","OBL","OBL"]
["Rosa cathayensis","FACU","FACU"]
["Rosa johannensis","FACU","FACU"]
["Rosa suffulta","FACU","FACU"]
["Rotantha floridana","OBL","OBL"]
["Rubus ambigens","FACW","FACW"]
["Rubus bollianus","UPL","UPL"]
["Rubus carolinianus","FACU","FACU"]
["Rubus corei","FACU","FACU"]
["Rubus dissitiflorus","UPL","UPL"]
["Rubus groutianus","FACW","FACW"]
["Rubus idaeus var. melanolasius","FACU","FACU"]
["Rubus jactus","UPL","UPL"]
["Rubus longipes","UPL","UPL"]
["Rubus miscix","UPL","UPL"]
["Rubus pauperrimus","UPL","UPL"]
["Rubus problematicus","UPL","UPL"]
["Rubus recurvans var. subrecurvans","UPL","UPL"]
["Rubus sanfordii","UPL","UPL"]
["Rubus strigosus var. acalyphaceus","FACU","FACU"]
["Rubus unanimus","UPL","UPL"]
["Rudbeckia deamii","FAC","FAC"]
["Rudbeckia globosa","UPL","UPL"]
["Rudbeckia laciniata var. digitata","FACW","FACW"]
["Ruellia caroliniensis ssp. ciliosa","FACU","FACU"]
["Ruellia humilis","FACU","FACU"]
["Ruellia nudiflora var. yucatana","UPL","UPL"]
["Rumex aquaticus ssp. occidentalis","OBL","OBL"]
["Rumex hymenosepalus var. salinus","UPL","UPL"]
["Ruppia maritima var. subcapitata","OBL","OBL"]
["Sabatia alainii","FACW","FACW"]
["Sabatia gracilis","FACW","FACW"]
["Sabina virginiana","FACU","FACU"]
["Sagittaria engelmanniana ssp. longirostra","OBL","OBL"]
["Sagittaria longirostra var. australis","OBL","OBL"]
["Sagittaria viscosa","OBL","OBL"]
["Salix astatulana","FACW","FACW"]
["Salix cinerea ssp. atrocinerea","FACW","FACW"]
["Salix glaucophylla var. angustifolia","FACW","FACW"]
["Salix humilis var. hyporhysa","FACU","FACU"]
["Salix longipes var. venulosa","OBL","OBL"]
["Salix myricoides var. cordata","FACW","FACW"]
["Salix pendulina var. elegantissima","FACW","FACW"]
["Salix vitellina","FACW","FACW"]
["Salsola iberica","FACU","FACU"]
["Salvinia auriculata","OBL","OBL"]
["Sambucus mexicana ssp. caerulea","FACW","FAC"]
["Sanguisorba minor ssp. muricata","FAC","FAC"]
["Sapindus saponaria var. saponaria","FACU","FACU"]
["Sarcostemma lobata","UPL","UPL"]
["Sarracenia purpurea var. burkii","OBL","OBL"]
["Satureja coccinea","UPL","UPL"]
["Scaevola taccada","FACU","FACU"]
["Schisandra coccinea","UPL","UPL"]
["Schizachyrium scoparium var. scoparium","FACU","FACU"]
["Schoenoplectus acutus var. occidentalis","OBL","OBL"]
["Schoenoplectus validus","OBL","OBL"]
["Scirpus atrovirens var. pallidus","OBL","OBL"]
["Scirpus ciliatifolius","FAC","FAC"]
["Scirpus cyperinus var. pedicellatus","OBL","OBL"]
["Scirpus interstinctus","OBL","OBL"]
["Scirpus maritimus var. paludosus","OBL","OBL"]
["Scirpus retroflexus","OBL","OBL"]
["Scirpus supinus","OBL","OBL"]
["Scirpus verecundus","UPL","UPL"]
["Scleria interrupta","OBL","OBL"]
["Sclerocactus intertextus var. intertextus","UPL","UPL"]
["Scutellaria ovata ssp. pseudoarguta","UPL","UPL"]
["Scutellaria resinosa var. brevifolia","UPL","UPL"]
["Sedum ellacombianum","UPL","UPL"]
["Sedum texanum","UPL","UPL"]
["Senecio imparipinnatus","FACW","FACW"]
["Senecio pauperculus var. neoscoticus","FACW","FACW"]
["Senecio tweedyi","FACW","FACW"]
["Setaria geniculata","FACW","FACW"]
["Setaria glauca var. pallidifusca","FAC","FAC"]
["Sida filiformis","UPL","UPL"]
["Sida setifera","UPL","UPL"]
["Sideranthus glaberrimus","FACU","FACU"]
["Sigesbeckia laciniata","FACU","FACU"]
["Silphium trilobatum","FAC","FAC"]
["Sisymbrium dentatum","FACU","FACU"]
["Sisyrinchium brayi","UPL","UPL"]
["Sisyrinchium incrustatum","UPL","UPL"]
["Sium floridanum","OBL","OBL"]
["Smilax lanceolata","FACW","FACW"]
["Solanum americanum","FACU","FACU"]
["Solanum fistulosum","FACU","FACU"]
["Solanum nigrum var. douglasii","FACU","FACU"]
["Solidago altissima ssp. gilvocanescens","FACU","FACU"]
["Solidago boottii var. caroliniana","UPL","UPL"]
["Solidago discoidea","FACU","FACU"]
["Solidago glutinosa ssp. randii","FACU","FACU"]
["Solidago gymnospermoides","FAC","FAC"]
["Solidago petiolata","FACW","FACW"]
["Solidago rigida var. humilis","FACU","FACU"]
["Solidago serotina","FACW","FACW"]
["Solidago spathulata var. racemosa","FACU","FACU"]
["Solidago uliginosa var. peracuta","OBL","OBL"]
["Sorengia anceps","FAC","FAC"]
["Sorghum caffrorum","FACU","FACU"]
["Sorghum vulgare var. durra","FACU","FACU"]
["Spartina michauxiana","OBL","OBL"]
["Spergula arvensis ssp. sativa","UPL","UPL"]
["Sphaeralcea emoryi ssp. nevadensis","UPL","UPL"]
["Sphagnum nemoreum var. subtile","UPL","UPL"]
["Sphenopholis obtusata var. major","FAC","FAC"]
["Spiraea betulifolia ssp. lucida","FAC","FAC"]
["Spiranthes adnata","FACW","FACW"]
["Spironema robbinsii","FACU","FACU"]
["Sporobolus cryptandrus var. strictus","UPL","UPL"]
["Sporobolus pyramidalis","FACU","FACU"]
["Stachys hirta","UPL","UPL"]
["Stachytarpheta indica","FACU","FACU"]
["Stellaria borealis var. bongardiana","FACW","FACW"]
["Stellaria jamesiana","UPL","UPL"]
["Stemodia multifida","OBL","OBL"]
["Stenophyllus ciliatifolius","FAC","FAC"]
["Stipa spicata","UPL","UPL"]
["Strobus strobus","FACU","FACU"]
["Stylodon carolinensis","UPL","UPL"]
["Suaeda prostrata","OBL","OBL"]
["Swida alba","FACW","FACW"]
["Symphyotrichum dumosum var. dodgei","FAC","FAC"]
["Symphyotrichum laeve var. concinnum","UPL","UPL"]
["Symphyotrichum lateriflorum var. tenuipes","FAC","FAC"]
["Symphyotrichum puniceum var. puniceum","OBL","OBL"]
["Tabebuia argentea","UPL","UPL"]
["Tabebuia pentaphylla","UPL","UPL"]
["Talinum paniculatum var. sarmentosum","UPL","UPL"]
["Tamarix africana","FACW","FACW"]
["Taraxacum islandiciforme","FACU","FACU"]
["Teloxys graveolens","UPL","UPL"]
["Tephrosia spicata var. semitonsa","UPL","UPL"]
["Teucrium boreale","FACW","FACW"]
["Teucrium cubense var. laevigatum","FACW","FACW"]
["Thelypodium shinnersii","UPL","UPL"]
["Thelypteris patens var. scabriuscula","FACU","FACU"]
["Themeda frondosa","UPL","UPL"]
["Thryallis gracilis","UPL","UPL"]
["Tiaridium indicum","FAC","FAC"]
["Tillaea angustifolia","OBL","OBL"]
["Tillaea vaillantii","OBL","OBL"]
["Tillandsia valenzuelana","UPL","UPL"]
["Tithymalus arkansanus","FACU","FACU"]
["Tithymalus helioscopius","UPL","UPL"]
["Torulinium odoratum","FACW","FACW"]
["Toxicodendron radicans var. eximium","FAC","FAC"]
["Trachynia distachya","UPL","UPL"]
["Tradescantia discolor","UPL","UPL"]
["Tradescantia speciosa","FAC","FAC"]
["Trichachne nutans","FAC","FAC"]
["Triclinium odoratum","FACU","FACU"]
["Trifolium arvense var. arvense","UPL","UPL"]
["Trifolium incarnatum var. elatius","UPL","UPL"]
["Trigonella monspeliaca","UPL","UPL"]
["Triodia eragrostoides","UPL","UPL"]
["Tripleurospermum phaeocephalum","FAC","FAC"]
["Triticum persicum","UPL","UPL"]
["Tubiflora acuminata","UPL","UPL"]
["Tyria myricifolia","UPL","UPL"]
["Urostachys lucidulus","FACW","FACW"]
["Urtica dioica var. gracilis","FAC","FAC"]
["Urtica serra","FAC","FAC"]
["Utricularia virgatula","OBL","OBL"]
["Vaccinium neglectum","FACU","FACU"]
["Vaccinium virgatum var. speciosum","FACW","FACW"]
["Vagnera amplexicaulis var. glabra","FACU","FACU"]
["Valota insularis","FAC","FAC"]
["Verbena angustifolia","UPL","UPL"]
["Verbena plicata var. degeneri","UPL","UPL"]
["Verbena urticifolia var. leiocarpa","FAC","FAC"]
["Verbesina nodiflora","FAC","FAC"]
["Vernonia crinita","FAC","FAC"]
["Veronica persica var. aschersoniana","UPL","UPL"]
["Vesicaria globosa","UPL","UPL"]
["Viburnum carolinianum","FAC","FACU"]
["Viburnum dentatum var. scabrellum","FAC","FACU"]
["Viburnum plicatum var. tomentosum","UPL","UPL"]
["Vicia californica var. madrensis","FACU","FACU"]
["Vicia reverchonii","FAC","FAC"]
["Vilfa rigida","UPL","UPL"]
["Viola canadensis var. canadensis","FAC","FAC"]
["Viola chinensis","UPL","UPL"]
["Viola concolor","FACU","FACU"]
["Viola conspersa","FAC","FAC"]
["Viola cucullata var. microtitis","OBL","OBL"]
["Viola emarginata","FACW","FACW"]
["Viola emarginata var. acutiloba","FACW","FACW"]
["Viola emarginata var. subsinuata","FACU","FACU"]
["Viola eriocarpa","FACU","FACU"]
["Viola eriocarpa var. leiocarpa","FACU","FACU"]
["Viola esculenta","FACU","FACU"]
["Viola falcata","FACU","FACU"]
["Viola fimbriatula","FACW","FACW"]
["Viola floridana","FAC","FAC"]
["Viola incognita","FACW","FACW"]
["Viola incognita var. forbesii","FACW","FACW"]
["Viola kitaibeliana","FAC","FAC"]
["Viola kitaibeliana var. rafinesquei","FAC","FAC"]
["Viola lanceolata ssp. lanceolata","OBL","OBL"]
["Viola lanceolata ssp. occidentalis","OBL","OBL"]
["Viola lanceolata ssp. vittata","OBL","OBL"]
["Viola lanceolata var. vittata","OBL","OBL"]
["Viola langloisii var. pedatiloba","FACW","FACW"]
["Viola latiuscula","FAC","FAC"]
["Viola linearifolia","UPL","UPL"]
["Viola lovelliana","UPL","UPL"]
["Viola macloskeyi ssp. macloskeyi","FACW","FACW"]
["Viola macloskeyi ssp. pallens","FACW","FACW"]
["Viola macloskeyi var. pallens","FACW","FACW"]
["Viola mccabeana","FACW","FACW"]
["Viola nephrophylla var. arizonica","FACW","FACW"]
["Viola nephrophylla var. cognata","FACW","FACW"]
["Viola obliqua","OBL","OBL"]
["Viola occidentalis","OBL","OBL"]
["Viola pallens","FACW","FACW"]
["Viola pallens var. subreptans","FACW","FACW"]
["Viola palmata var. dilatata","FACU","FACU"]
["Viola palmata var. dilatata","FACU","FACU"]
["Viola palmata var. esculenta","FACU","FACU"]
["Viola palmata var. palmata","FACU","FACU"]
["Viola palmata var. pedatifida","FACU","FACU"]
["Viola palmata var. sororia","FACW","FACW"]
["Viola palmata var. sororia","FAC","FAC"]
["Viola palmata var. triloba","FACU","FACU"]
["Viola papilionacea","FAC","FAC"]
["Viola papilionacea var. priceana","FAC","FAC"]
["Viola pectinata","FAC","FAC"]
["Viola pedata var. concolor","FACU","FACU"]
["Viola pedata var. lineariloba","FACU","FACU"]
["Viola pedata var. ranunculifolia","FACU","FACU"]
["Viola pedatifida ssp. brittoniana","FAC","FAC"]
["Viola pensylvanica","FACU","FACU"]
["Viola pensylvanica var. leiocarpa","FACU","FACU"]
["Viola pratincola","FACW","FACW"]
["Viola priceana","FAC","FAC"]
["Viola primulifolia ssp. occidentalis","OBL","OBL"]
["Viola primulifolia ssp. villosa","FACW","FACW"]
["Viola primulifolia var. acuta","FACW","FACW"]
["Viola primulifolia var. villosa","FACW","FACW"]
["Viola pubescens var. eriocarpon","FACU","FACU"]
["Viola pubescens var. leiocarpa","FACU","FACU"]
["Viola pubescens var. peckii","FACU","FACU"]
["Viola pubescens var. scabriuscula","FACU","FACU"]
["Viola rafinesquei","FAC","FAC"]
["Viola retusa","FACW","FACW"]
["Viola rosacea","FACW","FACW"]
["Viola rugosa","FACU","FACU"]
["Viola rugulosa","FAC","FAC"]
["Viola rydbergii","FAC","FAC"]
["Viola sagittata var. ovata","FACW","FACW"]
["Viola sagittata var. sagittata","FACW","FACW"]
["Viola sagittata var. subsagittata","FACW","FACW"]
["Viola scopulorum","FAC","FAC"]
["Viola septemloba ssp. egglestonii","UPL","UPL"]
["Viola sororia","FACW","FACW"]
["Viola sororia ssp. affinis","FACW","FACW"]
["Viola sororia ssp. affinis","FACW","FACW"]
["Viola sororia var. affinis","FACW","FACW"]
["Viola sororia var. affinis","FACW","FACW"]
["Viola sororia var. missouriensis","FAC","FAC"]
["Viola stoneana","FACU","FACU"]
["Viola tricolor var. arvensis","UPL","UPL"]
["Viola triloba","FACU","FACU"]
["Viola triloba var. dilatata","FACU","FACU"]
["Viola triloba var. dilatata","FACU","FACU"]
["Viola tripartita var. glaberrima","UPL","UPL"]
["Viola variabilis","UPL","UPL"]
["Viola vittata","OBL","OBL"]
["Viola walteri var. appalachiensis","FACU","FACU"]
["Viola walteri var. walteri","FACU","FACU"]
["Viola X abundans","FACW","FACW"]
["Viola X caesariensis","FAC","FAC"]
["Viola X cestrica","FACW","FACW"]
["Viola X columbiana","UPL","UPL"]
["Viola X consona","UPL","UPL"]
["Viola X conturbata","UPL","UPL"]
["Viola X convicta","FAC","FAC"]
["Viola X dimissa","UPL","UPL"]
["Viola X discors","UPL","UPL"]
["Viola X dissensa","UPL","UPL"]
["Viola X dowelliana","UPL","UPL"]
["Viola X erratica","FACW","FACW"]
["Viola X fernaldii","UPL","UPL"]
["Viola X festata","FACW","FACW"]
["Viola X greenei","UPL","UPL"]
["Viola X holmiana","UPL","UPL"]
["Viola X lavandulacea","UPL","UPL"]
["Viola X marylandica","UPL","UPL"]
["Viola X milleri","UPL","UPL"]
["Viola X parca","UPL","UPL"]
["Viola X peckiana","UPL","UPL"]
["Viola X perpera","UPL","UPL"]
["Viola X robinsoniana","FAC","FAC"]
["Viola X ryoniae","FAC","FAC"]
["Viorna baldwinii","FACW","FACW"]
["Viorna beadlei","UPL","UPL"]
["Viorna crispa","FACW","FACW"]
["Viorna crispa var. walteri","FACW","FACW"]
["Viorna flaccida","UPL","UPL"]
["Viorna fremontii","UPL","UPL"]
["Viorna gattingeri","UPL","UPL"]
["Viorna glaucophylla","FAC","FAC"]
["Viorna obliqua","FACW","FACW"]
["Viorna ochroleuca","UPL","UPL"]
["Viorna ovata","UPL","UPL"]
["Viorna pitcheri","FACU","FACU"]
["Viorna reticulata","UPL","UPL"]
["Viorna ridgwayi","UPL","UPL"]
["Viorna subreticulata","UPL","UPL"]
["Viorna versicolor","UPL","UPL"]
["Viorna viorna","UPL","UPL"]
["Virgulus adnatus","FACW","FACW"]
["Virgulus carolinianus","OBL","OBL"]
["Virgulus concolor","UPL","UPL"]
["Virgulus ericoides","UPL","UPL"]
["Virgulus falcatus","FAC","FAC"]
["Virgulus fendleri","UPL","UPL"]
["Virgulus georgianus","UPL","UPL"]
["Virgulus grandiflorus","UPL","UPL"]
["Virgulus novae-angliae","FACW","FACW"]
["Virgulus oblongifolius","UPL","UPL"]
["Virgulus patens var. georgianus","UPL","UPL"]
["Virgulus patens var. phlogifolius","UPL","UPL"]
["Virgulus pratensis","UPL","UPL"]
["Virgulus sericeus","UPL","UPL"]
["Virgulus walteri","FAC","FAC"]
["Virgulus X amethystinus","UPL","UPL"]
["Viscaria viscosa","UPL","UPL"]
["Viscaria vulgaris","UPL","UPL"]
["Viscum flavescens","UPL","UPL"]
["Visnaga daucoides","UPL","UPL"]
["Vitex negundo var. bicolor","UPL","UPL"]
["Vitex negundo var. heterophylla","UPL","UPL"]
["Vitex negundo var. intermedia","UPL","UPL"]
["Vitex negundo var. negundo","UPL","UPL"]
["Vitex ovata","UPL","UPL"]
["Vitex trifolia var. bicolor","UPL","UPL"]
["Vitex trifolia var. simplicifolia","UPL","UPL"]
["Vitex trifolia var. subtrisecta","UPL","UPL"]
["Vitex trifolia var. trifolia","UPL","UPL"]
["Vitex trifolia var. variegata","UPL","UPL"]
["Viticella viticella","UPL","UPL"]
["Vitis aestivalis var. aestivalis","FACU","FACU"]
["Vitis aestivalis var. argentifolia","FACU","FACU"]
["Vitis aestivalis var. bicolor","FACU","FACU"]
["Vitis aestivalis var. canescens","FAC","FAC"]
["Vitis aestivalis var. cinerea","FAC","FAC"]
["Vitis aestivalis var. lincecumii","FACU","FACU"]
["Vitis aestivalis var. monticola","UPL","UPL"]
["Vitis aestivalis var. smalliana","FACU","FACU"]
["Vitis argentifolia","FACU","FACU"]
["Vitis austrina","FAC","FAC"]
["Vitis baileyana","FAC","FAC"]
["Vitis berlandieri","FAC","FAC"]
["Vitis berlandieri var. tomentosa","FAC","FAC"]
["Vitis bicolor","FACU","FACU"]
["Vitis candicans","UPL","UPL"]
["Vitis candicans var. coriacea","FAC","FAC"]
["Vitis candicans var. diversa","UPL","UPL"]
["Vitis champanii","UPL","UPL"]
["Vitis cinerea var. baileyana","FAC","FAC"]
["Vitis cinerea var. canescens","FAC","FAC"]
["Vitis cinerea var. cinerea","FAC","FAC"]
["Vitis cinerea var. floridana","FAC","FAC"]
["Vitis cinerea var. helleri","FAC","FAC"]
["Vitis cinerea var. tomentosa","FAC","FAC"]
["Vitis cordifolia","FAC","FAC"]
["Vitis cordifolia var. foetida","FAC","FAC"]
["Vitis cordifolia var. helleri","FAC","FAC"]
["Vitis cordifolia var. sempervirens","FAC","FAC"]
["Vitis coriacea","FAC","FAC"]
["Vitis foexana","UPL","UPL"]
["Vitis helleri","FAC","FAC"]
["Vitis heptaphylla","UPL","UPL"]
["Vitis illex","FAC","FAC"]
["Vitis inserta","FACU","FACU"]
["Vitis inserta","FACU","FACU"]
["Vitis labrusca var. subedentata","FAC","FAC"]
["Vitis lecontiana","FACU","FACU"]
["Vitis lincecumii","FACU","FACU"]
["Vitis lincecumii var. glauca","FACU","FACU"]
["Vitis lincecumii var. lactea","FACU","FACU"]
["Vitis longii","UPL","UPL"]
["Vitis longii var. microsperma","UPL","UPL"]
["Vitis montana","UPL","UPL"]
["Vitis munsoniana","FAC","FAC"]
["Vitis mustangensis var. diversa","UPL","UPL"]
["Vitis quinquefolia","FACU","FACU"]
["Vitis riparia var. praecox","FACW","FACW"]
["Vitis riparia var. syrticola","FACW","FACW"]
["Vitis rotundifolia var. munsoniana","FAC","FAC"]
["Vitis rotundifolia var. pygmaea","FAC","FAC"]
["Vitis rotundifolia var. rotundifolia","FAC","FAC"]
["Vitis rubra","FACW","FACW"]
["Vitis rufotomentosa","FACU","FACU"]
["Vitis rupestris var. dissecta","UPL","UPL"]
["Vitis simpsonii","FACU","FACU"]
["Vitis simpsonii","FAC","FAC"]
["Vitis smalliana","FACU","FACU"]
["Vitis sola","FAC","FAC"]
["Vitis solonis","UPL","UPL"]
["Vitis texana","UPL","UPL"]
["Vitis vulpina ssp. riparia","FACW","FACW"]
["Vitis vulpina var. praecox","FACW","FACW"]
["Vitis vulpina var. syrticola","FACW","FACW"]
["Vitis X slavinii","FACU","FACU"]
["Voyria mexicana","UPL","UPL"]
["Vulpia dertonensis","UPL","UPL"]
["Vulpia megalura","FACU","FACU"]
["Vulpia myuros var. hirsuta","FACU","FACU"]
["Vulpia octoflora var. glauca","FACU","FACU"]
["Vulpia octoflora var. hirtella","FACU","FACU"]
["Vulpia octoflora var. octoflora","FACU","FACU"]
["Vulpia octoflora var. tenella","FACU","FACU"]
["Vulpia sciurea","UPL","UPL"]
["Wahlenbergia gracilis","UPL","UPL"]
["Wallia cinerea","FACU","FACU"]
["Wallia nigra","UPL","UPL"]
["Waltheria americana","UPL","UPL"]
["Waltheria indica var. americana","UPL","UPL"]
["Waltheria pyrolifolia","UPL","UPL"]
["Warea auriculata","UPL","UPL"]
["Washingtonia claytonii","FACU","FACU"]
["Washingtonia gracilis","FAC","FAC"]
["Washingtonia longistylis","FAC","FAC"]
["Washingtonia sonorae","FAC","FAC"]
["Websteria confervoides","OBL","OBL"]
["Websteria submersa","OBL","OBL"]
["Wedelia calycina","UPL","UPL"]
["Wedelia glauca","UPL","UPL"]
["Wedelia trilobata","FAC","FAC"]
["Weigelia","UPL","UPL"]
["Weissia muehlenbergiana","UPL","UPL"]
["Weissia phascopsis","UPL","UPL"]
["Weissia rostellata var. phascoides","UPL","UPL"]
["Wilcoxia poselgeri","UPL","UPL"]
["Willoughbya halei","FACW","FACW"]
["Wissadula holosericea","UPL","UPL"]
["Wisteria frutescens var. macrostachya","FACW","FACW"]
["Wisteria macrostachya","FACW","FACW"]
["Wolffia cylindracea","OBL","OBL"]
["Wolffia floridana","OBL","OBL"]
["Wolffia gladiata","OBL","OBL"]
["Wolffia gladiata var. floridana","OBL","OBL"]
["Wolffia lingulata","OBL","OBL"]
["Wolffia papulifera","OBL","OBL"]
["Wolffia punctata","OBL","OBL"]
["Wolffia punctata","OBL","OBL"]
["Wolffiella floridana","OBL","OBL"]
["Woodsia scopulina ssp. appalachiana","UPL","UPL"]
["Woodsia scopulina var. appalachiana","UPL","UPL"]
["Wootonella nana","UPL","UPL"]
["Wulfenia bullii","UPL","UPL"]
["X Asplenosorus boydstoniae","UPL","UPL"]
["X Asplenosorus ebenoides","UPL","UPL"]
["X Asplenosorus gravesii","UPL","UPL"]
["X Asplenosorus herb-wagneri","UPL","UPL"]
["X Asplenosorus kentuckiensis","UPL","UPL"]
["X Asplenosorus pinnatifidus","UPL","UPL"]
["X Asplenosorus shawneensis","UPL","UPL"]
["X Asplenosorus trudellii","UPL","UPL"]
["X Cupressocyparis","UPL","UPL"]
["X Cupressocyparis leylandii","UPL","UPL"]
["X Cupressocyparis leylandii","UPL","UPL"]
["X Cuprocyparis leylandii","UPL","UPL"]
["X Elymordeum montanense","UPL","UPL"]
["X Elytesion montanense","UPL","UPL"]
["X Neocupropsis leylandii","UPL","UPL"]
["Xanthisma glaberrimum","FACU","FACU"]
["Xanthisma paradoxum","FACU","FACU"]
["Xanthisma spinulosum var. austrotexanum","FACU","FACU"]
["Xanthisma spinulosum var. chihuahuanum","FACU","FACU"]
["Xanthisma spinulosum var. glaberrimum","FACU","FACU"]
["Xanthisma spinulosum var. gooddingii","FACU","FACU"]
["Xanthisma spinulosum var. paradoxum","FACU","FACU"]
["Xanthisma spinulosum var. spinulosum","FACU","FACU"]
["Xanthium acerosum","FAC","FAC"]
["Xanthium americanum","FAC","FAC"]
["Xanthium californicum","FAC","FAC"]
["Xanthium californicum var. rotundifolium","FAC","FAC"]
["Xanthium calvum","FAC","FAC"]
["Xanthium campestre","FAC","FAC"]
["Xanthium canadense","FAC","FAC"]
["Xanthium cavanillesii","FAC","FAC"]
["Xanthium cenchroides","FAC","FAC"]
["Xanthium chasei","FAC","FAC"]
["Xanthium chinense","FAC","FAC"]
["Xanthium commune","FAC","FAC"]
["Xanthium curvescens","FAC","FAC"]
["Xanthium cylindraceum","FAC","FAC"]
["Xanthium echinatum","FAC","FAC"]
["Xanthium echinellum","FAC","FAC"]
["Xanthium glanduliferum","FAC","FAC"]
["Xanthium globosum","FAC","FAC"]
["Xanthium inflexum","FAC","FAC"]
["Xanthium italicum","FAC","FAC"]
["Xanthium macounii","FAC","FAC"]
["Xanthium macrocarpum var. glabratum","FAC","FAC"]
["Xanthium occidentale","FAC","FAC"]
["Xanthium oligacanthum","FAC","FAC"]
["Xanthium orientale","FAC","FAC"]
["Xanthium oviforme","FAC","FAC"]
["Xanthium pensylvanicum","FAC","FAC"]
["Xanthium saccharatum","FAC","FAC"]
["Xanthium speciosum","FAC","FAC"]
["Xanthium spinosum var. inerme","FACU","FACU"]
["Xanthium strumarium ssp. italicum","FAC","FAC"]
["Xanthium strumarium var. canadense","FAC","FAC"]
["Xanthium strumarium var. glabratum","FAC","FAC"]
["Xanthium strumarium var. oviforme","FAC","FAC"]
["Xanthium strumarium var. pensylvanicum","FAC","FAC"]
["Xanthium strumarium var. wootonii","FAC","FAC"]
["Xanthium strumarium var. wootonii","FAC","FAC"]
["Xanthium varians","FAC","FAC"]
["Xanthium wootonii","FAC","FAC"]
["Xanthocephalum amoenum","UPL","UPL"]
["Xanthocephalum amoenum var. intermedium","UPL","UPL"]
["Xanthocephalum dracunculoides","UPL","UPL"]
["Xanthocephalum glutinosum","UPL","UPL"]
["Xanthocephalum lucidum","UPL","UPL"]
["Xanthocephalum microcephalum","UPL","UPL"]
["Xanthocephalum sarothrae","UPL","UPL"]
["Xanthocephalum sarothrae var. pomariense","UPL","UPL"]
["Xanthocephalum sphaerocephalum","UPL","UPL"]
["Xanthocephalum sphaerocephalum var. eriocarpum","UPL","UPL"]
["Xanthocephalum tenue","UPL","UPL"]
["Xanthosoma atrovirens","FACW","FACW"]
["Xanthosoma nigrum","FACW","FACW"]
["Xanthosoma violaceum","FACW","FACW"]
["Xanthoxalis brittoniae","FACU","FACU"]
["Xanthoxalis bushii","UPL","UPL"]
["Xanthoxalis coloradensis","UPL","UPL"]
["Xanthoxalis corniculata","UPL","UPL"]
["Xanthoxalis corniculata var. atropurpurea","UPL","UPL"]
["Xanthoxalis cymosa","UPL","UPL"]
["Xanthoxalis dillenii","FACU","FACU"]
["Xanthoxalis dillenii var. piletocarpa","UPL","UPL"]
["Xanthoxalis filipes","FACU","FACU"]
["Xanthoxalis florida","FACU","FACU"]
["Xanthoxalis grandis","UPL","UPL"]
["Xanthoxalis interior","UPL","UPL"]
["Xanthoxalis langloisii","UPL","UPL"]
["Xanthoxalis repens","UPL","UPL"]
["Xanthoxalis rufa","UPL","UPL"]
["Xanthoxalis stricta","UPL","UPL"]
["Xanthoxalis stricta var. piletocarpa","UPL","UPL"]
["Xeniatrum umbellulatum","UPL","UPL"]
["Ximenesia encelioides","FAC","FAC"]
["Ximenesia encelioides var. cana","FAC","FAC"]
["Ximenesia encelioides var. exauriculata","FAC","FAC"]
["Ximenesia encelioides var. nana","UPL","UPL"]
["Ximenesia exauriculata","FAC","FAC"]
["Ximenesia microptera","FAC","FAC"]
["Ximenesia nana","UPL","UPL"]
["Ximenia inermis","FACU","FACU"]
["Xiphion sordidum","UPL","UPL"]
["Xiphion vernum","UPL","UPL"]
["Xiphion vulgare","UPL","UPL"]
["Xolisma ferruginea","FACU","FACU"]
["Xolisma foliosiflora","FACW","FACW"]
["Xolisma fruticosa","FACW","FACW"]
["Xolisma ligustrina","FACW","FACW"]
["Xolisma ligustrina var. foliosiflora","FACW","FACW"]
["Xolisma mariana","FAC","FAC"]
["Xylosma senticosum","UPL","UPL"]
["Xylosteon ciliatum","FACU","FACU"]
["Xylosteon fragrantissimum","UPL","UPL"]
["Xyris arenicola","FACW","FACW"]
["Xyris arenicola","OBL","OBL"]
["Xyris baldwiniana var. tenuifolia","OBL","OBL"]
["Xyris bayardii","OBL","OBL"]
["Xyris bulbosa","OBL","OBL"]
["Xyris caroliniana var. olneyi","OBL","OBL"]
["Xyris chapmanii","OBL","OBL"]
["Xyris communis","OBL","OBL"]
["Xyris congdonii","OBL","OBL"]
["Xyris curtissii","OBL","OBL"]
["Xyris difformis var. curtissii","OBL","OBL"]
["Xyris difformis var. difformis","OBL","OBL"]
["Xyris difformis var. floridana","OBL","OBL"]
["Xyris elata","OBL","OBL"]
["Xyris elliottii var. stenotera","OBL","OBL"]
["Xyris flexuosa","FACW","FACW"]
["Xyris flexuosa","OBL","OBL"]
["Xyris indica","OBL","OBL"]
["Xyris iridifolia","OBL","OBL"]
["Xyris juncea","OBL","OBL"]
["Xyris laxifolia var. iridifolia","OBL","OBL"]
["Xyris neglecta","OBL","OBL"]
["Xyris pallescens","FACW","FACW"]
["Xyris papillosa","OBL","OBL"]
["Xyris smalliana var. olneyi","OBL","OBL"]
["Xyris stricta var. obscura","OBL","OBL"]
["Xyris torta var. macropoda","OBL","OBL"]
["Xyris torta var. occidentalis","OBL","OBL"]
["Yeatesia laetevirens","FACW","FACW"]
["Youngia japonica ssp. elstonii","FACU","FACU"]
["Youngia thunbergiana","FACU","FACU"]
["Yucca angustissima var. elata","UPL","UPL"]
["Yucca angustissima var. mollis","UPL","UPL"]
["Yucca arkansana var. paniculata","UPL","UPL"]
["Yucca baccata var. baccata","UPL","UPL"]
["Yucca baccata var. macrocarpa","UPL","UPL"]
["Yucca baccata var. vespertina","UPL","UPL"]
["Yucca carnerosana","UPL","UPL"]
["Yucca concava","UPL","UPL"]
["Yucca confinis","UPL","UPL"]
["Yucca crassifolia","UPL","UPL"]
["Yucca elata var. elata","UPL","UPL"]
["Yucca elata var. utahensis","UPL","UPL"]
["Yucca elata var. verdiensis","UPL","UPL"]
["Yucca filamentosa var. concava","UPL","UPL"]
["Yucca filamentosa var. smalliana","UPL","UPL"]
["Yucca freemanii","UPL","UPL"]
["Yucca intermedia var. ramosa","UPL","UPL"]
["Yucca macrocarpa","UPL","UPL"]
["Yucca recurvifolia","FAC","FAC"]
["Yucca rostrata","UPL","UPL"]
["Yucca rostrata var. linearis","UPL","UPL"]
["Yucca rupicola","UPL","UPL"]
["Yucca smalliana","UPL","UPL"]
["Yucca tortifolia","UPL","UPL"]
["Yucca utahensis","UPL","UPL"]
["Yucca verdiensis","UPL","UPL"]
["Yucca vespertina","UPL","UPL"]
["Zannichellia major","OBL","OBL"]
["Zannichellia palustris var. major","OBL","OBL"]
["Zannichellia palustris var. stenophylla","OBL","OBL"]
["Zanthoxylum clava-herculis var. fruticosum","UPL","UPL"]
["Zanthoxylum macrophyllum","FAC","FAC"]
["Zea mays ssp. mexicana","UPL","UPL"]
["Zebrina pendula","UPL","UPL"]
["Zebrina pendula var. quadrifolia","UPL","UPL"]
["Zenobia cassinefolia","OBL","OBL"]
["Zephyranthes atamasca var. treatiae","FACW","FACW"]
["Zephyranthes brazosensis","FACU","FACU"]
["Zephyranthes chlorosolen","FACU","FACU"]
["Zephyranthes drummondii","UPL","UPL"]
["Zephyranthes herbertiana","FACU","FACU"]
["Zephyranthes jonesii","UPL","UPL"]
["Zephyranthes smallii","UPL","UPL"]
["Zephyranthes texana","FACW","FACW"]
["Zexmenia brevifolia","UPL","UPL"]
["Zigadenus densus","FACW","FACW"]
["Zigadenus hybridus","UPL","UPL"]
["Zigadenus leimanthoides","FACW","FACW"]
["Zigadenus muscitoxicus","FAC","FAC"]
["Zinnia elegans","UPL","UPL"]
["Zinnia multiflora","UPL","UPL"]
["Zinnia pauciflora","UPL","UPL"]
["Zinnia pumila","UPL","UPL"]
["Zizania aquatica ssp. angustifolia","OBL","OBL"]
["Zizania aquatica var. angustifolia","OBL","OBL"]
["Zizania aquatica var. aquatica","OBL","OBL"]
["Zizania aquatica var. brevis","OBL","OBL"]
["Zizania aquatica var. interior","OBL","OBL"]
["Zizania aquatica var. subbrevis","OBL","OBL"]
["Zizania miliacea","OBL","OBL"]
["Zizania palustris var. interior","OBL","OBL"]
["Zizania palustris var. palustris","OBL","OBL"]
["Zizia aptera var. occidentalis","FAC","FAC"]
["Zizia arenicola","FAC","FAC"]
["Zizia bebbii","FAC","FAC"]
["Zizia cordata","FAC","FAC"]
["Zizia latifolia","FAC","FAC"]
["Ziziphora pulegioides","UPL","UPL"]
["Ziziphus jujuba","FACU","FACU"]
["Zornia diphylla","UPL","UPL"]
["Zostera asiatica","OBL","OBL"]
["Zostera marina var. latifolia","OBL","OBL"]
["Zostera marina var. stenophylla","OBL","OBL"]
["Zostera pacifica","OBL","OBL"]
["Zosterella dubia","OBL","OBL"]
["Zosterella longituba","OBL","OBL"]
["Zoysia matrella ssp. tenuifolia","UPL","UPL"]
["Zoysia matrella var. pacifica","UPL","UPL"]
["Zoysia matrella var. tenuifolia","UPL","UPL"]
["Zoysia tenuifolia","UPL","UPL"]
["Zygophyllidium delicatulum","UPL","UPL"]
["Zygophyllidium hexagonum","UPL","UPL"]
["Zygophyllum fabago var. brachycarpum","UPL","UPL"]